{"text_format":"1","workbook":"xlsx","n_sheets":12,"sheets":["Rangliste","Punktestand","Vorrunde","Endplatzierung","Finalrunde","Teilnehmerliste","Teams","Stat_Final","Stat_05710","Stat_Final_Teams","Stat_Platzierung","Stat_Teams_Ort"],"not_rendered":{"charts":11,"images":0,"macros":1,"external_links":0,"defined_names":3,"comments":0,"pivot_tables":0},"unopened":[],"bounds":{"document_bytes":16777216,"sheet_cells":100000,"rows_first":2000,"rows_last":500,"rows_between":2000,"halvings":0,"cell_chars":16384,"cell_head_chars":4096},"cells_cut":0,"cells_raw":0,"read":"whole","date_system":"1900"}

{"sheet":"Rangliste","index":0,"n_rows":104,"n_cols":16,"rows_kept":104,"cut":false,"hidden":false,"merged":[]}
["Stand:",{"$f":"NOW()","v":"2024-07-14T23:25:18.330"},null,null,null,null,"Stand:","2024-07-14T22:55:37.330"]
[null,{"$f":"CONCATENATE(Punktestand!Q7,Punktestand!P7,Punktestand!Q8)","v":"nach 51 von 51 Spielen"},null,null,null,null,null,"nach 51 von 51 Spielen"]
[]
["Rang","Name","Punkte","+/-","Rang Hilf",null,"Rang","Name","Punkte","Rang Hilf",null,null,null,null,null,"Europameister ausgeschieden"]
[{"$f":"IF(C5=\"\",\"\",IF(C5>0,1,\"\"))","v":1},"Bartholet Andi",2096,{"$f":"IFERROR(VLOOKUP(B5,$H$5:$J$104,3,FALSE)-E5,\"\")","v":1},{"$f":"IFERROR(_xlfn.RANK.EQ(C5,$C$5:$C$104,0),\"\")","v":1},null,{"$f":"IF(I5=\"\",\"\",IF(I5>=0,1,\"\"))","v":1},"Gygli Stefan",1682,{"$f":"IFERROR(_xlfn.RANK.EQ(I5,$I$5:$I$104,0),\"\")","v":1},null,null,null,null,null,"Antonelli Marco"]
[{"$f":"IF(C6=\"\",\"\",IF(C6=C5,\"\",2))","v":2},"Wälti Christoph",1796,3,2,null,{"$f":"IF(I6=\"\",\"\",IF(I6=I5,\"\",2))","v":2},"Bartholet Andi",1596,{"$f":"IFERROR(_xlfn.RANK.EQ(I6,$I$5:$I$104,0),\"\")","v":2},null,null,null,null,null,"Antonelli Ruben"]
[{"$f":"IF(C7=\"\",\"\",IF(C7=C6,\"\",3))","v":3},"Gygli Stefan",1682,-2,3,null,{"$f":"IF(I7=\"\",\"\",IF(I7=I6,\"\",3))","v":3},"Jones Aiden",1568,3,null,null,null,null,null,"Brunner Philip"]
[{"$f":"IF(C8=\"\",\"\",IF(C8=C7,\"\",4))","v":4},"Jones Aiden",1568,-1,4,null,{"$f":"IF(I8=\"\",\"\",IF(I8=I7,\"\",4))","v":4},"Lütolf Marc",1564,4,null,null,null,null,null,"Burkart André"]
[{"$f":"IF(C9=\"\",\"\",IF(C9=C8,\"\",5))","v":5},"Lütolf Marc",1564,-1,5,null,{"$f":"IF(I9=\"\",\"\",IF(I9=I8,\"\",5))","v":5},"Wälti Christoph",1496,5,null,null,null,null,null,"Cadonau Daniel"]
[{"$f":"IF(C10=\"\",\"\",IF(C10=C9,\"\",6))","v":6},"Pietzke Jannis",1549,14,6,null,{"$f":"IF(I10=\"\",\"\",IF(I10=I9,\"\",6))","v":6},"Bartholet Nott",1480,6,null,null,null,null,null,"Da Costa Leonardo"]
[{"$f":"IF(C11=\"\",\"\",IF(C11=C10,\"\",7))","v":7},"Kalinci Murat",1525,19,7,null,{"$f":"IF(I11=\"\",\"\",IF(I11=I10,\"\",7))","v":7},"Thormann Julia",1395,7,null,null,null,null,null,"D'Acunto Niva"]
[{"$f":"IF(C12=\"\",\"\",IF(C12=C11,\"\",8))","v":8},"Bartholet Nott",1480,-2,8,null,{"$f":"IF(I12=\"\",\"\",IF(I12=I11,\"\",8))","v":8},"Grosse Laurent",1355,8,null,null,null,null,null,"D'Acunto Vinci"]
[{"$f":"IF(C13=\"\",\"\",IF(C13=C12,\"\",9))","v":9},"Isenschmid Agnes",1396,30,9,null,{"$f":"IF(I13=\"\",\"\",IF(I13=I12,\"\",9))","v":9},"D'Acunto Vinci",1347,9,null,null,null,null,null,"Figaro Marlon"]
[{"$f":"IF(C14=\"\",\"\",IF(C14=C13,\"\",10))","v":10},"Thormann Julia",1395,-3,10,null,{"$f":"IF(I14=\"\",\"\",IF(I14=I13,\"\",10))","v":10},"Isenschmid Andreas",1341,10,null,null,null,null,null,"Foscaldi Maurizio"]
[{"$f":"IF(C15=\"\",\"\",IF(C15=C14,\"\",11))","v":11},"Grosse Laurent",1355,-3,11,null,{"$f":"IF(I15=\"\",\"\",IF(I15=I14,\"\",11))","v":11},"Keller Pascal",1339,11,null,null,null,null,null,"Giuralarocca Roberto"]
[{"$f":"IF(C16=\"\",\"\",IF(C16=C15,\"\",12))","v":12},"D'Acunto Vinci",1347,-3,12,null,{"$f":"IF(I16=\"\",\"\",IF(I16=I15,\"\",12))","v":12},"Marthaler Martin",1332,12,null,null,null,null,null,"Gomes Rui"]
[{"$f":"IF(C17=\"\",\"\",IF(C17=C16,\"\",13))","v":13},"Isenschmid Andreas",1341,-3,13,null,{"$f":"IF(I17=\"\",\"\",IF(I17=I16,\"\",13))","v":""},"Burkart Louis",1332,12,null,null,null,null,null,"Grosse Laurent"]
[{"$f":"IF(C18=\"\",\"\",IF(C18=C17,\"\",14))","v":14},"Keller Pascal",1339,-3,14,null,{"$f":"IF(I18=\"\",\"\",IF(I18=I17,\"\",14))","v":14},"Gygli Reto",1317,14,null,null,null,null,null,"Gygli Reto"]
[{"$f":"IF(C19=\"\",\"\",IF(C19=C18,\"\",15))","v":15},"Marthaler Martin",1332,-3,15,null,{"$f":"IF(I19=\"\",\"\",IF(I19=I18,\"\",15))","v":15},"D'Acunto Lisa",1315,15,null,null,null,null,null,"Haab Florian"]
[{"$f":"IF(C20=\"\",\"\",IF(C20=C19,\"\",16))","v":""},"Burkart Louis",1332,-3,15,null,{"$f":"IF(I20=\"\",\"\",IF(I20=I19,\"\",16))","v":16},"Gygli Timothy",1287,16,null,null,null,null,null,"Handanagic Djuma"]
[{"$f":"IF(C21=\"\",\"\",IF(C21=C20,\"\",17))","v":17},"Gygli Reto",1317,-3,17,null,{"$f":"IF(I21=\"\",\"\",IF(I21=I20,\"\",17))","v":17},"Thormann Armando",1281,17,null,null,null,null,null,"Lanz André"]
[{"$f":"IF(C22=\"\",\"\",IF(C22=C21,\"\",18))","v":18},"D'Acunto Lisa",1315,-3,18,null,{"$f":"IF(I22=\"\",\"\",IF(I22=I21,\"\",18))","v":18},"Cadonau Florian",1265,18,null,null,null,null,null,"Marini Mauro"]
[{"$f":"IF(C23=\"\",\"\",IF(C23=C22,\"\",19))","v":19},"Gygli Timothy",1287,-3,19,null,{"$f":"IF(I23=\"\",\"\",IF(I23=I22,\"\",19))","v":19},"Bartholet Philippe",1252,19,null,null,null,null,null,"Oliveira Telmo"]
[{"$f":"IF(C24=\"\",\"\",IF(C24=C23,\"\",20))","v":20},"Thormann Armando",1281,-3,20,null,{"$f":"IF(I24=\"\",\"\",IF(I24=I23,\"\",20))","v":20},"Pietzke Jannis",1249,20,null,null,null,null,null,"Palma Luigi"]
[{"$f":"IF(C25=\"\",\"\",IF(C25=C24,\"\",21))","v":21},"Cadonau Florian",1265,-3,21,null,{"$f":"IF(I25=\"\",\"\",IF(I25=I24,\"\",21))","v":21},"Walser Stefan",1246,21,null,null,null,null,null,"Pek Lechena"]
[{"$f":"IF(C26=\"\",\"\",IF(C26=C25,\"\",22))","v":22},"Bartholet Philippe",1252,-3,22,null,{"$f":"IF(I26=\"\",\"\",IF(I26=I25,\"\",22))","v":22},"Treichler Lea",1238,22,null,null,null,null,null,"Rüegg Lynn"]
[{"$f":"IF(C27=\"\",\"\",IF(C27=C26,\"\",23))","v":23},"Walser Stefan",1246,-2,23,null,{"$f":"IF(I27=\"\",\"\",IF(I27=I26,\"\",23))","v":""},"Brunner Nicolas",1238,22,null,null,null,null,null,"Schommarz Erich"]
[{"$f":"IF(C28=\"\",\"\",IF(C28=C27,\"\",24))","v":24},"Treichler Lea",1238,-2,24,null,{"$f":"IF(I28=\"\",\"\",IF(I28=I27,\"\",24))","v":24},"Duvnjak Dino",1231,24,null,null,null,null,null,"Schuster Ralph"]
[{"$f":"IF(C29=\"\",\"\",IF(C29=C28,\"\",25))","v":""},"Brunner Nicolas",1238,-2,24,null,{"$f":"IF(I29=\"\",\"\",IF(I29=I28,\"\",25))","v":25},"Lanz André",1228,25,null,null,null,null,null,"Schwitter Corinne"]
[{"$f":"IF(C30=\"\",\"\",IF(C30=C29,\"\",26))","v":26},"Duvnjak Dino",1231,-2,26,null,{"$f":"IF(I30=\"\",\"\",IF(I30=I29,\"\",26))","v":26},"Kalinci Murat",1225,26,null,null,null,null,null,"Sotelo Yermany"]
[{"$f":"IF(C31=\"\",\"\",IF(C31=C30,\"\",27))","v":27},"Lanz André",1228,-2,27,null,{"$f":"IF(I31=\"\",\"\",IF(I31=I30,\"\",27))","v":27},"Lischer Franz",1216,27,null,null,null,null,null,"Thormann Armando"]
[{"$f":"IF(C32=\"\",\"\",IF(C32=C31,\"\",28))","v":28},"Lischer Franz",1216,-1,28,null,{"$f":"IF(I32=\"\",\"\",IF(I32=I31,\"\",28))","v":28},"Wang Jingwen",1199,28,null,null,null,null,null,"Treichler Lea"]
[{"$f":"IF(C33=\"\",\"\",IF(C33=C32,\"\",29))","v":29},"Wang Jingwen",1199,-1,29,null,{"$f":"IF(I33=\"\",\"\",IF(I33=I32,\"\",29))","v":29},"Agorastos Panos",1198,29,null,null,null,null,null,"Walser Stefan"]
[{"$f":"IF(C34=\"\",\"\",IF(C34=C33,\"\",30))","v":30},"Agorastos Panos",1198,-1,30,null,{"$f":"IF(I34=\"\",\"\",IF(I34=I33,\"\",30))","v":30},"Pek Lechena",1195,30,null,null,null,null,null,"Zachmann Jasmine"]
[{"$f":"IF(C35=\"\",\"\",IF(C35=C34,\"\",31))","v":31},"Pek Lechena",1195,-1,31,null,{"$f":"IF(I35=\"\",\"\",IF(I35=I34,\"\",31))","v":31},"Dukic Goran",1189,31,null,null,null,null,null,"Zachmann Stefan"]
[{"$f":"IF(C36=\"\",\"\",IF(C36=C35,\"\",32))","v":32},"Dukic Goran",1189,-1,32,null,{"$f":"IF(I36=\"\",\"\",IF(I36=I35,\"\",32))","v":32},"Rohner Martin",1188,32,null,null,null,null,null,"Babic Mario"]
[{"$f":"IF(C37=\"\",\"\",IF(C37=C36,\"\",33))","v":33},"Rohner Martin",1188,-1,33,null,{"$f":"IF(I37=\"\",\"\",IF(I37=I36,\"\",33))","v":33},"Handanagic Djuma",1172,33,null,null,null,null,null,"Bartholet Roger"]
[{"$f":"IF(C38=\"\",\"\",IF(C38=C37,\"\",34))","v":34},"Handanagic Djuma",1172,-1,34,null,{"$f":"IF(I38=\"\",\"\",IF(I38=I37,\"\",34))","v":34},"Silva Bruno",1152,34,null,null,null,null,null,"Bartholet Nott"]
[{"$f":"IF(C39=\"\",\"\",IF(C39=C38,\"\",35))","v":35},"Silva Bruno",1152,-1,35,null,{"$f":"IF(I39=\"\",\"\",IF(I39=I38,\"\",35))","v":35},"Gygli Gregory",1135,35,null,null,null,null,null,"Bartholet Philippe"]
[{"$f":"IF(C40=\"\",\"\",IF(C40=C39,\"\",36))","v":36},"Gygli Gregory",1135,-1,36,null,{"$f":"IF(I40=\"\",\"\",IF(I40=I39,\"\",36))","v":36},"Cadonau Daniel",1127,36,null,null,null,null,null,"Beck Mara"]
[{"$f":"IF(C41=\"\",\"\",IF(C41=C40,\"\",37))","v":37},"Cadonau Daniel",1127,-1,37,null,{"$f":"IF(I41=\"\",\"\",IF(I41=I40,\"\",37))","v":37},"Treichler Reto",1118,37,null,null,null,null,null,"Blöchlinger/Edri Lara/Yaniv"]
[{"$f":"IF(C42=\"\",\"\",IF(C42=C41,\"\",38))","v":38},"Treichler Reto",1118,-1,38,null,{"$f":"IF(I42=\"\",\"\",IF(I42=I41,\"\",38))","v":38},"Brunner Manuel",1116,38,null,null,null,null,null,"Brunner Manuel"]
[{"$f":"IF(C43=\"\",\"\",IF(C43=C42,\"\",39))","v":39},"Brunner Manuel",1116,-1,39,null,{"$f":"IF(I43=\"\",\"\",IF(I43=I42,\"\",39))","v":39},"Schommarz Erich",1096,39,null,null,null,null,null,"Brunner Nicolas"]
[{"$f":"IF(C44=\"\",\"\",IF(C44=C43,\"\",40))","v":40},"Schommarz Erich",1096,-1,40,null,{"$f":"IF(I44=\"\",\"\",IF(I44=I43,\"\",40))","v":""},"Isenschmid Agnes",1096,39,null,null,null,null,null,"Burkart Louis"]
[{"$f":"IF(C45=\"\",\"\",IF(C45=C44,\"\",41))","v":41},"Zachmann Jasmine",1094,0,41,null,{"$f":"IF(I45=\"\",\"\",IF(I45=I44,\"\",41))","v":41},"Zachmann Jasmine",1094,41,null,null,null,null,null,"Cadonau Deliz"]
[{"$f":"IF(C46=\"\",\"\",IF(C46=C45,\"\",42))","v":""},"Beck Mara",1094,0,41,null,{"$f":"IF(I46=\"\",\"\",IF(I46=I45,\"\",42))","v":""},"Beck Mara",1094,41,null,null,null,null,null,"Christiansen Olo"]
[{"$f":"IF(C47=\"\",\"\",IF(C47=C46,\"\",43))","v":43},"Bosshart Michael",1086,0,43,null,{"$f":"IF(I47=\"\",\"\",IF(I47=I46,\"\",43))","v":43},"Bosshart Michael",1086,43,null,null,null,null,null,"D'Acunto Lisa"]
[{"$f":"IF(C48=\"\",\"\",IF(C48=C47,\"\",44))","v":44},"Rüegg Michael",1084,0,44,null,{"$f":"IF(I48=\"\",\"\",IF(I48=I47,\"\",44))","v":44},"Rüegg Michael",1084,44,null,null,null,null,null,"Dukic Goran"]
[{"$f":"IF(C49=\"\",\"\",IF(C49=C48,\"\",45))","v":45},"Babic Mario",1083,0,45,null,{"$f":"IF(I49=\"\",\"\",IF(I49=I48,\"\",45))","v":45},"Babic Mario",1083,45,null,null,null,null,null,"Gygli Gregory"]
[{"$f":"IF(C50=\"\",\"\",IF(C50=C49,\"\",46))","v":""},"Schuster Ralph",1083,0,45,null,{"$f":"IF(I50=\"\",\"\",IF(I50=I49,\"\",46))","v":""},"Schuster Ralph",1083,45,null,null,null,null,null,"Gygli Sarina"]
[{"$f":"IF(C51=\"\",\"\",IF(C51=C50,\"\",47))","v":""},"Gomes Rui",1083,0,45,null,{"$f":"IF(I51=\"\",\"\",IF(I51=I50,\"\",47))","v":""},"Gomes Rui",1083,45,null,null,null,null,null,"Gygli Timothy"]
[{"$f":"IF(C52=\"\",\"\",IF(C52=C51,\"\",48))","v":48},"Haab Florian",1068,0,48,null,{"$f":"IF(I52=\"\",\"\",IF(I52=I51,\"\",48))","v":48},"Haab Florian",1068,48,null,null,null,null,null,"Isenschmid Andreas"]
[{"$f":"IF(C53=\"\",\"\",IF(C53=C52,\"\",49))","v":49},"Wullschleger Stefan",1064,0,49,null,{"$f":"IF(I53=\"\",\"\",IF(I53=I52,\"\",49))","v":49},"Wullschleger Stefan",1064,49,null,null,null,null,null,"Isenschmid Michi"]
[{"$f":"IF(C54=\"\",\"\",IF(C54=C53,\"\",50))","v":50},"Gygli Sarina",1056,0,50,null,{"$f":"IF(I54=\"\",\"\",IF(I54=I53,\"\",50))","v":50},"Gygli Sarina",1056,50,null,null,null,null,null,"Keller Pascal"]
[{"$f":"IF(C55=\"\",\"\",IF(C55=C54,\"\",51))","v":51},"Burkart André",1042,0,51,null,{"$f":"IF(I55=\"\",\"\",IF(I55=I54,\"\",51))","v":51},"Burkart André",1042,51,null,null,null,null,null,"Lischer Franz"]
[{"$f":"IF(C56=\"\",\"\",IF(C56=C55,\"\",52))","v":52},"Brunner Philip",1036,0,52,null,{"$f":"IF(I56=\"\",\"\",IF(I56=I55,\"\",52))","v":52},"Brunner Philip",1036,52,null,null,null,null,null,"Rauscher Petra"]
[{"$f":"IF(C57=\"\",\"\",IF(C57=C56,\"\",53))","v":53},"Blöchlinger/Edri Lara/Yaniv",1034,0,53,null,{"$f":"IF(I57=\"\",\"\",IF(I57=I56,\"\",53))","v":53},"Blöchlinger/Edri Lara/Yaniv",1034,53,null,null,null,null,null,"Rüegg Sabine"]
[{"$f":"IF(C58=\"\",\"\",IF(C58=C57,\"\",54))","v":54},"Rauscher Petra",1025,0,54,null,{"$f":"IF(I58=\"\",\"\",IF(I58=I57,\"\",54))","v":54},"Rauscher Petra",1025,54,null,null,null,null,null,"Wagner Markus"]
[{"$f":"IF(C59=\"\",\"\",IF(C59=C58,\"\",55))","v":55},"Schwitter Corinne",1007,0,55,null,{"$f":"IF(I59=\"\",\"\",IF(I59=I58,\"\",55))","v":55},"Schwitter Corinne",1007,55,null,null,null,null,null,"Wang Jingwen"]
[{"$f":"IF(C60=\"\",\"\",IF(C60=C59,\"\",56))","v":56},"Megdiche Nidhal",998,0,56,null,{"$f":"IF(I60=\"\",\"\",IF(I60=I59,\"\",56))","v":56},"Megdiche Nidhal",998,56,null,null,null,null,null,"Wullschleger Stefan"]
[{"$f":"IF(C61=\"\",\"\",IF(C61=C60,\"\",57))","v":57},"D'Acunto Niva",988,0,57,null,{"$f":"IF(I61=\"\",\"\",IF(I61=I60,\"\",57))","v":57},"D'Acunto Niva",988,57,null,null,null,null,null,"Megdiche Nidhal"]
[{"$f":"IF(C62=\"\",\"\",IF(C62=C61,\"\",58))","v":58},"Wagner Markus",986,0,58,null,{"$f":"IF(I62=\"\",\"\",IF(I62=I61,\"\",58))","v":58},"Wagner Markus",986,58,null,null,null,null,null,"Städelin Hanspeter"]
[{"$f":"IF(C63=\"\",\"\",IF(C63=C62,\"\",59))","v":59},"Oliveira Telmo",979,0,59,null,{"$f":"IF(I63=\"\",\"\",IF(I63=I62,\"\",59))","v":59},"Oliveira Telmo",979,59,null,null,null,null,null,"Agorastos Panos"]
[{"$f":"IF(C64=\"\",\"\",IF(C64=C63,\"\",60))","v":60},"Rüegg Lynn",967,0,60,null,{"$f":"IF(I64=\"\",\"\",IF(I64=I63,\"\",60))","v":60},"Rüegg Lynn",967,60,null,null,null,null,null,"Bosshart Michael"]
[{"$f":"IF(C65=\"\",\"\",IF(C65=C64,\"\",61))","v":61},"Isenschmid Michi",965,0,61,null,{"$f":"IF(I65=\"\",\"\",IF(I65=I64,\"\",61))","v":61},"Isenschmid Michi",965,61,null,null,null,null,null,"Cadonau Florian"]
[{"$f":"IF(C66=\"\",\"\",IF(C66=C65,\"\",62))","v":62},"Städelin Hanspeter",963,0,62,null,{"$f":"IF(I66=\"\",\"\",IF(I66=I65,\"\",62))","v":62},"Städelin Hanspeter",963,62,null,null,null,null,null,"Duvnjak Dino"]
[{"$f":"IF(C67=\"\",\"\",IF(C67=C66,\"\",63))","v":""},"Da Costa Leonardo",963,0,62,null,{"$f":"IF(I67=\"\",\"\",IF(I67=I66,\"\",63))","v":""},"Da Costa Leonardo",963,62,null,null,null,null,null,"Gygli Stefan"]
[{"$f":"IF(C68=\"\",\"\",IF(C68=C67,\"\",64))","v":64},"Cadonau Deliz",961,0,64,null,{"$f":"IF(I68=\"\",\"\",IF(I68=I67,\"\",64))","v":64},"Cadonau Deliz",961,64,null,null,null,null,null,"Jones Aiden"]
[{"$f":"IF(C69=\"\",\"\",IF(C69=C68,\"\",65))","v":65},"Christiansen Olo",959,{"$f":"IFERROR(VLOOKUP(B69,$H$5:$J$104,3,FALSE)-E69,\"\")","v":0},{"$f":"IFERROR(_xlfn.RANK.EQ(C69,$C$5:$C$104,0),\"\")","v":65},null,{"$f":"IF(I69=\"\",\"\",IF(I69=I68,\"\",65))","v":65},"Christiansen Olo",959,65,null,null,null,null,null,"Lütolf Marc"]
[{"$f":"IF(C70=\"\",\"\",IF(C70=C69,\"\",66))","v":66},"Giuralarocca Roberto",949,0,66,null,{"$f":"IF(I70=\"\",\"\",IF(I70=I69,\"\",66))","v":66},"Giuralarocca Roberto",949,{"$f":"IFERROR(_xlfn.RANK.EQ(I70,$I$5:$I$104,0),\"\")","v":66},null,null,null,null,null,"Marthaler Martin"]
[{"$f":"IF(C71=\"\",\"\",IF(C71=C70,\"\",67))","v":67},"Foscaldi Maurizio",938,0,67,null,{"$f":"IF(I71=\"\",\"\",IF(I71=I70,\"\",67))","v":67},"Foscaldi Maurizio",938,67,null,null,null,null,null,"Rohner Martin"]
[{"$f":"IF(C72=\"\",\"\",IF(C72=C71,\"\",68))","v":68},"Palma Luigi",929,0,68,null,{"$f":"IF(I72=\"\",\"\",IF(I72=I71,\"\",68))","v":68},"Palma Luigi",929,68,null,null,null,null,null,"Rüegg Michael"]
[{"$f":"IF(C73=\"\",\"\",IF(C73=C72,\"\",69))","v":69},"Bartholet Roger",922,0,69,null,{"$f":"IF(I73=\"\",\"\",IF(I73=I72,\"\",69))","v":69},"Bartholet Roger",922,69,null,null,null,null,null,"Silva Bruno"]
[{"$f":"IF(C74=\"\",\"\",IF(C74=C73,\"\",70))","v":70},"Rüegg Sabine",907,0,70,null,{"$f":"IF(I74=\"\",\"\",IF(I74=I73,\"\",70))","v":70},"Rüegg Sabine",907,70,null,null,null,null,null,"Thormann Julia"]
[{"$f":"IF(C75=\"\",\"\",IF(C75=C74,\"\",71))","v":71},"Antonelli Ruben",873,0,71,null,{"$f":"IF(I75=\"\",\"\",IF(I75=I74,\"\",71))","v":71},"Antonelli Ruben",873,71,null,null,null,null,null,"Treichler Reto"]
[{"$f":"IF(C76=\"\",\"\",IF(C76=C75,\"\",72))","v":72},"Sotelo Yermany",859,0,72,null,{"$f":"IF(I76=\"\",\"\",IF(I76=I75,\"\",72))","v":72},"Sotelo Yermany",859,72]
[{"$f":"IF(C77=\"\",\"\",IF(C77=C76,\"\",73))","v":73},"Antonelli Marco",803,0,73,null,{"$f":"IF(I77=\"\",\"\",IF(I77=I76,\"\",73))","v":73},"Antonelli Marco",803,73]
[{"$f":"IF(C78=\"\",\"\",IF(C78=C77,\"\",74))","v":74},"Marini Mauro",802,0,74,null,{"$f":"IF(I78=\"\",\"\",IF(I78=I77,\"\",74))","v":74},"Marini Mauro",802,74]
[{"$f":"IF(C79=\"\",\"\",IF(C79=C78,\"\",75))","v":75},"Figaro Marlon",735,0,75,null,{"$f":"IF(I79=\"\",\"\",IF(I79=I78,\"\",75))","v":75},"Figaro Marlon",735,75]
[{"$f":"IF(C80=\"\",\"\",IF(C80=C79,\"\",76))","v":76},"Zachmann Stefan",690,0,76,null,{"$f":"IF(I80=\"\",\"\",IF(I80=I79,\"\",76))","v":76},"Zachmann Stefan",690,76]
[{"$f":"IF(C81=\"\",\"\",IF(C81=C80,\"\",77))","v":""},"","","","",null,{"$f":"IF(I81=\"\",\"\",IF(I81=I80,\"\",77))","v":""},"","",""]
[{"$f":"IF(C82=\"\",\"\",IF(C82=C81,\"\",78))","v":""},"","","","",null,{"$f":"IF(I82=\"\",\"\",IF(I82=I81,\"\",78))","v":""},"","",""]
[{"$f":"IF(C83=\"\",\"\",IF(C83=C82,\"\",79))","v":""},"","","","",null,{"$f":"IF(I83=\"\",\"\",IF(I83=I82,\"\",79))","v":""},"","",""]
[{"$f":"IF(C84=\"\",\"\",IF(C84=C83,\"\",80))","v":""},"","","","",null,{"$f":"IF(I84=\"\",\"\",IF(I84=I83,\"\",80))","v":""},"","",""]
[{"$f":"IF(C85=\"\",\"\",IF(C85=C84,\"\",81))","v":""},"","","","",null,{"$f":"IF(I85=\"\",\"\",IF(I85=I84,\"\",81))","v":""},"","",""]
[{"$f":"IF(C86=\"\",\"\",IF(C86=C85,\"\",82))","v":""},"","","","",null,{"$f":"IF(I86=\"\",\"\",IF(I86=I85,\"\",82))","v":""},"","",""]
[{"$f":"IF(C87=\"\",\"\",IF(C87=C86,\"\",83))","v":""},"","","","",null,{"$f":"IF(I87=\"\",\"\",IF(I87=I86,\"\",83))","v":""},"","",""]
[{"$f":"IF(C88=\"\",\"\",IF(C88=C87,\"\",84))","v":""},"","","","",null,{"$f":"IF(I88=\"\",\"\",IF(I88=I87,\"\",84))","v":""},"","",""]
[{"$f":"IF(C89=\"\",\"\",IF(C89=C88,\"\",85))","v":""},"","","","",null,{"$f":"IF(I89=\"\",\"\",IF(I89=I88,\"\",85))","v":""},"","",""]
[{"$f":"IF(C90=\"\",\"\",IF(C90=C89,\"\",86))","v":""},"","","","",null,{"$f":"IF(I90=\"\",\"\",IF(I90=I89,\"\",86))","v":""},"","",""]
[{"$f":"IF(C91=\"\",\"\",IF(C91=C90,\"\",87))","v":""},"","","","",null,{"$f":"IF(I91=\"\",\"\",IF(I91=I90,\"\",87))","v":""},"","",""]
[{"$f":"IF(C92=\"\",\"\",IF(C92=C91,\"\",88))","v":""},"","","","",null,{"$f":"IF(I92=\"\",\"\",IF(I92=I91,\"\",88))","v":""},"","",""]
[{"$f":"IF(C93=\"\",\"\",IF(C93=C92,\"\",89))","v":""},"","","","",null,{"$f":"IF(I93=\"\",\"\",IF(I93=I92,\"\",89))","v":""},"","",""]
[{"$f":"IF(C94=\"\",\"\",IF(C94=C93,\"\",90))","v":""},"","","","",null,{"$f":"IF(I94=\"\",\"\",IF(I94=I93,\"\",90))","v":""},"","",""]
[{"$f":"IF(C95=\"\",\"\",IF(C95=C94,\"\",91))","v":""},"","","","",null,{"$f":"IF(I95=\"\",\"\",IF(I95=I94,\"\",91))","v":""},"","",""]
[{"$f":"IF(C96=\"\",\"\",IF(C96=C95,\"\",92))","v":""},"","","","",null,{"$f":"IF(I96=\"\",\"\",IF(I96=I95,\"\",92))","v":""},"","",""]
[{"$f":"IF(C97=\"\",\"\",IF(C97=C96,\"\",93))","v":""},"","","","",null,{"$f":"IF(I97=\"\",\"\",IF(I97=I96,\"\",93))","v":""},"","",""]
[{"$f":"IF(C98=\"\",\"\",IF(C98=C97,\"\",94))","v":""},"","","","",null,{"$f":"IF(I98=\"\",\"\",IF(I98=I97,\"\",94))","v":""},"","",""]
[{"$f":"IF(C99=\"\",\"\",IF(C99=C98,\"\",95))","v":""},"","","","",null,{"$f":"IF(I99=\"\",\"\",IF(I99=I98,\"\",95))","v":""},"","",""]
[{"$f":"IF(C100=\"\",\"\",IF(C100=C99,\"\",96))","v":""},"","","","",null,{"$f":"IF(I100=\"\",\"\",IF(I100=I99,\"\",96))","v":""},"","",""]
[{"$f":"IF(C101=\"\",\"\",IF(C101=C100,\"\",97))","v":""},"","","","",null,{"$f":"IF(I101=\"\",\"\",IF(I101=I100,\"\",97))","v":""},"","",""]
[{"$f":"IF(C102=\"\",\"\",IF(C102=C101,\"\",98))","v":""},"","","","",null,{"$f":"IF(I102=\"\",\"\",IF(I102=I101,\"\",98))","v":""},"","",""]
[{"$f":"IF(C103=\"\",\"\",IF(C103=C102,\"\",99))","v":""},"","","","",null,{"$f":"IF(I103=\"\",\"\",IF(I103=I102,\"\",99))","v":""},"","",""]
[{"$f":"IF(C104=\"\",\"\",IF(C104=C103,\"\",100))","v":""},"","","","",null,{"$f":"IF(I104=\"\",\"\",IF(I104=I103,\"\",100))","v":""},"","",""]

{"sheet":"Punktestand","index":1,"n_rows":106,"n_cols":17,"rows_kept":106,"cut":false,"hidden":false,"merged":[]}
[{"$f":"Teams!$B$30","v":"EM 2024 by Rogerinho (www.fcbouncer.ch)"}]
[]
["Punktestand",null,"Spieler 1 - 100",null,"Anzahl Spieler:",{"$f":"COUNTIF(B7:B106,\"??*\")","v":76}]
[]
[null,null,"Punkte","Punkte","Punkte","Punkte",null,"Rang",null,"Rang",null,"Punkte",null,null,"Spiel"]
["Nr.","Name","Vorrunde","Endplatzierung","Finalrunde","Total",null,"Zeile",null,"Tabelle",null,"Total",null,null,"Nr."]
[{"$f":"Teilnehmerliste!A6","v":1},{"$f":"Teilnehmerliste!B6 &\" \"&Teilnehmerliste!C6","v":"Agorastos Panos"},{"$f":"Vorrunde!$K$45","v":128},{"$f":"Endplatzierung!$F$34","v":120},{"$f":"Finalrunde!$N$31","v":950},{"$f":"IF(Teilnehmerliste!B6=\"\",\"\",SUM(C7:E7))","v":1198},null,{"$f":"IFERROR(_xlfn.RANK.EQ(F7,$F$7:$F$106,0),\"\")","v":30},null,{"$f":"IF(ROWS($J$7:J7)<=$F$3,SMALL($H$7:$H$106,ROWS($J$7:J7)),\"\")","v":1},{"$f":"IF($H7=\"\",\"\",INDEX($B$7:$H$106,_xlfn.AGGREGATE(14,6,ROW($H$7:$H$106)-ROW($H$7)+1/($H$7:$H$106=J7),COUNTIF($J$7:J7,J7)),1))","v":"Bartholet Andi"},{"$f":"IF($H7=\"\",\"\",INDEX($B$7:$H$106,_xlfn.AGGREGATE(14,6,ROW($H$7:$H$106)-ROW($H$7)+1/($H$7:$H$106=J7),COUNTIF($J$7:J7,J7)),5))","v":2096},null,{"$f":"ISBLANK(Vorrunde!F9)","v":false},1,{"$f":"COUNTIF(N7:N106,FALSE)","v":51},"nach "]
[{"$f":"Teilnehmerliste!A7","v":2},{"$f":"Teilnehmerliste!B7 &\" \"&Teilnehmerliste!C7","v":"Antonelli Marco"},{"$f":"Vorrunde!$O$45","v":133},{"$f":"Endplatzierung!$H$34","v":80},{"$f":"Finalrunde!$U$31","v":590},{"$f":"IF(Teilnehmerliste!B7=\"\",\"\",SUM(C8:E8))","v":803},null,{"$f":"IFERROR(_xlfn.RANK.EQ(F8,$F$7:$F$106,0),\"\")","v":73},null,{"$f":"IF(ROWS($J$7:$J$7)<=$F$3,SMALL($H$7:$H$106,ROWS($J$7:J8)),\"\")","v":2},{"$f":"IF($H8=\"\",\"\",INDEX($B$7:$H$106,_xlfn.AGGREGATE(14,6,ROW($H$7:$H$106)-ROW($H$7)+1/($H$7:$H$106=J8),COUNTIF($J$7:J8,J8)),1))","v":"Wälti Christoph"},{"$f":"IF($H8=\"\",\"\",INDEX($B$7:$H$106,_xlfn.AGGREGATE(14,6,ROW($H$7:$H$106)-ROW($H$7)+1/($H$7:$H$106=J8),COUNTIF($J$7:J8,J8)),5))","v":1796},null,{"$f":"ISBLANK(Vorrunde!F10)","v":false},2,null," von 51 Spielen"]
[{"$f":"Teilnehmerliste!A8","v":3},{"$f":"Teilnehmerliste!B8 &\" \"&Teilnehmerliste!C8","v":"Antonelli Ruben"},{"$f":"Vorrunde!$S$45","v":93},{"$f":"Endplatzierung!$J$34","v":100},{"$f":"Finalrunde!$AB$31","v":680},{"$f":"IF(Teilnehmerliste!B8=\"\",\"\",SUM(C9:E9))","v":873},null,71,null,{"$f":"IF(ROWS($J$7:$J$7)<=$F$3,SMALL($H$7:$H$106,ROWS($J$7:J9)),\"\")","v":3},{"$f":"IF($H9=\"\",\"\",INDEX($B$7:$H$106,_xlfn.AGGREGATE(14,6,ROW($H$7:$H$106)-ROW($H$7)+1/($H$7:$H$106=J9),COUNTIF($J$7:J9,J9)),1))","v":"Gygli Stefan"},{"$f":"IF($H9=\"\",\"\",INDEX($B$7:$H$106,_xlfn.AGGREGATE(14,6,ROW($H$7:$H$106)-ROW($H$7)+1/($H$7:$H$106=J9),COUNTIF($J$7:J9,J9)),5))","v":1682},null,{"$f":"ISBLANK(Vorrunde!F11)","v":false},3]
[{"$f":"Teilnehmerliste!A9","v":4},{"$f":"Teilnehmerliste!B9 &\" \"&Teilnehmerliste!C9","v":"Bartholet Andi"},{"$f":"Vorrunde!$W$45","v":126},{"$f":"Endplatzierung!$L$34","v":100},{"$f":"Finalrunde!$AI$31","v":1870},{"$f":"IF(Teilnehmerliste!B9=\"\",\"\",SUM(C10:E10))","v":2096},null,1,null,{"$f":"IF(ROWS($J$7:$J$7)<=$F$3,SMALL($H$7:$H$106,ROWS($J$7:J10)),\"\")","v":4},{"$f":"IF($H10=\"\",\"\",INDEX($B$7:$H$106,_xlfn.AGGREGATE(14,6,ROW($H$7:$H$106)-ROW($H$7)+1/($H$7:$H$106=J10),COUNTIF($J$7:J10,J10)),1))","v":"Jones Aiden"},{"$f":"IF($H10=\"\",\"\",INDEX($B$7:$H$106,_xlfn.AGGREGATE(14,6,ROW($H$7:$H$106)-ROW($H$7)+1/($H$7:$H$106=J10),COUNTIF($J$7:J10,J10)),5))","v":1568},null,{"$f":"ISBLANK(Vorrunde!F12)","v":false},4]
[{"$f":"Teilnehmerliste!A10","v":5},{"$f":"Teilnehmerliste!B10 &\" \"&Teilnehmerliste!C10","v":"Bartholet Nott"},{"$f":"Vorrunde!$AA$45","v":120},{"$f":"Endplatzierung!$N$34","v":60},{"$f":"Finalrunde!$AP$31","v":1300},{"$f":"IF(Teilnehmerliste!B10=\"\",\"\",SUM(C11:E11))","v":1480},null,8,null,{"$f":"IF(ROWS($J$7:$J$7)<=$F$3,SMALL($H$7:$H$106,ROWS($J$7:J11)),\"\")","v":5},{"$f":"IF($H11=\"\",\"\",INDEX($B$7:$H$106,_xlfn.AGGREGATE(14,6,ROW($H$7:$H$106)-ROW($H$7)+1/($H$7:$H$106=J11),COUNTIF($J$7:J11,J11)),1))","v":"Lütolf Marc"},{"$f":"IF($H11=\"\",\"\",INDEX($B$7:$H$106,_xlfn.AGGREGATE(14,6,ROW($H$7:$H$106)-ROW($H$7)+1/($H$7:$H$106=J11),COUNTIF($J$7:J11,J11)),5))","v":1564},null,{"$f":"ISBLANK(Vorrunde!F13)","v":false},5]
[{"$f":"Teilnehmerliste!A11","v":6},{"$f":"Teilnehmerliste!B11 &\" \"&Teilnehmerliste!C11","v":"Bartholet Philippe"},{"$f":"Vorrunde!$AE$45","v":142},{"$f":"Endplatzierung!$P$34","v":100},{"$f":"Finalrunde!$AW$31","v":1010},{"$f":"IF(Teilnehmerliste!B11=\"\",\"\",SUM(C12:E12))","v":1252},null,22,null,{"$f":"IF(ROWS($J$7:$J$7)<=$F$3,SMALL($H$7:$H$106,ROWS($J$7:J12)),\"\")","v":6},{"$f":"IF($H12=\"\",\"\",INDEX($B$7:$H$106,_xlfn.AGGREGATE(14,6,ROW($H$7:$H$106)-ROW($H$7)+1/($H$7:$H$106=J12),COUNTIF($J$7:J12,J12)),1))","v":"Pietzke Jannis"},{"$f":"IF($H12=\"\",\"\",INDEX($B$7:$H$106,_xlfn.AGGREGATE(14,6,ROW($H$7:$H$106)-ROW($H$7)+1/($H$7:$H$106=J12),COUNTIF($J$7:J12,J12)),5))","v":1549},null,{"$f":"ISBLANK(Vorrunde!F14)","v":false},6]
[{"$f":"Teilnehmerliste!A12","v":7},{"$f":"Teilnehmerliste!B12 &\" \"&Teilnehmerliste!C12","v":"Bartholet Roger"},{"$f":"Vorrunde!$AI$45","v":132},{"$f":"Endplatzierung!$R$34","v":140},{"$f":"Finalrunde!$BD$31","v":650},{"$f":"IF(Teilnehmerliste!B12=\"\",\"\",SUM(C13:E13))","v":922},null,69,null,{"$f":"IF(ROWS($J$7:$J$7)<=$F$3,SMALL($H$7:$H$106,ROWS($J$7:J13)),\"\")","v":7},{"$f":"IF($H13=\"\",\"\",INDEX($B$7:$H$106,_xlfn.AGGREGATE(14,6,ROW($H$7:$H$106)-ROW($H$7)+1/($H$7:$H$106=J13),COUNTIF($J$7:J13,J13)),1))","v":"Kalinci Murat"},{"$f":"IF($H13=\"\",\"\",INDEX($B$7:$H$106,_xlfn.AGGREGATE(14,6,ROW($H$7:$H$106)-ROW($H$7)+1/($H$7:$H$106=J13),COUNTIF($J$7:J13,J13)),5))","v":1525},null,{"$f":"ISBLANK(Vorrunde!F15)","v":false},7]
[{"$f":"Teilnehmerliste!A13","v":8},{"$f":"Teilnehmerliste!B13 &\" \"&Teilnehmerliste!C13","v":"Beck Mara"},{"$f":"Vorrunde!$AM$45","v":84},{"$f":"Endplatzierung!$T$34","v":100},{"$f":"Finalrunde!$BK$31","v":910},{"$f":"IF(Teilnehmerliste!B13=\"\",\"\",SUM(C14:E14))","v":1094},null,41,null,{"$f":"IF(ROWS($J$7:$J$7)<=$F$3,SMALL($H$7:$H$106,ROWS($J$7:J14)),\"\")","v":8},{"$f":"IF($H14=\"\",\"\",INDEX($B$7:$H$106,_xlfn.AGGREGATE(14,6,ROW($H$7:$H$106)-ROW($H$7)+1/($H$7:$H$106=J14),COUNTIF($J$7:J14,J14)),1))","v":"Bartholet Nott"},{"$f":"IF($H14=\"\",\"\",INDEX($B$7:$H$106,_xlfn.AGGREGATE(14,6,ROW($H$7:$H$106)-ROW($H$7)+1/($H$7:$H$106=J14),COUNTIF($J$7:J14,J14)),5))","v":1480},null,{"$f":"ISBLANK(Vorrunde!F16)","v":false},8]
[{"$f":"Teilnehmerliste!A14","v":9},{"$f":"Teilnehmerliste!B14 &\" \"&Teilnehmerliste!C14","v":"Blöchlinger/Edri Lara/Yaniv"},{"$f":"Vorrunde!$AQ$45","v":114},{"$f":"Endplatzierung!$V$34","v":100},{"$f":"Finalrunde!$BR$31","v":820},{"$f":"IF(Teilnehmerliste!B14=\"\",\"\",SUM(C15:E15))","v":1034},null,53,null,{"$f":"IF(ROWS($J$7:$J$7)<=$F$3,SMALL($H$7:$H$106,ROWS($J$7:J15)),\"\")","v":9},{"$f":"IF($H15=\"\",\"\",INDEX($B$7:$H$106,_xlfn.AGGREGATE(14,6,ROW($H$7:$H$106)-ROW($H$7)+1/($H$7:$H$106=J15),COUNTIF($J$7:J15,J15)),1))","v":"Isenschmid Agnes"},{"$f":"IF($H15=\"\",\"\",INDEX($B$7:$H$106,_xlfn.AGGREGATE(14,6,ROW($H$7:$H$106)-ROW($H$7)+1/($H$7:$H$106=J15),COUNTIF($J$7:J15,J15)),5))","v":1396},null,{"$f":"ISBLANK(Vorrunde!F17)","v":false},9]
[{"$f":"Teilnehmerliste!A15","v":10},{"$f":"Teilnehmerliste!B15 &\" \"&Teilnehmerliste!C15","v":"Bosshart Michael"},{"$f":"Vorrunde!$AU$45","v":106},{"$f":"Endplatzierung!$X$34","v":60},{"$f":"Finalrunde!$BY$31","v":920},{"$f":"IF(Teilnehmerliste!B15=\"\",\"\",SUM(C16:E16))","v":1086},null,43,null,{"$f":"IF(ROWS($J$7:$J$7)<=$F$3,SMALL($H$7:$H$106,ROWS($J$7:J16)),\"\")","v":10},{"$f":"IF($H16=\"\",\"\",INDEX($B$7:$H$106,_xlfn.AGGREGATE(14,6,ROW($H$7:$H$106)-ROW($H$7)+1/($H$7:$H$106=J16),COUNTIF($J$7:J16,J16)),1))","v":"Thormann Julia"},{"$f":"IF($H16=\"\",\"\",INDEX($B$7:$H$106,_xlfn.AGGREGATE(14,6,ROW($H$7:$H$106)-ROW($H$7)+1/($H$7:$H$106=J16),COUNTIF($J$7:J16,J16)),5))","v":1395},null,{"$f":"ISBLANK(Vorrunde!F18)","v":false},10]
[{"$f":"Teilnehmerliste!A16","v":11},{"$f":"Teilnehmerliste!B16 &\" \"&Teilnehmerliste!C16","v":"Brunner Manuel"},{"$f":"Vorrunde!$AY$45","v":106},{"$f":"Endplatzierung!$Z$34","v":140},{"$f":"Finalrunde!$CF$31","v":870},{"$f":"IF(Teilnehmerliste!B16=\"\",\"\",SUM(C17:E17))","v":1116},null,39,null,{"$f":"IF(ROWS($J$7:$J$7)<=$F$3,SMALL($H$7:$H$106,ROWS($J$7:J17)),\"\")","v":11},{"$f":"IF($H17=\"\",\"\",INDEX($B$7:$H$106,_xlfn.AGGREGATE(14,6,ROW($H$7:$H$106)-ROW($H$7)+1/($H$7:$H$106=J17),COUNTIF($J$7:J17,J17)),1))","v":"Grosse Laurent"},{"$f":"IF($H17=\"\",\"\",INDEX($B$7:$H$106,_xlfn.AGGREGATE(14,6,ROW($H$7:$H$106)-ROW($H$7)+1/($H$7:$H$106=J17),COUNTIF($J$7:J17,J17)),5))","v":1355},null,{"$f":"ISBLANK(Vorrunde!F19)","v":false},11]
[{"$f":"Teilnehmerliste!A17","v":12},{"$f":"Teilnehmerliste!B17 &\" \"&Teilnehmerliste!C17","v":"Brunner Nicolas"},{"$f":"Vorrunde!$BC$45","v":108},{"$f":"Endplatzierung!$AB$34","v":100},{"$f":"Finalrunde!$CM$31","v":1030},{"$f":"IF(Teilnehmerliste!B17=\"\",\"\",SUM(C18:E18))","v":1238},null,24,null,{"$f":"IF(ROWS($J$7:$J$7)<=$F$3,SMALL($H$7:$H$106,ROWS($J$7:J18)),\"\")","v":12},{"$f":"IF($H18=\"\",\"\",INDEX($B$7:$H$106,_xlfn.AGGREGATE(14,6,ROW($H$7:$H$106)-ROW($H$7)+1/($H$7:$H$106=J18),COUNTIF($J$7:J18,J18)),1))","v":"D'Acunto Vinci"},{"$f":"IF($H18=\"\",\"\",INDEX($B$7:$H$106,_xlfn.AGGREGATE(14,6,ROW($H$7:$H$106)-ROW($H$7)+1/($H$7:$H$106=J18),COUNTIF($J$7:J18,J18)),5))","v":1347},null,{"$f":"ISBLANK(Vorrunde!F20)","v":false},12]
[{"$f":"Teilnehmerliste!A18","v":13},{"$f":"Teilnehmerliste!B18 &\" \"&Teilnehmerliste!C18","v":"Brunner Philip"},{"$f":"Vorrunde!$BG$45","v":146},{"$f":"Endplatzierung!$AD$34","v":40},{"$f":"Finalrunde!$CT$31","v":850},{"$f":"IF(Teilnehmerliste!B18=\"\",\"\",SUM(C19:E19))","v":1036},null,52,null,{"$f":"IF(ROWS($J$7:$J$7)<=$F$3,SMALL($H$7:$H$106,ROWS($J$7:J19)),\"\")","v":13},{"$f":"IF($H19=\"\",\"\",INDEX($B$7:$H$106,_xlfn.AGGREGATE(14,6,ROW($H$7:$H$106)-ROW($H$7)+1/($H$7:$H$106=J19),COUNTIF($J$7:J19,J19)),1))","v":"Isenschmid Andreas"},{"$f":"IF($H19=\"\",\"\",INDEX($B$7:$H$106,_xlfn.AGGREGATE(14,6,ROW($H$7:$H$106)-ROW($H$7)+1/($H$7:$H$106=J19),COUNTIF($J$7:J19,J19)),5))","v":1341},null,{"$f":"ISBLANK(Vorrunde!F21)","v":false},13]
[{"$f":"Teilnehmerliste!A19","v":14},{"$f":"Teilnehmerliste!B19 &\" \"&Teilnehmerliste!C19","v":"Burkart André"},{"$f":"Vorrunde!$BK$45","v":102},{"$f":"Endplatzierung!$AF$34","v":60},{"$f":"Finalrunde!$DA$31","v":880},{"$f":"IF(Teilnehmerliste!B19=\"\",\"\",SUM(C20:E20))","v":1042},null,51,null,{"$f":"IF(ROWS($J$7:$J$7)<=$F$3,SMALL($H$7:$H$106,ROWS($J$7:J20)),\"\")","v":14},{"$f":"IF($H20=\"\",\"\",INDEX($B$7:$H$106,_xlfn.AGGREGATE(14,6,ROW($H$7:$H$106)-ROW($H$7)+1/($H$7:$H$106=J20),COUNTIF($J$7:J20,J20)),1))","v":"Keller Pascal"},{"$f":"IF($H20=\"\",\"\",INDEX($B$7:$H$106,_xlfn.AGGREGATE(14,6,ROW($H$7:$H$106)-ROW($H$7)+1/($H$7:$H$106=J20),COUNTIF($J$7:J20,J20)),5))","v":1339},null,{"$f":"ISBLANK(Vorrunde!F22)","v":false},14]
[{"$f":"Teilnehmerliste!A20","v":15},{"$f":"Teilnehmerliste!B20 &\" \"&Teilnehmerliste!C20","v":"Burkart Louis"},{"$f":"Vorrunde!$BO$45","v":122},{"$f":"Endplatzierung!$AH$34","v":120},{"$f":"Finalrunde!$DH$31","v":1090},{"$f":"IF(Teilnehmerliste!B20=\"\",\"\",SUM(C21:E21))","v":1332},null,15,null,{"$f":"IF(ROWS($J$7:$J$7)<=$F$3,SMALL($H$7:$H$106,ROWS($J$7:J21)),\"\")","v":15},{"$f":"IF($H21=\"\",\"\",INDEX($B$7:$H$106,_xlfn.AGGREGATE(14,6,ROW($H$7:$H$106)-ROW($H$7)+1/($H$7:$H$106=J21),COUNTIF($J$7:J21,J21)),1))","v":"Marthaler Martin"},{"$f":"IF($H21=\"\",\"\",INDEX($B$7:$H$106,_xlfn.AGGREGATE(14,6,ROW($H$7:$H$106)-ROW($H$7)+1/($H$7:$H$106=J21),COUNTIF($J$7:J21,J21)),5))","v":1332},null,{"$f":"ISBLANK(Vorrunde!F23)","v":false},15]
[{"$f":"Teilnehmerliste!A21","v":16},{"$f":"Teilnehmerliste!B21 &\" \"&Teilnehmerliste!C21","v":"Cadonau Daniel"},{"$f":"Vorrunde!$BS$45","v":117},{"$f":"Endplatzierung!$AJ$34","v":60},{"$f":"Finalrunde!$DO$31","v":950},{"$f":"IF(Teilnehmerliste!B21=\"\",\"\",SUM(C22:E22))","v":1127},null,37,null,{"$f":"IF(ROWS($J$7:$J$7)<=$F$3,SMALL($H$7:$H$106,ROWS($J$7:J22)),\"\")","v":15},{"$f":"IF($H22=\"\",\"\",INDEX($B$7:$H$106,_xlfn.AGGREGATE(14,6,ROW($H$7:$H$106)-ROW($H$7)+1/($H$7:$H$106=J22),COUNTIF($J$7:J22,J22)),1))","v":"Burkart Louis"},{"$f":"IF($H22=\"\",\"\",INDEX($B$7:$H$106,_xlfn.AGGREGATE(14,6,ROW($H$7:$H$106)-ROW($H$7)+1/($H$7:$H$106=J22),COUNTIF($J$7:J22,J22)),5))","v":1332},null,{"$f":"ISBLANK(Vorrunde!F24)","v":false},16]
[{"$f":"Teilnehmerliste!A22","v":17},{"$f":"Teilnehmerliste!B22 &\" \"&Teilnehmerliste!C22","v":"Cadonau Deliz"},{"$f":"Vorrunde!$BW$45","v":101},{"$f":"Endplatzierung!$AL$34","v":60},{"$f":"Finalrunde!$DV$31","v":800},{"$f":"IF(Teilnehmerliste!B22=\"\",\"\",SUM(C23:E23))","v":961},null,64,null,{"$f":"IF(ROWS($J$7:$J$7)<=$F$3,SMALL($H$7:$H$106,ROWS($J$7:J23)),\"\")","v":17},{"$f":"IF($H23=\"\",\"\",INDEX($B$7:$H$106,_xlfn.AGGREGATE(14,6,ROW($H$7:$H$106)-ROW($H$7)+1/($H$7:$H$106=J23),COUNTIF($J$7:J23,J23)),1))","v":"Gygli Reto"},{"$f":"IF($H23=\"\",\"\",INDEX($B$7:$H$106,_xlfn.AGGREGATE(14,6,ROW($H$7:$H$106)-ROW($H$7)+1/($H$7:$H$106=J23),COUNTIF($J$7:J23,J23)),5))","v":1317},null,{"$f":"ISBLANK(Vorrunde!F25)","v":false},17]
[{"$f":"Teilnehmerliste!A23","v":18},{"$f":"Teilnehmerliste!B23 &\" \"&Teilnehmerliste!C23","v":"Cadonau Florian"},{"$f":"Vorrunde!$CA$45","v":125},{"$f":"Endplatzierung!$AN$34","v":120},{"$f":"Finalrunde!$EC$31","v":1020},{"$f":"IF(Teilnehmerliste!B23=\"\",\"\",SUM(C24:E24))","v":1265},null,21,null,{"$f":"IF(ROWS($J$7:$J$7)<=$F$3,SMALL($H$7:$H$106,ROWS($J$7:J24)),\"\")","v":18},{"$f":"IF($H24=\"\",\"\",INDEX($B$7:$H$106,_xlfn.AGGREGATE(14,6,ROW($H$7:$H$106)-ROW($H$7)+1/($H$7:$H$106=J24),COUNTIF($J$7:J24,J24)),1))","v":"D'Acunto Lisa"},{"$f":"IF($H24=\"\",\"\",INDEX($B$7:$H$106,_xlfn.AGGREGATE(14,6,ROW($H$7:$H$106)-ROW($H$7)+1/($H$7:$H$106=J24),COUNTIF($J$7:J24,J24)),5))","v":1315},null,{"$f":"ISBLANK(Vorrunde!F26)","v":false},18]
[{"$f":"Teilnehmerliste!A24","v":19},{"$f":"Teilnehmerliste!B24 &\" \"&Teilnehmerliste!C24","v":"Christiansen Olo"},{"$f":"Vorrunde!$CE$45","v":109},{"$f":"Endplatzierung!$AP$34","v":160},{"$f":"Finalrunde!$EJ$31","v":690},{"$f":"IF(Teilnehmerliste!B24=\"\",\"\",SUM(C25:E25))","v":959},null,65,null,{"$f":"IF(ROWS($J$7:$J$7)<=$F$3,SMALL($H$7:$H$106,ROWS($J$7:J25)),\"\")","v":19},{"$f":"IF($H25=\"\",\"\",INDEX($B$7:$H$106,_xlfn.AGGREGATE(14,6,ROW($H$7:$H$106)-ROW($H$7)+1/($H$7:$H$106=J25),COUNTIF($J$7:J25,J25)),1))","v":"Gygli Timothy"},{"$f":"IF($H25=\"\",\"\",INDEX($B$7:$H$106,_xlfn.AGGREGATE(14,6,ROW($H$7:$H$106)-ROW($H$7)+1/($H$7:$H$106=J25),COUNTIF($J$7:J25,J25)),5))","v":1287},null,{"$f":"ISBLANK(Vorrunde!F27)","v":false},19]
[{"$f":"Teilnehmerliste!A25","v":20},{"$f":"Teilnehmerliste!B25 &\" \"&Teilnehmerliste!C25","v":"Da Costa Leonardo"},{"$f":"Vorrunde!$CI$45","v":113},{"$f":"Endplatzierung!$AR$34","v":80},{"$f":"Finalrunde!$EQ$31","v":770},{"$f":"IF(Teilnehmerliste!B25=\"\",\"\",SUM(C26:E26))","v":963},null,62,null,{"$f":"IF(ROWS($J$7:$J$7)<=$F$3,SMALL($H$7:$H$106,ROWS($J$7:J26)),\"\")","v":20},{"$f":"IF($H26=\"\",\"\",INDEX($B$7:$H$106,_xlfn.AGGREGATE(14,6,ROW($H$7:$H$106)-ROW($H$7)+1/($H$7:$H$106=J26),COUNTIF($J$7:J26,J26)),1))","v":"Thormann Armando"},{"$f":"IF($H26=\"\",\"\",INDEX($B$7:$H$106,_xlfn.AGGREGATE(14,6,ROW($H$7:$H$106)-ROW($H$7)+1/($H$7:$H$106=J26),COUNTIF($J$7:J26,J26)),5))","v":1281},null,{"$f":"ISBLANK(Vorrunde!F28)","v":false},20]
[{"$f":"Teilnehmerliste!A26","v":21},{"$f":"Teilnehmerliste!B26 &\" \"&Teilnehmerliste!C26","v":"D'Acunto Lisa"},{"$f":"Vorrunde!$CM$45","v":165},{"$f":"Endplatzierung!$AT$34","v":80},{"$f":"Finalrunde!$N$62","v":1070},{"$f":"IF(Teilnehmerliste!B26=\"\",\"\",SUM(C27:E27))","v":1315},null,18,null,{"$f":"IF(ROWS($J$7:$J$7)<=$F$3,SMALL($H$7:$H$106,ROWS($J$7:J27)),\"\")","v":21},{"$f":"IF($H27=\"\",\"\",INDEX($B$7:$H$106,_xlfn.AGGREGATE(14,6,ROW($H$7:$H$106)-ROW($H$7)+1/($H$7:$H$106=J27),COUNTIF($J$7:J27,J27)),1))","v":"Cadonau Florian"},{"$f":"IF($H27=\"\",\"\",INDEX($B$7:$H$106,_xlfn.AGGREGATE(14,6,ROW($H$7:$H$106)-ROW($H$7)+1/($H$7:$H$106=J27),COUNTIF($J$7:J27,J27)),5))","v":1265},null,{"$f":"ISBLANK(Vorrunde!F29)","v":false},21]
[{"$f":"Teilnehmerliste!A27","v":22},{"$f":"Teilnehmerliste!B27 &\" \"&Teilnehmerliste!C27","v":"D'Acunto Niva"},{"$f":"Vorrunde!$CQ$45","v":108},{"$f":"Endplatzierung!$AV$34","v":80},{"$f":"Finalrunde!$U$62","v":800},{"$f":"IF(Teilnehmerliste!B27=\"\",\"\",SUM(C28:E28))","v":988},null,57,null,{"$f":"IF(ROWS($J$7:$J$7)<=$F$3,SMALL($H$7:$H$106,ROWS($J$7:J28)),\"\")","v":22},{"$f":"IF($H28=\"\",\"\",INDEX($B$7:$H$106,_xlfn.AGGREGATE(14,6,ROW($H$7:$H$106)-ROW($H$7)+1/($H$7:$H$106=J28),COUNTIF($J$7:J28,J28)),1))","v":"Bartholet Philippe"},{"$f":"IF($H28=\"\",\"\",INDEX($B$7:$H$106,_xlfn.AGGREGATE(14,6,ROW($H$7:$H$106)-ROW($H$7)+1/($H$7:$H$106=J28),COUNTIF($J$7:J28,J28)),5))","v":1252},null,{"$f":"ISBLANK(Vorrunde!F30)","v":false},22]
[{"$f":"Teilnehmerliste!A28","v":23},{"$f":"Teilnehmerliste!B28 &\" \"&Teilnehmerliste!C28","v":"D'Acunto Vinci"},{"$f":"Vorrunde!$CU$45","v":117},{"$f":"Endplatzierung!$AX$34","v":100},{"$f":"Finalrunde!$AB$62","v":1130},{"$f":"IF(Teilnehmerliste!B28=\"\",\"\",SUM(C29:E29))","v":1347},null,12,null,{"$f":"IF(ROWS($J$7:$J$7)<=$F$3,SMALL($H$7:$H$106,ROWS($J$7:J29)),\"\")","v":23},{"$f":"IF($H29=\"\",\"\",INDEX($B$7:$H$106,_xlfn.AGGREGATE(14,6,ROW($H$7:$H$106)-ROW($H$7)+1/($H$7:$H$106=J29),COUNTIF($J$7:J29,J29)),1))","v":"Walser Stefan"},{"$f":"IF($H29=\"\",\"\",INDEX($B$7:$H$106,_xlfn.AGGREGATE(14,6,ROW($H$7:$H$106)-ROW($H$7)+1/($H$7:$H$106=J29),COUNTIF($J$7:J29,J29)),5))","v":1246},null,{"$f":"ISBLANK(Vorrunde!F31)","v":false},23]
[{"$f":"Teilnehmerliste!A29","v":24},{"$f":"Teilnehmerliste!B29 &\" \"&Teilnehmerliste!C29","v":"Dukic Goran"},{"$f":"Vorrunde!$CY$45","v":99},{"$f":"Endplatzierung!$AZ$34","v":140},{"$f":"Finalrunde!$AI$62","v":950},{"$f":"IF(Teilnehmerliste!B29=\"\",\"\",SUM(C30:E30))","v":1189},null,32,null,{"$f":"IF(ROWS($J$7:$J$7)<=$F$3,SMALL($H$7:$H$106,ROWS($J$7:J30)),\"\")","v":24},{"$f":"IF($H30=\"\",\"\",INDEX($B$7:$H$106,_xlfn.AGGREGATE(14,6,ROW($H$7:$H$106)-ROW($H$7)+1/($H$7:$H$106=J30),COUNTIF($J$7:J30,J30)),1))","v":"Treichler Lea"},{"$f":"IF($H30=\"\",\"\",INDEX($B$7:$H$106,_xlfn.AGGREGATE(14,6,ROW($H$7:$H$106)-ROW($H$7)+1/($H$7:$H$106=J30),COUNTIF($J$7:J30,J30)),5))","v":1238},null,{"$f":"ISBLANK(Vorrunde!F32)","v":false},24]
[{"$f":"Teilnehmerliste!A30","v":25},{"$f":"Teilnehmerliste!B30 &\" \"&Teilnehmerliste!C30","v":"Duvnjak Dino"},{"$f":"Vorrunde!$DC$45","v":141},{"$f":"Endplatzierung!$BB$34","v":120},{"$f":"Finalrunde!$AP$62","v":970},{"$f":"IF(Teilnehmerliste!B30=\"\",\"\",SUM(C31:E31))","v":1231},null,26,null,{"$f":"IF(ROWS($J$7:$J$7)<=$F$3,SMALL($H$7:$H$106,ROWS($J$7:J31)),\"\")","v":24},{"$f":"IF($H31=\"\",\"\",INDEX($B$7:$H$106,_xlfn.AGGREGATE(14,6,ROW($H$7:$H$106)-ROW($H$7)+1/($H$7:$H$106=J31),COUNTIF($J$7:J31,J31)),1))","v":"Brunner Nicolas"},{"$f":"IF($H31=\"\",\"\",INDEX($B$7:$H$106,_xlfn.AGGREGATE(14,6,ROW($H$7:$H$106)-ROW($H$7)+1/($H$7:$H$106=J31),COUNTIF($J$7:J31,J31)),5))","v":1238},null,{"$f":"ISBLANK(Vorrunde!F33)","v":false},25]
[{"$f":"Teilnehmerliste!A31","v":26},{"$f":"Teilnehmerliste!B31 &\" \"&Teilnehmerliste!C31","v":"Figaro Marlon"},{"$f":"Vorrunde!$DG$45","v":75},{"$f":"Endplatzierung!$BD$34","v":120},{"$f":"Finalrunde!$AW$62","v":540},{"$f":"IF(Teilnehmerliste!B31=\"\",\"\",SUM(C32:E32))","v":735},null,75,null,{"$f":"IF(ROWS($J$7:$J$7)<=$F$3,SMALL($H$7:$H$106,ROWS($J$7:J32)),\"\")","v":26},{"$f":"IF($H32=\"\",\"\",INDEX($B$7:$H$106,_xlfn.AGGREGATE(14,6,ROW($H$7:$H$106)-ROW($H$7)+1/($H$7:$H$106=J32),COUNTIF($J$7:J32,J32)),1))","v":"Duvnjak Dino"},{"$f":"IF($H32=\"\",\"\",INDEX($B$7:$H$106,_xlfn.AGGREGATE(14,6,ROW($H$7:$H$106)-ROW($H$7)+1/($H$7:$H$106=J32),COUNTIF($J$7:J32,J32)),5))","v":1231},null,{"$f":"ISBLANK(Vorrunde!F34)","v":false},26]
[{"$f":"Teilnehmerliste!A32","v":27},{"$f":"Teilnehmerliste!B32 &\" \"&Teilnehmerliste!C32","v":"Foscaldi Maurizio"},{"$f":"Vorrunde!$DK$45","v":128},{"$f":"Endplatzierung!$BF$34","v":120},{"$f":"Finalrunde!$BD$62","v":690},{"$f":"IF(Teilnehmerliste!B32=\"\",\"\",SUM(C33:E33))","v":938},null,67,null,{"$f":"IF(ROWS($J$7:$J$7)<=$F$3,SMALL($H$7:$H$106,ROWS($J$7:J33)),\"\")","v":27},{"$f":"IF($H33=\"\",\"\",INDEX($B$7:$H$106,_xlfn.AGGREGATE(14,6,ROW($H$7:$H$106)-ROW($H$7)+1/($H$7:$H$106=J33),COUNTIF($J$7:J33,J33)),1))","v":"Lanz André"},{"$f":"IF($H33=\"\",\"\",INDEX($B$7:$H$106,_xlfn.AGGREGATE(14,6,ROW($H$7:$H$106)-ROW($H$7)+1/($H$7:$H$106=J33),COUNTIF($J$7:J33,J33)),5))","v":1228},null,{"$f":"ISBLANK(Vorrunde!F35)","v":false},27]
[{"$f":"Teilnehmerliste!A33","v":28},{"$f":"Teilnehmerliste!B33 &\" \"&Teilnehmerliste!C33","v":"Giuralarocca Roberto"},{"$f":"Vorrunde!$DO$45","v":109},{"$f":"Endplatzierung!$BH$34","v":100},{"$f":"Finalrunde!$BK$62","v":740},{"$f":"IF(Teilnehmerliste!B33=\"\",\"\",SUM(C34:E34))","v":949},null,66,null,{"$f":"IF(ROWS($J$7:$J$7)<=$F$3,SMALL($H$7:$H$106,ROWS($J$7:J34)),\"\")","v":28},{"$f":"IF($H34=\"\",\"\",INDEX($B$7:$H$106,_xlfn.AGGREGATE(14,6,ROW($H$7:$H$106)-ROW($H$7)+1/($H$7:$H$106=J34),COUNTIF($J$7:J34,J34)),1))","v":"Lischer Franz"},{"$f":"IF($H34=\"\",\"\",INDEX($B$7:$H$106,_xlfn.AGGREGATE(14,6,ROW($H$7:$H$106)-ROW($H$7)+1/($H$7:$H$106=J34),COUNTIF($J$7:J34,J34)),5))","v":1216},null,{"$f":"ISBLANK(Vorrunde!F36)","v":false},28]
[{"$f":"Teilnehmerliste!A34","v":29},{"$f":"Teilnehmerliste!B34 &\" \"&Teilnehmerliste!C34","v":"Gomes Rui"},{"$f":"Vorrunde!$DS$45","v":103},{"$f":"Endplatzierung!$BJ$34","v":40},{"$f":"Finalrunde!$BR$62","v":940},{"$f":"IF(Teilnehmerliste!B34=\"\",\"\",SUM(C35:E35))","v":1083},null,45,null,{"$f":"IF(ROWS($J$7:$J$7)<=$F$3,SMALL($H$7:$H$106,ROWS($J$7:J35)),\"\")","v":29},{"$f":"IF($H35=\"\",\"\",INDEX($B$7:$H$106,_xlfn.AGGREGATE(14,6,ROW($H$7:$H$106)-ROW($H$7)+1/($H$7:$H$106=J35),COUNTIF($J$7:J35,J35)),1))","v":"Wang Jingwen"},{"$f":"IF($H35=\"\",\"\",INDEX($B$7:$H$106,_xlfn.AGGREGATE(14,6,ROW($H$7:$H$106)-ROW($H$7)+1/($H$7:$H$106=J35),COUNTIF($J$7:J35,J35)),5))","v":1199},null,{"$f":"ISBLANK(Vorrunde!F37)","v":false},29]
[{"$f":"Teilnehmerliste!A35","v":30},{"$f":"Teilnehmerliste!B35 &\" \"&Teilnehmerliste!C35","v":"Grosse Laurent"},{"$f":"Vorrunde!$DW$45","v":125},{"$f":"Endplatzierung!$BL$34","v":160},{"$f":"Finalrunde!$BY$62","v":1070},{"$f":"IF(Teilnehmerliste!B35=\"\",\"\",SUM(C36:E36))","v":1355},null,11,null,{"$f":"IF(ROWS($J$7:$J$7)<=$F$3,SMALL($H$7:$H$106,ROWS($J$7:J36)),\"\")","v":30},{"$f":"IF($H36=\"\",\"\",INDEX($B$7:$H$106,_xlfn.AGGREGATE(14,6,ROW($H$7:$H$106)-ROW($H$7)+1/($H$7:$H$106=J36),COUNTIF($J$7:J36,J36)),1))","v":"Agorastos Panos"},{"$f":"IF($H36=\"\",\"\",INDEX($B$7:$H$106,_xlfn.AGGREGATE(14,6,ROW($H$7:$H$106)-ROW($H$7)+1/($H$7:$H$106=J36),COUNTIF($J$7:J36,J36)),5))","v":1198},null,{"$f":"ISBLANK(Vorrunde!F38)","v":false},30]
[{"$f":"Teilnehmerliste!A36","v":31},{"$f":"Teilnehmerliste!B36 &\" \"&Teilnehmerliste!C36","v":"Gygli Gregory"},{"$f":"Vorrunde!$EA$45","v":95},{"$f":"Endplatzierung!$BN$34","v":220},{"$f":"Finalrunde!$CF$62","v":820},{"$f":"IF(Teilnehmerliste!B36=\"\",\"\",SUM(C37:E37))","v":1135},null,36,null,{"$f":"IF(ROWS($J$7:$J$7)<=$F$3,SMALL($H$7:$H$106,ROWS($J$7:J37)),\"\")","v":31},{"$f":"IF($H37=\"\",\"\",INDEX($B$7:$H$106,_xlfn.AGGREGATE(14,6,ROW($H$7:$H$106)-ROW($H$7)+1/($H$7:$H$106=J37),COUNTIF($J$7:J37,J37)),1))","v":"Pek Lechena"},{"$f":"IF($H37=\"\",\"\",INDEX($B$7:$H$106,_xlfn.AGGREGATE(14,6,ROW($H$7:$H$106)-ROW($H$7)+1/($H$7:$H$106=J37),COUNTIF($J$7:J37,J37)),5))","v":1195},null,{"$f":"ISBLANK(Vorrunde!F39)","v":false},31]
[{"$f":"Teilnehmerliste!A37","v":32},{"$f":"Teilnehmerliste!B37 &\" \"&Teilnehmerliste!C37","v":"Gygli Reto"},{"$f":"Vorrunde!$EE$45","v":117},{"$f":"Endplatzierung!$BP$34","v":100},{"$f":"Finalrunde!$CM$62","v":1100},{"$f":"IF(Teilnehmerliste!B37=\"\",\"\",SUM(C38:E38))","v":1317},null,17,null,{"$f":"IF(ROWS($J$7:$J$7)<=$F$3,SMALL($H$7:$H$106,ROWS($J$7:J38)),\"\")","v":32},{"$f":"IF($H38=\"\",\"\",INDEX($B$7:$H$106,_xlfn.AGGREGATE(14,6,ROW($H$7:$H$106)-ROW($H$7)+1/($H$7:$H$106=J38),COUNTIF($J$7:J38,J38)),1))","v":"Dukic Goran"},{"$f":"IF($H38=\"\",\"\",INDEX($B$7:$H$106,_xlfn.AGGREGATE(14,6,ROW($H$7:$H$106)-ROW($H$7)+1/($H$7:$H$106=J38),COUNTIF($J$7:J38,J38)),5))","v":1189},null,{"$f":"ISBLANK(Vorrunde!F40)","v":false},32]
[{"$f":"Teilnehmerliste!A38","v":33},{"$f":"Teilnehmerliste!B38 &\" \"&Teilnehmerliste!C38","v":"Gygli Sarina"},{"$f":"Vorrunde!$EI$45","v":116},{"$f":"Endplatzierung!$BR$34","v":140},{"$f":"Finalrunde!$CT$62","v":800},{"$f":"IF(Teilnehmerliste!B38=\"\",\"\",SUM(C39:E39))","v":1056},null,50,null,{"$f":"IF(ROWS($J$7:$J$7)<=$F$3,SMALL($H$7:$H$106,ROWS($J$7:J39)),\"\")","v":33},{"$f":"IF($H39=\"\",\"\",INDEX($B$7:$H$106,_xlfn.AGGREGATE(14,6,ROW($H$7:$H$106)-ROW($H$7)+1/($H$7:$H$106=J39),COUNTIF($J$7:J39,J39)),1))","v":"Rohner Martin"},{"$f":"IF($H39=\"\",\"\",INDEX($B$7:$H$106,_xlfn.AGGREGATE(14,6,ROW($H$7:$H$106)-ROW($H$7)+1/($H$7:$H$106=J39),COUNTIF($J$7:J39,J39)),5))","v":1188},null,{"$f":"ISBLANK(Vorrunde!F41)","v":false},33]
[{"$f":"Teilnehmerliste!A39","v":34},{"$f":"Teilnehmerliste!B39 &\" \"&Teilnehmerliste!C39","v":"Gygli Stefan"},{"$f":"Vorrunde!$EM$45","v":132},{"$f":"Endplatzierung!$BT$34","v":140},{"$f":"Finalrunde!$DA$62","v":1410},{"$f":"IF(Teilnehmerliste!B39=\"\",\"\",SUM(C40:E40))","v":1682},null,3,null,{"$f":"IF(ROWS($J$7:$J$7)<=$F$3,SMALL($H$7:$H$106,ROWS($J$7:J40)),\"\")","v":34},{"$f":"IF($H40=\"\",\"\",INDEX($B$7:$H$106,_xlfn.AGGREGATE(14,6,ROW($H$7:$H$106)-ROW($H$7)+1/($H$7:$H$106=J40),COUNTIF($J$7:J40,J40)),1))","v":"Handanagic Djuma"},{"$f":"IF($H40=\"\",\"\",INDEX($B$7:$H$106,_xlfn.AGGREGATE(14,6,ROW($H$7:$H$106)-ROW($H$7)+1/($H$7:$H$106=J40),COUNTIF($J$7:J40,J40)),5))","v":1172},null,{"$f":"ISBLANK(Vorrunde!F42)","v":false},34]
[{"$f":"Teilnehmerliste!A40","v":35},{"$f":"Teilnehmerliste!B40 &\" \"&Teilnehmerliste!C40","v":"Gygli Timothy"},{"$f":"Vorrunde!$EQ$45","v":137},{"$f":"Endplatzierung!$BV$34","v":100},{"$f":"Finalrunde!$DH$62","v":1050},{"$f":"IF(Teilnehmerliste!B40=\"\",\"\",SUM(C41:E41))","v":1287},null,19,null,{"$f":"IF(ROWS($J$7:$J$7)<=$F$3,SMALL($H$7:$H$106,ROWS($J$7:J41)),\"\")","v":35},{"$f":"IF($H41=\"\",\"\",INDEX($B$7:$H$106,_xlfn.AGGREGATE(14,6,ROW($H$7:$H$106)-ROW($H$7)+1/($H$7:$H$106=J41),COUNTIF($J$7:J41,J41)),1))","v":"Silva Bruno"},{"$f":"IF($H41=\"\",\"\",INDEX($B$7:$H$106,_xlfn.AGGREGATE(14,6,ROW($H$7:$H$106)-ROW($H$7)+1/($H$7:$H$106=J41),COUNTIF($J$7:J41,J41)),5))","v":1152},null,{"$f":"ISBLANK(Vorrunde!F43)","v":false},35]
[{"$f":"Teilnehmerliste!A41","v":36},{"$f":"Teilnehmerliste!B41 &\" \"&Teilnehmerliste!C41","v":"Haab Florian"},{"$f":"Vorrunde!$EU$45","v":128},{"$f":"Endplatzierung!$BX$34","v":120},{"$f":"Finalrunde!$DO$62","v":820},{"$f":"IF(Teilnehmerliste!B41=\"\",\"\",SUM(C42:E42))","v":1068},null,48,null,{"$f":"IF(ROWS($J$7:$J$7)<=$F$3,SMALL($H$7:$H$106,ROWS($J$7:J42)),\"\")","v":36},{"$f":"IF($H42=\"\",\"\",INDEX($B$7:$H$106,_xlfn.AGGREGATE(14,6,ROW($H$7:$H$106)-ROW($H$7)+1/($H$7:$H$106=J42),COUNTIF($J$7:J42,J42)),1))","v":"Gygli Gregory"},{"$f":"IF($H42=\"\",\"\",INDEX($B$7:$H$106,_xlfn.AGGREGATE(14,6,ROW($H$7:$H$106)-ROW($H$7)+1/($H$7:$H$106=J42),COUNTIF($J$7:J42,J42)),5))","v":1135},null,{"$f":"ISBLANK(Vorrunde!F44)","v":false},36]
[{"$f":"Teilnehmerliste!A42","v":37},{"$f":"Teilnehmerliste!B42 &\" \"&Teilnehmerliste!C42","v":"Handanagic Djuma"},{"$f":"Vorrunde!$EY$45","v":112},{"$f":"Endplatzierung!$BZ$34","v":100},{"$f":"Finalrunde!$DV$62","v":960},{"$f":"IF(Teilnehmerliste!B42=\"\",\"\",SUM(C43:E43))","v":1172},null,34,null,{"$f":"IF(ROWS($J$7:$J$7)<=$F$3,SMALL($H$7:$H$106,ROWS($J$7:J43)),\"\")","v":37},{"$f":"IF($H43=\"\",\"\",INDEX($B$7:$H$106,_xlfn.AGGREGATE(14,6,ROW($H$7:$H$106)-ROW($H$7)+1/($H$7:$H$106=J43),COUNTIF($J$7:J43,J43)),1))","v":"Cadonau Daniel"},{"$f":"IF($H43=\"\",\"\",INDEX($B$7:$H$106,_xlfn.AGGREGATE(14,6,ROW($H$7:$H$106)-ROW($H$7)+1/($H$7:$H$106=J43),COUNTIF($J$7:J43,J43)),5))","v":1127},null,{"$f":"ISBLANK(Finalrunde!F11)","v":false},37]
[{"$f":"Teilnehmerliste!A43","v":38},{"$f":"Teilnehmerliste!B43 &\" \"&Teilnehmerliste!C43","v":"Isenschmid Agnes"},{"$f":"Vorrunde!$FC$45","v":136},{"$f":"Endplatzierung!$CB$34","v":100},{"$f":"Finalrunde!$EC$62","v":1160},{"$f":"IF(Teilnehmerliste!B43=\"\",\"\",SUM(C44:E44))","v":1396},null,9,null,{"$f":"IF(ROWS($J$7:$J$7)<=$F$3,SMALL($H$7:$H$106,ROWS($J$7:J44)),\"\")","v":38},{"$f":"IF($H44=\"\",\"\",INDEX($B$7:$H$106,_xlfn.AGGREGATE(14,6,ROW($H$7:$H$106)-ROW($H$7)+1/($H$7:$H$106=J44),COUNTIF($J$7:J44,J44)),1))","v":"Treichler Reto"},{"$f":"IF($H44=\"\",\"\",INDEX($B$7:$H$106,_xlfn.AGGREGATE(14,6,ROW($H$7:$H$106)-ROW($H$7)+1/($H$7:$H$106=J44),COUNTIF($J$7:J44,J44)),5))","v":1118},null,{"$f":"ISBLANK(Finalrunde!F12)","v":false},38]
[{"$f":"Teilnehmerliste!A44","v":39},{"$f":"Teilnehmerliste!B44 &\" \"&Teilnehmerliste!C44","v":"Isenschmid Andreas"},{"$f":"Vorrunde!$FG$45","v":131},{"$f":"Endplatzierung!$CD$34","v":160},{"$f":"Finalrunde!$EJ$62","v":1050},{"$f":"IF(Teilnehmerliste!B44=\"\",\"\",SUM(C45:E45))","v":1341},null,13,null,{"$f":"IF(ROWS($J$7:$J$7)<=$F$3,SMALL($H$7:$H$106,ROWS($J$7:J45)),\"\")","v":39},{"$f":"IF($H45=\"\",\"\",INDEX($B$7:$H$106,_xlfn.AGGREGATE(14,6,ROW($H$7:$H$106)-ROW($H$7)+1/($H$7:$H$106=J45),COUNTIF($J$7:J45,J45)),1))","v":"Brunner Manuel"},{"$f":"IF($H45=\"\",\"\",INDEX($B$7:$H$106,_xlfn.AGGREGATE(14,6,ROW($H$7:$H$106)-ROW($H$7)+1/($H$7:$H$106=J45),COUNTIF($J$7:J45,J45)),5))","v":1116},null,{"$f":"ISBLANK(Finalrunde!F13)","v":false},39]
[{"$f":"Teilnehmerliste!A45","v":40},{"$f":"Teilnehmerliste!B45 &\" \"&Teilnehmerliste!C45","v":"Isenschmid Michi"},{"$f":"Vorrunde!$FK$45","v":125},{"$f":"Endplatzierung!$CF$34","v":40},{"$f":"Finalrunde!$EQ$62","v":800},{"$f":"IF(Teilnehmerliste!B45=\"\",\"\",SUM(C46:E46))","v":965},null,61,null,{"$f":"IF(ROWS($J$7:$J$7)<=$F$3,SMALL($H$7:$H$106,ROWS($J$7:J46)),\"\")","v":40},{"$f":"IF($H46=\"\",\"\",INDEX($B$7:$H$106,_xlfn.AGGREGATE(14,6,ROW($H$7:$H$106)-ROW($H$7)+1/($H$7:$H$106=J46),COUNTIF($J$7:J46,J46)),1))","v":"Schommarz Erich"},{"$f":"IF($H46=\"\",\"\",INDEX($B$7:$H$106,_xlfn.AGGREGATE(14,6,ROW($H$7:$H$106)-ROW($H$7)+1/($H$7:$H$106=J46),COUNTIF($J$7:J46,J46)),5))","v":1096},null,{"$f":"ISBLANK(Finalrunde!F14)","v":false},40]
[{"$f":"Teilnehmerliste!A46","v":41},{"$f":"Teilnehmerliste!B46 &\" \"&Teilnehmerliste!C46","v":"Jones Aiden"},{"$f":"Vorrunde!$FO$45","v":108},{"$f":"Endplatzierung!$CH$34","v":120},{"$f":"Finalrunde!$N$93","v":1340},{"$f":"IF(Teilnehmerliste!B46=\"\",\"\",SUM(C47:E47))","v":1568},null,4,null,{"$f":"IF(ROWS($J$7:$J$7)<=$F$3,SMALL($H$7:$H$106,ROWS($J$7:J47)),\"\")","v":41},{"$f":"IF($H47=\"\",\"\",INDEX($B$7:$H$106,_xlfn.AGGREGATE(14,6,ROW($H$7:$H$106)-ROW($H$7)+1/($H$7:$H$106=J47),COUNTIF($J$7:J47,J47)),1))","v":"Zachmann Jasmine"},{"$f":"IF($H47=\"\",\"\",INDEX($B$7:$H$106,_xlfn.AGGREGATE(14,6,ROW($H$7:$H$106)-ROW($H$7)+1/($H$7:$H$106=J47),COUNTIF($J$7:J47,J47)),5))","v":1094},null,{"$f":"ISBLANK(Finalrunde!F15)","v":false},41]
[{"$f":"Teilnehmerliste!A47","v":42},{"$f":"Teilnehmerliste!B47 &\" \"&Teilnehmerliste!C47","v":"Kalinci Murat"},{"$f":"Vorrunde!$FS$45","v":115},{"$f":"Endplatzierung!$CJ$34","v":100},{"$f":"Finalrunde!$U$93","v":1310},{"$f":"IF(Teilnehmerliste!B47=\"\",\"\",SUM(C48:E48))","v":1525},null,7,null,{"$f":"IF(ROWS($J$7:$J$7)<=$F$3,SMALL($H$7:$H$106,ROWS($J$7:J48)),\"\")","v":41},{"$f":"IF($H48=\"\",\"\",INDEX($B$7:$H$106,_xlfn.AGGREGATE(14,6,ROW($H$7:$H$106)-ROW($H$7)+1/($H$7:$H$106=J48),COUNTIF($J$7:J48,J48)),1))","v":"Beck Mara"},{"$f":"IF($H48=\"\",\"\",INDEX($B$7:$H$106,_xlfn.AGGREGATE(14,6,ROW($H$7:$H$106)-ROW($H$7)+1/($H$7:$H$106=J48),COUNTIF($J$7:J48,J48)),5))","v":1094},null,{"$f":"ISBLANK(Finalrunde!F16)","v":false},42]
[{"$f":"Teilnehmerliste!A48","v":43},{"$f":"Teilnehmerliste!B48 &\" \"&Teilnehmerliste!C48","v":"Keller Pascal"},{"$f":"Vorrunde!$FW$45","v":139},{"$f":"Endplatzierung!$CL$34","v":80},{"$f":"Finalrunde!$AB$93","v":1120},{"$f":"IF(Teilnehmerliste!B48=\"\",\"\",SUM(C49:E49))","v":1339},null,14,null,{"$f":"IF(ROWS($J$7:$J$7)<=$F$3,SMALL($H$7:$H$106,ROWS($J$7:J49)),\"\")","v":43},{"$f":"IF($H49=\"\",\"\",INDEX($B$7:$H$106,_xlfn.AGGREGATE(14,6,ROW($H$7:$H$106)-ROW($H$7)+1/($H$7:$H$106=J49),COUNTIF($J$7:J49,J49)),1))","v":"Bosshart Michael"},{"$f":"IF($H49=\"\",\"\",INDEX($B$7:$H$106,_xlfn.AGGREGATE(14,6,ROW($H$7:$H$106)-ROW($H$7)+1/($H$7:$H$106=J49),COUNTIF($J$7:J49,J49)),5))","v":1086},null,{"$f":"ISBLANK(Finalrunde!F17)","v":false},43]
[{"$f":"Teilnehmerliste!A49","v":44},{"$f":"Teilnehmerliste!B49 &\" \"&Teilnehmerliste!C49","v":"Lanz André"},{"$f":"Vorrunde!$GA$45","v":88},{"$f":"Endplatzierung!$CN$34","v":60},{"$f":"Finalrunde!$AI$93","v":1080},{"$f":"IF(Teilnehmerliste!B49=\"\",\"\",SUM(C50:E50))","v":1228},null,27,null,{"$f":"IF(ROWS($J$7:$J$7)<=$F$3,SMALL($H$7:$H$106,ROWS($J$7:J50)),\"\")","v":44},{"$f":"IF($H50=\"\",\"\",INDEX($B$7:$H$106,_xlfn.AGGREGATE(14,6,ROW($H$7:$H$106)-ROW($H$7)+1/($H$7:$H$106=J50),COUNTIF($J$7:J50,J50)),1))","v":"Rüegg Michael"},{"$f":"IF($H50=\"\",\"\",INDEX($B$7:$H$106,_xlfn.AGGREGATE(14,6,ROW($H$7:$H$106)-ROW($H$7)+1/($H$7:$H$106=J50),COUNTIF($J$7:J50,J50)),5))","v":1084},null,{"$f":"ISBLANK(Finalrunde!F18)","v":false},44]
[{"$f":"Teilnehmerliste!A50","v":45},{"$f":"Teilnehmerliste!B50 &\" \"&Teilnehmerliste!C50","v":"Lischer Franz"},{"$f":"Vorrunde!$GE$45","v":106},{"$f":"Endplatzierung!$CP$34","v":160},{"$f":"Finalrunde!$AP$93","v":950},{"$f":"IF(Teilnehmerliste!B50=\"\",\"\",SUM(C51:E51))","v":1216},null,28,null,{"$f":"IF(ROWS($J$7:$J$7)<=$F$3,SMALL($H$7:$H$106,ROWS($J$7:J51)),\"\")","v":45},{"$f":"IF($H51=\"\",\"\",INDEX($B$7:$H$106,_xlfn.AGGREGATE(14,6,ROW($H$7:$H$106)-ROW($H$7)+1/($H$7:$H$106=J51),COUNTIF($J$7:J51,J51)),1))","v":"Babic Mario"},{"$f":"IF($H51=\"\",\"\",INDEX($B$7:$H$106,_xlfn.AGGREGATE(14,6,ROW($H$7:$H$106)-ROW($H$7)+1/($H$7:$H$106=J51),COUNTIF($J$7:J51,J51)),5))","v":1083},null,{"$f":"ISBLANK(Finalrunde!F20)","v":false},45]
[{"$f":"Teilnehmerliste!A51","v":46},{"$f":"Teilnehmerliste!B51 &\" \"&Teilnehmerliste!C51","v":"Lütolf Marc"},{"$f":"Vorrunde!$GI$45","v":104},{"$f":"Endplatzierung!$CR$34","v":100},{"$f":"Finalrunde!$AW$93","v":1360},{"$f":"IF(Teilnehmerliste!B51=\"\",\"\",SUM(C52:E52))","v":1564},null,5,null,{"$f":"IF(ROWS($J$7:$J$7)<=$F$3,SMALL($H$7:$H$106,ROWS($J$7:J52)),\"\")","v":45},{"$f":"IF($H52=\"\",\"\",INDEX($B$7:$H$106,_xlfn.AGGREGATE(14,6,ROW($H$7:$H$106)-ROW($H$7)+1/($H$7:$H$106=J52),COUNTIF($J$7:J52,J52)),1))","v":"Schuster Ralph"},{"$f":"IF($H52=\"\",\"\",INDEX($B$7:$H$106,_xlfn.AGGREGATE(14,6,ROW($H$7:$H$106)-ROW($H$7)+1/($H$7:$H$106=J52),COUNTIF($J$7:J52,J52)),5))","v":1083},null,{"$f":"ISBLANK(Finalrunde!F21)","v":false},46]
[{"$f":"Teilnehmerliste!A52","v":47},{"$f":"Teilnehmerliste!B52 &\" \"&Teilnehmerliste!C52","v":"Marini Mauro"},{"$f":"Vorrunde!$GM$45","v":102},{"$f":"Endplatzierung!$CT$34","v":100},{"$f":"Finalrunde!$BD$93","v":600},{"$f":"IF(Teilnehmerliste!B52=\"\",\"\",SUM(C53:E53))","v":802},null,74,null,{"$f":"IF(ROWS($J$7:$J$7)<=$F$3,SMALL($H$7:$H$106,ROWS($J$7:J53)),\"\")","v":45},{"$f":"IF($H53=\"\",\"\",INDEX($B$7:$H$106,_xlfn.AGGREGATE(14,6,ROW($H$7:$H$106)-ROW($H$7)+1/($H$7:$H$106=J53),COUNTIF($J$7:J53,J53)),1))","v":"Gomes Rui"},{"$f":"IF($H53=\"\",\"\",INDEX($B$7:$H$106,_xlfn.AGGREGATE(14,6,ROW($H$7:$H$106)-ROW($H$7)+1/($H$7:$H$106=J53),COUNTIF($J$7:J53,J53)),5))","v":1083},null,{"$f":"ISBLANK(Finalrunde!F22)","v":false},47]
[{"$f":"Teilnehmerliste!A53","v":48},{"$f":"Teilnehmerliste!B53 &\" \"&Teilnehmerliste!C53","v":"Marthaler Martin"},{"$f":"Vorrunde!$GQ$45","v":112},{"$f":"Endplatzierung!$CV$34","v":60},{"$f":"Finalrunde!$BK$93","v":1160},{"$f":"IF(Teilnehmerliste!B53=\"\",\"\",SUM(C54:E54))","v":1332},null,15,null,{"$f":"IF(ROWS($J$7:$J$7)<=$F$3,SMALL($H$7:$H$106,ROWS($J$7:J54)),\"\")","v":48},{"$f":"IF($H54=\"\",\"\",INDEX($B$7:$H$106,_xlfn.AGGREGATE(14,6,ROW($H$7:$H$106)-ROW($H$7)+1/($H$7:$H$106=J54),COUNTIF($J$7:J54,J54)),1))","v":"Haab Florian"},{"$f":"IF($H54=\"\",\"\",INDEX($B$7:$H$106,_xlfn.AGGREGATE(14,6,ROW($H$7:$H$106)-ROW($H$7)+1/($H$7:$H$106=J54),COUNTIF($J$7:J54,J54)),5))","v":1068},null,{"$f":"ISBLANK(Finalrunde!F23)","v":false},48]
[{"$f":"Teilnehmerliste!A54","v":49},{"$f":"Teilnehmerliste!B54 &\" \"&Teilnehmerliste!C54","v":"Oliveira Telmo"},{"$f":"Vorrunde!$GU$45","v":99},{"$f":"Endplatzierung!$CX$34","v":80},{"$f":"Finalrunde!$BR$93","v":800},{"$f":"IF(Teilnehmerliste!B54=\"\",\"\",SUM(C55:E55))","v":979},null,59,null,{"$f":"IF(ROWS($J$7:$J$7)<=$F$3,SMALL($H$7:$H$106,ROWS($J$7:J55)),\"\")","v":49},{"$f":"IF($H55=\"\",\"\",INDEX($B$7:$H$106,_xlfn.AGGREGATE(14,6,ROW($H$7:$H$106)-ROW($H$7)+1/($H$7:$H$106=J55),COUNTIF($J$7:J55,J55)),1))","v":"Wullschleger Stefan"},{"$f":"IF($H55=\"\",\"\",INDEX($B$7:$H$106,_xlfn.AGGREGATE(14,6,ROW($H$7:$H$106)-ROW($H$7)+1/($H$7:$H$106=J55),COUNTIF($J$7:J55,J55)),5))","v":1064},null,{"$f":"ISBLANK(Finalrunde!F25)","v":false},49]
[{"$f":"Teilnehmerliste!A55","v":50},{"$f":"Teilnehmerliste!B55 &\" \"&Teilnehmerliste!C55","v":"Palma Luigi"},{"$f":"Vorrunde!$GY$45","v":69},{"$f":"Endplatzierung!$CZ$34","v":60},{"$f":"Finalrunde!$BY$93","v":800},{"$f":"IF(Teilnehmerliste!B55=\"\",\"\",SUM(C56:E56))","v":929},null,68,null,{"$f":"IF(ROWS($J$7:$J$7)<=$F$3,SMALL($H$7:$H$106,ROWS($J$7:J56)),\"\")","v":50},{"$f":"IF($H56=\"\",\"\",INDEX($B$7:$H$106,_xlfn.AGGREGATE(14,6,ROW($H$7:$H$106)-ROW($H$7)+1/($H$7:$H$106=J56),COUNTIF($J$7:J56,J56)),1))","v":"Gygli Sarina"},{"$f":"IF($H56=\"\",\"\",INDEX($B$7:$H$106,_xlfn.AGGREGATE(14,6,ROW($H$7:$H$106)-ROW($H$7)+1/($H$7:$H$106=J56),COUNTIF($J$7:J56,J56)),5))","v":1056},null,{"$f":"ISBLANK(Finalrunde!F26)","v":false},50]
[{"$f":"Teilnehmerliste!A56","v":51},{"$f":"Teilnehmerliste!B56 &\" \"&Teilnehmerliste!C56","v":"Pek Lechena"},{"$f":"Vorrunde!$K$90","v":95},{"$f":"Endplatzierung!$F$68","v":80},{"$f":"Finalrunde!$CF$93","v":1020},{"$f":"IF(Teilnehmerliste!B56=\"\",\"\",SUM(C57:E57))","v":1195},null,31,null,{"$f":"IF(ROWS($J$7:$J$7)<=$F$3,SMALL($H$7:$H$106,ROWS($J$7:J57)),\"\")","v":51},{"$f":"IF($H57=\"\",\"\",INDEX($B$7:$H$106,_xlfn.AGGREGATE(14,6,ROW($H$7:$H$106)-ROW($H$7)+1/($H$7:$H$106=J57),COUNTIF($J$7:J57,J57)),1))","v":"Burkart André"},{"$f":"IF($H57=\"\",\"\",INDEX($B$7:$H$106,_xlfn.AGGREGATE(14,6,ROW($H$7:$H$106)-ROW($H$7)+1/($H$7:$H$106=J57),COUNTIF($J$7:J57,J57)),5))","v":1042},null,{"$f":"ISBLANK(Finalrunde!F28)","v":false},51]
[{"$f":"Teilnehmerliste!A57","v":52},{"$f":"Teilnehmerliste!B57 &\" \"&Teilnehmerliste!C57","v":"Pietzke Jannis"},{"$f":"Vorrunde!$O$90","v":109},{"$f":"Endplatzierung!$H$68","v":120},{"$f":"Finalrunde!$CM$93","v":1320},{"$f":"IF(Teilnehmerliste!B57=\"\",\"\",SUM(C58:E58))","v":1549},null,6,null,{"$f":"IF(ROWS($J$7:$J$7)<=$F$3,SMALL($H$7:$H$106,ROWS($J$7:J58)),\"\")","v":52},{"$f":"IF($H58=\"\",\"\",INDEX($B$7:$H$106,_xlfn.AGGREGATE(14,6,ROW($H$7:$H$106)-ROW($H$7)+1/($H$7:$H$106=J58),COUNTIF($J$7:J58,J58)),1))","v":"Brunner Philip"},{"$f":"IF($H58=\"\",\"\",INDEX($B$7:$H$106,_xlfn.AGGREGATE(14,6,ROW($H$7:$H$106)-ROW($H$7)+1/($H$7:$H$106=J58),COUNTIF($J$7:J58,J58)),5))","v":1036},null,{"$f":"ISBLANK(Finalrunde!F29)","v":true},52]
[{"$f":"Teilnehmerliste!A58","v":53},{"$f":"Teilnehmerliste!B58 &\" \"&Teilnehmerliste!C58","v":"Rauscher Petra"},{"$f":"Vorrunde!$S$90","v":125},{"$f":"Endplatzierung!$J$68","v":120},{"$f":"Finalrunde!$CT$93","v":780},{"$f":"IF(Teilnehmerliste!B58=\"\",\"\",SUM(C59:E59))","v":1025},null,54,null,{"$f":"IF(ROWS($J$7:$J$7)<=$F$3,SMALL($H$7:$H$106,ROWS($J$7:J59)),\"\")","v":53},{"$f":"IF($H59=\"\",\"\",INDEX($B$7:$H$106,_xlfn.AGGREGATE(14,6,ROW($H$7:$H$106)-ROW($H$7)+1/($H$7:$H$106=J59),COUNTIF($J$7:J59,J59)),1))","v":"Blöchlinger/Edri Lara/Yaniv"},{"$f":"IF($H59=\"\",\"\",INDEX($B$7:$H$106,_xlfn.AGGREGATE(14,6,ROW($H$7:$H$106)-ROW($H$7)+1/($H$7:$H$106=J59),COUNTIF($J$7:J59,J59)),5))","v":1034}]
[{"$f":"Teilnehmerliste!A59","v":54},{"$f":"Teilnehmerliste!B59 &\" \"&Teilnehmerliste!C59","v":"Rohner Martin"},{"$f":"Vorrunde!$W$90","v":128},{"$f":"Endplatzierung!$L$68","v":60},{"$f":"Finalrunde!$DA$93","v":1000},{"$f":"IF(Teilnehmerliste!B59=\"\",\"\",SUM(C60:E60))","v":1188},null,33,null,{"$f":"IF(ROWS($J$7:$J$7)<=$F$3,SMALL($H$7:$H$106,ROWS($J$7:J60)),\"\")","v":54},{"$f":"IF($H60=\"\",\"\",INDEX($B$7:$H$106,_xlfn.AGGREGATE(14,6,ROW($H$7:$H$106)-ROW($H$7)+1/($H$7:$H$106=J60),COUNTIF($J$7:J60,J60)),1))","v":"Rauscher Petra"},{"$f":"IF($H60=\"\",\"\",INDEX($B$7:$H$106,_xlfn.AGGREGATE(14,6,ROW($H$7:$H$106)-ROW($H$7)+1/($H$7:$H$106=J60),COUNTIF($J$7:J60,J60)),5))","v":1025}]
[{"$f":"Teilnehmerliste!A60","v":55},{"$f":"Teilnehmerliste!B60 &\" \"&Teilnehmerliste!C60","v":"Rüegg Lynn"},{"$f":"Vorrunde!$AA$90","v":117},{"$f":"Endplatzierung!$N$68","v":120},{"$f":"Finalrunde!$DH$93","v":730},{"$f":"IF(Teilnehmerliste!B60=\"\",\"\",SUM(C61:E61))","v":967},null,60,null,{"$f":"IF(ROWS($J$7:$J$7)<=$F$3,SMALL($H$7:$H$106,ROWS($J$7:J61)),\"\")","v":55},{"$f":"IF($H61=\"\",\"\",INDEX($B$7:$H$106,_xlfn.AGGREGATE(14,6,ROW($H$7:$H$106)-ROW($H$7)+1/($H$7:$H$106=J61),COUNTIF($J$7:J61,J61)),1))","v":"Schwitter Corinne"},{"$f":"IF($H61=\"\",\"\",INDEX($B$7:$H$106,_xlfn.AGGREGATE(14,6,ROW($H$7:$H$106)-ROW($H$7)+1/($H$7:$H$106=J61),COUNTIF($J$7:J61,J61)),5))","v":1007}]
[{"$f":"Teilnehmerliste!A61","v":56},{"$f":"Teilnehmerliste!B61 &\" \"&Teilnehmerliste!C61","v":"Rüegg Michael"},{"$f":"Vorrunde!$AE$90","v":104},{"$f":"Endplatzierung!$P$68","v":60},{"$f":"Finalrunde!$DO$93","v":920},{"$f":"IF(Teilnehmerliste!B61=\"\",\"\",SUM(C62:E62))","v":1084},null,44,null,{"$f":"IF(ROWS($J$7:$J$7)<=$F$3,SMALL($H$7:$H$106,ROWS($J$7:J62)),\"\")","v":56},{"$f":"IF($H62=\"\",\"\",INDEX($B$7:$H$106,_xlfn.AGGREGATE(14,6,ROW($H$7:$H$106)-ROW($H$7)+1/($H$7:$H$106=J62),COUNTIF($J$7:J62,J62)),1))","v":"Megdiche Nidhal"},{"$f":"IF($H62=\"\",\"\",INDEX($B$7:$H$106,_xlfn.AGGREGATE(14,6,ROW($H$7:$H$106)-ROW($H$7)+1/($H$7:$H$106=J62),COUNTIF($J$7:J62,J62)),5))","v":998}]
[{"$f":"Teilnehmerliste!A62","v":57},{"$f":"Teilnehmerliste!B62 &\" \"&Teilnehmerliste!C62","v":"Rüegg Sabine"},{"$f":"Vorrunde!$AI$90","v":87},{"$f":"Endplatzierung!$R$68","v":40},{"$f":"Finalrunde!$DV$93","v":780},{"$f":"IF(Teilnehmerliste!B62=\"\",\"\",SUM(C63:E63))","v":907},null,70,null,{"$f":"IF(ROWS($J$7:$J$7)<=$F$3,SMALL($H$7:$H$106,ROWS($J$7:J63)),\"\")","v":57},{"$f":"IF($H63=\"\",\"\",INDEX($B$7:$H$106,_xlfn.AGGREGATE(14,6,ROW($H$7:$H$106)-ROW($H$7)+1/($H$7:$H$106=J63),COUNTIF($J$7:J63,J63)),1))","v":"D'Acunto Niva"},{"$f":"IF($H63=\"\",\"\",INDEX($B$7:$H$106,_xlfn.AGGREGATE(14,6,ROW($H$7:$H$106)-ROW($H$7)+1/($H$7:$H$106=J63),COUNTIF($J$7:J63,J63)),5))","v":988}]
[{"$f":"Teilnehmerliste!A63","v":58},{"$f":"Teilnehmerliste!B63 &\" \"&Teilnehmerliste!C63","v":"Schommarz Erich"},{"$f":"Vorrunde!$AM$90","v":106},{"$f":"Endplatzierung!$T$68","v":60},{"$f":"Finalrunde!$EC$93","v":930},{"$f":"IF(Teilnehmerliste!B63=\"\",\"\",SUM(C64:E64))","v":1096},null,40,null,{"$f":"IF(ROWS($J$7:$J$7)<=$F$3,SMALL($H$7:$H$106,ROWS($J$7:J64)),\"\")","v":58},{"$f":"IF($H64=\"\",\"\",INDEX($B$7:$H$106,_xlfn.AGGREGATE(14,6,ROW($H$7:$H$106)-ROW($H$7)+1/($H$7:$H$106=J64),COUNTIF($J$7:J64,J64)),1))","v":"Wagner Markus"},{"$f":"IF($H64=\"\",\"\",INDEX($B$7:$H$106,_xlfn.AGGREGATE(14,6,ROW($H$7:$H$106)-ROW($H$7)+1/($H$7:$H$106=J64),COUNTIF($J$7:J64,J64)),5))","v":986}]
[{"$f":"Teilnehmerliste!A64","v":59},{"$f":"Teilnehmerliste!B64 &\" \"&Teilnehmerliste!C64","v":"Schuster Ralph"},{"$f":"Vorrunde!$AQ$90","v":93},{"$f":"Endplatzierung!$V$68","v":80},{"$f":"Finalrunde!$EJ$93","v":910},{"$f":"IF(Teilnehmerliste!B64=\"\",\"\",SUM(C65:E65))","v":1083},null,45,null,{"$f":"IF(ROWS($J$7:$J$7)<=$F$3,SMALL($H$7:$H$106,ROWS($J$7:J65)),\"\")","v":59},{"$f":"IF($H65=\"\",\"\",INDEX($B$7:$H$106,_xlfn.AGGREGATE(14,6,ROW($H$7:$H$106)-ROW($H$7)+1/($H$7:$H$106=J65),COUNTIF($J$7:J65,J65)),1))","v":"Oliveira Telmo"},{"$f":"IF($H65=\"\",\"\",INDEX($B$7:$H$106,_xlfn.AGGREGATE(14,6,ROW($H$7:$H$106)-ROW($H$7)+1/($H$7:$H$106=J65),COUNTIF($J$7:J65,J65)),5))","v":979}]
[{"$f":"Teilnehmerliste!A65","v":60},{"$f":"Teilnehmerliste!B65 &\" \"&Teilnehmerliste!C65","v":"Schwitter Corinne"},{"$f":"Vorrunde!$AU$90","v":87},{"$f":"Endplatzierung!$X$68","v":100},{"$f":"Finalrunde!$EQ$93","v":820},{"$f":"IF(Teilnehmerliste!B65=\"\",\"\",SUM(C66:E66))","v":1007},null,55,null,{"$f":"IF(ROWS($J$7:$J$7)<=$F$3,SMALL($H$7:$H$106,ROWS($J$7:J66)),\"\")","v":60},{"$f":"IF($H66=\"\",\"\",INDEX($B$7:$H$106,_xlfn.AGGREGATE(14,6,ROW($H$7:$H$106)-ROW($H$7)+1/($H$7:$H$106=J66),COUNTIF($J$7:J66,J66)),1))","v":"Rüegg Lynn"},{"$f":"IF($H66=\"\",\"\",INDEX($B$7:$H$106,_xlfn.AGGREGATE(14,6,ROW($H$7:$H$106)-ROW($H$7)+1/($H$7:$H$106=J66),COUNTIF($J$7:J66,J66)),5))","v":967}]
[{"$f":"Teilnehmerliste!A66","v":61},{"$f":"Teilnehmerliste!B66 &\" \"&Teilnehmerliste!C66","v":"Silva Bruno"},{"$f":"Vorrunde!$AY$90","v":142},{"$f":"Endplatzierung!$Z$68","v":100},{"$f":"Finalrunde!$N$124","v":910},{"$f":"IF(Teilnehmerliste!B66=\"\",\"\",SUM(C67:E67))","v":1152},null,35,null,{"$f":"IF(ROWS($J$7:$J$7)<=$F$3,SMALL($H$7:$H$106,ROWS($J$7:J67)),\"\")","v":61},{"$f":"IF($H67=\"\",\"\",INDEX($B$7:$H$106,_xlfn.AGGREGATE(14,6,ROW($H$7:$H$106)-ROW($H$7)+1/($H$7:$H$106=J67),COUNTIF($J$7:J67,J67)),1))","v":"Isenschmid Michi"},{"$f":"IF($H67=\"\",\"\",INDEX($B$7:$H$106,_xlfn.AGGREGATE(14,6,ROW($H$7:$H$106)-ROW($H$7)+1/($H$7:$H$106=J67),COUNTIF($J$7:J67,J67)),5))","v":965}]
[{"$f":"Teilnehmerliste!A67","v":62},{"$f":"Teilnehmerliste!B67 &\" \"&Teilnehmerliste!C67","v":"Sotelo Yermany"},{"$f":"Vorrunde!$BC$90","v":99},{"$f":"Endplatzierung!$AB$68","v":60},{"$f":"Finalrunde!$U$124","v":700},{"$f":"IF(Teilnehmerliste!B67=\"\",\"\",SUM(C68:E68))","v":859},null,72,null,{"$f":"IF(ROWS($J$7:$J$7)<=$F$3,SMALL($H$7:$H$106,ROWS($J$7:J68)),\"\")","v":62},{"$f":"IF($H68=\"\",\"\",INDEX($B$7:$H$106,_xlfn.AGGREGATE(14,6,ROW($H$7:$H$106)-ROW($H$7)+1/($H$7:$H$106=J68),COUNTIF($J$7:J68,J68)),1))","v":"Städelin Hanspeter"},{"$f":"IF($H68=\"\",\"\",INDEX($B$7:$H$106,_xlfn.AGGREGATE(14,6,ROW($H$7:$H$106)-ROW($H$7)+1/($H$7:$H$106=J68),COUNTIF($J$7:J68,J68)),5))","v":963}]
[{"$f":"Teilnehmerliste!A68","v":63},{"$f":"Teilnehmerliste!B68 &\" \"&Teilnehmerliste!C68","v":"Thormann Armando"},{"$f":"Vorrunde!$BG$90","v":121},{"$f":"Endplatzierung!$AD$68","v":120},{"$f":"Finalrunde!$AB$124","v":1040},{"$f":"IF(Teilnehmerliste!B68=\"\",\"\",SUM(C69:E69))","v":1281},null,20,null,{"$f":"IF(ROWS($J$7:$J$7)<=$F$3,SMALL($H$7:$H$106,ROWS($J$7:J69)),\"\")","v":62},{"$f":"IF($H69=\"\",\"\",INDEX($B$7:$H$106,_xlfn.AGGREGATE(14,6,ROW($H$7:$H$106)-ROW($H$7)+1/($H$7:$H$106=J69),COUNTIF($J$7:J69,J69)),1))","v":"Da Costa Leonardo"},{"$f":"IF($H69=\"\",\"\",INDEX($B$7:$H$106,_xlfn.AGGREGATE(14,6,ROW($H$7:$H$106)-ROW($H$7)+1/($H$7:$H$106=J69),COUNTIF($J$7:J69,J69)),5))","v":963}]
[{"$f":"Teilnehmerliste!A69","v":64},{"$f":"Teilnehmerliste!B69 &\" \"&Teilnehmerliste!C69","v":"Thormann Julia"},{"$f":"Vorrunde!$BK$90","v":155},{"$f":"Endplatzierung!$AF$68","v":120},{"$f":"Finalrunde!$AI$124","v":1120},{"$f":"IF(Teilnehmerliste!B69=\"\",\"\",SUM(C70:E70))","v":1395},null,10,null,{"$f":"IF(ROWS($J$7:$J$7)<=$F$3,SMALL($H$7:$H$106,ROWS($J$7:J70)),\"\")","v":64},{"$f":"IF($H70=\"\",\"\",INDEX($B$7:$H$106,_xlfn.AGGREGATE(14,6,ROW($H$7:$H$106)-ROW($H$7)+1/($H$7:$H$106=J70),COUNTIF($J$7:J70,J70)),1))","v":"Cadonau Deliz"},{"$f":"IF($H70=\"\",\"\",INDEX($B$7:$H$106,_xlfn.AGGREGATE(14,6,ROW($H$7:$H$106)-ROW($H$7)+1/($H$7:$H$106=J70),COUNTIF($J$7:J70,J70)),5))","v":961}]
[{"$f":"Teilnehmerliste!A70","v":65},{"$f":"Teilnehmerliste!B70 &\" \"&Teilnehmerliste!C70","v":"Treichler Lea"},{"$f":"Vorrunde!$BO$90","v":138},{"$f":"Endplatzierung!$AH$68","v":160},{"$f":"Finalrunde!$AP$124","v":940},{"$f":"IF(Teilnehmerliste!B70=\"\",\"\",SUM(C71:E71))","v":1238},null,24,null,{"$f":"IF(ROWS($J$7:$J$7)<=$F$3,SMALL($H$7:$H$106,ROWS($J$7:J71)),\"\")","v":65},{"$f":"IF($H71=\"\",\"\",INDEX($B$7:$H$106,_xlfn.AGGREGATE(14,6,ROW($H$7:$H$106)-ROW($H$7)+1/($H$7:$H$106=J71),COUNTIF($J$7:J71,J71)),1))","v":"Christiansen Olo"},{"$f":"IF($H71=\"\",\"\",INDEX($B$7:$H$106,_xlfn.AGGREGATE(14,6,ROW($H$7:$H$106)-ROW($H$7)+1/($H$7:$H$106=J71),COUNTIF($J$7:J71,J71)),5))","v":959}]
[{"$f":"Teilnehmerliste!A71","v":66},{"$f":"Teilnehmerliste!B71 &\" \"&Teilnehmerliste!C71","v":"Treichler Reto"},{"$f":"Vorrunde!$BS$90","v":118},{"$f":"Endplatzierung!$AJ$68","v":60},{"$f":"Finalrunde!$AW$124","v":940},{"$f":"IF(Teilnehmerliste!B71=\"\",\"\",SUM(C72:E72))","v":1118},null,{"$f":"IFERROR(_xlfn.RANK.EQ(F72,$F$7:$F$106,0),\"\")","v":38},null,{"$f":"IF(ROWS($J$7:$J$7)<=$F$3,SMALL($H$7:$H$106,ROWS($J$7:J72)),\"\")","v":66},{"$f":"IF($H72=\"\",\"\",INDEX($B$7:$H$106,_xlfn.AGGREGATE(14,6,ROW($H$7:$H$106)-ROW($H$7)+1/($H$7:$H$106=J72),COUNTIF($J$7:J72,J72)),1))","v":"Giuralarocca Roberto"},{"$f":"IF($H72=\"\",\"\",INDEX($B$7:$H$106,_xlfn.AGGREGATE(14,6,ROW($H$7:$H$106)-ROW($H$7)+1/($H$7:$H$106=J72),COUNTIF($J$7:J72,J72)),5))","v":949}]
[{"$f":"Teilnehmerliste!A72","v":67},{"$f":"Teilnehmerliste!B72 &\" \"&Teilnehmerliste!C72","v":"Wälti Christoph"},{"$f":"Vorrunde!$BW$90","v":106},{"$f":"Endplatzierung!$AL$68","v":60},{"$f":"Finalrunde!$BD$124","v":1630},{"$f":"IF(Teilnehmerliste!B72=\"\",\"\",SUM(C73:E73))","v":1796},null,2,null,{"$f":"IF(ROWS($J$7:$J$7)<=$F$3,SMALL($H$7:$H$106,ROWS($J$7:J73)),\"\")","v":67},{"$f":"IF($H73=\"\",\"\",INDEX($B$7:$H$106,_xlfn.AGGREGATE(14,6,ROW($H$7:$H$106)-ROW($H$7)+1/($H$7:$H$106=J73),COUNTIF($J$7:J73,J73)),1))","v":"Foscaldi Maurizio"},{"$f":"IF($H73=\"\",\"\",INDEX($B$7:$H$106,_xlfn.AGGREGATE(14,6,ROW($H$7:$H$106)-ROW($H$7)+1/($H$7:$H$106=J73),COUNTIF($J$7:J73,J73)),5))","v":938}]
[{"$f":"Teilnehmerliste!A73","v":68},{"$f":"Teilnehmerliste!B73 &\" \"&Teilnehmerliste!C73","v":"Wagner Markus"},{"$f":"Vorrunde!$CA$90","v":106},{"$f":"Endplatzierung!$AN$68","v":120},{"$f":"Finalrunde!$BK$124","v":760},{"$f":"IF(Teilnehmerliste!B73=\"\",\"\",SUM(C74:E74))","v":986},null,58,null,{"$f":"IF(ROWS($J$7:$J$7)<=$F$3,SMALL($H$7:$H$106,ROWS($J$7:J74)),\"\")","v":68},{"$f":"IF($H74=\"\",\"\",INDEX($B$7:$H$106,_xlfn.AGGREGATE(14,6,ROW($H$7:$H$106)-ROW($H$7)+1/($H$7:$H$106=J74),COUNTIF($J$7:J74,J74)),1))","v":"Palma Luigi"},{"$f":"IF($H74=\"\",\"\",INDEX($B$7:$H$106,_xlfn.AGGREGATE(14,6,ROW($H$7:$H$106)-ROW($H$7)+1/($H$7:$H$106=J74),COUNTIF($J$7:J74,J74)),5))","v":929}]
[{"$f":"Teilnehmerliste!A74","v":69},{"$f":"Teilnehmerliste!B74 &\" \"&Teilnehmerliste!C74","v":"Walser Stefan"},{"$f":"Vorrunde!$CE$90","v":96},{"$f":"Endplatzierung!$AP$68","v":100},{"$f":"Finalrunde!$BR$124","v":1050},{"$f":"IF(Teilnehmerliste!B74=\"\",\"\",SUM(C75:E75))","v":1246},null,23,null,{"$f":"IF(ROWS($J$7:$J$7)<=$F$3,SMALL($H$7:$H$106,ROWS($J$7:J75)),\"\")","v":69},{"$f":"IF($H75=\"\",\"\",INDEX($B$7:$H$106,_xlfn.AGGREGATE(14,6,ROW($H$7:$H$106)-ROW($H$7)+1/($H$7:$H$106=J75),COUNTIF($J$7:J75,J75)),1))","v":"Bartholet Roger"},{"$f":"IF($H75=\"\",\"\",INDEX($B$7:$H$106,_xlfn.AGGREGATE(14,6,ROW($H$7:$H$106)-ROW($H$7)+1/($H$7:$H$106=J75),COUNTIF($J$7:J75,J75)),5))","v":922}]
[{"$f":"Teilnehmerliste!A75","v":70},{"$f":"Teilnehmerliste!B75 &\" \"&Teilnehmerliste!C75","v":"Wang Jingwen"},{"$f":"Vorrunde!$CI$90","v":99},{"$f":"Endplatzierung!$AR$68","v":120},{"$f":"Finalrunde!$BY$124","v":980},{"$f":"IF(Teilnehmerliste!B75=\"\",\"\",SUM(C76:E76))","v":1199},null,29,null,{"$f":"IF(ROWS($J$7:$J$7)<=$F$3,SMALL($H$7:$H$106,ROWS($J$7:J76)),\"\")","v":70},{"$f":"IF($H76=\"\",\"\",INDEX($B$7:$H$106,_xlfn.AGGREGATE(14,6,ROW($H$7:$H$106)-ROW($H$7)+1/($H$7:$H$106=J76),COUNTIF($J$7:J76,J76)),1))","v":"Rüegg Sabine"},{"$f":"IF($H76=\"\",\"\",INDEX($B$7:$H$106,_xlfn.AGGREGATE(14,6,ROW($H$7:$H$106)-ROW($H$7)+1/($H$7:$H$106=J76),COUNTIF($J$7:J76,J76)),5))","v":907}]
[{"$f":"Teilnehmerliste!A76","v":71},{"$f":"Teilnehmerliste!B76 &\" \"&Teilnehmerliste!C76","v":"Wullschleger Stefan"},{"$f":"Vorrunde!$CM$90","v":144},{"$f":"Endplatzierung!$AT$68","v":100},{"$f":"Finalrunde!$CF$124","v":820},{"$f":"IF(Teilnehmerliste!B76=\"\",\"\",SUM(C77:E77))","v":1064},null,49,null,{"$f":"IF(ROWS($J$7:$J$7)<=$F$3,SMALL($H$7:$H$106,ROWS($J$7:J77)),\"\")","v":71},{"$f":"IF($H77=\"\",\"\",INDEX($B$7:$H$106,_xlfn.AGGREGATE(14,6,ROW($H$7:$H$106)-ROW($H$7)+1/($H$7:$H$106=J77),COUNTIF($J$7:J77,J77)),1))","v":"Antonelli Ruben"},{"$f":"IF($H77=\"\",\"\",INDEX($B$7:$H$106,_xlfn.AGGREGATE(14,6,ROW($H$7:$H$106)-ROW($H$7)+1/($H$7:$H$106=J77),COUNTIF($J$7:J77,J77)),5))","v":873}]
[{"$f":"Teilnehmerliste!A77","v":72},{"$f":"Teilnehmerliste!B77 &\" \"&Teilnehmerliste!C77","v":"Zachmann Jasmine"},{"$f":"Vorrunde!$CQ$90","v":114},{"$f":"Endplatzierung!$AV$68","v":140},{"$f":"Finalrunde!$CM$124","v":840},{"$f":"IF(Teilnehmerliste!B77=\"\",\"\",SUM(C78:E78))","v":1094},null,41,null,{"$f":"IF(ROWS($J$7:$J$7)<=$F$3,SMALL($H$7:$H$106,ROWS($J$7:J78)),\"\")","v":72},{"$f":"IF($H78=\"\",\"\",INDEX($B$7:$H$106,_xlfn.AGGREGATE(14,6,ROW($H$7:$H$106)-ROW($H$7)+1/($H$7:$H$106=J78),COUNTIF($J$7:J78,J78)),1))","v":"Sotelo Yermany"},{"$f":"IF($H78=\"\",\"\",INDEX($B$7:$H$106,_xlfn.AGGREGATE(14,6,ROW($H$7:$H$106)-ROW($H$7)+1/($H$7:$H$106=J78),COUNTIF($J$7:J78,J78)),5))","v":859}]
[{"$f":"Teilnehmerliste!A78","v":73},{"$f":"Teilnehmerliste!B78 &\" \"&Teilnehmerliste!C78","v":"Zachmann Stefan"},{"$f":"Vorrunde!$CU$90","v":80},{"$f":"Endplatzierung!$AX$68","v":80},{"$f":"Finalrunde!$CT$124","v":530},{"$f":"IF(Teilnehmerliste!B78=\"\",\"\",SUM(C79:E79))","v":690},null,76,null,{"$f":"IF(ROWS($J$7:$J$7)<=$F$3,SMALL($H$7:$H$106,ROWS($J$7:J79)),\"\")","v":73},{"$f":"IF($H79=\"\",\"\",INDEX($B$7:$H$106,_xlfn.AGGREGATE(14,6,ROW($H$7:$H$106)-ROW($H$7)+1/($H$7:$H$106=J79),COUNTIF($J$7:J79,J79)),1))","v":"Antonelli Marco"},{"$f":"IF($H79=\"\",\"\",INDEX($B$7:$H$106,_xlfn.AGGREGATE(14,6,ROW($H$7:$H$106)-ROW($H$7)+1/($H$7:$H$106=J79),COUNTIF($J$7:J79,J79)),5))","v":803}]
[{"$f":"Teilnehmerliste!A79","v":74},{"$f":"Teilnehmerliste!B79 &\" \"&Teilnehmerliste!C79","v":"Babic Mario"},{"$f":"Vorrunde!$CY$90","v":113},{"$f":"Endplatzierung!$AZ$68","v":120},{"$f":"Finalrunde!$DA$124","v":850},{"$f":"IF(Teilnehmerliste!B79=\"\",\"\",SUM(C80:E80))","v":1083},null,45,null,{"$f":"IF(ROWS($J$7:$J$7)<=$F$3,SMALL($H$7:$H$106,ROWS($J$7:J80)),\"\")","v":74},{"$f":"IF($H80=\"\",\"\",INDEX($B$7:$H$106,_xlfn.AGGREGATE(14,6,ROW($H$7:$H$106)-ROW($H$7)+1/($H$7:$H$106=J80),COUNTIF($J$7:J80,J80)),1))","v":"Marini Mauro"},{"$f":"IF($H80=\"\",\"\",INDEX($B$7:$H$106,_xlfn.AGGREGATE(14,6,ROW($H$7:$H$106)-ROW($H$7)+1/($H$7:$H$106=J80),COUNTIF($J$7:J80,J80)),5))","v":802}]
[{"$f":"Teilnehmerliste!A80","v":75},{"$f":"Teilnehmerliste!B80 &\" \"&Teilnehmerliste!C80","v":"Megdiche Nidhal"},{"$f":"Vorrunde!$DC$90","v":108},{"$f":"Endplatzierung!$BB$68","v":80},{"$f":"Finalrunde!$DH$124","v":810},{"$f":"IF(Teilnehmerliste!B80=\"\",\"\",SUM(C81:E81))","v":998},null,56,null,{"$f":"IF(ROWS($J$7:$J$7)<=$F$3,SMALL($H$7:$H$106,ROWS($J$7:J81)),\"\")","v":75},{"$f":"IF($H81=\"\",\"\",INDEX($B$7:$H$106,_xlfn.AGGREGATE(14,6,ROW($H$7:$H$106)-ROW($H$7)+1/($H$7:$H$106=J81),COUNTIF($J$7:J81,J81)),1))","v":"Figaro Marlon"},{"$f":"IF($H81=\"\",\"\",INDEX($B$7:$H$106,_xlfn.AGGREGATE(14,6,ROW($H$7:$H$106)-ROW($H$7)+1/($H$7:$H$106=J81),COUNTIF($J$7:J81,J81)),5))","v":735}]
[{"$f":"Teilnehmerliste!A81","v":76},{"$f":"Teilnehmerliste!B81 &\" \"&Teilnehmerliste!C81","v":"Städelin Hanspeter"},{"$f":"Vorrunde!$DG$90","v":93},{"$f":"Endplatzierung!$BD$68","v":140},{"$f":"Finalrunde!$DO$124","v":730},{"$f":"IF(Teilnehmerliste!B81=\"\",\"\",SUM(C82:E82))","v":963},null,62,null,{"$f":"IF(ROWS($J$7:$J$7)<=$F$3,SMALL($H$7:$H$106,ROWS($J$7:J82)),\"\")","v":76},{"$f":"IF($H82=\"\",\"\",INDEX($B$7:$H$106,_xlfn.AGGREGATE(14,6,ROW($H$7:$H$106)-ROW($H$7)+1/($H$7:$H$106=J82),COUNTIF($J$7:J82,J82)),1))","v":"Zachmann Stefan"},{"$f":"IF($H82=\"\",\"\",INDEX($B$7:$H$106,_xlfn.AGGREGATE(14,6,ROW($H$7:$H$106)-ROW($H$7)+1/($H$7:$H$106=J82),COUNTIF($J$7:J82,J82)),5))","v":690}]
[{"$f":"Teilnehmerliste!A82","v":77},{"$f":"Teilnehmerliste!B82 &\" \"&Teilnehmerliste!C82","v":" "},{"$f":"Vorrunde!$DK$90","v":0},{"$f":"Endplatzierung!$BF$68","v":0},{"$f":"Finalrunde!$DV$124","v":0},{"$f":"IF(Teilnehmerliste!B82=\"\",\"\",SUM(C83:E83))","v":""},null,"",null,{"$f":"IF(ROWS($J$7:$J$7)<=$F$3,SMALL($H$7:$H$106,ROWS($J$7:J83)),\"\")","v":{"$error":"#NUM!"}},{"$f":"IF($H83=\"\",\"\",INDEX($B$7:$H$106,_xlfn.AGGREGATE(14,6,ROW($H$7:$H$106)-ROW($H$7)+1/($H$7:$H$106=J83),COUNTIF($J$7:J83,J83)),1))","v":""},{"$f":"IF($H83=\"\",\"\",INDEX($B$7:$H$106,_xlfn.AGGREGATE(14,6,ROW($H$7:$H$106)-ROW($H$7)+1/($H$7:$H$106=J83),COUNTIF($J$7:J83,J83)),5))","v":""}]
[{"$f":"Teilnehmerliste!A83","v":78},{"$f":"Teilnehmerliste!B83 &\" \"&Teilnehmerliste!C83","v":" "},{"$f":"Vorrunde!$DO$90","v":0},{"$f":"Endplatzierung!$BH$68","v":0},{"$f":"Finalrunde!$EC$124","v":0},{"$f":"IF(Teilnehmerliste!B83=\"\",\"\",SUM(C84:E84))","v":""},null,"",null,{"$f":"IF(ROWS($J$7:$J$7)<=$F$3,SMALL($H$7:$H$106,ROWS($J$7:J84)),\"\")","v":{"$error":"#NUM!"}},{"$f":"IF($H84=\"\",\"\",INDEX($B$7:$H$106,_xlfn.AGGREGATE(14,6,ROW($H$7:$H$106)-ROW($H$7)+1/($H$7:$H$106=J84),COUNTIF($J$7:J84,J84)),1))","v":""},{"$f":"IF($H84=\"\",\"\",INDEX($B$7:$H$106,_xlfn.AGGREGATE(14,6,ROW($H$7:$H$106)-ROW($H$7)+1/($H$7:$H$106=J84),COUNTIF($J$7:J84,J84)),5))","v":""}]
[{"$f":"Teilnehmerliste!A84","v":79},{"$f":"Teilnehmerliste!B84 &\" \"&Teilnehmerliste!C84","v":" "},{"$f":"Vorrunde!$DS$90","v":0},{"$f":"Endplatzierung!$BJ$68","v":0},{"$f":"Finalrunde!$EJ$124","v":0},{"$f":"IF(Teilnehmerliste!B84=\"\",\"\",SUM(C85:E85))","v":""},null,"",null,{"$f":"IF(ROWS($J$7:$J$7)<=$F$3,SMALL($H$7:$H$106,ROWS($J$7:J85)),\"\")","v":{"$error":"#NUM!"}},{"$f":"IF($H85=\"\",\"\",INDEX($B$7:$H$106,_xlfn.AGGREGATE(14,6,ROW($H$7:$H$106)-ROW($H$7)+1/($H$7:$H$106=J85),COUNTIF($J$7:J85,J85)),1))","v":""},{"$f":"IF($H85=\"\",\"\",INDEX($B$7:$H$106,_xlfn.AGGREGATE(14,6,ROW($H$7:$H$106)-ROW($H$7)+1/($H$7:$H$106=J85),COUNTIF($J$7:J85,J85)),5))","v":""}]
[{"$f":"Teilnehmerliste!A85","v":80},{"$f":"Teilnehmerliste!B85 &\" \"&Teilnehmerliste!C85","v":" "},{"$f":"Vorrunde!$DW$90","v":0},{"$f":"Endplatzierung!$BL$68","v":0},{"$f":"Finalrunde!$EQ$124","v":0},{"$f":"IF(Teilnehmerliste!B85=\"\",\"\",SUM(C86:E86))","v":""},null,"",null,{"$f":"IF(ROWS($J$7:$J$7)<=$F$3,SMALL($H$7:$H$106,ROWS($J$7:J86)),\"\")","v":{"$error":"#NUM!"}},{"$f":"IF($H86=\"\",\"\",INDEX($B$7:$H$106,_xlfn.AGGREGATE(14,6,ROW($H$7:$H$106)-ROW($H$7)+1/($H$7:$H$106=J86),COUNTIF($J$7:J86,J86)),1))","v":""},{"$f":"IF($H86=\"\",\"\",INDEX($B$7:$H$106,_xlfn.AGGREGATE(14,6,ROW($H$7:$H$106)-ROW($H$7)+1/($H$7:$H$106=J86),COUNTIF($J$7:J86,J86)),5))","v":""}]
[{"$f":"Teilnehmerliste!A86","v":81},{"$f":"Teilnehmerliste!B86 &\" \"&Teilnehmerliste!C86","v":" "},{"$f":"Vorrunde!$EA$90","v":0},{"$f":"Endplatzierung!$BN$68","v":0},{"$f":"Finalrunde!$N$155","v":0},{"$f":"IF(Teilnehmerliste!B86=\"\",\"\",SUM(C87:E87))","v":""},null,"",null,{"$f":"IF(ROWS($J$7:$J$7)<=$F$3,SMALL($H$7:$H$106,ROWS($J$7:J87)),\"\")","v":{"$error":"#NUM!"}},{"$f":"IF($H87=\"\",\"\",INDEX($B$7:$H$106,_xlfn.AGGREGATE(14,6,ROW($H$7:$H$106)-ROW($H$7)+1/($H$7:$H$106=J87),COUNTIF($J$7:J87,J87)),1))","v":""},{"$f":"IF($H87=\"\",\"\",INDEX($B$7:$H$106,_xlfn.AGGREGATE(14,6,ROW($H$7:$H$106)-ROW($H$7)+1/($H$7:$H$106=J87),COUNTIF($J$7:J87,J87)),5))","v":""}]
[{"$f":"Teilnehmerliste!A87","v":82},{"$f":"Teilnehmerliste!B87 &\" \"&Teilnehmerliste!C87","v":" "},{"$f":"Vorrunde!$EE$90","v":0},{"$f":"Endplatzierung!$BP$68","v":0},{"$f":"Finalrunde!$U$155","v":0},{"$f":"IF(Teilnehmerliste!B87=\"\",\"\",SUM(C88:E88))","v":""},null,"",null,{"$f":"IF(ROWS($J$7:$J$7)<=$F$3,SMALL($H$7:$H$106,ROWS($J$7:J88)),\"\")","v":{"$error":"#NUM!"}},{"$f":"IF($H88=\"\",\"\",INDEX($B$7:$H$106,_xlfn.AGGREGATE(14,6,ROW($H$7:$H$106)-ROW($H$7)+1/($H$7:$H$106=J88),COUNTIF($J$7:J88,J88)),1))","v":""},{"$f":"IF($H88=\"\",\"\",INDEX($B$7:$H$106,_xlfn.AGGREGATE(14,6,ROW($H$7:$H$106)-ROW($H$7)+1/($H$7:$H$106=J88),COUNTIF($J$7:J88,J88)),5))","v":""}]
[{"$f":"Teilnehmerliste!A88","v":83},{"$f":"Teilnehmerliste!B88 &\" \"&Teilnehmerliste!C88","v":" "},{"$f":"Vorrunde!$EI$90","v":0},{"$f":"Endplatzierung!$BR$68","v":0},{"$f":"Finalrunde!$AB$155","v":0},{"$f":"IF(Teilnehmerliste!B88=\"\",\"\",SUM(C89:E89))","v":""},null,"",null,{"$f":"IF(ROWS($J$7:$J$7)<=$F$3,SMALL($H$7:$H$106,ROWS($J$7:J89)),\"\")","v":{"$error":"#NUM!"}},{"$f":"IF($H89=\"\",\"\",INDEX($B$7:$H$106,_xlfn.AGGREGATE(14,6,ROW($H$7:$H$106)-ROW($H$7)+1/($H$7:$H$106=J89),COUNTIF($J$7:J89,J89)),1))","v":""},{"$f":"IF($H89=\"\",\"\",INDEX($B$7:$H$106,_xlfn.AGGREGATE(14,6,ROW($H$7:$H$106)-ROW($H$7)+1/($H$7:$H$106=J89),COUNTIF($J$7:J89,J89)),5))","v":""}]
[{"$f":"Teilnehmerliste!A89","v":84},{"$f":"Teilnehmerliste!B89 &\" \"&Teilnehmerliste!C89","v":" "},{"$f":"Vorrunde!$EM$90","v":0},{"$f":"Endplatzierung!$BT$68","v":0},{"$f":"Finalrunde!$AI$155","v":0},{"$f":"IF(Teilnehmerliste!B89=\"\",\"\",SUM(C90:E90))","v":""},null,"",null,{"$f":"IF(ROWS($J$7:$J$7)<=$F$3,SMALL($H$7:$H$106,ROWS($J$7:J90)),\"\")","v":{"$error":"#NUM!"}},{"$f":"IF($H90=\"\",\"\",INDEX($B$7:$H$106,_xlfn.AGGREGATE(14,6,ROW($H$7:$H$106)-ROW($H$7)+1/($H$7:$H$106=J90),COUNTIF($J$7:J90,J90)),1))","v":""},{"$f":"IF($H90=\"\",\"\",INDEX($B$7:$H$106,_xlfn.AGGREGATE(14,6,ROW($H$7:$H$106)-ROW($H$7)+1/($H$7:$H$106=J90),COUNTIF($J$7:J90,J90)),5))","v":""}]
[{"$f":"Teilnehmerliste!A90","v":85},{"$f":"Teilnehmerliste!B90 &\" \"&Teilnehmerliste!C90","v":" "},{"$f":"Vorrunde!$EQ$90","v":0},{"$f":"Endplatzierung!$BV$68","v":0},{"$f":"Finalrunde!$AP$155","v":0},{"$f":"IF(Teilnehmerliste!B90=\"\",\"\",SUM(C91:E91))","v":""},null,"",null,{"$f":"IF(ROWS($J$7:$J$7)<=$F$3,SMALL($H$7:$H$106,ROWS($J$7:J91)),\"\")","v":{"$error":"#NUM!"}},{"$f":"IF($H91=\"\",\"\",INDEX($B$7:$H$106,_xlfn.AGGREGATE(14,6,ROW($H$7:$H$106)-ROW($H$7)+1/($H$7:$H$106=J91),COUNTIF($J$7:J91,J91)),1))","v":""},{"$f":"IF($H91=\"\",\"\",INDEX($B$7:$H$106,_xlfn.AGGREGATE(14,6,ROW($H$7:$H$106)-ROW($H$7)+1/($H$7:$H$106=J91),COUNTIF($J$7:J91,J91)),5))","v":""}]
[{"$f":"Teilnehmerliste!A91","v":86},{"$f":"Teilnehmerliste!B91 &\" \"&Teilnehmerliste!C91","v":" "},{"$f":"Vorrunde!$EU$90","v":0},{"$f":"Endplatzierung!$BX$68","v":0},{"$f":"Finalrunde!$AW$155","v":0},{"$f":"IF(Teilnehmerliste!B91=\"\",\"\",SUM(C92:E92))","v":""},null,"",null,{"$f":"IF(ROWS($J$7:$J$7)<=$F$3,SMALL($H$7:$H$106,ROWS($J$7:J92)),\"\")","v":{"$error":"#NUM!"}},{"$f":"IF($H92=\"\",\"\",INDEX($B$7:$H$106,_xlfn.AGGREGATE(14,6,ROW($H$7:$H$106)-ROW($H$7)+1/($H$7:$H$106=J92),COUNTIF($J$7:J92,J92)),1))","v":""},{"$f":"IF($H92=\"\",\"\",INDEX($B$7:$H$106,_xlfn.AGGREGATE(14,6,ROW($H$7:$H$106)-ROW($H$7)+1/($H$7:$H$106=J92),COUNTIF($J$7:J92,J92)),5))","v":""}]
[{"$f":"Teilnehmerliste!A92","v":87},{"$f":"Teilnehmerliste!B92 &\" \"&Teilnehmerliste!C92","v":" "},{"$f":"Vorrunde!$EY$90","v":0},{"$f":"Endplatzierung!$BZ$68","v":0},{"$f":"Finalrunde!$BD$155","v":0},{"$f":"IF(Teilnehmerliste!B92=\"\",\"\",SUM(C93:E93))","v":""},null,"",null,{"$f":"IF(ROWS($J$7:$J$7)<=$F$3,SMALL($H$7:$H$106,ROWS($J$7:J93)),\"\")","v":{"$error":"#NUM!"}},{"$f":"IF($H93=\"\",\"\",INDEX($B$7:$H$106,_xlfn.AGGREGATE(14,6,ROW($H$7:$H$106)-ROW($H$7)+1/($H$7:$H$106=J93),COUNTIF($J$7:J93,J93)),1))","v":""},{"$f":"IF($H93=\"\",\"\",INDEX($B$7:$H$106,_xlfn.AGGREGATE(14,6,ROW($H$7:$H$106)-ROW($H$7)+1/($H$7:$H$106=J93),COUNTIF($J$7:J93,J93)),5))","v":""}]
[{"$f":"Teilnehmerliste!A93","v":88},{"$f":"Teilnehmerliste!B93 &\" \"&Teilnehmerliste!C93","v":" "},{"$f":"Vorrunde!$FC$90","v":0},{"$f":"Endplatzierung!$CB$68","v":0},{"$f":"Finalrunde!$BK$155","v":0},{"$f":"IF(Teilnehmerliste!B93=\"\",\"\",SUM(C94:E94))","v":""},null,"",null,{"$f":"IF(ROWS($J$7:$J$7)<=$F$3,SMALL($H$7:$H$106,ROWS($J$7:J94)),\"\")","v":{"$error":"#NUM!"}},{"$f":"IF($H94=\"\",\"\",INDEX($B$7:$H$106,_xlfn.AGGREGATE(14,6,ROW($H$7:$H$106)-ROW($H$7)+1/($H$7:$H$106=J94),COUNTIF($J$7:J94,J94)),1))","v":""},{"$f":"IF($H94=\"\",\"\",INDEX($B$7:$H$106,_xlfn.AGGREGATE(14,6,ROW($H$7:$H$106)-ROW($H$7)+1/($H$7:$H$106=J94),COUNTIF($J$7:J94,J94)),5))","v":""}]
[{"$f":"Teilnehmerliste!A94","v":89},{"$f":"Teilnehmerliste!B94 &\" \"&Teilnehmerliste!C94","v":" "},{"$f":"Vorrunde!$FG$90","v":0},{"$f":"Endplatzierung!$CD$68","v":0},{"$f":"Finalrunde!$BR$155","v":0},{"$f":"IF(Teilnehmerliste!B94=\"\",\"\",SUM(C95:E95))","v":""},null,"",null,{"$f":"IF(ROWS($J$7:$J$7)<=$F$3,SMALL($H$7:$H$106,ROWS($J$7:J95)),\"\")","v":{"$error":"#NUM!"}},{"$f":"IF($H95=\"\",\"\",INDEX($B$7:$H$106,_xlfn.AGGREGATE(14,6,ROW($H$7:$H$106)-ROW($H$7)+1/($H$7:$H$106=J95),COUNTIF($J$7:J95,J95)),1))","v":""},{"$f":"IF($H95=\"\",\"\",INDEX($B$7:$H$106,_xlfn.AGGREGATE(14,6,ROW($H$7:$H$106)-ROW($H$7)+1/($H$7:$H$106=J95),COUNTIF($J$7:J95,J95)),5))","v":""}]
[{"$f":"Teilnehmerliste!A95","v":90},{"$f":"Teilnehmerliste!B95 &\" \"&Teilnehmerliste!C95","v":" "},{"$f":"Vorrunde!$FK$90","v":0},{"$f":"Endplatzierung!$CF$68","v":0},{"$f":"Finalrunde!$BY$155","v":0},{"$f":"IF(Teilnehmerliste!B95=\"\",\"\",SUM(C96:E96))","v":""},null,"",null,{"$f":"IF(ROWS($J$7:$J$7)<=$F$3,SMALL($H$7:$H$106,ROWS($J$7:J96)),\"\")","v":{"$error":"#NUM!"}},{"$f":"IF($H96=\"\",\"\",INDEX($B$7:$H$106,_xlfn.AGGREGATE(14,6,ROW($H$7:$H$106)-ROW($H$7)+1/($H$7:$H$106=J96),COUNTIF($J$7:J96,J96)),1))","v":""},{"$f":"IF($H96=\"\",\"\",INDEX($B$7:$H$106,_xlfn.AGGREGATE(14,6,ROW($H$7:$H$106)-ROW($H$7)+1/($H$7:$H$106=J96),COUNTIF($J$7:J96,J96)),5))","v":""}]
[{"$f":"Teilnehmerliste!A96","v":91},{"$f":"Teilnehmerliste!B96 &\" \"&Teilnehmerliste!C96","v":" "},{"$f":"Vorrunde!$FO$90","v":0},{"$f":"Endplatzierung!$CH$68","v":0},{"$f":"Finalrunde!$CF$155","v":0},{"$f":"IF(Teilnehmerliste!B96=\"\",\"\",SUM(C97:E97))","v":""},null,"",null,{"$f":"IF(ROWS($J$7:$J$7)<=$F$3,SMALL($H$7:$H$106,ROWS($J$7:J97)),\"\")","v":{"$error":"#NUM!"}},{"$f":"IF($H97=\"\",\"\",INDEX($B$7:$H$106,_xlfn.AGGREGATE(14,6,ROW($H$7:$H$106)-ROW($H$7)+1/($H$7:$H$106=J97),COUNTIF($J$7:J97,J97)),1))","v":""},{"$f":"IF($H97=\"\",\"\",INDEX($B$7:$H$106,_xlfn.AGGREGATE(14,6,ROW($H$7:$H$106)-ROW($H$7)+1/($H$7:$H$106=J97),COUNTIF($J$7:J97,J97)),5))","v":""}]
[{"$f":"Teilnehmerliste!A97","v":92},{"$f":"Teilnehmerliste!B97 &\" \"&Teilnehmerliste!C97","v":" "},{"$f":"Vorrunde!$FS$90","v":0},{"$f":"Endplatzierung!$CJ$68","v":0},{"$f":"Finalrunde!$CM$155","v":0},{"$f":"IF(Teilnehmerliste!B97=\"\",\"\",SUM(C98:E98))","v":""},null,"",null,{"$f":"IF(ROWS($J$7:$J$7)<=$F$3,SMALL($H$7:$H$106,ROWS($J$7:J98)),\"\")","v":{"$error":"#NUM!"}},{"$f":"IF($H98=\"\",\"\",INDEX($B$7:$H$106,_xlfn.AGGREGATE(14,6,ROW($H$7:$H$106)-ROW($H$7)+1/($H$7:$H$106=J98),COUNTIF($J$7:J98,J98)),1))","v":""},{"$f":"IF($H98=\"\",\"\",INDEX($B$7:$H$106,_xlfn.AGGREGATE(14,6,ROW($H$7:$H$106)-ROW($H$7)+1/($H$7:$H$106=J98),COUNTIF($J$7:J98,J98)),5))","v":""}]
[{"$f":"Teilnehmerliste!A98","v":93},{"$f":"Teilnehmerliste!B98 &\" \"&Teilnehmerliste!C98","v":" "},{"$f":"Vorrunde!$FW$90","v":0},{"$f":"Endplatzierung!$CL$68","v":0},{"$f":"Finalrunde!$CT$155","v":0},{"$f":"IF(Teilnehmerliste!B98=\"\",\"\",SUM(C99:E99))","v":""},null,"",null,{"$f":"IF(ROWS($J$7:$J$7)<=$F$3,SMALL($H$7:$H$106,ROWS($J$7:J99)),\"\")","v":{"$error":"#NUM!"}},{"$f":"IF($H99=\"\",\"\",INDEX($B$7:$H$106,_xlfn.AGGREGATE(14,6,ROW($H$7:$H$106)-ROW($H$7)+1/($H$7:$H$106=J99),COUNTIF($J$7:J99,J99)),1))","v":""},{"$f":"IF($H99=\"\",\"\",INDEX($B$7:$H$106,_xlfn.AGGREGATE(14,6,ROW($H$7:$H$106)-ROW($H$7)+1/($H$7:$H$106=J99),COUNTIF($J$7:J99,J99)),5))","v":""}]
[{"$f":"Teilnehmerliste!A99","v":94},{"$f":"Teilnehmerliste!B99 &\" \"&Teilnehmerliste!C99","v":" "},{"$f":"Vorrunde!$GA$90","v":0},{"$f":"Endplatzierung!$CN$68","v":0},{"$f":"Finalrunde!$DA$155","v":0},{"$f":"IF(Teilnehmerliste!B99=\"\",\"\",SUM(C100:E100))","v":""},null,"",null,{"$f":"IF(ROWS($J$7:$J$7)<=$F$3,SMALL($H$7:$H$106,ROWS($J$7:J100)),\"\")","v":{"$error":"#NUM!"}},{"$f":"IF($H100=\"\",\"\",INDEX($B$7:$H$106,_xlfn.AGGREGATE(14,6,ROW($H$7:$H$106)-ROW($H$7)+1/($H$7:$H$106=J100),COUNTIF($J$7:J100,J100)),1))","v":""},{"$f":"IF($H100=\"\",\"\",INDEX($B$7:$H$106,_xlfn.AGGREGATE(14,6,ROW($H$7:$H$106)-ROW($H$7)+1/($H$7:$H$106=J100),COUNTIF($J$7:J100,J100)),5))","v":""}]
[{"$f":"Teilnehmerliste!A100","v":95},{"$f":"Teilnehmerliste!B100 &\" \"&Teilnehmerliste!C100","v":" "},{"$f":"Vorrunde!$GE$90","v":0},{"$f":"Endplatzierung!$CP$68","v":0},{"$f":"Finalrunde!$DH$155","v":0},{"$f":"IF(Teilnehmerliste!B100=\"\",\"\",SUM(C101:E101))","v":""},null,"",null,{"$f":"IF(ROWS($J$7:$J$7)<=$F$3,SMALL($H$7:$H$106,ROWS($J$7:J101)),\"\")","v":{"$error":"#NUM!"}},{"$f":"IF($H101=\"\",\"\",INDEX($B$7:$H$106,_xlfn.AGGREGATE(14,6,ROW($H$7:$H$106)-ROW($H$7)+1/($H$7:$H$106=J101),COUNTIF($J$7:J101,J101)),1))","v":""},{"$f":"IF($H101=\"\",\"\",INDEX($B$7:$H$106,_xlfn.AGGREGATE(14,6,ROW($H$7:$H$106)-ROW($H$7)+1/($H$7:$H$106=J101),COUNTIF($J$7:J101,J101)),5))","v":""}]
[{"$f":"Teilnehmerliste!A101","v":96},{"$f":"Teilnehmerliste!B101 &\" \"&Teilnehmerliste!C101","v":" "},{"$f":"Vorrunde!$GI$90","v":0},{"$f":"Endplatzierung!$CR$68","v":0},{"$f":"Finalrunde!$DO$155","v":0},{"$f":"IF(Teilnehmerliste!B101=\"\",\"\",SUM(C102:E102))","v":""},null,"",null,{"$f":"IF(ROWS($J$7:$J$7)<=$F$3,SMALL($H$7:$H$106,ROWS($J$7:J102)),\"\")","v":{"$error":"#NUM!"}},{"$f":"IF($H102=\"\",\"\",INDEX($B$7:$H$106,_xlfn.AGGREGATE(14,6,ROW($H$7:$H$106)-ROW($H$7)+1/($H$7:$H$106=J102),COUNTIF($J$7:J102,J102)),1))","v":""},{"$f":"IF($H102=\"\",\"\",INDEX($B$7:$H$106,_xlfn.AGGREGATE(14,6,ROW($H$7:$H$106)-ROW($H$7)+1/($H$7:$H$106=J102),COUNTIF($J$7:J102,J102)),5))","v":""}]
[{"$f":"Teilnehmerliste!A102","v":97},{"$f":"Teilnehmerliste!B102 &\" \"&Teilnehmerliste!C102","v":" "},{"$f":"Vorrunde!$GM$90","v":0},{"$f":"Endplatzierung!$CT$68","v":0},{"$f":"Finalrunde!$DV$155","v":0},{"$f":"IF(Teilnehmerliste!B102=\"\",\"\",SUM(C103:E103))","v":""},null,"",null,{"$f":"IF(ROWS($J$7:$J$7)<=$F$3,SMALL($H$7:$H$106,ROWS($J$7:J103)),\"\")","v":{"$error":"#NUM!"}},{"$f":"IF($H103=\"\",\"\",INDEX($B$7:$H$106,_xlfn.AGGREGATE(14,6,ROW($H$7:$H$106)-ROW($H$7)+1/($H$7:$H$106=J103),COUNTIF($J$7:J103,J103)),1))","v":""},{"$f":"IF($H103=\"\",\"\",INDEX($B$7:$H$106,_xlfn.AGGREGATE(14,6,ROW($H$7:$H$106)-ROW($H$7)+1/($H$7:$H$106=J103),COUNTIF($J$7:J103,J103)),5))","v":""}]
[{"$f":"Teilnehmerliste!A103","v":98},{"$f":"Teilnehmerliste!B103 &\" \"&Teilnehmerliste!C103","v":" "},{"$f":"Vorrunde!$GQ$90","v":0},{"$f":"Endplatzierung!$CV$68","v":0},{"$f":"Finalrunde!$EC$155","v":0},{"$f":"IF(Teilnehmerliste!B103=\"\",\"\",SUM(C104:E104))","v":""},null,"",null,{"$f":"IF(ROWS($J$7:$J$7)<=$F$3,SMALL($H$7:$H$106,ROWS($J$7:J104)),\"\")","v":{"$error":"#NUM!"}},{"$f":"IF($H104=\"\",\"\",INDEX($B$7:$H$106,_xlfn.AGGREGATE(14,6,ROW($H$7:$H$106)-ROW($H$7)+1/($H$7:$H$106=J104),COUNTIF($J$7:J104,J104)),1))","v":""},{"$f":"IF($H104=\"\",\"\",INDEX($B$7:$H$106,_xlfn.AGGREGATE(14,6,ROW($H$7:$H$106)-ROW($H$7)+1/($H$7:$H$106=J104),COUNTIF($J$7:J104,J104)),5))","v":""}]
[{"$f":"Teilnehmerliste!A104","v":99},{"$f":"Teilnehmerliste!B104 &\" \"&Teilnehmerliste!C104","v":" "},{"$f":"Vorrunde!$GU$90","v":0},{"$f":"Endplatzierung!$CX$68","v":0},{"$f":"Finalrunde!$EJ$155","v":0},{"$f":"IF(Teilnehmerliste!B104=\"\",\"\",SUM(C105:E105))","v":""},null,"",null,{"$f":"IF(ROWS($J$7:$J$7)<=$F$3,SMALL($H$7:$H$106,ROWS($J$7:J105)),\"\")","v":{"$error":"#NUM!"}},{"$f":"IF($H105=\"\",\"\",INDEX($B$7:$H$106,_xlfn.AGGREGATE(14,6,ROW($H$7:$H$106)-ROW($H$7)+1/($H$7:$H$106=J105),COUNTIF($J$7:J105,J105)),1))","v":""},{"$f":"IF($H105=\"\",\"\",INDEX($B$7:$H$106,_xlfn.AGGREGATE(14,6,ROW($H$7:$H$106)-ROW($H$7)+1/($H$7:$H$106=J105),COUNTIF($J$7:J105,J105)),5))","v":""}]
[{"$f":"Teilnehmerliste!A105","v":100},{"$f":"Teilnehmerliste!B105 &\" \"&Teilnehmerliste!C105","v":" "},{"$f":"Vorrunde!$GY$90","v":0},{"$f":"Endplatzierung!$CZ$68","v":0},{"$f":"Finalrunde!$EQ$155","v":0},{"$f":"IF(Teilnehmerliste!B105=\"\",\"\",SUM(C106:E106))","v":""},null,"",null,{"$f":"IF(ROWS($J$7:$J$7)<=$F$3,SMALL($H$7:$H$106,ROWS($J$7:J106)),\"\")","v":{"$error":"#NUM!"}},{"$f":"IF($H106=\"\",\"\",INDEX($B$7:$H$106,_xlfn.AGGREGATE(14,6,ROW($H$7:$H$106)-ROW($H$7)+1/($H$7:$H$106=J106),COUNTIF($J$7:J106,J106)),1))","v":""},{"$f":"IF($H106=\"\",\"\",INDEX($B$7:$H$106,_xlfn.AGGREGATE(14,6,ROW($H$7:$H$106)-ROW($H$7)+1/($H$7:$H$106=J106),COUNTIF($J$7:J106,J106)),5))","v":""}]

{"sheet":"Vorrunde","index":2,"n_rows":90,"n_cols":220,"rows_kept":90,"cut":false,"hidden":false,"merged":[[52,200,52,201],[52,204,52,205],[52,184,52,185],[52,188,52,189],[52,192,52,193],[52,196,52,197],[52,180,52,181],[52,152,52,153],[52,156,52,157],[52,160,52,161],[52,164,52,165],[52,168,52,169],[52,172,52,173],[52,176,52,177],[52,136,52,137],[52,140,52,141],[52,144,52,145],[52,148,52,149],[52,120,52,121],[52,124,52,125],[52,128,52,129],[52,132,52,133],[52,104,52,105],[52,108,52,109],[52,112,52,113],[52,116,52,117],[52,88,52,89],[52,92,52,93],[52,96,52,97],[52,100,52,101],[52,72,52,73],[52,76,52,77],[52,80,52,81],[52,84,52,85],[52,56,52,57],[52,60,52,61],[52,64,52,65],[52,68,52,69],[52,40,52,41],[52,44,52,45],[52,48,52,49],[52,52,52,53],[52,5,52,6],[52,8,52,9],[52,12,52,13],[52,16,52,17],[52,20,52,21],[52,24,52,25],[52,28,52,29],[52,32,52,33],[52,36,52,37],[47,0,47,1],[7,200,7,201],[7,204,7,205],[7,192,7,193],[7,196,7,197],[7,184,7,185],[7,188,7,189],[7,176,7,177],[7,180,7,181],[7,168,7,169],[7,172,7,173],[7,160,7,161],[7,164,7,165],[7,152,7,153],[7,156,7,157],[7,144,7,145],[7,148,7,149],[7,136,7,137],[7,140,7,141],[7,128,7,129],[7,132,7,133],[7,120,7,121],[7,124,7,125],[7,112,7,113],[7,116,7,117],[7,104,7,105],[7,108,7,109],[7,96,7,97],[7,100,7,101],[7,88,7,89],[7,92,7,93],[7,80,7,81],[7,84,7,85],[7,72,7,73],[7,76,7,77],[7,64,7,65],[7,68,7,69],[7,56,7,57],[7,60,7,61],[7,48,7,49],[7,52,7,53],[7,40,7,41],[7,44,7,45],[7,32,7,33],[7,36,7,37],[7,28,7,29],[2,0,2,1],[7,24,7,25],[7,16,7,17],[7,20,7,21],[7,8,7,9],[7,12,7,13]]}
[{"$f":"Teams!$B$30","v":"EM 2024 by Rogerinho (www.fcbouncer.ch)"}]
[]
["Vorrunde",null,null,"Spieler 1 - 50"]
["10 Punkte für korrektes Resultat",null,null,null,null,null,null,null,{"$f":"Teilnehmerliste!$B6","v":"Agorastos"},null,null,null,{"$f":"Teilnehmerliste!$B7","v":"Antonelli"},null,null,null,{"$f":"Teilnehmerliste!$B8","v":"Antonelli"},null,null,null,{"$f":"Teilnehmerliste!$B9","v":"Bartholet"},null,null,null,{"$f":"Teilnehmerliste!$B10","v":"Bartholet"},null,null,null,{"$f":"Teilnehmerliste!$B11","v":"Bartholet"},null,null,null,{"$f":"Teilnehmerliste!$B12","v":"Bartholet"},null,null,null,{"$f":"Teilnehmerliste!$B13","v":"Beck"},null,null,null,{"$f":"Teilnehmerliste!$B14","v":"Blöchlinger/Edri"},null,null,null,{"$f":"Teilnehmerliste!$B15","v":"Bosshart"},null,null,null,{"$f":"Teilnehmerliste!$B16","v":"Brunner"},null,null,null,{"$f":"Teilnehmerliste!$B17","v":"Brunner"},null,null,null,{"$f":"Teilnehmerliste!$B18","v":"Brunner"},null,null,null,{"$f":"Teilnehmerliste!$B19","v":"Burkart"},null,null,null,{"$f":"Teilnehmerliste!$B20","v":"Burkart"},null,null,null,{"$f":"Teilnehmerliste!$B21","v":"Cadonau"},null,null,null,{"$f":"Teilnehmerliste!$B22","v":"Cadonau"},null,null,null,{"$f":"Teilnehmerliste!$B23","v":"Cadonau"},null,null,null,{"$f":"Teilnehmerliste!$B24","v":"Christiansen"},null,null,null,{"$f":"Teilnehmerliste!$B25","v":"Da Costa"},null,null,null,{"$f":"Teilnehmerliste!$B26","v":"D'Acunto"},null,null,null,{"$f":"Teilnehmerliste!$B27","v":"D'Acunto"},null,null,null,{"$f":"Teilnehmerliste!$B28","v":"D'Acunto"},null,null,null,{"$f":"Teilnehmerliste!$B29","v":"Dukic"},null,null,null,{"$f":"Teilnehmerliste!$B30","v":"Duvnjak"},null,null,null,{"$f":"Teilnehmerliste!$B31","v":"Figaro"},null,null,null,{"$f":"Teilnehmerliste!$B32","v":"Foscaldi"},null,null,null,{"$f":"Teilnehmerliste!$B33","v":"Giuralarocca"},null,null,null,{"$f":"Teilnehmerliste!$B34","v":"Gomes"},null,null,null,{"$f":"Teilnehmerliste!$B35","v":"Grosse"},null,null,null,{"$f":"Teilnehmerliste!$B36","v":"Gygli"},null,null,null,{"$f":"Teilnehmerliste!$B37","v":"Gygli"},null,null,null,{"$f":"Teilnehmerliste!$B38","v":"Gygli"},null,null,null,{"$f":"Teilnehmerliste!$B39","v":"Gygli"},null,null,null,{"$f":"Teilnehmerliste!$B40","v":"Gygli"},null,null,null,{"$f":"Teilnehmerliste!$B41","v":"Haab"},null,null,null,{"$f":"Teilnehmerliste!$B42","v":"Handanagic"},null,null,null,{"$f":"Teilnehmerliste!$B43","v":"Isenschmid"},null,null,null,{"$f":"Teilnehmerliste!$B44","v":"Isenschmid"},null,null,null,{"$f":"Teilnehmerliste!$B45","v":"Isenschmid"},null,null,null,{"$f":"Teilnehmerliste!$B46","v":"Jones"},null,null,null,{"$f":"Teilnehmerliste!$B47","v":"Kalinci"},null,null,null,{"$f":"Teilnehmerliste!$B48","v":"Keller"},null,null,null,{"$f":"Teilnehmerliste!$B49","v":"Lanz"},null,null,null,{"$f":"Teilnehmerliste!$B50","v":"Lischer"},null,null,null,{"$f":"Teilnehmerliste!$B51","v":"Lütolf"},null,null,null,{"$f":"Teilnehmerliste!$B52","v":"Marini"},null,null,null,{"$f":"Teilnehmerliste!$B53","v":"Marthaler"},null,null,null,{"$f":"Teilnehmerliste!$B54","v":"Oliveira"},null,null,null,{"$f":"Teilnehmerliste!$B55","v":"Palma"},null,null,null,null,"Statistik (1, x, 2)",null,null,null,null,"Statistik (1, x, 2) in Prozenten",null,null,null,"Summe Anzahl Tore"]
["  7 Punkte für richtiger Sieger (Torverhältnis stimmt)",null,null,null,null,null,null,null,{"$f":"Teilnehmerliste!$C6","v":"Panos"},null,null,null,{"$f":"Teilnehmerliste!$C7","v":"Marco"},null,null,null,{"$f":"Teilnehmerliste!$C8","v":"Ruben"},null,null,null,{"$f":"Teilnehmerliste!$C9","v":"Andi"},null,null,null,{"$f":"Teilnehmerliste!$C10","v":"Nott"},null,null,null,{"$f":"Teilnehmerliste!$C11","v":"Philippe"},null,null,null,{"$f":"Teilnehmerliste!$C12","v":"Roger"},null,null,null,{"$f":"Teilnehmerliste!$C13","v":"Mara"},null,null,null,{"$f":"Teilnehmerliste!$C14","v":"Lara/Yaniv"},null,null,null,{"$f":"Teilnehmerliste!$C15","v":"Michael"},null,null,null,{"$f":"Teilnehmerliste!$C16","v":"Manuel"},null,null,null,{"$f":"Teilnehmerliste!$C17","v":"Nicolas"},null,null,null,{"$f":"Teilnehmerliste!$C18","v":"Philip"},null,null,null,{"$f":"Teilnehmerliste!$C19","v":"André"},null,null,null,{"$f":"Teilnehmerliste!$C20","v":"Louis"},null,null,null,{"$f":"Teilnehmerliste!$C21","v":"Daniel"},null,null,null,{"$f":"Teilnehmerliste!$C22","v":"Deliz"},null,null,null,{"$f":"Teilnehmerliste!$C23","v":"Florian"},null,null,null,{"$f":"Teilnehmerliste!$C24","v":"Olo"},null,null,null,{"$f":"Teilnehmerliste!$C25","v":"Leonardo"},null,null,null,{"$f":"Teilnehmerliste!$C26","v":"Lisa"},null,null,null,{"$f":"Teilnehmerliste!$C27","v":"Niva"},null,null,null,{"$f":"Teilnehmerliste!$C28","v":"Vinci"},null,null,null,{"$f":"Teilnehmerliste!$C29","v":"Goran"},null,null,null,{"$f":"Teilnehmerliste!$C30","v":"Dino"},null,null,null,{"$f":"Teilnehmerliste!$C31","v":"Marlon"},null,null,null,{"$f":"Teilnehmerliste!$C32","v":"Maurizio"},null,null,null,{"$f":"Teilnehmerliste!$C33","v":"Roberto"},null,null,null,{"$f":"Teilnehmerliste!$C34","v":"Rui"},null,null,null,{"$f":"Teilnehmerliste!$C35","v":"Laurent"},null,null,null,{"$f":"Teilnehmerliste!$C36","v":"Gregory"},null,null,null,{"$f":"Teilnehmerliste!$C37","v":"Reto"},null,null,null,{"$f":"Teilnehmerliste!$C38","v":"Sarina"},null,null,null,{"$f":"Teilnehmerliste!$C39","v":"Stefan"},null,null,null,{"$f":"Teilnehmerliste!$C40","v":"Timothy"},null,null,null,{"$f":"Teilnehmerliste!$C41","v":"Florian"},null,null,null,{"$f":"Teilnehmerliste!$C42","v":"Djuma"},null,null,null,{"$f":"Teilnehmerliste!$C43","v":"Agnes"},null,null,null,{"$f":"Teilnehmerliste!$C44","v":"Andreas"},null,null,null,{"$f":"Teilnehmerliste!$C45","v":"Michi"},null,null,null,{"$f":"Teilnehmerliste!$C46","v":"Aiden"},null,null,null,{"$f":"Teilnehmerliste!$C47","v":"Murat"},null,null,null,{"$f":"Teilnehmerliste!$C48","v":"Pascal"},null,null,null,{"$f":"Teilnehmerliste!$C49","v":"André"},null,null,null,{"$f":"Teilnehmerliste!$C50","v":"Franz"},null,null,null,{"$f":"Teilnehmerliste!$C51","v":"Marc"},null,null,null,{"$f":"Teilnehmerliste!$C52","v":"Mauro"},null,null,null,{"$f":"Teilnehmerliste!$C53","v":"Martin"},null,null,null,{"$f":"Teilnehmerliste!$C54","v":"Telmo"},null,null,null,{"$f":"Teilnehmerliste!$C55","v":"Luigi"},null,null,null,null,1,"X",2,"SUMME",null,1,"X",2,null,"Vorrunde"]
["  5 Punkte für richtiger Sieger (Torverhältnis stimmt nicht)",null,null,null,null,null,null,null,null,null,{"$f":"Teilnehmerliste!$A6","v":1},null,null,null,{"$f":"Teilnehmerliste!$A7","v":2},null,null,null,{"$f":"Teilnehmerliste!$A8","v":3},null,null,null,{"$f":"Teilnehmerliste!$A9","v":4},null,null,null,{"$f":"Teilnehmerliste!$A10","v":5},null,null,null,{"$f":"Teilnehmerliste!$A11","v":6},null,null,null,{"$f":"Teilnehmerliste!$A12","v":7},null,null,null,{"$f":"Teilnehmerliste!$A13","v":8},null,null,null,{"$f":"Teilnehmerliste!$A14","v":9},null,null,null,{"$f":"Teilnehmerliste!$A15","v":10},null,null,null,{"$f":"Teilnehmerliste!$A16","v":11},null,null,null,{"$f":"Teilnehmerliste!$A17","v":12},null,null,null,{"$f":"Teilnehmerliste!$A18","v":13},null,null,null,{"$f":"Teilnehmerliste!$A19","v":14},null,null,null,{"$f":"Teilnehmerliste!$A20","v":15},null,null,null,{"$f":"Teilnehmerliste!$A21","v":16},null,null,null,{"$f":"Teilnehmerliste!$A22","v":17},null,null,null,{"$f":"Teilnehmerliste!$A23","v":18},null,null,null,{"$f":"Teilnehmerliste!$A24","v":19},null,null,null,{"$f":"Teilnehmerliste!$A25","v":20},null,null,null,{"$f":"Teilnehmerliste!$A26","v":21},null,null,null,{"$f":"Teilnehmerliste!$A27","v":22},null,null,null,{"$f":"Teilnehmerliste!$A28","v":23},null,null,null,{"$f":"Teilnehmerliste!$A29","v":24},null,null,null,{"$f":"Teilnehmerliste!$A30","v":25},null,null,null,{"$f":"Teilnehmerliste!$A31","v":26},null,null,null,{"$f":"Teilnehmerliste!$A32","v":27},null,null,null,{"$f":"Teilnehmerliste!$A33","v":28},null,null,null,{"$f":"Teilnehmerliste!$A34","v":29},null,null,null,{"$f":"Teilnehmerliste!$A35","v":30},null,null,null,{"$f":"Teilnehmerliste!$A36","v":31},null,null,null,{"$f":"Teilnehmerliste!$A37","v":32},null,null,null,{"$f":"Teilnehmerliste!$A38","v":33},null,null,null,{"$f":"Teilnehmerliste!$A39","v":34},null,null,null,{"$f":"Teilnehmerliste!$A40","v":35},null,null,null,{"$f":"Teilnehmerliste!$A41","v":36},null,null,null,{"$f":"Teilnehmerliste!$A42","v":37},null,null,null,{"$f":"Teilnehmerliste!$A43","v":38},null,null,null,{"$f":"Teilnehmerliste!$A44","v":39},null,null,null,{"$f":"Teilnehmerliste!$A45","v":40},null,null,null,{"$f":"Teilnehmerliste!$A46","v":41},null,null,null,{"$f":"Teilnehmerliste!$A47","v":42},null,null,null,{"$f":"Teilnehmerliste!$A48","v":43},null,null,null,{"$f":"Teilnehmerliste!$A49","v":44},null,null,null,{"$f":"Teilnehmerliste!$A50","v":45},null,null,null,{"$f":"Teilnehmerliste!$A51","v":46},null,null,null,{"$f":"Teilnehmerliste!$A52","v":47},null,null,null,{"$f":"Teilnehmerliste!$A53","v":48},null,null,null,{"$f":"Teilnehmerliste!$A54","v":49},null,null,null,{"$f":"Teilnehmerliste!$A55","v":50}]
[]
["Datum","Zeit","Nr.","Spiel",null,null,"Resultat",null,"Tipp",null,"Pkt",null,"Tipp",null,"Pkt",null,"Tipp",null,"Pkt",null,"Tipp",null,"Pkt",null,"Tipp",null,"Pkt",null,"Tipp",null,"Pkt",null,"Tipp",null,"Pkt",null,"Tipp",null,"Pkt",null,"Tipp",null,"Pkt",null,"Tipp",null,"Pkt",null,"Tipp",null,"Pkt",null,"Tipp",null,"Pkt",null,"Tipp",null,"Pkt",null,"Tipp",null,"Pkt",null,"Tipp",null,"Pkt",null,"Tipp",null,"Pkt",null,"Tipp",null,"Pkt",null,"Tipp",null,"Pkt",null,"Tipp",null,"Pkt",null,"Tipp",null,"Pkt",null,"Tipp",null,"Pkt",null,"Tipp",null,"Pkt",null,"Tipp",null,"Pkt",null,"Tipp",null,"Pkt",null,"Tipp",null,"Pkt",null,"Tipp",null,"Pkt",null,"Tipp",null,"Pkt",null,"Tipp",null,"Pkt",null,"Tipp",null,"Pkt",null,"Tipp",null,"Pkt",null,"Tipp",null,"Pkt",null,"Tipp",null,"Pkt",null,"Tipp",null,"Pkt",null,"Tipp",null,"Pkt",null,"Tipp",null,"Pkt",null,"Tipp",null,"Pkt",null,"Tipp",null,"Pkt",null,"Tipp",null,"Pkt",null,"Tipp",null,"Pkt",null,"Tipp",null,"Pkt",null,"Tipp",null,"Pkt",null,"Tipp",null,"Pkt",null,"Tipp",null,"Pkt",null,"Tipp",null,"Pkt",null,"Tipp",null,"Pkt",null,"Tipp",null,"Pkt",null,"Tipp",null,"Pkt",null,"Tipp",null,"Pkt",null,"Tipp",null,"Pkt",null,"Tipp",null,"Pkt"]
["Fr. 14. Jun","21:00:00",1,"Deutschland","Schottland",5,1,null,2,1,{"$f":"IF(OR($F9=\"\",$G9=\"\",I9=\"\",J9=\"\"),\"\",IF(AND($F9=I9,$G9=J9),10,IF($F9-$G9=I9-J9,7,IF(OR(AND($F9>$G9,I9>J9),AND($F9<$G9,I9<J9)),5,0))))","v":5},{"$f":"IF(I9=\"\",\"\",IF(I9>J9,\"A\",IF(I9<J9,\"B\",IF(I9=J9,\"X\"))))","v":"A"},1,1,{"$f":"IF(OR($F9=\"\",$G9=\"\",M9=\"\",N9=\"\"),\"\",IF(AND($F9=M9,$G9=N9),10,IF($F9-$G9=M9-N9,7,IF(OR(AND($F9>$G9,M9>N9),AND($F9<$G9,M9<N9)),5,0))))","v":0},{"$f":"IF(M9=\"\",\"\",IF(M9>N9,\"A\",IF(M9<N9,\"B\",IF(M9=N9,\"X\"))))","v":"X"},3,0,{"$f":"IF(OR($F9=\"\",$G9=\"\",Q9=\"\",R9=\"\"),\"\",IF(AND($F9=Q9,$G9=R9),10,IF($F9-$G9=Q9-R9,7,IF(OR(AND($F9>$G9,Q9>R9),AND($F9<$G9,Q9<R9)),5,0))))","v":5},{"$f":"IF(Q9=\"\",\"\",IF(Q9>R9,\"A\",IF(Q9<R9,\"B\",IF(Q9=R9,\"X\"))))","v":"A"},2,0,{"$f":"IF(OR($F9=\"\",$G9=\"\",U9=\"\",V9=\"\"),\"\",IF(AND($F9=U9,$G9=V9),10,IF($F9-$G9=U9-V9,7,IF(OR(AND($F9>$G9,U9>V9),AND($F9<$G9,U9<V9)),5,0))))","v":5},{"$f":"IF(U9=\"\",\"\",IF(U9>V9,\"A\",IF(U9<V9,\"B\",IF(U9=V9,\"X\"))))","v":"A"},2,0,{"$f":"IF(OR($F9=\"\",$G9=\"\",Y9=\"\",Z9=\"\"),\"\",IF(AND($F9=Y9,$G9=Z9),10,IF($F9-$G9=Y9-Z9,7,IF(OR(AND($F9>$G9,Y9>Z9),AND($F9<$G9,Y9<Z9)),5,0))))","v":5},{"$f":"IF(Y9=\"\",\"\",IF(Y9>Z9,\"A\",IF(Y9<Z9,\"B\",IF(Y9=Z9,\"X\"))))","v":"A"},2,1,{"$f":"IF(OR($F9=\"\",$G9=\"\",AC9=\"\",AD9=\"\"),\"\",IF(AND($F9=AC9,$G9=AD9),10,IF($F9-$G9=AC9-AD9,7,IF(OR(AND($F9>$G9,AC9>AD9),AND($F9<$G9,AC9<AD9)),5,0))))","v":5},{"$f":"IF(AC9=\"\",\"\",IF(AC9>AD9,\"A\",IF(AC9<AD9,\"B\",IF(AC9=AD9,\"X\"))))","v":"A"},3,0,{"$f":"IF(OR($F9=\"\",$G9=\"\",AG9=\"\",AH9=\"\"),\"\",IF(AND($F9=AG9,$G9=AH9),10,IF($F9-$G9=AG9-AH9,7,IF(OR(AND($F9>$G9,AG9>AH9),AND($F9<$G9,AG9<AH9)),5,0))))","v":5},{"$f":"IF(AG9=\"\",\"\",IF(AG9>AH9,\"A\",IF(AG9<AH9,\"B\",IF(AG9=AH9,\"X\"))))","v":"A"},2,0,{"$f":"IF(OR($F9=\"\",$G9=\"\",AK9=\"\",AL9=\"\"),\"\",IF(AND($F9=AK9,$G9=AL9),10,IF($F9-$G9=AK9-AL9,7,IF(OR(AND($F9>$G9,AK9>AL9),AND($F9<$G9,AK9<AL9)),5,0))))","v":5},{"$f":"IF(AK9=\"\",\"\",IF(AK9>AL9,\"A\",IF(AK9<AL9,\"B\",IF(AK9=AL9,\"X\"))))","v":"A"},2,0,{"$f":"IF(OR($F9=\"\",$G9=\"\",AO9=\"\",AP9=\"\"),\"\",IF(AND($F9=AO9,$G9=AP9),10,IF($F9-$G9=AO9-AP9,7,IF(OR(AND($F9>$G9,AO9>AP9),AND($F9<$G9,AO9<AP9)),5,0))))","v":5},{"$f":"IF(AO9=\"\",\"\",IF(AO9>AP9,\"A\",IF(AO9<AP9,\"B\",IF(AO9=AP9,\"X\"))))","v":"A"},2,1,{"$f":"IF(OR($F9=\"\",$G9=\"\",AS9=\"\",AT9=\"\"),\"\",IF(AND($F9=AS9,$G9=AT9),10,IF($F9-$G9=AS9-AT9,7,IF(OR(AND($F9>$G9,AS9>AT9),AND($F9<$G9,AS9<AT9)),5,0))))","v":5},{"$f":"IF(AS9=\"\",\"\",IF(AS9>AT9,\"A\",IF(AS9<AT9,\"B\",IF(AS9=AT9,\"X\"))))","v":"A"},2,0,{"$f":"IF(OR($F9=\"\",$G9=\"\",AW9=\"\",AX9=\"\"),\"\",IF(AND($F9=AW9,$G9=AX9),10,IF($F9-$G9=AW9-AX9,7,IF(OR(AND($F9>$G9,AW9>AX9),AND($F9<$G9,AW9<AX9)),5,0))))","v":5},{"$f":"IF(AW9=\"\",\"\",IF(AW9>AX9,\"A\",IF(AW9<AX9,\"B\",IF(AW9=AX9,\"X\"))))","v":"A"},3,1,{"$f":"IF(OR($F9=\"\",$G9=\"\",BA9=\"\",BB9=\"\"),\"\",IF(AND($F9=BA9,$G9=BB9),10,IF($F9-$G9=BA9-BB9,7,IF(OR(AND($F9>$G9,BA9>BB9),AND($F9<$G9,BA9<BB9)),5,0))))","v":5},{"$f":"IF(BA9=\"\",\"\",IF(BA9>BB9,\"A\",IF(BA9<BB9,\"B\",IF(BA9=BB9,\"X\"))))","v":"A"},2,0,{"$f":"IF(OR($F9=\"\",$G9=\"\",BE9=\"\",BF9=\"\"),\"\",IF(AND($F9=BE9,$G9=BF9),10,IF($F9-$G9=BE9-BF9,7,IF(OR(AND($F9>$G9,BE9>BF9),AND($F9<$G9,BE9<BF9)),5,0))))","v":5},{"$f":"IF(BE9=\"\",\"\",IF(BE9>BF9,\"A\",IF(BE9<BF9,\"B\",IF(BE9=BF9,\"X\"))))","v":"A"},1,0,{"$f":"IF(OR($F9=\"\",$G9=\"\",BI9=\"\",BJ9=\"\"),\"\",IF(AND($F9=BI9,$G9=BJ9),10,IF($F9-$G9=BI9-BJ9,7,IF(OR(AND($F9>$G9,BI9>BJ9),AND($F9<$G9,BI9<BJ9)),5,0))))","v":5},{"$f":"IF(BI9=\"\",\"\",IF(BI9>BJ9,\"A\",IF(BI9<BJ9,\"B\",IF(BI9=BJ9,\"X\"))))","v":"A"},1,0,{"$f":"IF(OR($F9=\"\",$G9=\"\",BM9=\"\",BN9=\"\"),\"\",IF(AND($F9=BM9,$G9=BN9),10,IF($F9-$G9=BM9-BN9,7,IF(OR(AND($F9>$G9,BM9>BN9),AND($F9<$G9,BM9<BN9)),5,0))))","v":5},{"$f":"IF(BM9=\"\",\"\",IF(BM9>BN9,\"A\",IF(BM9<BN9,\"B\",IF(BM9=BN9,\"X\"))))","v":"A"},3,0,{"$f":"IF(OR($F9=\"\",$G9=\"\",BQ9=\"\",BR9=\"\"),\"\",IF(AND($F9=BQ9,$G9=BR9),10,IF($F9-$G9=BQ9-BR9,7,IF(OR(AND($F9>$G9,BQ9>BR9),AND($F9<$G9,BQ9<BR9)),5,0))))","v":5},{"$f":"IF(BQ9=\"\",\"\",IF(BQ9>BR9,\"A\",IF(BQ9<BR9,\"B\",IF(BQ9=BR9,\"X\"))))","v":"A"},2,0,{"$f":"IF(OR($F9=\"\",$G9=\"\",BU9=\"\",BV9=\"\"),\"\",IF(AND($F9=BU9,$G9=BV9),10,IF($F9-$G9=BU9-BV9,7,IF(OR(AND($F9>$G9,BU9>BV9),AND($F9<$G9,BU9<BV9)),5,0))))","v":5},{"$f":"IF(BU9=\"\",\"\",IF(BU9>BV9,\"A\",IF(BU9<BV9,\"B\",IF(BU9=BV9,\"X\"))))","v":"A"},2,0,{"$f":"IF(OR($F9=\"\",$G9=\"\",BY9=\"\",BZ9=\"\"),\"\",IF(AND($F9=BY9,$G9=BZ9),10,IF($F9-$G9=BY9-BZ9,7,IF(OR(AND($F9>$G9,BY9>BZ9),AND($F9<$G9,BY9<BZ9)),5,0))))","v":5},{"$f":"IF(BY9=\"\",\"\",IF(BY9>BZ9,\"A\",IF(BY9<BZ9,\"B\",IF(BY9=BZ9,\"X\"))))","v":"A"},2,1,{"$f":"IF(OR($F9=\"\",$G9=\"\",CC9=\"\",CD9=\"\"),\"\",IF(AND($F9=CC9,$G9=CD9),10,IF($F9-$G9=CC9-CD9,7,IF(OR(AND($F9>$G9,CC9>CD9),AND($F9<$G9,CC9<CD9)),5,0))))","v":5},{"$f":"IF(CC9=\"\",\"\",IF(CC9>CD9,\"A\",IF(CC9<CD9,\"B\",IF(CC9=CD9,\"X\"))))","v":"A"},2,0,{"$f":"IF(OR($F9=\"\",$G9=\"\",CG9=\"\",CH9=\"\"),\"\",IF(AND($F9=CG9,$G9=CH9),10,IF($F9-$G9=CG9-CH9,7,IF(OR(AND($F9>$G9,CG9>CH9),AND($F9<$G9,CG9<CH9)),5,0))))","v":5},{"$f":"IF(CG9=\"\",\"\",IF(CG9>CH9,\"A\",IF(CG9<CH9,\"B\",IF(CG9=CH9,\"X\"))))","v":"A"},2,0,{"$f":"IF(OR($F9=\"\",$G9=\"\",CK9=\"\",CL9=\"\"),\"\",IF(AND($F9=CK9,$G9=CL9),10,IF($F9-$G9=CK9-CL9,7,IF(OR(AND($F9>$G9,CK9>CL9),AND($F9<$G9,CK9<CL9)),5,0))))","v":5},{"$f":"IF(CK9=\"\",\"\",IF(CK9>CL9,\"A\",IF(CK9<CL9,\"B\",IF(CK9=CL9,\"X\"))))","v":"A"},3,0,{"$f":"IF(OR($F9=\"\",$G9=\"\",CO9=\"\",CP9=\"\"),\"\",IF(AND($F9=CO9,$G9=CP9),10,IF($F9-$G9=CO9-CP9,7,IF(OR(AND($F9>$G9,CO9>CP9),AND($F9<$G9,CO9<CP9)),5,0))))","v":5},{"$f":"IF(CO9=\"\",\"\",IF(CO9>CP9,\"A\",IF(CO9<CP9,\"B\",IF(CO9=CP9,\"X\"))))","v":"A"},3,1,{"$f":"IF(OR($F9=\"\",$G9=\"\",CS9=\"\",CT9=\"\"),\"\",IF(AND($F9=CS9,$G9=CT9),10,IF($F9-$G9=CS9-CT9,7,IF(OR(AND($F9>$G9,CS9>CT9),AND($F9<$G9,CS9<CT9)),5,0))))","v":5},{"$f":"IF(CS9=\"\",\"\",IF(CS9>CT9,\"A\",IF(CS9<CT9,\"B\",IF(CS9=CT9,\"X\"))))","v":"A"},2,0,{"$f":"IF(OR($F9=\"\",$G9=\"\",CW9=\"\",CX9=\"\"),\"\",IF(AND($F9=CW9,$G9=CX9),10,IF($F9-$G9=CW9-CX9,7,IF(OR(AND($F9>$G9,CW9>CX9),AND($F9<$G9,CW9<CX9)),5,0))))","v":5},{"$f":"IF(CW9=\"\",\"\",IF(CW9>CX9,\"A\",IF(CW9<CX9,\"B\",IF(CW9=CX9,\"X\"))))","v":"A"},2,0,{"$f":"IF(OR($F9=\"\",$G9=\"\",DA9=\"\",DB9=\"\"),\"\",IF(AND($F9=DA9,$G9=DB9),10,IF($F9-$G9=DA9-DB9,7,IF(OR(AND($F9>$G9,DA9>DB9),AND($F9<$G9,DA9<DB9)),5,0))))","v":5},{"$f":"IF(DA9=\"\",\"\",IF(DA9>DB9,\"A\",IF(DA9<DB9,\"B\",IF(DA9=DB9,\"X\"))))","v":"A"},2,1,{"$f":"IF(OR($F9=\"\",$G9=\"\",DE9=\"\",DF9=\"\"),\"\",IF(AND($F9=DE9,$G9=DF9),10,IF($F9-$G9=DE9-DF9,7,IF(OR(AND($F9>$G9,DE9>DF9),AND($F9<$G9,DE9<DF9)),5,0))))","v":5},{"$f":"IF(DE9=\"\",\"\",IF(DE9>DF9,\"A\",IF(DE9<DF9,\"B\",IF(DE9=DF9,\"X\"))))","v":"A"},2,0,{"$f":"IF(OR($F9=\"\",$G9=\"\",DI9=\"\",DJ9=\"\"),\"\",IF(AND($F9=DI9,$G9=DJ9),10,IF($F9-$G9=DI9-DJ9,7,IF(OR(AND($F9>$G9,DI9>DJ9),AND($F9<$G9,DI9<DJ9)),5,0))))","v":5},{"$f":"IF(DI9=\"\",\"\",IF(DI9>DJ9,\"A\",IF(DI9<DJ9,\"B\",IF(DI9=DJ9,\"X\"))))","v":"A"},2,1,{"$f":"IF(OR($F9=\"\",$G9=\"\",DM9=\"\",DN9=\"\"),\"\",IF(AND($F9=DM9,$G9=DN9),10,IF($F9-$G9=DM9-DN9,7,IF(OR(AND($F9>$G9,DM9>DN9),AND($F9<$G9,DM9<DN9)),5,0))))","v":5},{"$f":"IF(DM9=\"\",\"\",IF(DM9>DN9,\"A\",IF(DM9<DN9,\"B\",IF(DM9=DN9,\"X\"))))","v":"A"},1,1,{"$f":"IF(OR($F9=\"\",$G9=\"\",DQ9=\"\",DR9=\"\"),\"\",IF(AND($F9=DQ9,$G9=DR9),10,IF($F9-$G9=DQ9-DR9,7,IF(OR(AND($F9>$G9,DQ9>DR9),AND($F9<$G9,DQ9<DR9)),5,0))))","v":0},{"$f":"IF(DQ9=\"\",\"\",IF(DQ9>DR9,\"A\",IF(DQ9<DR9,\"B\",IF(DQ9=DR9,\"X\"))))","v":"X"},2,1,{"$f":"IF(OR($F9=\"\",$G9=\"\",DU9=\"\",DV9=\"\"),\"\",IF(AND($F9=DU9,$G9=DV9),10,IF($F9-$G9=DU9-DV9,7,IF(OR(AND($F9>$G9,DU9>DV9),AND($F9<$G9,DU9<DV9)),5,0))))","v":5},{"$f":"IF(DU9=\"\",\"\",IF(DU9>DV9,\"A\",IF(DU9<DV9,\"B\",IF(DU9=DV9,\"X\"))))","v":"A"},2,0,{"$f":"IF(OR($F9=\"\",$G9=\"\",DY9=\"\",DZ9=\"\"),\"\",IF(AND($F9=DY9,$G9=DZ9),10,IF($F9-$G9=DY9-DZ9,7,IF(OR(AND($F9>$G9,DY9>DZ9),AND($F9<$G9,DY9<DZ9)),5,0))))","v":5},{"$f":"IF(DY9=\"\",\"\",IF(DY9>DZ9,\"A\",IF(DY9<DZ9,\"B\",IF(DY9=DZ9,\"X\"))))","v":"A"},3,0,{"$f":"IF(OR($F9=\"\",$G9=\"\",EC9=\"\",ED9=\"\"),\"\",IF(AND($F9=EC9,$G9=ED9),10,IF($F9-$G9=EC9-ED9,7,IF(OR(AND($F9>$G9,EC9>ED9),AND($F9<$G9,EC9<ED9)),5,0))))","v":5},{"$f":"IF(EC9=\"\",\"\",IF(EC9>ED9,\"A\",IF(EC9<ED9,\"B\",IF(EC9=ED9,\"X\"))))","v":"A"},2,0,{"$f":"IF(OR($F9=\"\",$G9=\"\",EG9=\"\",EH9=\"\"),\"\",IF(AND($F9=EG9,$G9=EH9),10,IF($F9-$G9=EG9-EH9,7,IF(OR(AND($F9>$G9,EG9>EH9),AND($F9<$G9,EG9<EH9)),5,0))))","v":5},{"$f":"IF(EG9=\"\",\"\",IF(EG9>EH9,\"A\",IF(EG9<EH9,\"B\",IF(EG9=EH9,\"X\"))))","v":"A"},2,0,{"$f":"IF(OR($F9=\"\",$G9=\"\",EK9=\"\",EL9=\"\"),\"\",IF(AND($F9=EK9,$G9=EL9),10,IF($F9-$G9=EK9-EL9,7,IF(OR(AND($F9>$G9,EK9>EL9),AND($F9<$G9,EK9<EL9)),5,0))))","v":5},{"$f":"IF(EK9=\"\",\"\",IF(EK9>EL9,\"A\",IF(EK9<EL9,\"B\",IF(EK9=EL9,\"X\"))))","v":"A"},3,2,{"$f":"IF(OR($F9=\"\",$G9=\"\",EO9=\"\",EP9=\"\"),\"\",IF(AND($F9=EO9,$G9=EP9),10,IF($F9-$G9=EO9-EP9,7,IF(OR(AND($F9>$G9,EO9>EP9),AND($F9<$G9,EO9<EP9)),5,0))))","v":5},{"$f":"IF(EO9=\"\",\"\",IF(EO9>EP9,\"A\",IF(EO9<EP9,\"B\",IF(EO9=EP9,\"X\"))))","v":"A"},2,0,{"$f":"IF(OR($F9=\"\",$G9=\"\",ES9=\"\",ET9=\"\"),\"\",IF(AND($F9=ES9,$G9=ET9),10,IF($F9-$G9=ES9-ET9,7,IF(OR(AND($F9>$G9,ES9>ET9),AND($F9<$G9,ES9<ET9)),5,0))))","v":5},{"$f":"IF(ES9=\"\",\"\",IF(ES9>ET9,\"A\",IF(ES9<ET9,\"B\",IF(ES9=ET9,\"X\"))))","v":"A"},2,0,{"$f":"IF(OR($F9=\"\",$G9=\"\",EW9=\"\",EX9=\"\"),\"\",IF(AND($F9=EW9,$G9=EX9),10,IF($F9-$G9=EW9-EX9,7,IF(OR(AND($F9>$G9,EW9>EX9),AND($F9<$G9,EW9<EX9)),5,0))))","v":5},{"$f":"IF(EW9=\"\",\"\",IF(EW9>EX9,\"A\",IF(EW9<EX9,\"B\",IF(EW9=EX9,\"X\"))))","v":"A"},1,1,{"$f":"IF(OR($F9=\"\",$G9=\"\",FA9=\"\",FB9=\"\"),\"\",IF(AND($F9=FA9,$G9=FB9),10,IF($F9-$G9=FA9-FB9,7,IF(OR(AND($F9>$G9,FA9>FB9),AND($F9<$G9,FA9<FB9)),5,0))))","v":0},{"$f":"IF(FA9=\"\",\"\",IF(FA9>FB9,\"A\",IF(FA9<FB9,\"B\",IF(FA9=FB9,\"X\"))))","v":"X"},3,0,{"$f":"IF(OR($F9=\"\",$G9=\"\",FE9=\"\",FF9=\"\"),\"\",IF(AND($F9=FE9,$G9=FF9),10,IF($F9-$G9=FE9-FF9,7,IF(OR(AND($F9>$G9,FE9>FF9),AND($F9<$G9,FE9<FF9)),5,0))))","v":5},{"$f":"IF(FE9=\"\",\"\",IF(FE9>FF9,\"A\",IF(FE9<FF9,\"B\",IF(FE9=FF9,\"X\"))))","v":"A"},1,0,{"$f":"IF(OR($F9=\"\",$G9=\"\",FI9=\"\",FJ9=\"\"),\"\",IF(AND($F9=FI9,$G9=FJ9),10,IF($F9-$G9=FI9-FJ9,7,IF(OR(AND($F9>$G9,FI9>FJ9),AND($F9<$G9,FI9<FJ9)),5,0))))","v":5},{"$f":"IF(FI9=\"\",\"\",IF(FI9>FJ9,\"A\",IF(FI9<FJ9,\"B\",IF(FI9=FJ9,\"X\"))))","v":"A"},1,0,{"$f":"IF(OR($F9=\"\",$G9=\"\",FM9=\"\",FN9=\"\"),\"\",IF(AND($F9=FM9,$G9=FN9),10,IF($F9-$G9=FM9-FN9,7,IF(OR(AND($F9>$G9,FM9>FN9),AND($F9<$G9,FM9<FN9)),5,0))))","v":5},{"$f":"IF(FM9=\"\",\"\",IF(FM9>FN9,\"A\",IF(FM9<FN9,\"B\",IF(FM9=FN9,\"X\"))))","v":"A"},3,1,{"$f":"IF(OR($F9=\"\",$G9=\"\",FQ9=\"\",FR9=\"\"),\"\",IF(AND($F9=FQ9,$G9=FR9),10,IF($F9-$G9=FQ9-FR9,7,IF(OR(AND($F9>$G9,FQ9>FR9),AND($F9<$G9,FQ9<FR9)),5,0))))","v":5},{"$f":"IF(FQ9=\"\",\"\",IF(FQ9>FR9,\"A\",IF(FQ9<FR9,\"B\",IF(FQ9=FR9,\"X\"))))","v":"A"},2,1,{"$f":"IF(OR($F9=\"\",$G9=\"\",FU9=\"\",FV9=\"\"),\"\",IF(AND($F9=FU9,$G9=FV9),10,IF($F9-$G9=FU9-FV9,7,IF(OR(AND($F9>$G9,FU9>FV9),AND($F9<$G9,FU9<FV9)),5,0))))","v":5},{"$f":"IF(FU9=\"\",\"\",IF(FU9>FV9,\"A\",IF(FU9<FV9,\"B\",IF(FU9=FV9,\"X\"))))","v":"A"},2,1,{"$f":"IF(OR($F9=\"\",$G9=\"\",FY9=\"\",FZ9=\"\"),\"\",IF(AND($F9=FY9,$G9=FZ9),10,IF($F9-$G9=FY9-FZ9,7,IF(OR(AND($F9>$G9,FY9>FZ9),AND($F9<$G9,FY9<FZ9)),5,0))))","v":5},{"$f":"IF(FY9=\"\",\"\",IF(FY9>FZ9,\"A\",IF(FY9<FZ9,\"B\",IF(FY9=FZ9,\"X\"))))","v":"A"},2,1,{"$f":"IF(OR($F9=\"\",$G9=\"\",GC9=\"\",GD9=\"\"),\"\",IF(AND($F9=GC9,$G9=GD9),10,IF($F9-$G9=GC9-GD9,7,IF(OR(AND($F9>$G9,GC9>GD9),AND($F9<$G9,GC9<GD9)),5,0))))","v":5},{"$f":"IF(GC9=\"\",\"\",IF(GC9>GD9,\"A\",IF(GC9<GD9,\"B\",IF(GC9=GD9,\"X\"))))","v":"A"},2,1,{"$f":"IF(OR($F9=\"\",$G9=\"\",GG9=\"\",GH9=\"\"),\"\",IF(AND($F9=GG9,$G9=GH9),10,IF($F9-$G9=GG9-GH9,7,IF(OR(AND($F9>$G9,GG9>GH9),AND($F9<$G9,GG9<GH9)),5,0))))","v":5},{"$f":"IF(GG9=\"\",\"\",IF(GG9>GH9,\"A\",IF(GG9<GH9,\"B\",IF(GG9=GH9,\"X\"))))","v":"A"},2,0,{"$f":"IF(OR($F9=\"\",$G9=\"\",GK9=\"\",GL9=\"\"),\"\",IF(AND($F9=GK9,$G9=GL9),10,IF($F9-$G9=GK9-GL9,7,IF(OR(AND($F9>$G9,GK9>GL9),AND($F9<$G9,GK9<GL9)),5,0))))","v":5},{"$f":"IF(GK9=\"\",\"\",IF(GK9>GL9,\"A\",IF(GK9<GL9,\"B\",IF(GK9=GL9,\"X\"))))","v":"A"},3,1,{"$f":"IF(OR($F9=\"\",$G9=\"\",GO9=\"\",GP9=\"\"),\"\",IF(AND($F9=GO9,$G9=GP9),10,IF($F9-$G9=GO9-GP9,7,IF(OR(AND($F9>$G9,GO9>GP9),AND($F9<$G9,GO9<GP9)),5,0))))","v":5},{"$f":"IF(GO9=\"\",\"\",IF(GO9>GP9,\"A\",IF(GO9<GP9,\"B\",IF(GO9=GP9,\"X\"))))","v":"A"},3,0,{"$f":"IF(OR($F9=\"\",$G9=\"\",GS9=\"\",GT9=\"\"),\"\",IF(AND($F9=GS9,$G9=GT9),10,IF($F9-$G9=GS9-GT9,7,IF(OR(AND($F9>$G9,GS9>GT9),AND($F9<$G9,GS9<GT9)),5,0))))","v":5},{"$f":"IF(GS9=\"\",\"\",IF(GS9>GT9,\"A\",IF(GS9<GT9,\"B\",IF(GS9=GT9,\"X\"))))","v":"A"},1,2,{"$f":"IF(OR($F9=\"\",$G9=\"\",GW9=\"\",GX9=\"\"),\"\",IF(AND($F9=GW9,$G9=GX9),10,IF($F9-$G9=GW9-GX9,7,IF(OR(AND($F9>$G9,GW9>GX9),AND($F9<$G9,GW9<GX9)),5,0))))","v":0},{"$f":"IF(GW9=\"\",\"\",IF(GW9>GX9,\"A\",IF(GW9<GX9,\"B\",IF(GW9=GX9,\"X\"))))","v":"B"},null,{"$f":"SUM(COUNTIF($I9:$GZ9,\"A\")+COUNTIF($I54:$GZ54,\"A\"))","v":72},{"$f":"SUM(COUNTIF($I9:$GZ9,\"X\")+COUNTIF($I54:$GZ54,\"X\"))","v":3},{"$f":"SUM(COUNTIF($I9:$GZ9,\"B\")+COUNTIF($I54:$GZ54,\"B\"))","v":1},{"$f":"SUM(HB9:HD9)","v":76},null,{"$f":"HB9*100/HE9","v":94.736842105263165},{"$f":"HC9*100/HE9","v":3.9473684210526314},{"$f":"HD9*100/HE9","v":1.3157894736842106},null,{"$f":"SUM(I9:J44,M9:N44,Q9:R44,U9:V44,Y9:Z44,AC9:AD44,AG9:AH44,AK9:AL44,AO9:AP44,AS9:AT44,AW9:AX44,BA9:BB44,BE9:BF44,BI9:BJ44,BM9:BN44,BQ9:BR44,BU9:BV44,BY9:BZ44,CC9:CD44,CG9:CH44,CK9:CL44,CO9:CP44,CS9:CT44,CW9:CX44,DA9:DB44,DE9:DF44,DI9:DJ44,DM9:DN44,DQ9:DR44,DU9:DV44,DY9:DZ44,EC9:ED44,EG9:EH44,EK9:EL44,EO9:EP44,ES9:ET44,EW9:EX44,FA9:FB44,FE9:FF44,FI9:FJ44,FM9:FN44,FQ9:FR44,FU9:FV44,FY9:FZ44,GC9:GD44,GG9:GH44,GK9:GL44,GO9:GP44,GS9:GT44,GW9:GX44)","v":4216},"Spieler 1 - 50"]
["Sa. 15. Jun","15:00:00",2,"Ungarn","Schweiz",1,3,null,1,2,{"$f":"IF(OR($F10=\"\",$G10=\"\",I10=\"\",J10=\"\"),\"\",IF(AND($F10=I10,$G10=J10),10,IF($F10-$G10=I10-J10,7,IF(OR(AND($F10>$G10,I10>J10),AND($F10<$G10,I10<J10)),5,0))))","v":5},{"$f":"IF(I10=\"\",\"\",IF(I10>J10,\"A\",IF(I10<J10,\"B\",IF(I10=J10,\"X\"))))","v":"B"},1,2,{"$f":"IF(OR($F10=\"\",$G10=\"\",M10=\"\",N10=\"\"),\"\",IF(AND($F10=M10,$G10=N10),10,IF($F10-$G10=M10-N10,7,IF(OR(AND($F10>$G10,M10>N10),AND($F10<$G10,M10<N10)),5,0))))","v":5},{"$f":"IF(M10=\"\",\"\",IF(M10>N10,\"A\",IF(M10<N10,\"B\",IF(M10=N10,\"X\"))))","v":"B"},1,2,{"$f":"IF(OR($F10=\"\",$G10=\"\",Q10=\"\",R10=\"\"),\"\",IF(AND($F10=Q10,$G10=R10),10,IF($F10-$G10=Q10-R10,7,IF(OR(AND($F10>$G10,Q10>R10),AND($F10<$G10,Q10<R10)),5,0))))","v":5},{"$f":"IF(Q10=\"\",\"\",IF(Q10>R10,\"A\",IF(Q10<R10,\"B\",IF(Q10=R10,\"X\"))))","v":"B"},0,1,{"$f":"IF(OR($F10=\"\",$G10=\"\",U10=\"\",V10=\"\"),\"\",IF(AND($F10=U10,$G10=V10),10,IF($F10-$G10=U10-V10,7,IF(OR(AND($F10>$G10,U10>V10),AND($F10<$G10,U10<V10)),5,0))))","v":5},{"$f":"IF(U10=\"\",\"\",IF(U10>V10,\"A\",IF(U10<V10,\"B\",IF(U10=V10,\"X\"))))","v":"B"},1,2,{"$f":"IF(OR($F10=\"\",$G10=\"\",Y10=\"\",Z10=\"\"),\"\",IF(AND($F10=Y10,$G10=Z10),10,IF($F10-$G10=Y10-Z10,7,IF(OR(AND($F10>$G10,Y10>Z10),AND($F10<$G10,Y10<Z10)),5,0))))","v":5},{"$f":"IF(Y10=\"\",\"\",IF(Y10>Z10,\"A\",IF(Y10<Z10,\"B\",IF(Y10=Z10,\"X\"))))","v":"B"},0,1,{"$f":"IF(OR($F10=\"\",$G10=\"\",AC10=\"\",AD10=\"\"),\"\",IF(AND($F10=AC10,$G10=AD10),10,IF($F10-$G10=AC10-AD10,7,IF(OR(AND($F10>$G10,AC10>AD10),AND($F10<$G10,AC10<AD10)),5,0))))","v":5},{"$f":"IF(AC10=\"\",\"\",IF(AC10>AD10,\"A\",IF(AC10<AD10,\"B\",IF(AC10=AD10,\"X\"))))","v":"B"},1,2,{"$f":"IF(OR($F10=\"\",$G10=\"\",AG10=\"\",AH10=\"\"),\"\",IF(AND($F10=AG10,$G10=AH10),10,IF($F10-$G10=AG10-AH10,7,IF(OR(AND($F10>$G10,AG10>AH10),AND($F10<$G10,AG10<AH10)),5,0))))","v":5},{"$f":"IF(AG10=\"\",\"\",IF(AG10>AH10,\"A\",IF(AG10<AH10,\"B\",IF(AG10=AH10,\"X\"))))","v":"B"},0,1,{"$f":"IF(OR($F10=\"\",$G10=\"\",AK10=\"\",AL10=\"\"),\"\",IF(AND($F10=AK10,$G10=AL10),10,IF($F10-$G10=AK10-AL10,7,IF(OR(AND($F10>$G10,AK10>AL10),AND($F10<$G10,AK10<AL10)),5,0))))","v":5},{"$f":"IF(AK10=\"\",\"\",IF(AK10>AL10,\"A\",IF(AK10<AL10,\"B\",IF(AK10=AL10,\"X\"))))","v":"B"},1,2,{"$f":"IF(OR($F10=\"\",$G10=\"\",AO10=\"\",AP10=\"\"),\"\",IF(AND($F10=AO10,$G10=AP10),10,IF($F10-$G10=AO10-AP10,7,IF(OR(AND($F10>$G10,AO10>AP10),AND($F10<$G10,AO10<AP10)),5,0))))","v":5},{"$f":"IF(AO10=\"\",\"\",IF(AO10>AP10,\"A\",IF(AO10<AP10,\"B\",IF(AO10=AP10,\"X\"))))","v":"B"},1,3,{"$f":"IF(OR($F10=\"\",$G10=\"\",AS10=\"\",AT10=\"\"),\"\",IF(AND($F10=AS10,$G10=AT10),10,IF($F10-$G10=AS10-AT10,7,IF(OR(AND($F10>$G10,AS10>AT10),AND($F10<$G10,AS10<AT10)),5,0))))","v":10},{"$f":"IF(AS10=\"\",\"\",IF(AS10>AT10,\"A\",IF(AS10<AT10,\"B\",IF(AS10=AT10,\"X\"))))","v":"B"},0,2,{"$f":"IF(OR($F10=\"\",$G10=\"\",AW10=\"\",AX10=\"\"),\"\",IF(AND($F10=AW10,$G10=AX10),10,IF($F10-$G10=AW10-AX10,7,IF(OR(AND($F10>$G10,AW10>AX10),AND($F10<$G10,AW10<AX10)),5,0))))","v":7},{"$f":"IF(AW10=\"\",\"\",IF(AW10>AX10,\"A\",IF(AW10<AX10,\"B\",IF(AW10=AX10,\"X\"))))","v":"B"},2,2,{"$f":"IF(OR($F10=\"\",$G10=\"\",BA10=\"\",BB10=\"\"),\"\",IF(AND($F10=BA10,$G10=BB10),10,IF($F10-$G10=BA10-BB10,7,IF(OR(AND($F10>$G10,BA10>BB10),AND($F10<$G10,BA10<BB10)),5,0))))","v":0},{"$f":"IF(BA10=\"\",\"\",IF(BA10>BB10,\"A\",IF(BA10<BB10,\"B\",IF(BA10=BB10,\"X\"))))","v":"X"},1,2,{"$f":"IF(OR($F10=\"\",$G10=\"\",BE10=\"\",BF10=\"\"),\"\",IF(AND($F10=BE10,$G10=BF10),10,IF($F10-$G10=BE10-BF10,7,IF(OR(AND($F10>$G10,BE10>BF10),AND($F10<$G10,BE10<BF10)),5,0))))","v":5},{"$f":"IF(BE10=\"\",\"\",IF(BE10>BF10,\"A\",IF(BE10<BF10,\"B\",IF(BE10=BF10,\"X\"))))","v":"B"},1,1,{"$f":"IF(OR($F10=\"\",$G10=\"\",BI10=\"\",BJ10=\"\"),\"\",IF(AND($F10=BI10,$G10=BJ10),10,IF($F10-$G10=BI10-BJ10,7,IF(OR(AND($F10>$G10,BI10>BJ10),AND($F10<$G10,BI10<BJ10)),5,0))))","v":0},{"$f":"IF(BI10=\"\",\"\",IF(BI10>BJ10,\"A\",IF(BI10<BJ10,\"B\",IF(BI10=BJ10,\"X\"))))","v":"X"},0,0,{"$f":"IF(OR($F10=\"\",$G10=\"\",BM10=\"\",BN10=\"\"),\"\",IF(AND($F10=BM10,$G10=BN10),10,IF($F10-$G10=BM10-BN10,7,IF(OR(AND($F10>$G10,BM10>BN10),AND($F10<$G10,BM10<BN10)),5,0))))","v":0},{"$f":"IF(BM10=\"\",\"\",IF(BM10>BN10,\"A\",IF(BM10<BN10,\"B\",IF(BM10=BN10,\"X\"))))","v":"X"},0,2,{"$f":"IF(OR($F10=\"\",$G10=\"\",BQ10=\"\",BR10=\"\"),\"\",IF(AND($F10=BQ10,$G10=BR10),10,IF($F10-$G10=BQ10-BR10,7,IF(OR(AND($F10>$G10,BQ10>BR10),AND($F10<$G10,BQ10<BR10)),5,0))))","v":7},{"$f":"IF(BQ10=\"\",\"\",IF(BQ10>BR10,\"A\",IF(BQ10<BR10,\"B\",IF(BQ10=BR10,\"X\"))))","v":"B"},0,1,{"$f":"IF(OR($F10=\"\",$G10=\"\",BU10=\"\",BV10=\"\"),\"\",IF(AND($F10=BU10,$G10=BV10),10,IF($F10-$G10=BU10-BV10,7,IF(OR(AND($F10>$G10,BU10>BV10),AND($F10<$G10,BU10<BV10)),5,0))))","v":5},{"$f":"IF(BU10=\"\",\"\",IF(BU10>BV10,\"A\",IF(BU10<BV10,\"B\",IF(BU10=BV10,\"X\"))))","v":"B"},0,1,{"$f":"IF(OR($F10=\"\",$G10=\"\",BY10=\"\",BZ10=\"\"),\"\",IF(AND($F10=BY10,$G10=BZ10),10,IF($F10-$G10=BY10-BZ10,7,IF(OR(AND($F10>$G10,BY10>BZ10),AND($F10<$G10,BY10<BZ10)),5,0))))","v":5},{"$f":"IF(BY10=\"\",\"\",IF(BY10>BZ10,\"A\",IF(BY10<BZ10,\"B\",IF(BY10=BZ10,\"X\"))))","v":"B"},1,1,{"$f":"IF(OR($F10=\"\",$G10=\"\",CC10=\"\",CD10=\"\"),\"\",IF(AND($F10=CC10,$G10=CD10),10,IF($F10-$G10=CC10-CD10,7,IF(OR(AND($F10>$G10,CC10>CD10),AND($F10<$G10,CC10<CD10)),5,0))))","v":0},{"$f":"IF(CC10=\"\",\"\",IF(CC10>CD10,\"A\",IF(CC10<CD10,\"B\",IF(CC10=CD10,\"X\"))))","v":"X"},1,2,{"$f":"IF(OR($F10=\"\",$G10=\"\",CG10=\"\",CH10=\"\"),\"\",IF(AND($F10=CG10,$G10=CH10),10,IF($F10-$G10=CG10-CH10,7,IF(OR(AND($F10>$G10,CG10>CH10),AND($F10<$G10,CG10<CH10)),5,0))))","v":5},{"$f":"IF(CG10=\"\",\"\",IF(CG10>CH10,\"A\",IF(CG10<CH10,\"B\",IF(CG10=CH10,\"X\"))))","v":"B"},0,1,{"$f":"IF(OR($F10=\"\",$G10=\"\",CK10=\"\",CL10=\"\"),\"\",IF(AND($F10=CK10,$G10=CL10),10,IF($F10-$G10=CK10-CL10,7,IF(OR(AND($F10>$G10,CK10>CL10),AND($F10<$G10,CK10<CL10)),5,0))))","v":5},{"$f":"IF(CK10=\"\",\"\",IF(CK10>CL10,\"A\",IF(CK10<CL10,\"B\",IF(CK10=CL10,\"X\"))))","v":"B"},0,2,{"$f":"IF(OR($F10=\"\",$G10=\"\",CO10=\"\",CP10=\"\"),\"\",IF(AND($F10=CO10,$G10=CP10),10,IF($F10-$G10=CO10-CP10,7,IF(OR(AND($F10>$G10,CO10>CP10),AND($F10<$G10,CO10<CP10)),5,0))))","v":7},{"$f":"IF(CO10=\"\",\"\",IF(CO10>CP10,\"A\",IF(CO10<CP10,\"B\",IF(CO10=CP10,\"X\"))))","v":"B"},0,2,{"$f":"IF(OR($F10=\"\",$G10=\"\",CS10=\"\",CT10=\"\"),\"\",IF(AND($F10=CS10,$G10=CT10),10,IF($F10-$G10=CS10-CT10,7,IF(OR(AND($F10>$G10,CS10>CT10),AND($F10<$G10,CS10<CT10)),5,0))))","v":7},{"$f":"IF(CS10=\"\",\"\",IF(CS10>CT10,\"A\",IF(CS10<CT10,\"B\",IF(CS10=CT10,\"X\"))))","v":"B"},1,1,{"$f":"IF(OR($F10=\"\",$G10=\"\",CW10=\"\",CX10=\"\"),\"\",IF(AND($F10=CW10,$G10=CX10),10,IF($F10-$G10=CW10-CX10,7,IF(OR(AND($F10>$G10,CW10>CX10),AND($F10<$G10,CW10<CX10)),5,0))))","v":0},{"$f":"IF(CW10=\"\",\"\",IF(CW10>CX10,\"A\",IF(CW10<CX10,\"B\",IF(CW10=CX10,\"X\"))))","v":"X"},0,1,{"$f":"IF(OR($F10=\"\",$G10=\"\",DA10=\"\",DB10=\"\"),\"\",IF(AND($F10=DA10,$G10=DB10),10,IF($F10-$G10=DA10-DB10,7,IF(OR(AND($F10>$G10,DA10>DB10),AND($F10<$G10,DA10<DB10)),5,0))))","v":5},{"$f":"IF(DA10=\"\",\"\",IF(DA10>DB10,\"A\",IF(DA10<DB10,\"B\",IF(DA10=DB10,\"X\"))))","v":"B"},1,1,{"$f":"IF(OR($F10=\"\",$G10=\"\",DE10=\"\",DF10=\"\"),\"\",IF(AND($F10=DE10,$G10=DF10),10,IF($F10-$G10=DE10-DF10,7,IF(OR(AND($F10>$G10,DE10>DF10),AND($F10<$G10,DE10<DF10)),5,0))))","v":0},{"$f":"IF(DE10=\"\",\"\",IF(DE10>DF10,\"A\",IF(DE10<DF10,\"B\",IF(DE10=DF10,\"X\"))))","v":"X"},1,1,{"$f":"IF(OR($F10=\"\",$G10=\"\",DI10=\"\",DJ10=\"\"),\"\",IF(AND($F10=DI10,$G10=DJ10),10,IF($F10-$G10=DI10-DJ10,7,IF(OR(AND($F10>$G10,DI10>DJ10),AND($F10<$G10,DI10<DJ10)),5,0))))","v":0},{"$f":"IF(DI10=\"\",\"\",IF(DI10>DJ10,\"A\",IF(DI10<DJ10,\"B\",IF(DI10=DJ10,\"X\"))))","v":"X"},2,2,{"$f":"IF(OR($F10=\"\",$G10=\"\",DM10=\"\",DN10=\"\"),\"\",IF(AND($F10=DM10,$G10=DN10),10,IF($F10-$G10=DM10-DN10,7,IF(OR(AND($F10>$G10,DM10>DN10),AND($F10<$G10,DM10<DN10)),5,0))))","v":0},{"$f":"IF(DM10=\"\",\"\",IF(DM10>DN10,\"A\",IF(DM10<DN10,\"B\",IF(DM10=DN10,\"X\"))))","v":"X"},1,2,{"$f":"IF(OR($F10=\"\",$G10=\"\",DQ10=\"\",DR10=\"\"),\"\",IF(AND($F10=DQ10,$G10=DR10),10,IF($F10-$G10=DQ10-DR10,7,IF(OR(AND($F10>$G10,DQ10>DR10),AND($F10<$G10,DQ10<DR10)),5,0))))","v":5},{"$f":"IF(DQ10=\"\",\"\",IF(DQ10>DR10,\"A\",IF(DQ10<DR10,\"B\",IF(DQ10=DR10,\"X\"))))","v":"B"},1,1,{"$f":"IF(OR($F10=\"\",$G10=\"\",DU10=\"\",DV10=\"\"),\"\",IF(AND($F10=DU10,$G10=DV10),10,IF($F10-$G10=DU10-DV10,7,IF(OR(AND($F10>$G10,DU10>DV10),AND($F10<$G10,DU10<DV10)),5,0))))","v":0},{"$f":"IF(DU10=\"\",\"\",IF(DU10>DV10,\"A\",IF(DU10<DV10,\"B\",IF(DU10=DV10,\"X\"))))","v":"X"},1,2,{"$f":"IF(OR($F10=\"\",$G10=\"\",DY10=\"\",DZ10=\"\"),\"\",IF(AND($F10=DY10,$G10=DZ10),10,IF($F10-$G10=DY10-DZ10,7,IF(OR(AND($F10>$G10,DY10>DZ10),AND($F10<$G10,DY10<DZ10)),5,0))))","v":5},{"$f":"IF(DY10=\"\",\"\",IF(DY10>DZ10,\"A\",IF(DY10<DZ10,\"B\",IF(DY10=DZ10,\"X\"))))","v":"B"},0,2,{"$f":"IF(OR($F10=\"\",$G10=\"\",EC10=\"\",ED10=\"\"),\"\",IF(AND($F10=EC10,$G10=ED10),10,IF($F10-$G10=EC10-ED10,7,IF(OR(AND($F10>$G10,EC10>ED10),AND($F10<$G10,EC10<ED10)),5,0))))","v":7},{"$f":"IF(EC10=\"\",\"\",IF(EC10>ED10,\"A\",IF(EC10<ED10,\"B\",IF(EC10=ED10,\"X\"))))","v":"B"},0,1,{"$f":"IF(OR($F10=\"\",$G10=\"\",EG10=\"\",EH10=\"\"),\"\",IF(AND($F10=EG10,$G10=EH10),10,IF($F10-$G10=EG10-EH10,7,IF(OR(AND($F10>$G10,EG10>EH10),AND($F10<$G10,EG10<EH10)),5,0))))","v":5},{"$f":"IF(EG10=\"\",\"\",IF(EG10>EH10,\"A\",IF(EG10<EH10,\"B\",IF(EG10=EH10,\"X\"))))","v":"B"},0,1,{"$f":"IF(OR($F10=\"\",$G10=\"\",EK10=\"\",EL10=\"\"),\"\",IF(AND($F10=EK10,$G10=EL10),10,IF($F10-$G10=EK10-EL10,7,IF(OR(AND($F10>$G10,EK10>EL10),AND($F10<$G10,EK10<EL10)),5,0))))","v":5},{"$f":"IF(EK10=\"\",\"\",IF(EK10>EL10,\"A\",IF(EK10<EL10,\"B\",IF(EK10=EL10,\"X\"))))","v":"B"},1,2,{"$f":"IF(OR($F10=\"\",$G10=\"\",EO10=\"\",EP10=\"\"),\"\",IF(AND($F10=EO10,$G10=EP10),10,IF($F10-$G10=EO10-EP10,7,IF(OR(AND($F10>$G10,EO10>EP10),AND($F10<$G10,EO10<EP10)),5,0))))","v":5},{"$f":"IF(EO10=\"\",\"\",IF(EO10>EP10,\"A\",IF(EO10<EP10,\"B\",IF(EO10=EP10,\"X\"))))","v":"B"},1,3,{"$f":"IF(OR($F10=\"\",$G10=\"\",ES10=\"\",ET10=\"\"),\"\",IF(AND($F10=ES10,$G10=ET10),10,IF($F10-$G10=ES10-ET10,7,IF(OR(AND($F10>$G10,ES10>ET10),AND($F10<$G10,ES10<ET10)),5,0))))","v":10},{"$f":"IF(ES10=\"\",\"\",IF(ES10>ET10,\"A\",IF(ES10<ET10,\"B\",IF(ES10=ET10,\"X\"))))","v":"B"},0,1,{"$f":"IF(OR($F10=\"\",$G10=\"\",EW10=\"\",EX10=\"\"),\"\",IF(AND($F10=EW10,$G10=EX10),10,IF($F10-$G10=EW10-EX10,7,IF(OR(AND($F10>$G10,EW10>EX10),AND($F10<$G10,EW10<EX10)),5,0))))","v":5},{"$f":"IF(EW10=\"\",\"\",IF(EW10>EX10,\"A\",IF(EW10<EX10,\"B\",IF(EW10=EX10,\"X\"))))","v":"B"},2,2,{"$f":"IF(OR($F10=\"\",$G10=\"\",FA10=\"\",FB10=\"\"),\"\",IF(AND($F10=FA10,$G10=FB10),10,IF($F10-$G10=FA10-FB10,7,IF(OR(AND($F10>$G10,FA10>FB10),AND($F10<$G10,FA10<FB10)),5,0))))","v":0},{"$f":"IF(FA10=\"\",\"\",IF(FA10>FB10,\"A\",IF(FA10<FB10,\"B\",IF(FA10=FB10,\"X\"))))","v":"X"},1,2,{"$f":"IF(OR($F10=\"\",$G10=\"\",FE10=\"\",FF10=\"\"),\"\",IF(AND($F10=FE10,$G10=FF10),10,IF($F10-$G10=FE10-FF10,7,IF(OR(AND($F10>$G10,FE10>FF10),AND($F10<$G10,FE10<FF10)),5,0))))","v":5},{"$f":"IF(FE10=\"\",\"\",IF(FE10>FF10,\"A\",IF(FE10<FF10,\"B\",IF(FE10=FF10,\"X\"))))","v":"B"},0,1,{"$f":"IF(OR($F10=\"\",$G10=\"\",FI10=\"\",FJ10=\"\"),\"\",IF(AND($F10=FI10,$G10=FJ10),10,IF($F10-$G10=FI10-FJ10,7,IF(OR(AND($F10>$G10,FI10>FJ10),AND($F10<$G10,FI10<FJ10)),5,0))))","v":5},{"$f":"IF(FI10=\"\",\"\",IF(FI10>FJ10,\"A\",IF(FI10<FJ10,\"B\",IF(FI10=FJ10,\"X\"))))","v":"B"},0,1,{"$f":"IF(OR($F10=\"\",$G10=\"\",FM10=\"\",FN10=\"\"),\"\",IF(AND($F10=FM10,$G10=FN10),10,IF($F10-$G10=FM10-FN10,7,IF(OR(AND($F10>$G10,FM10>FN10),AND($F10<$G10,FM10<FN10)),5,0))))","v":5},{"$f":"IF(FM10=\"\",\"\",IF(FM10>FN10,\"A\",IF(FM10<FN10,\"B\",IF(FM10=FN10,\"X\"))))","v":"B"},1,2,{"$f":"IF(OR($F10=\"\",$G10=\"\",FQ10=\"\",FR10=\"\"),\"\",IF(AND($F10=FQ10,$G10=FR10),10,IF($F10-$G10=FQ10-FR10,7,IF(OR(AND($F10>$G10,FQ10>FR10),AND($F10<$G10,FQ10<FR10)),5,0))))","v":5},{"$f":"IF(FQ10=\"\",\"\",IF(FQ10>FR10,\"A\",IF(FQ10<FR10,\"B\",IF(FQ10=FR10,\"X\"))))","v":"B"},1,2,{"$f":"IF(OR($F10=\"\",$G10=\"\",FU10=\"\",FV10=\"\"),\"\",IF(AND($F10=FU10,$G10=FV10),10,IF($F10-$G10=FU10-FV10,7,IF(OR(AND($F10>$G10,FU10>FV10),AND($F10<$G10,FU10<FV10)),5,0))))","v":5},{"$f":"IF(FU10=\"\",\"\",IF(FU10>FV10,\"A\",IF(FU10<FV10,\"B\",IF(FU10=FV10,\"X\"))))","v":"B"},1,1,{"$f":"IF(OR($F10=\"\",$G10=\"\",FY10=\"\",FZ10=\"\"),\"\",IF(AND($F10=FY10,$G10=FZ10),10,IF($F10-$G10=FY10-FZ10,7,IF(OR(AND($F10>$G10,FY10>FZ10),AND($F10<$G10,FY10<FZ10)),5,0))))","v":0},{"$f":"IF(FY10=\"\",\"\",IF(FY10>FZ10,\"A\",IF(FY10<FZ10,\"B\",IF(FY10=FZ10,\"X\"))))","v":"X"},1,2,{"$f":"IF(OR($F10=\"\",$G10=\"\",GC10=\"\",GD10=\"\"),\"\",IF(AND($F10=GC10,$G10=GD10),10,IF($F10-$G10=GC10-GD10,7,IF(OR(AND($F10>$G10,GC10>GD10),AND($F10<$G10,GC10<GD10)),5,0))))","v":5},{"$f":"IF(GC10=\"\",\"\",IF(GC10>GD10,\"A\",IF(GC10<GD10,\"B\",IF(GC10=GD10,\"X\"))))","v":"B"},1,1,{"$f":"IF(OR($F10=\"\",$G10=\"\",GG10=\"\",GH10=\"\"),\"\",IF(AND($F10=GG10,$G10=GH10),10,IF($F10-$G10=GG10-GH10,7,IF(OR(AND($F10>$G10,GG10>GH10),AND($F10<$G10,GG10<GH10)),5,0))))","v":0},{"$f":"IF(GG10=\"\",\"\",IF(GG10>GH10,\"A\",IF(GG10<GH10,\"B\",IF(GG10=GH10,\"X\"))))","v":"X"},1,2,{"$f":"IF(OR($F10=\"\",$G10=\"\",GK10=\"\",GL10=\"\"),\"\",IF(AND($F10=GK10,$G10=GL10),10,IF($F10-$G10=GK10-GL10,7,IF(OR(AND($F10>$G10,GK10>GL10),AND($F10<$G10,GK10<GL10)),5,0))))","v":5},{"$f":"IF(GK10=\"\",\"\",IF(GK10>GL10,\"A\",IF(GK10<GL10,\"B\",IF(GK10=GL10,\"X\"))))","v":"B"},1,2,{"$f":"IF(OR($F10=\"\",$G10=\"\",GO10=\"\",GP10=\"\"),\"\",IF(AND($F10=GO10,$G10=GP10),10,IF($F10-$G10=GO10-GP10,7,IF(OR(AND($F10>$G10,GO10>GP10),AND($F10<$G10,GO10<GP10)),5,0))))","v":5},{"$f":"IF(GO10=\"\",\"\",IF(GO10>GP10,\"A\",IF(GO10<GP10,\"B\",IF(GO10=GP10,\"X\"))))","v":"B"},1,2,{"$f":"IF(OR($F10=\"\",$G10=\"\",GS10=\"\",GT10=\"\"),\"\",IF(AND($F10=GS10,$G10=GT10),10,IF($F10-$G10=GS10-GT10,7,IF(OR(AND($F10>$G10,GS10>GT10),AND($F10<$G10,GS10<GT10)),5,0))))","v":5},{"$f":"IF(GS10=\"\",\"\",IF(GS10>GT10,\"A\",IF(GS10<GT10,\"B\",IF(GS10=GT10,\"X\"))))","v":"B"},2,2,{"$f":"IF(OR($F10=\"\",$G10=\"\",GW10=\"\",GX10=\"\"),\"\",IF(AND($F10=GW10,$G10=GX10),10,IF($F10-$G10=GW10-GX10,7,IF(OR(AND($F10>$G10,GW10>GX10),AND($F10<$G10,GW10<GX10)),5,0))))","v":0},{"$f":"IF(GW10=\"\",\"\",IF(GW10>GX10,\"A\",IF(GW10<GX10,\"B\",IF(GW10=GX10,\"X\"))))","v":"X"},null,0,23,53,{"$f":"SUM(HB10:HD10)","v":76},null,{"$f":"HB10*100/HE10","v":0},{"$f":"HC10*100/HE10","v":30.263157894736842},{"$f":"HD10*100/HE10","v":69.736842105263165},null,{"$f":"SUM(I54:J89,M54:N89,Q54:R89,U54:V89,Y54:Z89,AC54:AD89,AG54:AH89,AK54:AL89,AO54:AP89,AS54:AT89,AW54:AX89,BA54:BB89,BE54:BF89,BI54:BJ89,BM54:BN89,BQ54:BR89,BU54:BV89,BY54:BZ89,CC54:CD89,CG54:CH89,CK54:CL89,CO54:CP89,CS54:CT89,CW54:CX89,DA54:DB89,DE54:DF89,DI54:DJ89,DM54:DN89,DQ54:DR89,DU54:DV89,DY54:DZ89,EC54:ED89,EG54:EH89,EK54:EL89,EO54:EP89,ES54:ET89,EW54:EX89,FA54:FB89,FE54:FF89,FI54:FJ89,FM54:FN89,FQ54:FR89,FU54:FV89,FY54:FZ89,GC54:GD89,GG54:GH89,GK54:GL89,GO54:GP89,GS54:GT89,GW54:GX89)","v":2434},"Spieler 51 - 100"]
["Sa. 15. Jun","18:00:00",3,"Spanien","Kroatien",3,0,null,1,1,0,"X",2,3,0,"B",1,1,0,"X",1,0,5,"A",2,1,5,"A",2,1,5,"A",2,0,5,"A",2,1,5,"A",2,1,5,"A",2,1,5,"A",2,2,0,"X",3,2,5,"A",1,1,0,"X",2,0,5,"A",1,0,5,"A",2,1,5,"A",1,1,0,"X",2,1,5,"A",1,1,0,"X",1,1,0,"X",2,1,5,"A",2,1,5,"A",2,2,0,"X",2,1,5,"A",1,1,0,"X",0,1,0,"B",2,1,5,"A",1,3,0,"B",1,1,0,"X",2,0,5,"A",2,2,0,"X",2,1,5,"A",1,0,5,"A",1,1,0,"X",4,2,5,"A",3,1,5,"A",1,1,0,"X",1,0,5,"A",1,0,5,"A",1,0,5,"A",1,0,5,"A",3,1,5,"A",2,0,5,"A",0,0,0,"X",2,0,5,"A",2,1,5,"A",1,2,0,"B",2,1,5,"A",2,2,0,"X",1,1,0,"X",null,42,27,7,76,null,55.263157894736842,35.526315789473685,9.2105263157894743]
["Sa. 15. Jun","21:00:00",4,"Italien","Albanien",2,1,null,2,1,10,"A",3,0,5,"A",3,0,5,"A",2,1,10,"A",2,0,5,"A",1,0,7,"A",2,0,5,"A",3,0,5,"A",2,0,5,"A",2,0,5,"A",1,0,7,"A",2,1,10,"A",1,0,7,"A",2,0,5,"A",2,0,5,"A",1,1,0,"X",2,1,10,"A",2,1,10,"A",1,0,7,"A",2,1,10,"A",2,0,5,"A",4,0,5,"A",2,0,5,"A",3,0,5,"A",2,1,10,"A",3,1,5,"A",1,0,7,"A",1,0,7,"A",0,1,0,"B",2,0,5,"A",1,0,7,"A",2,0,5,"A",2,0,5,"A",2,0,5,"A",0,0,0,"X",3,0,5,"A",2,0,5,"A",2,0,5,"A",2,0,5,"A",1,0,7,"A",1,0,7,"A",2,0,5,"A",1,0,7,"A",2,0,5,"A",3,0,5,"A",3,0,5,"A",2,0,5,"A",2,0,5,"A",2,0,5,"A",2,1,10,"A",null,71,4,1,76,null,93.421052631578945,5.2631578947368425,1.3157894736842106,null,{"$f":"SUM(HK9:HK11)","v":6650},"Total"]
["So. 16. Jun","21:00:00",5,"Serbien","England",0,1,null,1,2,7,"B",1,3,5,"B",0,2,5,"B",0,3,5,"B",1,3,5,"B",1,2,7,"B",0,4,5,"B",0,2,5,"B",0,1,10,"B",0,2,5,"B",0,2,5,"B",1,3,5,"B",0,1,10,"B",0,1,10,"B",0,1,10,"B",1,2,7,"B",0,1,10,"B",1,3,5,"B",0,1,10,"B",1,3,5,"B",1,3,5,"B",2,3,7,"B",1,2,7,"B",1,4,5,"B",1,2,7,"B",1,3,5,"B",0,2,5,"B",2,3,7,"B",1,2,7,"B",0,2,5,"B",0,2,5,"B",1,2,7,"B",0,2,5,"B",1,3,5,"B",0,1,10,"B",1,1,0,"X",0,1,10,"B",1,1,0,"X",1,1,0,"X",0,1,10,"B",0,1,10,"B",1,2,7,"B",1,4,5,"B",1,2,7,"B",0,2,5,"B",1,2,7,"B",1,2,7,"B",1,2,7,"B",0,4,5,"B",1,3,5,"B",null,1,4,71,76,null,1.3157894736842106,5.2631578947368425,93.421052631578945]
["So. 16. Jun","18:00:00",6,"Slowenien","Dänemark",1,1,null,1,1,10,"X",0,2,0,"B",0,1,0,"B",0,1,0,"B",0,1,0,"B",1,1,10,"X",0,0,7,"X",0,1,0,"B",0,1,0,"B",0,1,0,"B",0,1,0,"B",0,2,0,"B",0,2,0,"B",0,1,0,"B",0,1,0,"B",0,1,0,"B",0,1,0,"B",0,2,0,"B",0,3,0,"B",1,3,0,"B",0,1,0,"B",0,2,0,"B",1,1,10,"X",1,2,0,"B",0,1,0,"B",0,3,0,"B",0,1,0,"B",0,2,0,"B",0,1,0,"B",0,0,7,"X",1,1,10,"X",1,1,10,"X",1,1,10,"X",0,0,7,"X",0,2,0,"B",1,0,0,"A",0,1,0,"B",1,1,10,"X",1,1,10,"X",0,1,0,"B",0,1,0,"B",1,2,0,"B",1,1,10,"X",1,2,0,"B",1,2,0,"B",0,1,0,"B",0,2,0,"B",1,2,0,"B",1,2,0,"B",1,0,0,"A",null,2,19,55,76,null,2.6315789473684212,25,72.368421052631575]
["So. 16. Jun","15:00:00",7,"Polen","Holland",1,2,null,1,2,10,"B",0,2,5,"B",0,2,5,"B",0,2,5,"B",1,2,10,"B",1,2,10,"B",0,1,7,"B",1,1,0,"X",1,2,10,"B",1,2,10,"B",1,2,10,"B",1,2,10,"B",0,2,5,"B",1,2,10,"B",0,2,5,"B",1,2,10,"B",1,1,0,"X",0,1,7,"B",1,2,10,"B",1,2,10,"B",0,1,7,"B",1,1,0,"X",1,2,10,"B",0,2,5,"B",1,2,10,"B",1,1,0,"X",1,1,0,"X",1,3,5,"B",1,1,0,"X",0,1,7,"B",0,0,0,"X",1,2,10,"B",0,1,7,"B",0,2,5,"B",2,2,0,"X",1,2,10,"B",0,1,7,"B",1,1,0,"X",1,2,10,"B",0,1,7,"B",0,1,7,"B",1,2,10,"B",2,1,0,"A",1,1,0,"X",0,3,5,"B",0,2,5,"B",1,1,0,"X",0,2,5,"B",1,1,0,"X",1,3,5,"B",null,1,13,62,76,null,1.3157894736842106,17.105263157894736,81.578947368421055,null,"Total Tore / Anzahl Spieler"]
["Mo. 17. Jun","21:00:00",8,"Österreich","Frankreich",0,1,null,1,2,7,"B",1,2,7,"B",1,2,7,"B",0,2,5,"B",0,2,5,"B",1,3,5,"B",0,2,5,"B",1,3,5,"B",0,2,5,"B",1,3,5,"B",0,2,5,"B",1,3,5,"B",0,2,5,"B",0,2,5,"B",0,1,10,"B",1,2,7,"B",1,2,7,"B",1,2,7,"B",1,2,7,"B",0,2,5,"B",1,3,5,"B",1,3,5,"B",1,2,7,"B",0,3,5,"B",1,2,7,"B",1,4,5,"B",1,2,7,"B",0,3,5,"B",2,1,0,"A",0,3,5,"B",0,3,5,"B",1,2,7,"B",0,3,5,"B",0,2,5,"B",1,3,5,"B",0,1,10,"B",1,2,7,"B",1,3,5,"B",1,3,5,"B",0,1,10,"B",0,1,10,"B",1,2,7,"B",1,3,5,"B",2,2,0,"X",0,3,5,"B",0,3,5,"B",1,3,5,"B",1,3,5,"B",0,2,5,"B",0,2,5,"B",null,2,7,67,76,null,2.6315789473684212,9.2105263157894743,88.15789473684211,null,{"$f":"SUM(HK12/Punktestand!F3)","v":87.5}]
["Mo. 17. Jun","18:00:00",9,"Belgien","Slowakei",0,1,null,2,1,0,"A",3,1,0,"A",1,0,0,"A",1,0,0,"A",3,0,0,"A",2,0,0,"A",1,0,0,"A",1,0,0,"A",2,0,0,"A",2,0,0,"A",1,0,0,"A",3,1,0,"A",2,0,0,"A",2,0,0,"A",2,0,0,"A",2,0,0,"A",3,0,0,"A",1,0,0,"A",2,0,0,"A",2,0,0,"A",2,0,0,"A",2,0,0,"A",2,0,0,"A",2,1,0,"A",1,0,0,"A",3,0,0,"A",1,0,0,"A",1,1,0,"X",2,0,0,"A",2,1,0,"A",1,0,0,"A",2,0,0,"A",1,1,0,"X",3,0,0,"A",0,1,10,"B",1,0,0,"A",1,0,0,"A",1,1,0,"X",2,0,0,"A",1,0,0,"A",1,0,0,"A",2,1,0,"A",1,0,0,"A",2,0,0,"A",1,1,0,"X",2,0,0,"A",1,1,0,"X",2,0,0,"A",1,0,0,"A",2,0,0,"A",null,68,7,1,76,null,89.473684210526315,9.2105263157894743,1.3157894736842106]
["Mo. 17. Jun","15:00:00",10,"Rumänien","Ukraine",3,0,null,1,1,0,"X",1,1,0,"X",1,1,0,"X",2,2,0,"X",1,2,0,"B",1,1,0,"X",1,1,0,"X",1,1,0,"X",0,1,0,"B",1,1,0,"X",1,0,5,"A",0,1,0,"B",1,1,0,"X",1,1,0,"X",0,1,0,"B",1,0,5,"A",1,0,5,"A",0,0,0,"X",1,2,0,"B",2,2,0,"X",0,2,0,"B",0,1,0,"B",2,2,0,"X",2,1,5,"A",0,1,0,"B",0,2,0,"B",0,0,0,"X",1,2,0,"B",0,0,0,"X",2,2,0,"X",2,1,5,"A",1,1,0,"X",1,0,5,"A",1,1,0,"X",2,1,5,"A",1,0,5,"A",0,1,0,"B",1,1,0,"X",0,1,0,"B",0,1,0,"B",0,1,0,"B",1,2,0,"B",1,2,0,"B",1,3,0,"B",1,1,0,"X",2,1,5,"A",0,2,0,"B",1,2,0,"B",0,0,0,"X",0,1,0,"B",null,13,33,30,76,null,17.105263157894736,43.421052631578945,39.473684210526315,null,"Tore / Anzahl Spiele (48)"]
["Di. 18. Jun","18:00:00",11,"Türkei","Georgien",3,1,null,1,0,5,"A",3,1,10,"A",3,0,5,"A",1,0,5,"A",3,1,10,"A",1,0,5,"A",1,1,0,"X",1,1,0,"X",3,1,10,"A",2,0,7,"A",1,0,5,"A",1,0,5,"A",1,0,5,"A",1,0,5,"A",2,0,7,"A",3,0,5,"A",4,0,5,"A",2,0,7,"A",1,0,5,"A",2,1,5,"A",2,0,7,"A",1,1,0,"X",4,2,7,"A",2,0,7,"A",1,0,5,"A",2,1,5,"A",2,1,5,"A",2,0,7,"A",2,0,7,"A",2,1,5,"A",1,0,5,"A",2,0,7,"A",3,1,10,"A",2,1,5,"A",1,0,5,"A",3,1,10,"A",1,0,5,"A",2,1,5,"A",2,1,5,"A",1,0,5,"A",1,0,5,"A",2,1,5,"A",3,1,10,"A",2,0,7,"A",2,1,5,"A",2,0,7,"A",2,0,7,"A",2,1,5,"A",1,0,5,"A",2,2,0,"X",null,67,9,0,76,null,88.15789473684211,11.842105263157896,0,null,{"$f":"SUM(HK16/48)","v":1.8229166666666667},"Tore pro Spiel (Ø)"]
["Di. 18. Jun","21:00:00",12,"Portugal","Tschechien",2,1,null,2,1,10,"A",3,0,5,"A",4,1,5,"A",3,1,5,"A",2,0,5,"A",2,1,10,"A",3,0,5,"A",2,0,5,"A",2,0,5,"A",2,0,5,"A",2,0,5,"A",4,2,5,"A",2,1,10,"A",2,0,5,"A",1,0,7,"A",1,0,7,"A",4,1,5,"A",2,0,5,"A",1,0,7,"A",3,0,5,"A",2,1,10,"A",2,1,10,"A",1,1,0,"X",3,1,5,"A",1,0,7,"A",3,0,5,"A",2,0,5,"A",2,0,5,"A",3,1,5,"A",3,1,5,"A",1,0,7,"A",2,0,5,"A",1,0,7,"A",2,2,0,"X",3,1,5,"A",4,0,5,"A",2,0,5,"A",2,1,10,"A",2,0,5,"A",1,0,7,"A",1,0,7,"A",2,1,10,"A",2,0,5,"A",3,1,5,"A",3,0,5,"A",2,1,10,"A",2,1,10,"A",2,0,5,"A",3,0,5,"A",2,1,10,"A",null,71,5,0,76,null,93.421052631578945,6.5789473684210522,0]
["Mi. 19. Jun","21:00:00",13,"Schottland","Schweiz",1,1,null,1,1,10,"X",1,2,0,"B",0,1,0,"B",0,1,0,"B",1,2,0,"B",0,1,0,"B",1,1,10,"X",0,1,0,"B",0,1,0,"B",1,2,0,"B",1,2,0,"B",2,3,0,"B",1,1,10,"X",1,2,0,"B",0,1,0,"B",0,1,0,"B",1,2,0,"B",1,2,0,"B",1,2,0,"B",1,2,0,"B",1,1,10,"X",0,2,0,"B",1,1,10,"X",1,2,0,"B",0,1,0,"B",2,3,0,"B",1,2,0,"B",1,2,0,"B",1,3,0,"B",0,1,0,"B",0,2,0,"B",1,2,0,"B",1,2,0,"B",0,2,0,"B",0,1,0,"B",1,2,0,"B",0,1,0,"B",1,1,10,"X",0,1,0,"B",0,1,0,"B",0,1,0,"B",1,2,0,"B",0,0,7,"X",0,1,0,"B",0,1,0,"B",1,2,0,"B",0,3,0,"B",1,1,10,"X",0,2,0,"B",2,0,0,"A",null,2,14,60,76,null,2.6315789473684212,18.421052631578949,78.94736842105263]
["Mi. 19. Jun","18:00:00",14,"Deutschland","Ungarn",2,0,null,2,1,5,"A",2,0,10,"A",2,1,5,"A",2,0,10,"A",2,0,10,"A",1,0,5,"A",3,1,7,"A",2,1,5,"A",2,0,10,"A",3,0,5,"A",2,1,5,"A",1,1,0,"X",2,0,10,"A",1,0,5,"A",1,1,0,"X",2,0,10,"A",5,0,5,"A",3,0,5,"A",2,2,0,"X",3,1,7,"A",3,0,5,"A",3,0,5,"A",4,0,5,"A",2,1,5,"A",2,0,10,"A",2,0,10,"A",1,0,5,"A",1,0,5,"A",1,1,0,"X",2,0,10,"A",2,1,5,"A",2,0,10,"A",3,1,7,"A",1,0,5,"A",2,1,5,"A",3,0,5,"A",2,0,10,"A",2,0,10,"A",3,0,5,"A",1,0,5,"A",1,0,5,"A",3,1,7,"A",3,0,5,"A",2,1,5,"A",3,0,5,"A",2,0,10,"A",2,0,10,"A",2,0,10,"A",2,0,10,"A",1,1,0,"X",null,70,6,0,76,null,92.10526315789474,7.8947368421052628,0]
["Mi. 19. Jun","15:00:00",15,"Kroatien","Albanien",2,2,null,2,1,0,"A",4,1,0,"A",2,0,0,"A",4,0,0,"A",2,0,0,"A",2,0,0,"A",3,0,0,"A",2,0,0,"A",2,0,0,"A",2,0,0,"A",2,0,0,"A",3,1,0,"A",1,0,0,"A",2,1,0,"A",1,1,7,"X",2,2,10,"X",2,1,0,"A",2,2,10,"X",1,0,0,"A",3,0,0,"A",2,1,0,"A",2,0,0,"A",3,2,0,"A",2,0,0,"A",1,0,0,"A",3,1,0,"A",2,1,0,"A",3,1,0,"A",2,0,0,"A",1,1,7,"X",2,0,0,"A",2,0,0,"A",1,0,0,"A",1,1,7,"X",1,0,0,"A",1,0,0,"A",1,0,0,"A",2,1,0,"A",2,1,0,"A",1,0,0,"A",1,0,0,"A",2,0,0,"A",0,0,7,"X",1,0,0,"A",2,0,0,"A",2,0,0,"A",4,1,0,"A",2,0,0,"A",3,1,0,"A",3,2,0,"A",null,69,7,0,76,null,90.78947368421052,9.2105263157894743,0]
["Do. 20. Jun","21:00:00",16,"Spanien","Italien",1,0,null,1,1,0,"X",2,2,0,"X",1,2,0,"B",0,0,0,"X",2,2,0,"X",2,2,0,"X",1,1,0,"X",2,1,7,"A",2,1,7,"A",2,1,7,"A",1,1,0,"X",2,0,5,"A",1,0,10,"A",0,0,0,"X",0,0,0,"X",1,1,0,"X",1,0,10,"A",2,1,7,"A",2,1,7,"A",2,0,5,"A",1,0,10,"A",3,1,5,"A",1,1,0,"X",1,1,0,"X",2,1,7,"A",2,2,0,"X",1,1,0,"X",1,1,0,"X",1,1,0,"X",2,2,0,"X",3,1,5,"A",1,1,0,"X",1,2,0,"B",0,0,0,"X",2,1,7,"A",1,1,0,"X",1,1,0,"X",0,0,0,"X",1,1,0,"X",1,0,10,"A",1,0,10,"A",2,1,7,"A",0,0,0,"X",2,1,7,"A",1,1,0,"X",1,1,0,"X",0,0,0,"X",1,1,0,"X",1,2,0,"B",1,1,0,"X",null,29,44,3,76,null,38.157894736842103,57.89473684210526,3.9473684210526314]
["Do. 20. Jun","18:00:00",17,"Dänemark","England",1,1,null,1,1,10,"X",1,2,0,"B",1,3,0,"B",0,2,0,"B",1,2,0,"B",1,2,0,"B",1,4,0,"B",0,2,0,"B",0,2,0,"B",1,2,0,"B",1,2,0,"B",1,2,0,"B",1,2,0,"B",1,1,10,"X",0,1,0,"B",0,1,0,"B",0,2,0,"B",0,1,0,"B",2,2,7,"X",1,3,0,"B",1,1,10,"X",0,2,0,"B",0,1,0,"B",1,2,0,"B",0,1,0,"B",2,1,0,"A",1,2,0,"B",2,2,7,"X",1,1,10,"X",0,1,0,"B",0,1,0,"B",1,2,0,"B",0,2,0,"B",0,2,0,"B",1,1,10,"X",1,3,0,"B",0,1,0,"B",1,1,10,"X",2,2,7,"X",0,1,0,"B",0,1,0,"B",1,2,0,"B",0,2,0,"B",2,3,0,"B",0,2,0,"B",0,2,0,"B",1,2,0,"B",1,2,0,"B",0,2,0,"B",0,2,0,"B",null,2,16,58,76,null,2.6315789473684212,21.05263157894737,76.315789473684205]
["Do. 20. Jun","15:00:00",18,"Slowenien","Serbien",1,1,null,1,2,0,"B",2,2,7,"X",0,2,0,"B",1,1,10,"X",0,2,0,"B",1,2,0,"B",0,0,7,"X",1,1,10,"X",0,2,0,"B",0,1,0,"B",1,1,10,"X",0,1,0,"B",0,1,0,"B",0,1,0,"B",1,3,0,"B",0,3,0,"B",0,1,0,"B",0,3,0,"B",2,1,0,"A",1,2,0,"B",1,1,10,"X",1,1,10,"X",2,1,0,"A",2,3,0,"B",0,0,7,"X",0,1,0,"B",0,1,0,"B",1,3,0,"B",1,2,0,"B",1,1,10,"X",2,2,7,"X",0,0,7,"X",1,2,0,"B",1,1,10,"X",1,0,0,"A",1,2,0,"B",1,2,0,"B",2,1,0,"A",1,0,0,"A",0,1,0,"B",1,0,0,"A",1,2,0,"B",1,1,10,"X",1,2,0,"B",0,0,7,"X",1,2,0,"B",1,2,0,"B",1,1,10,"X",1,1,10,"X",0,1,0,"B",null,9,24,43,76,null,11.842105263157896,31.578947368421051,56.578947368421055]
["Fr. 21. Jun","18:00:00",19,"Polen","Österreich",1,3,null,1,1,0,"X",1,2,5,"B",0,0,0,"X",1,1,0,"X",1,3,10,"B",1,1,0,"X",0,1,5,"B",1,1,0,"X",0,0,0,"X",1,1,0,"X",2,0,0,"A",1,0,0,"A",1,1,0,"X",1,0,0,"A",1,1,0,"X",0,1,5,"B",0,2,7,"B",1,2,5,"B",1,2,5,"B",1,1,0,"X",0,2,7,"B",1,2,5,"B",1,2,5,"B",1,2,5,"B",0,1,5,"B",1,2,5,"B",0,1,5,"B",2,4,7,"B",2,2,0,"X",1,1,0,"X",1,0,0,"A",1,2,5,"B",1,1,0,"X",0,1,5,"B",1,2,5,"B",1,2,5,"B",0,1,5,"B",1,1,0,"X",1,2,5,"B",0,1,5,"B",0,1,5,"B",1,2,5,"B",1,2,5,"B",0,1,5,"B",0,0,0,"X",1,1,0,"X",0,2,7,"B",1,1,0,"X",1,0,0,"A",2,1,0,"A",null,10,26,40,76,null,13.157894736842104,34.210526315789473,52.631578947368418]
["Fr. 21. Jun","21:00:00",20,"Holland","Frankreich",0,0,null,1,2,0,"B",2,2,7,"X",2,3,0,"B",0,0,10,"X",2,1,0,"A",2,3,0,"B",1,2,0,"B",0,2,0,"B",0,1,0,"B",1,2,0,"B",1,2,0,"B",2,4,0,"B",0,1,0,"B",1,2,0,"B",1,1,7,"X",1,2,0,"B",2,3,0,"B",1,2,0,"B",1,2,0,"B",2,2,7,"X",1,1,7,"X",1,2,0,"B",1,1,7,"X",0,2,0,"B",0,1,0,"B",1,3,0,"B",2,3,0,"B",1,4,0,"B",1,2,0,"B",1,2,0,"B",0,2,0,"B",1,1,7,"X",1,2,0,"B",2,2,7,"X",2,3,0,"B",1,1,7,"X",1,1,7,"X",1,1,7,"X",1,1,7,"X",0,1,0,"B",0,1,0,"B",1,2,0,"B",0,2,0,"B",1,2,0,"B",2,3,0,"B",1,2,0,"B",1,3,0,"B",1,2,0,"B",0,2,0,"B",0,1,0,"B",null,2,21,53,76,null,2.6315789473684212,27.631578947368421,69.736842105263165]
["Fr. 21. Jun","15:00:00",21,"Slowakei","Ukraine",1,2,null,2,1,0,"A",2,1,0,"A",1,1,0,"X",0,1,7,"B",1,2,10,"B",1,2,10,"B",0,1,7,"B",1,0,0,"A",1,1,0,"X",2,1,0,"A",0,0,0,"X",1,1,0,"X",1,1,0,"X",1,1,0,"X",0,1,7,"B",0,1,7,"B",0,0,0,"X",1,1,0,"X",0,1,7,"B",1,2,10,"B",0,2,5,"B",0,1,7,"B",1,3,5,"B",2,2,0,"X",0,1,7,"B",1,0,0,"A",1,2,10,"B",2,1,0,"A",1,2,10,"B",1,1,0,"X",1,1,0,"X",1,1,0,"X",1,1,0,"X",0,1,7,"B",1,0,0,"A",1,1,0,"X",0,1,7,"B",1,2,10,"B",1,2,10,"B",0,1,7,"B",0,1,7,"B",1,2,10,"B",0,1,7,"B",0,1,7,"B",1,0,0,"A",1,1,0,"X",2,1,0,"A",1,2,10,"B",1,1,0,"X",2,3,7,"B",null,16,24,36,76,null,21.05263157894737,31.578947368421051,47.368421052631582]
["Sa. 22. Jun","21:00:00",22,"Belgien","Rumänien",2,0,null,2,1,5,"A",3,1,7,"A",3,0,5,"A",1,0,5,"A",3,0,5,"A",2,0,10,"A",2,0,10,"A",1,0,5,"A",2,0,10,"A",2,0,10,"A",1,0,5,"A",2,0,10,"A",1,0,5,"A",2,0,10,"A",2,0,10,"A",1,1,0,"X",1,0,5,"A",1,0,5,"A",2,0,10,"A",3,1,7,"A",2,0,10,"A",2,0,10,"A",2,0,10,"A",2,2,0,"X",2,0,10,"A",4,1,5,"A",0,0,0,"X",2,0,10,"A",3,0,5,"A",2,0,10,"A",1,0,5,"A",2,0,10,"A",2,0,10,"A",2,0,10,"A",2,1,5,"A",1,0,5,"A",1,0,5,"A",2,1,5,"A",2,0,10,"A",1,0,5,"A",1,0,5,"A",2,1,5,"A",1,0,5,"A",2,0,10,"A",2,1,5,"A",2,0,10,"A",2,1,5,"A",2,1,5,"A",1,0,5,"A",3,0,5,"A",null,72,4,0,76,null,94.736842105263165,5.2631578947368425,0]
["Sa. 22. Jun","18:00:00",23,"Türkei","Portugal",0,3,null,1,2,5,"B",2,3,5,"B",1,2,5,"B",0,2,5,"B",1,2,5,"B",1,2,5,"B",0,2,5,"B",0,3,10,"B",0,2,5,"B",0,2,5,"B",1,2,5,"B",1,3,5,"B",0,1,5,"B",1,3,5,"B",1,3,5,"B",2,1,0,"A",1,1,0,"X",1,1,0,"X",0,2,5,"B",1,3,5,"B",0,1,5,"B",2,2,0,"X",1,2,5,"B",0,3,10,"B",0,1,5,"B",0,3,10,"B",0,3,10,"B",2,4,5,"B",1,4,7,"B",0,1,5,"B",1,1,0,"X",0,2,5,"B",1,2,5,"B",1,4,7,"B",0,1,5,"B",0,3,10,"B",0,1,5,"B",1,2,5,"B",0,3,10,"B",0,1,5,"B",0,1,5,"B",2,2,0,"X",1,1,0,"X",1,1,0,"X",1,2,5,"B",1,3,5,"B",0,3,10,"B",1,2,5,"B",0,2,5,"B",1,1,0,"X",null,1,14,61,76,null,1.3157894736842106,18.421052631578949,80.263157894736835]
["Sa. 22. Jun","15:00:00",24,"Georgien","Tschechien",1,1,null,1,2,0,"B",0,1,0,"B",0,0,7,"X",0,1,0,"B",1,1,10,"X",1,2,0,"B",0,1,0,"B",0,2,0,"B",0,2,0,"B",0,2,0,"B",0,1,0,"B",1,1,10,"X",1,1,10,"X",1,2,0,"B",0,2,0,"B",0,1,0,"B",0,1,0,"B",0,0,7,"X",1,2,0,"B",0,2,0,"B",1,1,10,"X",0,1,0,"B",0,2,0,"B",1,2,0,"B",0,1,0,"B",1,0,0,"A",1,1,10,"X",1,4,0,"B",1,1,10,"X",0,1,0,"B",2,1,0,"A",0,2,0,"B",0,2,0,"B",0,2,0,"B",0,2,0,"B",0,1,0,"B",0,1,0,"B",1,1,10,"X",1,1,10,"X",0,1,0,"B",0,1,0,"B",1,2,0,"B",0,2,0,"B",0,2,0,"B",1,1,10,"X",1,2,0,"B",1,2,0,"B",1,2,0,"B",1,1,10,"X",1,2,0,"B",null,3,15,58,76,null,3.9473684210526314,19.736842105263158,76.315789473684205]
["So. 23. Jun","21:00:00",25,"Schweiz","Deutschland",1,1,null,1,1,10,"X",1,1,10,"X",1,3,0,"B",1,1,10,"X",1,2,0,"B",2,2,7,"X",1,1,10,"X",1,0,0,"A",1,2,0,"B",1,2,0,"B",1,2,0,"B",2,2,7,"X",0,1,0,"B",0,2,0,"B",0,2,0,"B",1,2,0,"B",1,2,0,"B",1,1,10,"X",1,1,10,"X",0,0,7,"X",1,2,0,"B",0,2,0,"B",0,1,0,"B",1,1,10,"X",1,2,0,"B",2,1,0,"A",1,1,10,"X",2,3,0,"B",2,1,0,"A",1,2,0,"B",3,1,0,"A",0,1,0,"B",1,2,0,"B",1,2,0,"B",1,2,0,"B",1,2,0,"B",0,1,0,"B",1,1,10,"X",2,2,7,"X",0,1,0,"B",0,1,0,"B",1,3,0,"B",1,1,10,"X",1,3,0,"B",0,2,0,"B",1,1,10,"X",2,2,7,"X",1,3,0,"B",2,3,0,"B",0,2,0,"B",null,6,24,46,76,null,7.8947368421052628,31.578947368421051,60.526315789473685]
["So. 23. Jun","21:00:00",26,"Schottland","Ungarn",0,1,null,1,2,7,"B",2,2,0,"X",0,2,5,"B",1,1,0,"X",3,2,0,"A",1,2,7,"B",1,2,7,"B",1,1,0,"X",1,1,0,"X",1,1,0,"X",0,1,10,"B",2,3,7,"B",1,1,0,"X",2,1,0,"A",1,1,0,"X",1,1,0,"X",1,0,0,"A",0,1,10,"B",1,1,0,"X",0,1,10,"B",2,0,0,"A",1,0,0,"A",2,0,0,"A",1,2,7,"B",0,0,0,"X",1,1,0,"X",1,2,7,"B",1,2,7,"B",0,2,5,"B",1,1,0,"X",1,2,7,"B",1,0,0,"A",0,1,10,"B",1,1,0,"X",1,0,0,"A",1,1,0,"X",0,0,0,"X",1,2,7,"B",1,1,0,"X",1,0,0,"A",1,0,0,"A",1,2,7,"B",2,2,0,"X",2,1,0,"A",2,0,0,"A",1,0,0,"A",1,2,7,"B",1,1,0,"X",2,0,0,"A",2,1,0,"A",null,21,25,30,76,null,27.631578947368421,32.89473684210526,39.473684210526315]
["Mo. 24. Jun","21:00:00",27,"Albanien","Spanien",0,1,null,1,2,7,"B",0,3,5,"B",0,4,5,"B",0,3,5,"B",0,3,5,"B",0,2,5,"B",0,3,5,"B",0,2,5,"B",0,3,5,"B",0,2,5,"B",0,1,10,"B",1,2,7,"B",0,1,10,"B",0,2,5,"B",0,2,5,"B",0,4,5,"B",0,5,5,"B",0,3,5,"B",1,2,7,"B",0,2,5,"B",0,4,5,"B",0,5,5,"B",0,5,5,"B",0,3,5,"B",0,1,10,"B",0,4,5,"B",0,2,5,"B",0,2,5,"B",0,3,5,"B",0,1,10,"B",0,3,5,"B",0,2,5,"B",0,2,5,"B",0,3,5,"B",0,1,10,"B",1,2,7,"B",0,1,10,"B",0,2,5,"B",0,3,5,"B",0,1,10,"B",0,1,10,"B",0,3,5,"B",0,4,5,"B",1,3,5,"B",0,2,5,"B",0,3,5,"B",0,3,5,"B",0,3,5,"B",1,3,5,"B",0,2,5,"B",null,2,0,74,76,null,2.6315789473684212,0,97.368421052631575]
["Mo. 24. Jun","21:00:00",28,"Kroatien","Italien",1,1,null,2,1,0,"A",1,1,10,"X",2,2,7,"X",0,1,0,"B",1,2,0,"B",2,2,7,"X",1,1,10,"X",1,2,0,"B",1,1,10,"X",2,1,0,"A",2,1,0,"A",2,3,0,"B",1,1,10,"X",1,2,0,"B",1,3,0,"B",1,2,0,"B",1,0,0,"A",1,2,0,"B",2,0,0,"A",2,1,0,"A",1,2,0,"B",0,1,0,"B",1,2,0,"B",1,1,10,"X",1,1,10,"X",1,2,0,"B",1,1,10,"X",0,2,0,"B",1,1,10,"X",1,2,0,"B",0,1,0,"B",1,2,0,"B",1,2,0,"B",0,0,7,"X",1,2,0,"B",0,1,0,"B",1,0,0,"A",2,1,0,"A",1,2,0,"B",1,1,10,"X",0,1,0,"B",1,2,0,"B",0,0,7,"X",1,1,10,"X",0,2,0,"B",1,2,0,"B",1,2,0,"B",1,2,0,"B",2,2,7,"X",1,1,10,"X",null,16,27,33,76,null,21.05263157894737,35.526315789473685,43.421052631578945]
["Di. 25. Jun","21:00:00",29,"England","Slowenien",0,0,null,2,1,0,"A",3,0,0,"A",3,0,0,"A",2,0,0,"A",3,0,0,"A",2,0,0,"A",1,0,0,"A",3,0,0,"A",3,1,0,"A",2,0,0,"A",2,0,0,"A",2,1,0,"A",1,0,0,"A",2,0,0,"A",2,0,0,"A",2,0,0,"A",2,0,0,"A",3,0,0,"A",4,1,0,"A",3,0,0,"A",2,0,0,"A",2,0,0,"A",3,0,0,"A",3,1,0,"A",2,0,0,"A",3,0,0,"A",0,0,10,"X",1,0,0,"A",4,0,0,"A",2,0,0,"A",1,1,7,"X",2,0,0,"A",3,0,0,"A",4,0,0,"A",2,1,0,"A",2,0,0,"A",1,0,0,"A",2,1,0,"A",2,0,0,"A",1,0,0,"A",1,0,0,"A",2,1,0,"A",6,0,0,"A",2,1,0,"A",1,0,0,"A",3,0,0,"A",3,1,0,"A",3,1,0,"A",3,0,0,"A",3,1,0,"A",null,74,2,0,76,null,97.368421052631575,2.6315789473684212,0]
["Di. 25. Jun","21:00:00",30,"Dänemark","Serbien",0,0,null,2,1,0,"A",2,1,0,"A",2,3,0,"B",1,1,7,"X",1,2,0,"B",1,1,7,"X",1,0,0,"A",1,1,7,"X",2,1,0,"A",1,1,7,"X",1,0,0,"A",1,0,0,"A",1,1,7,"X",1,1,7,"X",1,1,7,"X",1,1,7,"X",2,1,0,"A",1,0,0,"A",1,0,0,"A",2,1,0,"A",1,1,7,"X",2,1,0,"A",1,0,0,"A",2,1,0,"A",1,0,0,"A",3,1,0,"A",1,1,7,"X",2,2,7,"X",2,0,0,"A",2,1,0,"A",2,1,0,"A",2,0,0,"A",0,1,0,"B",1,0,0,"A",0,0,10,"X",0,1,0,"B",1,0,0,"A",3,1,0,"A",2,0,0,"A",0,1,0,"B",1,0,0,"A",2,1,0,"A",1,0,0,"A",2,0,0,"A",1,0,0,"A",2,1,0,"A",2,1,0,"A",2,1,0,"A",1,1,7,"X",1,1,7,"X",null,49,19,8,76,null,64.473684210526315,25,10.526315789473685]
["Di. 25. Jun","18:00:00",31,"Holland","Österreich",2,3,null,2,1,0,"A",2,3,10,"B",1,0,0,"A",2,0,0,"A",2,0,0,"A",2,1,0,"A",1,1,0,"X",1,0,0,"A",2,1,0,"A",2,1,0,"A",2,0,0,"A",2,1,0,"A",1,0,0,"A",2,0,0,"A",1,0,0,"A",2,1,0,"A",1,2,7,"B",1,1,0,"X",1,1,0,"X",1,0,0,"A",2,1,0,"A",2,1,0,"A",2,1,0,"A",2,0,0,"A",0,1,7,"B",3,1,0,"A",2,1,0,"A",2,3,10,"B",2,1,0,"A",2,1,0,"A",1,1,0,"X",1,1,0,"X",1,0,0,"A",3,0,0,"A",1,0,0,"A",2,1,0,"A",1,1,0,"X",1,0,0,"A",1,1,0,"X",1,0,0,"A",1,0,0,"A",2,1,0,"A",0,0,0,"X",2,0,0,"A",3,0,0,"A",2,0,0,"A",1,2,7,"B",2,0,0,"A",1,0,0,"A",2,0,0,"A",null,55,15,6,76,null,72.368421052631575,19.736842105263158,7.8947368421052628]
["Di. 25. Jun","18:00:00",32,"Frankreich","Polen",1,1,null,2,1,0,"A",2,0,0,"A",3,1,0,"A",3,0,0,"A",2,0,0,"A",2,0,0,"A",3,0,0,"A",2,0,0,"A",3,1,0,"A",2,0,0,"A",2,1,0,"A",3,1,0,"A",2,0,0,"A",2,0,0,"A",2,0,0,"A",2,1,0,"A",2,1,0,"A",2,1,0,"A",2,1,0,"A",3,0,0,"A",2,0,0,"A",2,0,0,"A",1,0,0,"A",3,0,0,"A",2,0,0,"A",2,0,0,"A",3,0,0,"A",2,1,0,"A",3,1,0,"A",2,1,0,"A",1,0,0,"A",2,0,0,"A",2,1,0,"A",1,1,10,"X",2,1,0,"A",2,0,0,"A",1,0,0,"A",2,0,0,"A",3,1,0,"A",1,0,0,"A",1,0,0,"A",2,1,0,"A",2,0,0,"A",2,1,0,"A",2,0,0,"A",3,0,0,"A",3,1,0,"A",3,0,0,"A",3,1,0,"A",3,1,0,"A",null,75,1,0,76,null,98.684210526315795,1.3157894736842106,0]
["Mi. 26. Jun","18:00:00",33,"Slowakei","Rumänien",1,1,null,1,2,0,"B",1,1,10,"X",0,0,7,"X",0,1,0,"B",1,2,0,"B",1,1,10,"X",1,2,0,"B",1,0,0,"A",2,2,7,"X",1,1,10,"X",0,1,0,"B",2,2,7,"X",1,1,10,"X",1,1,10,"X",1,1,10,"X",1,1,10,"X",0,1,0,"B",1,2,0,"B",1,0,0,"A",1,2,0,"B",1,1,10,"X",1,1,10,"X",1,2,0,"B",1,2,0,"B",1,0,0,"A",1,1,10,"X",1,0,0,"A",1,3,0,"B",1,1,10,"X",1,1,10,"X",0,1,0,"B",0,1,0,"B",1,1,10,"X",1,1,10,"X",1,1,10,"X",2,2,7,"X",1,0,0,"A",2,1,0,"A",2,1,0,"A",0,1,0,"B",1,0,0,"A",1,2,0,"B",2,2,7,"X",1,1,10,"X",1,1,10,"X",1,1,10,"X",2,0,0,"A",1,1,10,"X",1,0,0,"A",0,1,0,"B",null,16,40,20,76,null,21.05263157894737,52.631578947368418,26.315789473684209]
["Mi. 26. Jun","18:00:00",34,"Ukraine","Belgien",0,0,null,1,2,0,"B",1,2,0,"B",0,2,0,"B",1,1,7,"X",1,3,0,"B",0,2,0,"B",1,2,0,"B",0,1,0,"B",0,2,0,"B",0,2,0,"B",0,1,0,"B",1,3,0,"B",0,1,0,"B",1,2,0,"B",0,0,10,"X",1,3,0,"B",1,2,0,"B",1,3,0,"B",1,2,0,"B",1,3,0,"B",1,2,0,"B",1,2,0,"B",1,1,7,"X",1,2,0,"B",1,2,0,"B",0,3,0,"B",0,1,0,"B",1,2,0,"B",0,2,0,"B",1,1,7,"X",0,2,0,"B",0,2,0,"B",0,2,0,"B",0,2,0,"B",1,0,0,"A",1,1,7,"X",1,1,7,"X",2,2,7,"X",0,2,0,"B",0,1,0,"B",0,1,0,"B",1,2,0,"B",1,1,7,"X",1,2,0,"B",1,1,7,"X",0,2,0,"B",1,2,0,"B",1,2,0,"B",0,1,0,"B",1,4,0,"B",null,1,11,64,76,null,1.3157894736842106,14.473684210526315,84.21052631578948]
["Mi. 26. Jun","21:00:00",35,"Georgien","Portugal",2,0,null,1,2,0,"B",1,2,0,"B",0,4,0,"B",0,1,0,"B",1,4,0,"B",0,3,0,"B",0,3,0,"B",0,4,0,"B",0,3,0,"B",0,3,0,"B",0,2,0,"B",1,3,0,"B",0,2,0,"B",0,1,0,"B",0,3,0,"B",0,2,0,"B",0,2,0,"B",0,4,0,"B",1,2,0,"B",1,2,0,"B",0,4,0,"B",0,2,0,"B",0,3,0,"B",0,3,0,"B",0,3,0,"B",1,5,0,"B",0,2,0,"B",2,2,0,"X",0,5,0,"B",0,1,0,"B",0,1,0,"B",0,2,0,"B",0,3,0,"B",0,3,0,"B",1,0,5,"A",0,4,0,"B",0,2,0,"B",1,3,0,"B",0,3,0,"B",0,1,0,"B",0,1,0,"B",1,2,0,"B",1,3,0,"B",0,3,0,"B",0,2,0,"B",0,2,0,"B",0,4,0,"B",0,3,0,"B",0,3,0,"B",0,3,0,"B",null,1,1,74,76,null,1.3157894736842106,1.3157894736842106,97.368421052631575]
["Mi. 26. Jun","21:00:00",36,"Tschechien","Türkei",1,2,null,1,1,0,"X",0,2,5,"B",1,3,5,"B",1,1,0,"X",1,2,10,"B",0,0,0,"X",2,2,0,"X",1,0,0,"A",2,1,0,"A",1,1,0,"X",0,1,7,"B",1,1,0,"X",0,1,7,"B",1,1,0,"X",1,1,0,"X",0,2,5,"B",1,2,10,"B",0,2,5,"B",1,0,0,"A",1,1,0,"X",1,0,0,"A",0,1,7,"B",1,1,0,"X",2,1,0,"A",0,1,7,"B",0,0,0,"X",2,1,0,"A",1,3,5,"B",0,1,7,"B",0,1,7,"B",2,1,0,"A",1,1,0,"X",1,1,0,"X",1,1,0,"X",1,2,10,"B",1,2,10,"B",0,1,7,"B",2,1,0,"A",2,1,0,"A",0,1,7,"B",1,0,0,"A",1,2,10,"B",2,0,0,"A",0,0,0,"X",0,1,7,"B",1,1,0,"X",1,1,0,"X",1,1,0,"X",0,2,5,"B",2,1,0,"A",null,18,28,30,76,null,23.684210526315791,36.842105263157897,39.473684210526315]
[null,null,null,null,null,null,"Gesamtpunktzahl:",null,{"$f":"Teilnehmerliste!$C6","v":"Panos"},null,{"$f":"SUM(K9:K44)","v":128},null,{"$f":"Teilnehmerliste!$C7","v":"Marco"},null,{"$f":"SUM(O9:O44)","v":133},null,{"$f":"Teilnehmerliste!$C8","v":"Ruben"},null,{"$f":"SUM(S9:S44)","v":93},null,{"$f":"Teilnehmerliste!$C9","v":"Andi"},null,{"$f":"SUM(W9:W44)","v":126},null,{"$f":"Teilnehmerliste!$C10","v":"Nott"},null,{"$f":"SUM(AA9:AA44)","v":120},null,{"$f":"Teilnehmerliste!$C11","v":"Philippe"},null,{"$f":"SUM(AE9:AE44)","v":142},null,{"$f":"Teilnehmerliste!$C12","v":"Roger"},null,{"$f":"SUM(AI9:AI44)","v":132},null,{"$f":"Teilnehmerliste!$C13","v":"Mara"},null,{"$f":"SUM(AM9:AM44)","v":84},null,{"$f":"Teilnehmerliste!$C14","v":"Lara/Yaniv"},null,{"$f":"SUM(AQ9:AQ44)","v":114},null,{"$f":"Teilnehmerliste!$C15","v":"Michael"},null,{"$f":"SUM(AU9:AU44)","v":106},null,{"$f":"Teilnehmerliste!$C16","v":"Manuel"},null,{"$f":"SUM(AY9:AY44)","v":106},null,{"$f":"Teilnehmerliste!$C17","v":"Nicolas"},null,{"$f":"SUM(BC9:BC44)","v":108},null,{"$f":"Teilnehmerliste!$C18","v":"Philip"},null,{"$f":"SUM(BG9:BG44)","v":146},null,{"$f":"Teilnehmerliste!$C19","v":"André"},null,{"$f":"SUM(BK9:BK44)","v":102},null,{"$f":"Teilnehmerliste!$C20","v":"Louis"},null,{"$f":"SUM(BO9:BO44)","v":122},null,{"$f":"Teilnehmerliste!$C21","v":"Daniel"},null,{"$f":"SUM(BS9:BS44)","v":117},null,{"$f":"Teilnehmerliste!$C22","v":"Deliz"},null,{"$f":"SUM(BW9:BW44)","v":101},null,{"$f":"Teilnehmerliste!$C23","v":"Florian"},null,{"$f":"SUM(CA9:CA44)","v":125},null,{"$f":"Teilnehmerliste!$C24","v":"Olo"},null,{"$f":"SUM(CE9:CE44)","v":109},null,{"$f":"Teilnehmerliste!$C25","v":"Leonardo"},null,{"$f":"SUM(CI9:CI44)","v":113},null,{"$f":"Teilnehmerliste!$C26","v":"Lisa"},null,{"$f":"SUM(CM9:CM44)","v":165},null,{"$f":"Teilnehmerliste!$C27","v":"Niva"},null,{"$f":"SUM(CQ9:CQ44)","v":108},null,{"$f":"Teilnehmerliste!$C28","v":"Vinci"},null,{"$f":"SUM(CU9:CU44)","v":117},null,{"$f":"Teilnehmerliste!$C29","v":"Goran"},null,{"$f":"SUM(CY9:CY44)","v":99},null,{"$f":"Teilnehmerliste!$C30","v":"Dino"},null,{"$f":"SUM(DC9:DC44)","v":141},null,{"$f":"Teilnehmerliste!$C31","v":"Marlon"},null,{"$f":"SUM(DG9:DG44)","v":75},null,{"$f":"Teilnehmerliste!$C32","v":"Maurizio"},null,{"$f":"SUM(DK9:DK44)","v":128},null,{"$f":"Teilnehmerliste!$C33","v":"Roberto"},null,{"$f":"SUM(DO9:DO44)","v":109},null,{"$f":"Teilnehmerliste!$C34","v":"Rui"},null,{"$f":"SUM(DS9:DS44)","v":103},null,{"$f":"Teilnehmerliste!$C35","v":"Laurent"},null,{"$f":"SUM(DW9:DW44)","v":125},null,{"$f":"Teilnehmerliste!$C36","v":"Gregory"},null,{"$f":"SUM(EA9:EA44)","v":95},null,{"$f":"Teilnehmerliste!$C37","v":"Reto"},null,{"$f":"SUM(EE9:EE44)","v":117},null,{"$f":"Teilnehmerliste!$C38","v":"Sarina"},null,{"$f":"SUM(EI9:EI44)","v":116},null,{"$f":"Teilnehmerliste!$C39","v":"Stefan"},null,{"$f":"SUM(EM9:EM44)","v":132},null,{"$f":"Teilnehmerliste!$C40","v":"Timothy"},null,{"$f":"SUM(EQ9:EQ44)","v":137},null,{"$f":"Teilnehmerliste!$C41","v":"Florian"},null,{"$f":"SUM(EU9:EU44)","v":128},null,{"$f":"Teilnehmerliste!$C42","v":"Djuma"},null,{"$f":"SUM(EY9:EY44)","v":112},null,{"$f":"Teilnehmerliste!$C43","v":"Agnes"},null,{"$f":"SUM(FC9:FC44)","v":136},null,{"$f":"Teilnehmerliste!$C44","v":"Andreas"},null,{"$f":"SUM(FG9:FG44)","v":131},null,{"$f":"Teilnehmerliste!$C45","v":"Michi"},null,{"$f":"SUM(FK9:FK44)","v":125},null,{"$f":"Teilnehmerliste!$C46","v":"Aiden"},null,{"$f":"SUM(FO9:FO44)","v":108},null,{"$f":"Teilnehmerliste!$C47","v":"Murat"},null,{"$f":"SUM(FS9:FS44)","v":115},null,{"$f":"Teilnehmerliste!$C48","v":"Pascal"},null,{"$f":"SUM(FW9:FW44)","v":139},null,{"$f":"Teilnehmerliste!$C49","v":"André"},null,{"$f":"SUM(GA9:GA44)","v":88},null,{"$f":"Teilnehmerliste!$C50","v":"Franz"},null,{"$f":"SUM(GE9:GE44)","v":106},null,{"$f":"Teilnehmerliste!$C51","v":"Marc"},null,{"$f":"SUM(GI9:GI44)","v":104},null,{"$f":"Teilnehmerliste!$C52","v":"Mauro"},null,{"$f":"SUM(GM9:GM44)","v":102},null,{"$f":"Teilnehmerliste!$C53","v":"Martin"},null,{"$f":"SUM(GQ9:GQ44)","v":112},null,{"$f":"Teilnehmerliste!$C54","v":"Telmo"},null,{"$f":"SUM(GU9:GU44)","v":99},null,{"$f":"Teilnehmerliste!$C55","v":"Luigi"},null,{"$f":"SUM(GY9:GY44)","v":69},null,null,{"$f":"SUM(HB9:HB44)","v":1029},{"$f":"SUM(HC9:HC44)","v":562},{"$f":"SUM(HD9:HD44)","v":1145},{"$f":"SUM(HE9:HE44)","v":2736},null,{"$f":"SUM(HB45*100/$HE$45)","v":37.609649122807021},{"$f":"SUM(HC45*100/$HE$45)","v":20.540935672514621},{"$f":"SUM(HD45*100/$HE$45)","v":41.849415204678365}]
[]
[]
["Vorrunde",null,null,"Spieler 51 - 100"]
[{"$f":"A4","v":"10 Punkte für korrektes Resultat"},null,null,null,null,null,null,null,{"$f":"Teilnehmerliste!$B56","v":"Pek"},null,null,null,{"$f":"Teilnehmerliste!$B57","v":"Pietzke"},null,null,null,{"$f":"Teilnehmerliste!$B58","v":"Rauscher"},null,null,null,{"$f":"Teilnehmerliste!$B59","v":"Rohner"},null,null,null,{"$f":"Teilnehmerliste!$B60","v":"Rüegg"},null,null,null,{"$f":"Teilnehmerliste!$B61","v":"Rüegg"},null,null,null,{"$f":"Teilnehmerliste!$B62","v":"Rüegg"},null,null,null,{"$f":"Teilnehmerliste!$B63","v":"Schommarz"},null,null,null,{"$f":"Teilnehmerliste!$B64","v":"Schuster"},null,null,null,{"$f":"Teilnehmerliste!$B65","v":"Schwitter"},null,null,null,{"$f":"Teilnehmerliste!$B66","v":"Silva"},null,null,null,{"$f":"Teilnehmerliste!$B67","v":"Sotelo"},null,null,null,{"$f":"Teilnehmerliste!$B68","v":"Thormann"},null,null,null,{"$f":"Teilnehmerliste!$B69","v":"Thormann"},null,null,null,{"$f":"Teilnehmerliste!$B70","v":"Treichler"},null,null,null,{"$f":"Teilnehmerliste!$B71","v":"Treichler"},null,null,null,{"$f":"Teilnehmerliste!$B72","v":"Wälti"},null,null,null,{"$f":"Teilnehmerliste!$B73","v":"Wagner"},null,null,null,{"$f":"Teilnehmerliste!$B74","v":"Walser"},null,null,null,{"$f":"Teilnehmerliste!$B75","v":"Wang"},null,null,null,{"$f":"Teilnehmerliste!$B76","v":"Wullschleger"},null,null,null,{"$f":"Teilnehmerliste!$B77","v":"Zachmann"},null,null,null,{"$f":"Teilnehmerliste!$B78","v":"Zachmann"},null,null,null,{"$f":"Teilnehmerliste!$B79","v":"Babic"},null,null,null,{"$f":"Teilnehmerliste!$B80","v":"Megdiche"},null,null,null,{"$f":"Teilnehmerliste!$B81","v":"Städelin"},null,null,null,{"$f":"Teilnehmerliste!$B82","v":0},null,null,null,{"$f":"Teilnehmerliste!$B83","v":0},null,null,null,{"$f":"Teilnehmerliste!$B84","v":0},null,null,null,{"$f":"Teilnehmerliste!$B85","v":0},null,null,null,{"$f":"Teilnehmerliste!$B86","v":0},null,null,null,{"$f":"Teilnehmerliste!$B87","v":0},null,null,null,{"$f":"Teilnehmerliste!$B88","v":0},null,null,null,{"$f":"Teilnehmerliste!$B89","v":0},null,null,null,{"$f":"Teilnehmerliste!$B90","v":0},null,null,null,{"$f":"Teilnehmerliste!$B91","v":0},null,null,null,{"$f":"Teilnehmerliste!$B92","v":0},null,null,null,{"$f":"Teilnehmerliste!$B93","v":0},null,null,null,{"$f":"Teilnehmerliste!$B94","v":0},null,null,null,{"$f":"Teilnehmerliste!$B95","v":0},null,null,null,{"$f":"Teilnehmerliste!$B96","v":0},null,null,null,{"$f":"Teilnehmerliste!$B97","v":0},null,null,null,{"$f":"Teilnehmerliste!$B98","v":0},null,null,null,{"$f":"Teilnehmerliste!$B99","v":0},null,null,null,{"$f":"Teilnehmerliste!$B100","v":0},null,null,null,{"$f":"Teilnehmerliste!$B101","v":0},null,null,null,{"$f":"Teilnehmerliste!$B102","v":0},null,null,null,{"$f":"Teilnehmerliste!$B103","v":0},null,null,null,{"$f":"Teilnehmerliste!$B104","v":0},null,null,null,{"$f":"Teilnehmerliste!$B105","v":0}]
[{"$f":"A5","v":"  7 Punkte für richtiger Sieger (Torverhältnis stimmt)"},null,null,null,null,null,null,null,{"$f":"Teilnehmerliste!$C56","v":"Lechena"},null,null,null,{"$f":"Teilnehmerliste!$C57","v":"Jannis"},null,null,null,{"$f":"Teilnehmerliste!$C58","v":"Petra"},null,null,null,{"$f":"Teilnehmerliste!$C59","v":"Martin"},null,null,null,{"$f":"Teilnehmerliste!$C60","v":"Lynn"},null,null,null,{"$f":"Teilnehmerliste!$C61","v":"Michael"},null,null,null,{"$f":"Teilnehmerliste!$C62","v":"Sabine"},null,null,null,{"$f":"Teilnehmerliste!$C63","v":"Erich"},null,null,null,{"$f":"Teilnehmerliste!$C64","v":"Ralph"},null,null,null,{"$f":"Teilnehmerliste!$C65","v":"Corinne"},null,null,null,{"$f":"Teilnehmerliste!$C66","v":"Bruno"},null,null,null,{"$f":"Teilnehmerliste!$C67","v":"Yermany"},null,null,null,{"$f":"Teilnehmerliste!$C68","v":"Armando"},null,null,null,{"$f":"Teilnehmerliste!$C69","v":"Julia"},null,null,null,{"$f":"Teilnehmerliste!$C70","v":"Lea"},null,null,null,{"$f":"Teilnehmerliste!$C71","v":"Reto"},null,null,null,{"$f":"Teilnehmerliste!$C72","v":"Christoph"},null,null,null,{"$f":"Teilnehmerliste!$C73","v":"Markus"},null,null,null,{"$f":"Teilnehmerliste!$C74","v":"Stefan"},null,null,null,{"$f":"Teilnehmerliste!$C75","v":"Jingwen"},null,null,null,{"$f":"Teilnehmerliste!$C76","v":"Stefan"},null,null,null,{"$f":"Teilnehmerliste!$C77","v":"Jasmine"},null,null,null,{"$f":"Teilnehmerliste!$C78","v":"Stefan"},null,null,null,{"$f":"Teilnehmerliste!$C79","v":"Mario"},null,null,null,{"$f":"Teilnehmerliste!$C80","v":"Nidhal"},null,null,null,{"$f":"Teilnehmerliste!$C81","v":"Hanspeter"},null,null,null,{"$f":"Teilnehmerliste!$C82","v":0},null,null,null,{"$f":"Teilnehmerliste!$C83","v":0},null,null,null,{"$f":"Teilnehmerliste!$C84","v":0},null,null,null,{"$f":"Teilnehmerliste!$C85","v":0},null,null,null,{"$f":"Teilnehmerliste!$C86","v":0},null,null,null,{"$f":"Teilnehmerliste!$C87","v":0},null,null,null,{"$f":"Teilnehmerliste!$C88","v":0},null,null,null,{"$f":"Teilnehmerliste!$C89","v":0},null,null,null,{"$f":"Teilnehmerliste!$C90","v":0},null,null,null,{"$f":"Teilnehmerliste!$C91","v":0},null,null,null,{"$f":"Teilnehmerliste!$C92","v":0},null,null,null,{"$f":"Teilnehmerliste!$C93","v":0},null,null,null,{"$f":"Teilnehmerliste!$C94","v":0},null,null,null,{"$f":"Teilnehmerliste!$C95","v":0},null,null,null,{"$f":"Teilnehmerliste!$C96","v":0},null,null,null,{"$f":"Teilnehmerliste!$C97","v":0},null,null,null,{"$f":"Teilnehmerliste!$C98","v":0},null,null,null,{"$f":"Teilnehmerliste!$C99","v":0},null,null,null,{"$f":"Teilnehmerliste!$C100","v":0},null,null,null,{"$f":"Teilnehmerliste!$C101","v":0},null,null,null,{"$f":"Teilnehmerliste!$C102","v":0},null,null,null,{"$f":"Teilnehmerliste!$C103","v":0},null,null,null,{"$f":"Teilnehmerliste!$C104","v":0},null,null,null,{"$f":"Teilnehmerliste!$C105","v":0}]
[{"$f":"A6","v":"  5 Punkte für richtiger Sieger (Torverhältnis stimmt nicht)"},null,null,null,null,null,null,null,null,null,{"$f":"Teilnehmerliste!$A56","v":51},null,null,null,{"$f":"Teilnehmerliste!$A57","v":52},null,null,null,{"$f":"Teilnehmerliste!$A58","v":53},null,null,null,{"$f":"Teilnehmerliste!$A59","v":54},null,null,null,{"$f":"Teilnehmerliste!$A60","v":55},null,null,null,{"$f":"Teilnehmerliste!$A61","v":56},null,null,null,{"$f":"Teilnehmerliste!$A62","v":57},null,null,null,{"$f":"Teilnehmerliste!$A63","v":58},null,null,null,{"$f":"Teilnehmerliste!$A64","v":59},null,null,null,{"$f":"Teilnehmerliste!$A65","v":60},null,null,null,{"$f":"Teilnehmerliste!$A66","v":61},null,null,null,{"$f":"Teilnehmerliste!$A67","v":62},null,null,null,{"$f":"Teilnehmerliste!$A68","v":63},null,null,null,{"$f":"Teilnehmerliste!$A69","v":64},null,null,null,{"$f":"Teilnehmerliste!$A70","v":65},null,null,null,{"$f":"Teilnehmerliste!$A71","v":66},null,null,null,{"$f":"Teilnehmerliste!$A72","v":67},null,null,null,{"$f":"Teilnehmerliste!$A73","v":68},null,null,null,{"$f":"Teilnehmerliste!$A74","v":69},null,null,null,{"$f":"Teilnehmerliste!$A75","v":70},null,null,null,{"$f":"Teilnehmerliste!$A76","v":71},null,null,null,{"$f":"Teilnehmerliste!$A77","v":72},null,null,null,{"$f":"Teilnehmerliste!$A78","v":73},null,null,null,{"$f":"Teilnehmerliste!$A79","v":74},null,null,null,{"$f":"Teilnehmerliste!$A80","v":75},null,null,null,{"$f":"Teilnehmerliste!$A81","v":76},null,null,null,{"$f":"Teilnehmerliste!$A82","v":77},null,null,null,{"$f":"Teilnehmerliste!$A83","v":78},null,null,null,{"$f":"Teilnehmerliste!$A84","v":79},null,null,null,{"$f":"Teilnehmerliste!$A85","v":80},null,null,null,{"$f":"Teilnehmerliste!$A86","v":81},null,null,null,{"$f":"Teilnehmerliste!$A87","v":82},null,null,null,{"$f":"Teilnehmerliste!$A88","v":83},null,null,null,{"$f":"Teilnehmerliste!$A89","v":84},null,null,null,{"$f":"Teilnehmerliste!$A90","v":85},null,null,null,{"$f":"Teilnehmerliste!$A91","v":86},null,null,null,{"$f":"Teilnehmerliste!$A92","v":87},null,null,null,{"$f":"Teilnehmerliste!$A93","v":88},null,null,null,{"$f":"Teilnehmerliste!$A94","v":89},null,null,null,{"$f":"Teilnehmerliste!$A95","v":90},null,null,null,{"$f":"Teilnehmerliste!$A96","v":91},null,null,null,{"$f":"Teilnehmerliste!$A97","v":92},null,null,null,{"$f":"Teilnehmerliste!$A98","v":93},null,null,null,{"$f":"Teilnehmerliste!$A99","v":94},null,null,null,{"$f":"Teilnehmerliste!$A100","v":95},null,null,null,{"$f":"Teilnehmerliste!$A101","v":96},null,null,null,{"$f":"Teilnehmerliste!$A102","v":97},null,null,null,{"$f":"Teilnehmerliste!$A103","v":98},null,null,null,{"$f":"Teilnehmerliste!$A104","v":99},null,null,null,{"$f":"Teilnehmerliste!$A105","v":100}]
[]
["Datum","Zeit","Nr.","Spiel",null,"Resultat",null,null,"Tipp",null,"Pkt",null,"Tipp",null,"Pkt",null,"Tipp",null,"Pkt",null,"Tipp",null,"Pkt",null,"Tipp",null,"Pkt",null,"Tipp",null,"Pkt",null,"Tipp",null,"Pkt",null,"Tipp",null,"Pkt",null,"Tipp",null,"Pkt",null,"Tipp",null,"Pkt",null,"Tipp",null,"Pkt",null,"Tipp",null,"Pkt",null,"Tipp",null,"Pkt",null,"Tipp",null,"Pkt",null,"Tipp",null,"Pkt",null,"Tipp",null,"Pkt",null,"Tipp",null,"Pkt",null,"Tipp",null,"Pkt",null,"Tipp",null,"Pkt",null,"Tipp",null,"Pkt",null,"Tipp",null,"Pkt",null,"Tipp",null,"Pkt",null,"Tipp",null,"Pkt",null,"Tipp",null,"Pkt",null,"Tipp",null,"Pkt",null,"Tipp",null,"Pkt",null,"Tipp",null,"Pkt",null,"Tipp",null,"Pkt",null,"Tipp",null,"Pkt",null,"Tipp",null,"Pkt",null,"Tipp",null,"Pkt",null,"Tipp",null,"Pkt",null,"Tipp",null,"Pkt",null,"Tipp",null,"Pkt",null,"Tipp",null,"Pkt",null,"Tipp",null,"Pkt",null,"Tipp",null,"Pkt",null,"Tipp",null,"Pkt",null,"Tipp",null,"Pkt",null,"Tipp",null,"Pkt",null,"Tipp",null,"Pkt",null,"Tipp",null,"Pkt",null,"Tipp",null,"Pkt",null,"Tipp",null,"Pkt",null,"Tipp",null,"Pkt",null,"Tipp",null,"Pkt",null,"Tipp",null,"Pkt",null,"Tipp",null,"Pkt",null,"Tipp",null,"Pkt",null,"Tipp",null,"Pkt"]
[{"$f":"A9","v":"Fr. 14. Jun"},"21:00:00",1,{"$f":"IF(D9=\"\",\"\",D9)","v":"Deutschland"},"Schottland",5,1,null,3,1,{"$f":"IF(OR($F54=\"\",$G54=\"\",I54=\"\",J54=\"\"),\"\",IF(AND($F54=I54,$G54=J54),10,IF($F54-$G54=I54-J54,7,IF(OR(AND($F54>$G54,I54>J54),AND($F54<$G54,I54<J54)),5,0))))","v":5},{"$f":"IF(I54=\"\",\"\",IF(I54>J54,\"A\",IF(I54<J54,\"B\",IF(I54=J54,\"X\"))))","v":"A"},2,0,{"$f":"IF(OR($F54=\"\",$G54=\"\",M54=\"\",N54=\"\"),\"\",IF(AND($F54=M54,$G54=N54),10,IF($F54-$G54=M54-N54,7,IF(OR(AND($F54>$G54,M54>N54),AND($F54<$G54,M54<N54)),5,0))))","v":5},{"$f":"IF(M54=\"\",\"\",IF(M54>N54,\"A\",IF(M54<N54,\"B\",IF(M54=N54,\"X\"))))","v":"A"},2,1,{"$f":"IF(OR($F54=\"\",$G54=\"\",Q54=\"\",R54=\"\"),\"\",IF(AND($F54=Q54,$G54=R54),10,IF($F54-$G54=Q54-R54,7,IF(OR(AND($F54>$G54,Q54>R54),AND($F54<$G54,Q54<R54)),5,0))))","v":5},{"$f":"IF(Q54=\"\",\"\",IF(Q54>R54,\"A\",IF(Q54<R54,\"B\",IF(Q54=R54,\"X\"))))","v":"A"},2,0,{"$f":"IF(OR($F54=\"\",$G54=\"\",U54=\"\",V54=\"\"),\"\",IF(AND($F54=U54,$G54=V54),10,IF($F54-$G54=U54-V54,7,IF(OR(AND($F54>$G54,U54>V54),AND($F54<$G54,U54<V54)),5,0))))","v":5},{"$f":"IF(U54=\"\",\"\",IF(U54>V54,\"A\",IF(U54<V54,\"B\",IF(U54=V54,\"X\"))))","v":"A"},2,1,{"$f":"IF(OR($F54=\"\",$G54=\"\",Y54=\"\",Z54=\"\"),\"\",IF(AND($F54=Y54,$G54=Z54),10,IF($F54-$G54=Y54-Z54,7,IF(OR(AND($F54>$G54,Y54>Z54),AND($F54<$G54,Y54<Z54)),5,0))))","v":5},{"$f":"IF(Y54=\"\",\"\",IF(Y54>Z54,\"A\",IF(Y54<Z54,\"B\",IF(Y54=Z54,\"X\"))))","v":"A"},2,0,{"$f":"IF(OR($F54=\"\",$G54=\"\",AC54=\"\",AD54=\"\"),\"\",IF(AND($F54=AC54,$G54=AD54),10,IF($F54-$G54=AC54-AD54,7,IF(OR(AND($F54>$G54,AC54>AD54),AND($F54<$G54,AC54<AD54)),5,0))))","v":5},{"$f":"IF(AC54=\"\",\"\",IF(AC54>AD54,\"A\",IF(AC54<AD54,\"B\",IF(AC54=AD54,\"X\"))))","v":"A"},3,0,{"$f":"IF(OR($F54=\"\",$G54=\"\",AG54=\"\",AH54=\"\"),\"\",IF(AND($F54=AG54,$G54=AH54),10,IF($F54-$G54=AG54-AH54,7,IF(OR(AND($F54>$G54,AG54>AH54),AND($F54<$G54,AG54<AH54)),5,0))))","v":5},{"$f":"IF(AG54=\"\",\"\",IF(AG54>AH54,\"A\",IF(AG54<AH54,\"B\",IF(AG54=AH54,\"X\"))))","v":"A"},2,0,{"$f":"IF(OR($F54=\"\",$G54=\"\",AK54=\"\",AL54=\"\"),\"\",IF(AND($F54=AK54,$G54=AL54),10,IF($F54-$G54=AK54-AL54,7,IF(OR(AND($F54>$G54,AK54>AL54),AND($F54<$G54,AK54<AL54)),5,0))))","v":5},{"$f":"IF(AK54=\"\",\"\",IF(AK54>AL54,\"A\",IF(AK54<AL54,\"B\",IF(AK54=AL54,\"X\"))))","v":"A"},3,1,{"$f":"IF(OR($F54=\"\",$G54=\"\",AO54=\"\",AP54=\"\"),\"\",IF(AND($F54=AO54,$G54=AP54),10,IF($F54-$G54=AO54-AP54,7,IF(OR(AND($F54>$G54,AO54>AP54),AND($F54<$G54,AO54<AP54)),5,0))))","v":5},{"$f":"IF(AO54=\"\",\"\",IF(AO54>AP54,\"A\",IF(AO54<AP54,\"B\",IF(AO54=AP54,\"X\"))))","v":"A"},3,0,{"$f":"IF(OR($F54=\"\",$G54=\"\",AS54=\"\",AT54=\"\"),\"\",IF(AND($F54=AS54,$G54=AT54),10,IF($F54-$G54=AS54-AT54,7,IF(OR(AND($F54>$G54,AS54>AT54),AND($F54<$G54,AS54<AT54)),5,0))))","v":5},{"$f":"IF(AS54=\"\",\"\",IF(AS54>AT54,\"A\",IF(AS54<AT54,\"B\",IF(AS54=AT54,\"X\"))))","v":"A"},2,0,{"$f":"IF(OR($F54=\"\",$G54=\"\",AW54=\"\",AX54=\"\"),\"\",IF(AND($F54=AW54,$G54=AX54),10,IF($F54-$G54=AW54-AX54,7,IF(OR(AND($F54>$G54,AW54>AX54),AND($F54<$G54,AW54<AX54)),5,0))))","v":5},{"$f":"IF(AW54=\"\",\"\",IF(AW54>AX54,\"A\",IF(AW54<AX54,\"B\",IF(AW54=AX54,\"X\"))))","v":"A"},3,0,{"$f":"IF(OR($F54=\"\",$G54=\"\",BA54=\"\",BB54=\"\"),\"\",IF(AND($F54=BA54,$G54=BB54),10,IF($F54-$G54=BA54-BB54,7,IF(OR(AND($F54>$G54,BA54>BB54),AND($F54<$G54,BA54<BB54)),5,0))))","v":5},{"$f":"IF(BA54=\"\",\"\",IF(BA54>BB54,\"A\",IF(BA54<BB54,\"B\",IF(BA54=BB54,\"X\"))))","v":"A"},3,1,{"$f":"IF(OR($F54=\"\",$G54=\"\",BE54=\"\",BF54=\"\"),\"\",IF(AND($F54=BE54,$G54=BF54),10,IF($F54-$G54=BE54-BF54,7,IF(OR(AND($F54>$G54,BE54>BF54),AND($F54<$G54,BE54<BF54)),5,0))))","v":5},{"$f":"IF(BE54=\"\",\"\",IF(BE54>BF54,\"A\",IF(BE54<BF54,\"B\",IF(BE54=BF54,\"X\"))))","v":"A"},2,0,{"$f":"IF(OR($F54=\"\",$G54=\"\",BI54=\"\",BJ54=\"\"),\"\",IF(AND($F54=BI54,$G54=BJ54),10,IF($F54-$G54=BI54-BJ54,7,IF(OR(AND($F54>$G54,BI54>BJ54),AND($F54<$G54,BI54<BJ54)),5,0))))","v":5},{"$f":"IF(BI54=\"\",\"\",IF(BI54>BJ54,\"A\",IF(BI54<BJ54,\"B\",IF(BI54=BJ54,\"X\"))))","v":"A"},2,0,{"$f":"IF(OR($F54=\"\",$G54=\"\",BM54=\"\",BN54=\"\"),\"\",IF(AND($F54=BM54,$G54=BN54),10,IF($F54-$G54=BM54-BN54,7,IF(OR(AND($F54>$G54,BM54>BN54),AND($F54<$G54,BM54<BN54)),5,0))))","v":5},{"$f":"IF(BM54=\"\",\"\",IF(BM54>BN54,\"A\",IF(BM54<BN54,\"B\",IF(BM54=BN54,\"X\"))))","v":"A"},1,0,{"$f":"IF(OR($F54=\"\",$G54=\"\",BQ54=\"\",BR54=\"\"),\"\",IF(AND($F54=BQ54,$G54=BR54),10,IF($F54-$G54=BQ54-BR54,7,IF(OR(AND($F54>$G54,BQ54>BR54),AND($F54<$G54,BQ54<BR54)),5,0))))","v":5},{"$f":"IF(BQ54=\"\",\"\",IF(BQ54>BR54,\"A\",IF(BQ54<BR54,\"B\",IF(BQ54=BR54,\"X\"))))","v":"A"},2,0,{"$f":"IF(OR($F54=\"\",$G54=\"\",BU54=\"\",BV54=\"\"),\"\",IF(AND($F54=BU54,$G54=BV54),10,IF($F54-$G54=BU54-BV54,7,IF(OR(AND($F54>$G54,BU54>BV54),AND($F54<$G54,BU54<BV54)),5,0))))","v":5},{"$f":"IF(BU54=\"\",\"\",IF(BU54>BV54,\"A\",IF(BU54<BV54,\"B\",IF(BU54=BV54,\"X\"))))","v":"A"},1,0,{"$f":"IF(OR($F54=\"\",$G54=\"\",BY54=\"\",BZ54=\"\"),\"\",IF(AND($F54=BY54,$G54=BZ54),10,IF($F54-$G54=BY54-BZ54,7,IF(OR(AND($F54>$G54,BY54>BZ54),AND($F54<$G54,BY54<BZ54)),5,0))))","v":5},{"$f":"IF(BY54=\"\",\"\",IF(BY54>BZ54,\"A\",IF(BY54<BZ54,\"B\",IF(BY54=BZ54,\"X\"))))","v":"A"},2,0,{"$f":"IF(OR($F54=\"\",$G54=\"\",CC54=\"\",CD54=\"\"),\"\",IF(AND($F54=CC54,$G54=CD54),10,IF($F54-$G54=CC54-CD54,7,IF(OR(AND($F54>$G54,CC54>CD54),AND($F54<$G54,CC54<CD54)),5,0))))","v":5},{"$f":"IF(CC54=\"\",\"\",IF(CC54>CD54,\"A\",IF(CC54<CD54,\"B\",IF(CC54=CD54,\"X\"))))","v":"A"},3,1,{"$f":"IF(OR($F54=\"\",$G54=\"\",CG54=\"\",CH54=\"\"),\"\",IF(AND($F54=CG54,$G54=CH54),10,IF($F54-$G54=CG54-CH54,7,IF(OR(AND($F54>$G54,CG54>CH54),AND($F54<$G54,CG54<CH54)),5,0))))","v":5},{"$f":"IF(CG54=\"\",\"\",IF(CG54>CH54,\"A\",IF(CG54<CH54,\"B\",IF(CG54=CH54,\"X\"))))","v":"A"},2,1,{"$f":"IF(OR($F54=\"\",$G54=\"\",CK54=\"\",CL54=\"\"),\"\",IF(AND($F54=CK54,$G54=CL54),10,IF($F54-$G54=CK54-CL54,7,IF(OR(AND($F54>$G54,CK54>CL54),AND($F54<$G54,CK54<CL54)),5,0))))","v":5},{"$f":"IF(CK54=\"\",\"\",IF(CK54>CL54,\"A\",IF(CK54<CL54,\"B\",IF(CK54=CL54,\"X\"))))","v":"A"},3,1,{"$f":"IF(OR($F54=\"\",$G54=\"\",CO54=\"\",CP54=\"\"),\"\",IF(AND($F54=CO54,$G54=CP54),10,IF($F54-$G54=CO54-CP54,7,IF(OR(AND($F54>$G54,CO54>CP54),AND($F54<$G54,CO54<CP54)),5,0))))","v":5},{"$f":"IF(CO54=\"\",\"\",IF(CO54>CP54,\"A\",IF(CO54<CP54,\"B\",IF(CO54=CP54,\"X\"))))","v":"A"},3,1,{"$f":"IF(OR($F54=\"\",$G54=\"\",CS54=\"\",CT54=\"\"),\"\",IF(AND($F54=CS54,$G54=CT54),10,IF($F54-$G54=CS54-CT54,7,IF(OR(AND($F54>$G54,CS54>CT54),AND($F54<$G54,CS54<CT54)),5,0))))","v":5},{"$f":"IF(CS54=\"\",\"\",IF(CS54>CT54,\"A\",IF(CS54<CT54,\"B\",IF(CS54=CT54,\"X\"))))","v":"A"},2,0,{"$f":"IF(OR($F54=\"\",$G54=\"\",CW54=\"\",CX54=\"\"),\"\",IF(AND($F54=CW54,$G54=CX54),10,IF($F54-$G54=CW54-CX54,7,IF(OR(AND($F54>$G54,CW54>CX54),AND($F54<$G54,CW54<CX54)),5,0))))","v":5},{"$f":"IF(CW54=\"\",\"\",IF(CW54>CX54,\"A\",IF(CW54<CX54,\"B\",IF(CW54=CX54,\"X\"))))","v":"A"},2,1,{"$f":"IF(OR($F54=\"\",$G54=\"\",DA54=\"\",DB54=\"\"),\"\",IF(AND($F54=DA54,$G54=DB54),10,IF($F54-$G54=DA54-DB54,7,IF(OR(AND($F54>$G54,DA54>DB54),AND($F54<$G54,DA54<DB54)),5,0))))","v":5},{"$f":"IF(DA54=\"\",\"\",IF(DA54>DB54,\"A\",IF(DA54<DB54,\"B\",IF(DA54=DB54,\"X\"))))","v":"A"},2,1,{"$f":"IF(OR($F54=\"\",$G54=\"\",DE54=\"\",DF54=\"\"),\"\",IF(AND($F54=DE54,$G54=DF54),10,IF($F54-$G54=DE54-DF54,7,IF(OR(AND($F54>$G54,DE54>DF54),AND($F54<$G54,DE54<DF54)),5,0))))","v":5},{"$f":"IF(DE54=\"\",\"\",IF(DE54>DF54,\"A\",IF(DE54<DF54,\"B\",IF(DE54=DF54,\"X\"))))","v":"A"},null,null,{"$f":"IF(OR($F54=\"\",$G54=\"\",DI54=\"\",DJ54=\"\"),\"\",IF(AND($F54=DI54,$G54=DJ54),10,IF($F54-$G54=DI54-DJ54,7,IF(OR(AND($F54>$G54,DI54>DJ54),AND($F54<$G54,DI54<DJ54)),5,0))))","v":""},{"$f":"IF(DI54=\"\",\"\",IF(DI54>DJ54,\"A\",IF(DI54<DJ54,\"B\",IF(DI54=DJ54,\"X\"))))","v":""},null,null,{"$f":"IF(OR($F54=\"\",$G54=\"\",DM54=\"\",DN54=\"\"),\"\",IF(AND($F54=DM54,$G54=DN54),10,IF($F54-$G54=DM54-DN54,7,IF(OR(AND($F54>$G54,DM54>DN54),AND($F54<$G54,DM54<DN54)),5,0))))","v":""},{"$f":"IF(DM54=\"\",\"\",IF(DM54>DN54,\"A\",IF(DM54<DN54,\"B\",IF(DM54=DN54,\"X\"))))","v":""},null,null,{"$f":"IF(OR($F54=\"\",$G54=\"\",DQ54=\"\",DR54=\"\"),\"\",IF(AND($F54=DQ54,$G54=DR54),10,IF($F54-$G54=DQ54-DR54,7,IF(OR(AND($F54>$G54,DQ54>DR54),AND($F54<$G54,DQ54<DR54)),5,0))))","v":""},{"$f":"IF(DQ54=\"\",\"\",IF(DQ54>DR54,\"A\",IF(DQ54<DR54,\"B\",IF(DQ54=DR54,\"X\"))))","v":""},null,null,{"$f":"IF(OR($F54=\"\",$G54=\"\",DU54=\"\",DV54=\"\"),\"\",IF(AND($F54=DU54,$G54=DV54),10,IF($F54-$G54=DU54-DV54,7,IF(OR(AND($F54>$G54,DU54>DV54),AND($F54<$G54,DU54<DV54)),5,0))))","v":""},{"$f":"IF(DU54=\"\",\"\",IF(DU54>DV54,\"A\",IF(DU54<DV54,\"B\",IF(DU54=DV54,\"X\"))))","v":""},null,null,{"$f":"IF(OR($F54=\"\",$G54=\"\",DY54=\"\",DZ54=\"\"),\"\",IF(AND($F54=DY54,$G54=DZ54),10,IF($F54-$G54=DY54-DZ54,7,IF(OR(AND($F54>$G54,DY54>DZ54),AND($F54<$G54,DY54<DZ54)),5,0))))","v":""},{"$f":"IF(DY54=\"\",\"\",IF(DY54>DZ54,\"A\",IF(DY54<DZ54,\"B\",IF(DY54=DZ54,\"X\"))))","v":""},null,null,{"$f":"IF(OR($F54=\"\",$G54=\"\",EC54=\"\",ED54=\"\"),\"\",IF(AND($F54=EC54,$G54=ED54),10,IF($F54-$G54=EC54-ED54,7,IF(OR(AND($F54>$G54,EC54>ED54),AND($F54<$G54,EC54<ED54)),5,0))))","v":""},{"$f":"IF(EC54=\"\",\"\",IF(EC54>ED54,\"A\",IF(EC54<ED54,\"B\",IF(EC54=ED54,\"X\"))))","v":""},null,null,{"$f":"IF(OR($F54=\"\",$G54=\"\",EG54=\"\",EH54=\"\"),\"\",IF(AND($F54=EG54,$G54=EH54),10,IF($F54-$G54=EG54-EH54,7,IF(OR(AND($F54>$G54,EG54>EH54),AND($F54<$G54,EG54<EH54)),5,0))))","v":""},{"$f":"IF(EG54=\"\",\"\",IF(EG54>EH54,\"A\",IF(EG54<EH54,\"B\",IF(EG54=EH54,\"X\"))))","v":""},null,null,{"$f":"IF(OR($F54=\"\",$G54=\"\",EK54=\"\",EL54=\"\"),\"\",IF(AND($F54=EK54,$G54=EL54),10,IF($F54-$G54=EK54-EL54,7,IF(OR(AND($F54>$G54,EK54>EL54),AND($F54<$G54,EK54<EL54)),5,0))))","v":""},{"$f":"IF(EK54=\"\",\"\",IF(EK54>EL54,\"A\",IF(EK54<EL54,\"B\",IF(EK54=EL54,\"X\"))))","v":""},null,null,{"$f":"IF(OR($F54=\"\",$G54=\"\",EO54=\"\",EP54=\"\"),\"\",IF(AND($F54=EO54,$G54=EP54),10,IF($F54-$G54=EO54-EP54,7,IF(OR(AND($F54>$G54,EO54>EP54),AND($F54<$G54,EO54<EP54)),5,0))))","v":""},{"$f":"IF(EO54=\"\",\"\",IF(EO54>EP54,\"A\",IF(EO54<EP54,\"B\",IF(EO54=EP54,\"X\"))))","v":""},null,null,{"$f":"IF(OR($F54=\"\",$G54=\"\",ES54=\"\",ET54=\"\"),\"\",IF(AND($F54=ES54,$G54=ET54),10,IF($F54-$G54=ES54-ET54,7,IF(OR(AND($F54>$G54,ES54>ET54),AND($F54<$G54,ES54<ET54)),5,0))))","v":""},{"$f":"IF(ES54=\"\",\"\",IF(ES54>ET54,\"A\",IF(ES54<ET54,\"B\",IF(ES54=ET54,\"X\"))))","v":""},null,null,{"$f":"IF(OR($F54=\"\",$G54=\"\",EW54=\"\",EX54=\"\"),\"\",IF(AND($F54=EW54,$G54=EX54),10,IF($F54-$G54=EW54-EX54,7,IF(OR(AND($F54>$G54,EW54>EX54),AND($F54<$G54,EW54<EX54)),5,0))))","v":""},{"$f":"IF(EW54=\"\",\"\",IF(EW54>EX54,\"A\",IF(EW54<EX54,\"B\",IF(EW54=EX54,\"X\"))))","v":""},null,null,{"$f":"IF(OR($F54=\"\",$G54=\"\",FA54=\"\",FB54=\"\"),\"\",IF(AND($F54=FA54,$G54=FB54),10,IF($F54-$G54=FA54-FB54,7,IF(OR(AND($F54>$G54,FA54>FB54),AND($F54<$G54,FA54<FB54)),5,0))))","v":""},{"$f":"IF(FA54=\"\",\"\",IF(FA54>FB54,\"A\",IF(FA54<FB54,\"B\",IF(FA54=FB54,\"X\"))))","v":""},null,null,{"$f":"IF(OR($F54=\"\",$G54=\"\",FE54=\"\",FF54=\"\"),\"\",IF(AND($F54=FE54,$G54=FF54),10,IF($F54-$G54=FE54-FF54,7,IF(OR(AND($F54>$G54,FE54>FF54),AND($F54<$G54,FE54<FF54)),5,0))))","v":""},{"$f":"IF(FE54=\"\",\"\",IF(FE54>FF54,\"A\",IF(FE54<FF54,\"B\",IF(FE54=FF54,\"X\"))))","v":""},null,null,{"$f":"IF(OR($F54=\"\",$G54=\"\",FI54=\"\",FJ54=\"\"),\"\",IF(AND($F54=FI54,$G54=FJ54),10,IF($F54-$G54=FI54-FJ54,7,IF(OR(AND($F54>$G54,FI54>FJ54),AND($F54<$G54,FI54<FJ54)),5,0))))","v":""},{"$f":"IF(FI54=\"\",\"\",IF(FI54>FJ54,\"A\",IF(FI54<FJ54,\"B\",IF(FI54=FJ54,\"X\"))))","v":""},null,null,{"$f":"IF(OR($F54=\"\",$G54=\"\",FM54=\"\",FN54=\"\"),\"\",IF(AND($F54=FM54,$G54=FN54),10,IF($F54-$G54=FM54-FN54,7,IF(OR(AND($F54>$G54,FM54>FN54),AND($F54<$G54,FM54<FN54)),5,0))))","v":""},{"$f":"IF(FM54=\"\",\"\",IF(FM54>FN54,\"A\",IF(FM54<FN54,\"B\",IF(FM54=FN54,\"X\"))))","v":""},null,null,{"$f":"IF(OR($F54=\"\",$G54=\"\",FQ54=\"\",FR54=\"\"),\"\",IF(AND($F54=FQ54,$G54=FR54),10,IF($F54-$G54=FQ54-FR54,7,IF(OR(AND($F54>$G54,FQ54>FR54),AND($F54<$G54,FQ54<FR54)),5,0))))","v":""},{"$f":"IF(FQ54=\"\",\"\",IF(FQ54>FR54,\"A\",IF(FQ54<FR54,\"B\",IF(FQ54=FR54,\"X\"))))","v":""},null,null,{"$f":"IF(OR($F54=\"\",$G54=\"\",FU54=\"\",FV54=\"\"),\"\",IF(AND($F54=FU54,$G54=FV54),10,IF($F54-$G54=FU54-FV54,7,IF(OR(AND($F54>$G54,FU54>FV54),AND($F54<$G54,FU54<FV54)),5,0))))","v":""},{"$f":"IF(FU54=\"\",\"\",IF(FU54>FV54,\"A\",IF(FU54<FV54,\"B\",IF(FU54=FV54,\"X\"))))","v":""},null,null,{"$f":"IF(OR($F54=\"\",$G54=\"\",FY54=\"\",FZ54=\"\"),\"\",IF(AND($F54=FY54,$G54=FZ54),10,IF($F54-$G54=FY54-FZ54,7,IF(OR(AND($F54>$G54,FY54>FZ54),AND($F54<$G54,FY54<FZ54)),5,0))))","v":""},{"$f":"IF(FY54=\"\",\"\",IF(FY54>FZ54,\"A\",IF(FY54<FZ54,\"B\",IF(FY54=FZ54,\"X\"))))","v":""},null,null,{"$f":"IF(OR($F54=\"\",$G54=\"\",GC54=\"\",GD54=\"\"),\"\",IF(AND($F54=GC54,$G54=GD54),10,IF($F54-$G54=GC54-GD54,7,IF(OR(AND($F54>$G54,GC54>GD54),AND($F54<$G54,GC54<GD54)),5,0))))","v":""},{"$f":"IF(GC54=\"\",\"\",IF(GC54>GD54,\"A\",IF(GC54<GD54,\"B\",IF(GC54=GD54,\"X\"))))","v":""},null,null,{"$f":"IF(OR($F54=\"\",$G54=\"\",GG54=\"\",GH54=\"\"),\"\",IF(AND($F54=GG54,$G54=GH54),10,IF($F54-$G54=GG54-GH54,7,IF(OR(AND($F54>$G54,GG54>GH54),AND($F54<$G54,GG54<GH54)),5,0))))","v":""},{"$f":"IF(GG54=\"\",\"\",IF(GG54>GH54,\"A\",IF(GG54<GH54,\"B\",IF(GG54=GH54,\"X\"))))","v":""},null,null,{"$f":"IF(OR($F54=\"\",$G54=\"\",GK54=\"\",GL54=\"\"),\"\",IF(AND($F54=GK54,$G54=GL54),10,IF($F54-$G54=GK54-GL54,7,IF(OR(AND($F54>$G54,GK54>GL54),AND($F54<$G54,GK54<GL54)),5,0))))","v":""},{"$f":"IF(GK54=\"\",\"\",IF(GK54>GL54,\"A\",IF(GK54<GL54,\"B\",IF(GK54=GL54,\"X\"))))","v":""},null,null,{"$f":"IF(OR($F54=\"\",$G54=\"\",GO54=\"\",GP54=\"\"),\"\",IF(AND($F54=GO54,$G54=GP54),10,IF($F54-$G54=GO54-GP54,7,IF(OR(AND($F54>$G54,GO54>GP54),AND($F54<$G54,GO54<GP54)),5,0))))","v":""},{"$f":"IF(GO54=\"\",\"\",IF(GO54>GP54,\"A\",IF(GO54<GP54,\"B\",IF(GO54=GP54,\"X\"))))","v":""},null,null,{"$f":"IF(OR($F54=\"\",$G54=\"\",GS54=\"\",GT54=\"\"),\"\",IF(AND($F54=GS54,$G54=GT54),10,IF($F54-$G54=GS54-GT54,7,IF(OR(AND($F54>$G54,GS54>GT54),AND($F54<$G54,GS54<GT54)),5,0))))","v":""},{"$f":"IF(GS54=\"\",\"\",IF(GS54>GT54,\"A\",IF(GS54<GT54,\"B\",IF(GS54=GT54,\"X\"))))","v":""},null,null,{"$f":"IF(OR($F54=\"\",$G54=\"\",GW54=\"\",GX54=\"\"),\"\",IF(AND($F54=GW54,$G54=GX54),10,IF($F54-$G54=GW54-GX54,7,IF(OR(AND($F54>$G54,GW54>GX54),AND($F54<$G54,GW54<GX54)),5,0))))","v":""},{"$f":"IF(GW54=\"\",\"\",IF(GW54>GX54,\"A\",IF(GW54<GX54,\"B\",IF(GW54=GX54,\"X\"))))","v":""}]
["Sa. 15. Jun","15:00:00",2,"Ungarn","Schweiz",1,3,null,1,1,{"$f":"IF(OR($F55=\"\",$G55=\"\",I55=\"\",J55=\"\"),\"\",IF(AND($F55=I55,$G55=J55),10,IF($F55-$G55=I55-J55,7,IF(OR(AND($F55>$G55,I55>J55),AND($F55<$G55,I55<J55)),5,0))))","v":0},{"$f":"IF(I55=\"\",\"\",IF(I55>J55,\"A\",IF(I55<J55,\"B\",IF(I55=J55,\"X\"))))","v":"X"},1,1,{"$f":"IF(OR($F55=\"\",$G55=\"\",M55=\"\",N55=\"\"),\"\",IF(AND($F55=M55,$G55=N55),10,IF($F55-$G55=M55-N55,7,IF(OR(AND($F55>$G55,M55>N55),AND($F55<$G55,M55<N55)),5,0))))","v":0},{"$f":"IF(M55=\"\",\"\",IF(M55>N55,\"A\",IF(M55<N55,\"B\",IF(M55=N55,\"X\"))))","v":"X"},1,2,{"$f":"IF(OR($F55=\"\",$G55=\"\",Q55=\"\",R55=\"\"),\"\",IF(AND($F55=Q55,$G55=R55),10,IF($F55-$G55=Q55-R55,7,IF(OR(AND($F55>$G55,Q55>R55),AND($F55<$G55,Q55<R55)),5,0))))","v":5},{"$f":"IF(Q55=\"\",\"\",IF(Q55>R55,\"A\",IF(Q55<R55,\"B\",IF(Q55=R55,\"X\"))))","v":"B"},0,1,{"$f":"IF(OR($F55=\"\",$G55=\"\",U55=\"\",V55=\"\"),\"\",IF(AND($F55=U55,$G55=V55),10,IF($F55-$G55=U55-V55,7,IF(OR(AND($F55>$G55,U55>V55),AND($F55<$G55,U55<V55)),5,0))))","v":5},{"$f":"IF(U55=\"\",\"\",IF(U55>V55,\"A\",IF(U55<V55,\"B\",IF(U55=V55,\"X\"))))","v":"B"},2,2,{"$f":"IF(OR($F55=\"\",$G55=\"\",Y55=\"\",Z55=\"\"),\"\",IF(AND($F55=Y55,$G55=Z55),10,IF($F55-$G55=Y55-Z55,7,IF(OR(AND($F55>$G55,Y55>Z55),AND($F55<$G55,Y55<Z55)),5,0))))","v":0},{"$f":"IF(Y55=\"\",\"\",IF(Y55>Z55,\"A\",IF(Y55<Z55,\"B\",IF(Y55=Z55,\"X\"))))","v":"X"},1,2,{"$f":"IF(OR($F55=\"\",$G55=\"\",AC55=\"\",AD55=\"\"),\"\",IF(AND($F55=AC55,$G55=AD55),10,IF($F55-$G55=AC55-AD55,7,IF(OR(AND($F55>$G55,AC55>AD55),AND($F55<$G55,AC55<AD55)),5,0))))","v":5},{"$f":"IF(AC55=\"\",\"\",IF(AC55>AD55,\"A\",IF(AC55<AD55,\"B\",IF(AC55=AD55,\"X\"))))","v":"B"},0,1,{"$f":"IF(OR($F55=\"\",$G55=\"\",AG55=\"\",AH55=\"\"),\"\",IF(AND($F55=AG55,$G55=AH55),10,IF($F55-$G55=AG55-AH55,7,IF(OR(AND($F55>$G55,AG55>AH55),AND($F55<$G55,AG55<AH55)),5,0))))","v":5},{"$f":"IF(AG55=\"\",\"\",IF(AG55>AH55,\"A\",IF(AG55<AH55,\"B\",IF(AG55=AH55,\"X\"))))","v":"B"},0,1,{"$f":"IF(OR($F55=\"\",$G55=\"\",AK55=\"\",AL55=\"\"),\"\",IF(AND($F55=AK55,$G55=AL55),10,IF($F55-$G55=AK55-AL55,7,IF(OR(AND($F55>$G55,AK55>AL55),AND($F55<$G55,AK55<AL55)),5,0))))","v":5},{"$f":"IF(AK55=\"\",\"\",IF(AK55>AL55,\"A\",IF(AK55<AL55,\"B\",IF(AK55=AL55,\"X\"))))","v":"B"},0,1,{"$f":"IF(OR($F55=\"\",$G55=\"\",AO55=\"\",AP55=\"\"),\"\",IF(AND($F55=AO55,$G55=AP55),10,IF($F55-$G55=AO55-AP55,7,IF(OR(AND($F55>$G55,AO55>AP55),AND($F55<$G55,AO55<AP55)),5,0))))","v":5},{"$f":"IF(AO55=\"\",\"\",IF(AO55>AP55,\"A\",IF(AO55<AP55,\"B\",IF(AO55=AP55,\"X\"))))","v":"B"},1,2,{"$f":"IF(OR($F55=\"\",$G55=\"\",AS55=\"\",AT55=\"\"),\"\",IF(AND($F55=AS55,$G55=AT55),10,IF($F55-$G55=AS55-AT55,7,IF(OR(AND($F55>$G55,AS55>AT55),AND($F55<$G55,AS55<AT55)),5,0))))","v":5},{"$f":"IF(AS55=\"\",\"\",IF(AS55>AT55,\"A\",IF(AS55<AT55,\"B\",IF(AS55=AT55,\"X\"))))","v":"B"},1,1,{"$f":"IF(OR($F55=\"\",$G55=\"\",AW55=\"\",AX55=\"\"),\"\",IF(AND($F55=AW55,$G55=AX55),10,IF($F55-$G55=AW55-AX55,7,IF(OR(AND($F55>$G55,AW55>AX55),AND($F55<$G55,AW55<AX55)),5,0))))","v":0},{"$f":"IF(AW55=\"\",\"\",IF(AW55>AX55,\"A\",IF(AW55<AX55,\"B\",IF(AW55=AX55,\"X\"))))","v":"X"},1,1,{"$f":"IF(OR($F55=\"\",$G55=\"\",BA55=\"\",BB55=\"\"),\"\",IF(AND($F55=BA55,$G55=BB55),10,IF($F55-$G55=BA55-BB55,7,IF(OR(AND($F55>$G55,BA55>BB55),AND($F55<$G55,BA55<BB55)),5,0))))","v":0},{"$f":"IF(BA55=\"\",\"\",IF(BA55>BB55,\"A\",IF(BA55<BB55,\"B\",IF(BA55=BB55,\"X\"))))","v":"X"},1,1,{"$f":"IF(OR($F55=\"\",$G55=\"\",BE55=\"\",BF55=\"\"),\"\",IF(AND($F55=BE55,$G55=BF55),10,IF($F55-$G55=BE55-BF55,7,IF(OR(AND($F55>$G55,BE55>BF55),AND($F55<$G55,BE55<BF55)),5,0))))","v":0},{"$f":"IF(BE55=\"\",\"\",IF(BE55>BF55,\"A\",IF(BE55<BF55,\"B\",IF(BE55=BF55,\"X\"))))","v":"X"},1,2,{"$f":"IF(OR($F55=\"\",$G55=\"\",BI55=\"\",BJ55=\"\"),\"\",IF(AND($F55=BI55,$G55=BJ55),10,IF($F55-$G55=BI55-BJ55,7,IF(OR(AND($F55>$G55,BI55>BJ55),AND($F55<$G55,BI55<BJ55)),5,0))))","v":5},{"$f":"IF(BI55=\"\",\"\",IF(BI55>BJ55,\"A\",IF(BI55<BJ55,\"B\",IF(BI55=BJ55,\"X\"))))","v":"B"},1,2,{"$f":"IF(OR($F55=\"\",$G55=\"\",BM55=\"\",BN55=\"\"),\"\",IF(AND($F55=BM55,$G55=BN55),10,IF($F55-$G55=BM55-BN55,7,IF(OR(AND($F55>$G55,BM55>BN55),AND($F55<$G55,BM55<BN55)),5,0))))","v":5},{"$f":"IF(BM55=\"\",\"\",IF(BM55>BN55,\"A\",IF(BM55<BN55,\"B\",IF(BM55=BN55,\"X\"))))","v":"B"},1,1,{"$f":"IF(OR($F55=\"\",$G55=\"\",BQ55=\"\",BR55=\"\"),\"\",IF(AND($F55=BQ55,$G55=BR55),10,IF($F55-$G55=BQ55-BR55,7,IF(OR(AND($F55>$G55,BQ55>BR55),AND($F55<$G55,BQ55<BR55)),5,0))))","v":0},{"$f":"IF(BQ55=\"\",\"\",IF(BQ55>BR55,\"A\",IF(BQ55<BR55,\"B\",IF(BQ55=BR55,\"X\"))))","v":"X"},1,1,{"$f":"IF(OR($F55=\"\",$G55=\"\",BU55=\"\",BV55=\"\"),\"\",IF(AND($F55=BU55,$G55=BV55),10,IF($F55-$G55=BU55-BV55,7,IF(OR(AND($F55>$G55,BU55>BV55),AND($F55<$G55,BU55<BV55)),5,0))))","v":0},{"$f":"IF(BU55=\"\",\"\",IF(BU55>BV55,\"A\",IF(BU55<BV55,\"B\",IF(BU55=BV55,\"X\"))))","v":"X"},0,1,{"$f":"IF(OR($F55=\"\",$G55=\"\",BY55=\"\",BZ55=\"\"),\"\",IF(AND($F55=BY55,$G55=BZ55),10,IF($F55-$G55=BY55-BZ55,7,IF(OR(AND($F55>$G55,BY55>BZ55),AND($F55<$G55,BY55<BZ55)),5,0))))","v":5},{"$f":"IF(BY55=\"\",\"\",IF(BY55>BZ55,\"A\",IF(BY55<BZ55,\"B\",IF(BY55=BZ55,\"X\"))))","v":"B"},0,1,{"$f":"IF(OR($F55=\"\",$G55=\"\",CC55=\"\",CD55=\"\"),\"\",IF(AND($F55=CC55,$G55=CD55),10,IF($F55-$G55=CC55-CD55,7,IF(OR(AND($F55>$G55,CC55>CD55),AND($F55<$G55,CC55<CD55)),5,0))))","v":5},{"$f":"IF(CC55=\"\",\"\",IF(CC55>CD55,\"A\",IF(CC55<CD55,\"B\",IF(CC55=CD55,\"X\"))))","v":"B"},1,1,{"$f":"IF(OR($F55=\"\",$G55=\"\",CG55=\"\",CH55=\"\"),\"\",IF(AND($F55=CG55,$G55=CH55),10,IF($F55-$G55=CG55-CH55,7,IF(OR(AND($F55>$G55,CG55>CH55),AND($F55<$G55,CG55<CH55)),5,0))))","v":0},{"$f":"IF(CG55=\"\",\"\",IF(CG55>CH55,\"A\",IF(CG55<CH55,\"B\",IF(CG55=CH55,\"X\"))))","v":"X"},1,2,{"$f":"IF(OR($F55=\"\",$G55=\"\",CK55=\"\",CL55=\"\"),\"\",IF(AND($F55=CK55,$G55=CL55),10,IF($F55-$G55=CK55-CL55,7,IF(OR(AND($F55>$G55,CK55>CL55),AND($F55<$G55,CK55<CL55)),5,0))))","v":5},{"$f":"IF(CK55=\"\",\"\",IF(CK55>CL55,\"A\",IF(CK55<CL55,\"B\",IF(CK55=CL55,\"X\"))))","v":"B"},1,2,{"$f":"IF(OR($F55=\"\",$G55=\"\",CO55=\"\",CP55=\"\"),\"\",IF(AND($F55=CO55,$G55=CP55),10,IF($F55-$G55=CO55-CP55,7,IF(OR(AND($F55>$G55,CO55>CP55),AND($F55<$G55,CO55<CP55)),5,0))))","v":5},{"$f":"IF(CO55=\"\",\"\",IF(CO55>CP55,\"A\",IF(CO55<CP55,\"B\",IF(CO55=CP55,\"X\"))))","v":"B"},1,2,{"$f":"IF(OR($F55=\"\",$G55=\"\",CS55=\"\",CT55=\"\"),\"\",IF(AND($F55=CS55,$G55=CT55),10,IF($F55-$G55=CS55-CT55,7,IF(OR(AND($F55>$G55,CS55>CT55),AND($F55<$G55,CS55<CT55)),5,0))))","v":5},{"$f":"IF(CS55=\"\",\"\",IF(CS55>CT55,\"A\",IF(CS55<CT55,\"B\",IF(CS55=CT55,\"X\"))))","v":"B"},1,2,{"$f":"IF(OR($F55=\"\",$G55=\"\",CW55=\"\",CX55=\"\"),\"\",IF(AND($F55=CW55,$G55=CX55),10,IF($F55-$G55=CW55-CX55,7,IF(OR(AND($F55>$G55,CW55>CX55),AND($F55<$G55,CW55<CX55)),5,0))))","v":5},{"$f":"IF(CW55=\"\",\"\",IF(CW55>CX55,\"A\",IF(CW55<CX55,\"B\",IF(CW55=CX55,\"X\"))))","v":"B"},1,1,{"$f":"IF(OR($F55=\"\",$G55=\"\",DA55=\"\",DB55=\"\"),\"\",IF(AND($F55=DA55,$G55=DB55),10,IF($F55-$G55=DA55-DB55,7,IF(OR(AND($F55>$G55,DA55>DB55),AND($F55<$G55,DA55<DB55)),5,0))))","v":0},{"$f":"IF(DA55=\"\",\"\",IF(DA55>DB55,\"A\",IF(DA55<DB55,\"B\",IF(DA55=DB55,\"X\"))))","v":"X"},0,1,{"$f":"IF(OR($F55=\"\",$G55=\"\",DE55=\"\",DF55=\"\"),\"\",IF(AND($F55=DE55,$G55=DF55),10,IF($F55-$G55=DE55-DF55,7,IF(OR(AND($F55>$G55,DE55>DF55),AND($F55<$G55,DE55<DF55)),5,0))))","v":5},{"$f":"IF(DE55=\"\",\"\",IF(DE55>DF55,\"A\",IF(DE55<DF55,\"B\",IF(DE55=DF55,\"X\"))))","v":"B"},null,null,{"$f":"IF(OR($F55=\"\",$G55=\"\",DI55=\"\",DJ55=\"\"),\"\",IF(AND($F55=DI55,$G55=DJ55),10,IF($F55-$G55=DI55-DJ55,7,IF(OR(AND($F55>$G55,DI55>DJ55),AND($F55<$G55,DI55<DJ55)),5,0))))","v":""},{"$f":"IF(DI55=\"\",\"\",IF(DI55>DJ55,\"A\",IF(DI55<DJ55,\"B\",IF(DI55=DJ55,\"X\"))))","v":""},null,null,{"$f":"IF(OR($F55=\"\",$G55=\"\",DM55=\"\",DN55=\"\"),\"\",IF(AND($F55=DM55,$G55=DN55),10,IF($F55-$G55=DM55-DN55,7,IF(OR(AND($F55>$G55,DM55>DN55),AND($F55<$G55,DM55<DN55)),5,0))))","v":""},{"$f":"IF(DM55=\"\",\"\",IF(DM55>DN55,\"A\",IF(DM55<DN55,\"B\",IF(DM55=DN55,\"X\"))))","v":""},null,null,{"$f":"IF(OR($F55=\"\",$G55=\"\",DQ55=\"\",DR55=\"\"),\"\",IF(AND($F55=DQ55,$G55=DR55),10,IF($F55-$G55=DQ55-DR55,7,IF(OR(AND($F55>$G55,DQ55>DR55),AND($F55<$G55,DQ55<DR55)),5,0))))","v":""},{"$f":"IF(DQ55=\"\",\"\",IF(DQ55>DR55,\"A\",IF(DQ55<DR55,\"B\",IF(DQ55=DR55,\"X\"))))","v":""},null,null,{"$f":"IF(OR($F55=\"\",$G55=\"\",DU55=\"\",DV55=\"\"),\"\",IF(AND($F55=DU55,$G55=DV55),10,IF($F55-$G55=DU55-DV55,7,IF(OR(AND($F55>$G55,DU55>DV55),AND($F55<$G55,DU55<DV55)),5,0))))","v":""},{"$f":"IF(DU55=\"\",\"\",IF(DU55>DV55,\"A\",IF(DU55<DV55,\"B\",IF(DU55=DV55,\"X\"))))","v":""},null,null,{"$f":"IF(OR($F55=\"\",$G55=\"\",DY55=\"\",DZ55=\"\"),\"\",IF(AND($F55=DY55,$G55=DZ55),10,IF($F55-$G55=DY55-DZ55,7,IF(OR(AND($F55>$G55,DY55>DZ55),AND($F55<$G55,DY55<DZ55)),5,0))))","v":""},{"$f":"IF(DY55=\"\",\"\",IF(DY55>DZ55,\"A\",IF(DY55<DZ55,\"B\",IF(DY55=DZ55,\"X\"))))","v":""},null,null,{"$f":"IF(OR($F55=\"\",$G55=\"\",EC55=\"\",ED55=\"\"),\"\",IF(AND($F55=EC55,$G55=ED55),10,IF($F55-$G55=EC55-ED55,7,IF(OR(AND($F55>$G55,EC55>ED55),AND($F55<$G55,EC55<ED55)),5,0))))","v":""},{"$f":"IF(EC55=\"\",\"\",IF(EC55>ED55,\"A\",IF(EC55<ED55,\"B\",IF(EC55=ED55,\"X\"))))","v":""},null,null,{"$f":"IF(OR($F55=\"\",$G55=\"\",EG55=\"\",EH55=\"\"),\"\",IF(AND($F55=EG55,$G55=EH55),10,IF($F55-$G55=EG55-EH55,7,IF(OR(AND($F55>$G55,EG55>EH55),AND($F55<$G55,EG55<EH55)),5,0))))","v":""},{"$f":"IF(EG55=\"\",\"\",IF(EG55>EH55,\"A\",IF(EG55<EH55,\"B\",IF(EG55=EH55,\"X\"))))","v":""},null,null,{"$f":"IF(OR($F55=\"\",$G55=\"\",EK55=\"\",EL55=\"\"),\"\",IF(AND($F55=EK55,$G55=EL55),10,IF($F55-$G55=EK55-EL55,7,IF(OR(AND($F55>$G55,EK55>EL55),AND($F55<$G55,EK55<EL55)),5,0))))","v":""},{"$f":"IF(EK55=\"\",\"\",IF(EK55>EL55,\"A\",IF(EK55<EL55,\"B\",IF(EK55=EL55,\"X\"))))","v":""},null,null,{"$f":"IF(OR($F55=\"\",$G55=\"\",EO55=\"\",EP55=\"\"),\"\",IF(AND($F55=EO55,$G55=EP55),10,IF($F55-$G55=EO55-EP55,7,IF(OR(AND($F55>$G55,EO55>EP55),AND($F55<$G55,EO55<EP55)),5,0))))","v":""},{"$f":"IF(EO55=\"\",\"\",IF(EO55>EP55,\"A\",IF(EO55<EP55,\"B\",IF(EO55=EP55,\"X\"))))","v":""},null,null,{"$f":"IF(OR($F55=\"\",$G55=\"\",ES55=\"\",ET55=\"\"),\"\",IF(AND($F55=ES55,$G55=ET55),10,IF($F55-$G55=ES55-ET55,7,IF(OR(AND($F55>$G55,ES55>ET55),AND($F55<$G55,ES55<ET55)),5,0))))","v":""},{"$f":"IF(ES55=\"\",\"\",IF(ES55>ET55,\"A\",IF(ES55<ET55,\"B\",IF(ES55=ET55,\"X\"))))","v":""},null,null,{"$f":"IF(OR($F55=\"\",$G55=\"\",EW55=\"\",EX55=\"\"),\"\",IF(AND($F55=EW55,$G55=EX55),10,IF($F55-$G55=EW55-EX55,7,IF(OR(AND($F55>$G55,EW55>EX55),AND($F55<$G55,EW55<EX55)),5,0))))","v":""},{"$f":"IF(EW55=\"\",\"\",IF(EW55>EX55,\"A\",IF(EW55<EX55,\"B\",IF(EW55=EX55,\"X\"))))","v":""},null,null,{"$f":"IF(OR($F55=\"\",$G55=\"\",FA55=\"\",FB55=\"\"),\"\",IF(AND($F55=FA55,$G55=FB55),10,IF($F55-$G55=FA55-FB55,7,IF(OR(AND($F55>$G55,FA55>FB55),AND($F55<$G55,FA55<FB55)),5,0))))","v":""},{"$f":"IF(FA55=\"\",\"\",IF(FA55>FB55,\"A\",IF(FA55<FB55,\"B\",IF(FA55=FB55,\"X\"))))","v":""},null,null,{"$f":"IF(OR($F55=\"\",$G55=\"\",FE55=\"\",FF55=\"\"),\"\",IF(AND($F55=FE55,$G55=FF55),10,IF($F55-$G55=FE55-FF55,7,IF(OR(AND($F55>$G55,FE55>FF55),AND($F55<$G55,FE55<FF55)),5,0))))","v":""},{"$f":"IF(FE55=\"\",\"\",IF(FE55>FF55,\"A\",IF(FE55<FF55,\"B\",IF(FE55=FF55,\"X\"))))","v":""},null,null,{"$f":"IF(OR($F55=\"\",$G55=\"\",FI55=\"\",FJ55=\"\"),\"\",IF(AND($F55=FI55,$G55=FJ55),10,IF($F55-$G55=FI55-FJ55,7,IF(OR(AND($F55>$G55,FI55>FJ55),AND($F55<$G55,FI55<FJ55)),5,0))))","v":""},{"$f":"IF(FI55=\"\",\"\",IF(FI55>FJ55,\"A\",IF(FI55<FJ55,\"B\",IF(FI55=FJ55,\"X\"))))","v":""},null,null,{"$f":"IF(OR($F55=\"\",$G55=\"\",FM55=\"\",FN55=\"\"),\"\",IF(AND($F55=FM55,$G55=FN55),10,IF($F55-$G55=FM55-FN55,7,IF(OR(AND($F55>$G55,FM55>FN55),AND($F55<$G55,FM55<FN55)),5,0))))","v":""},{"$f":"IF(FM55=\"\",\"\",IF(FM55>FN55,\"A\",IF(FM55<FN55,\"B\",IF(FM55=FN55,\"X\"))))","v":""},null,null,{"$f":"IF(OR($F55=\"\",$G55=\"\",FQ55=\"\",FR55=\"\"),\"\",IF(AND($F55=FQ55,$G55=FR55),10,IF($F55-$G55=FQ55-FR55,7,IF(OR(AND($F55>$G55,FQ55>FR55),AND($F55<$G55,FQ55<FR55)),5,0))))","v":""},{"$f":"IF(FQ55=\"\",\"\",IF(FQ55>FR55,\"A\",IF(FQ55<FR55,\"B\",IF(FQ55=FR55,\"X\"))))","v":""},null,null,{"$f":"IF(OR($F55=\"\",$G55=\"\",FU55=\"\",FV55=\"\"),\"\",IF(AND($F55=FU55,$G55=FV55),10,IF($F55-$G55=FU55-FV55,7,IF(OR(AND($F55>$G55,FU55>FV55),AND($F55<$G55,FU55<FV55)),5,0))))","v":""},{"$f":"IF(FU55=\"\",\"\",IF(FU55>FV55,\"A\",IF(FU55<FV55,\"B\",IF(FU55=FV55,\"X\"))))","v":""},null,null,{"$f":"IF(OR($F55=\"\",$G55=\"\",FY55=\"\",FZ55=\"\"),\"\",IF(AND($F55=FY55,$G55=FZ55),10,IF($F55-$G55=FY55-FZ55,7,IF(OR(AND($F55>$G55,FY55>FZ55),AND($F55<$G55,FY55<FZ55)),5,0))))","v":""},{"$f":"IF(FY55=\"\",\"\",IF(FY55>FZ55,\"A\",IF(FY55<FZ55,\"B\",IF(FY55=FZ55,\"X\"))))","v":""},null,null,{"$f":"IF(OR($F55=\"\",$G55=\"\",GC55=\"\",GD55=\"\"),\"\",IF(AND($F55=GC55,$G55=GD55),10,IF($F55-$G55=GC55-GD55,7,IF(OR(AND($F55>$G55,GC55>GD55),AND($F55<$G55,GC55<GD55)),5,0))))","v":""},{"$f":"IF(GC55=\"\",\"\",IF(GC55>GD55,\"A\",IF(GC55<GD55,\"B\",IF(GC55=GD55,\"X\"))))","v":""},null,null,{"$f":"IF(OR($F55=\"\",$G55=\"\",GG55=\"\",GH55=\"\"),\"\",IF(AND($F55=GG55,$G55=GH55),10,IF($F55-$G55=GG55-GH55,7,IF(OR(AND($F55>$G55,GG55>GH55),AND($F55<$G55,GG55<GH55)),5,0))))","v":""},{"$f":"IF(GG55=\"\",\"\",IF(GG55>GH55,\"A\",IF(GG55<GH55,\"B\",IF(GG55=GH55,\"X\"))))","v":""},null,null,{"$f":"IF(OR($F55=\"\",$G55=\"\",GK55=\"\",GL55=\"\"),\"\",IF(AND($F55=GK55,$G55=GL55),10,IF($F55-$G55=GK55-GL55,7,IF(OR(AND($F55>$G55,GK55>GL55),AND($F55<$G55,GK55<GL55)),5,0))))","v":""},{"$f":"IF(GK55=\"\",\"\",IF(GK55>GL55,\"A\",IF(GK55<GL55,\"B\",IF(GK55=GL55,\"X\"))))","v":""},null,null,{"$f":"IF(OR($F55=\"\",$G55=\"\",GO55=\"\",GP55=\"\"),\"\",IF(AND($F55=GO55,$G55=GP55),10,IF($F55-$G55=GO55-GP55,7,IF(OR(AND($F55>$G55,GO55>GP55),AND($F55<$G55,GO55<GP55)),5,0))))","v":""},{"$f":"IF(GO55=\"\",\"\",IF(GO55>GP55,\"A\",IF(GO55<GP55,\"B\",IF(GO55=GP55,\"X\"))))","v":""},null,null,{"$f":"IF(OR($F55=\"\",$G55=\"\",GS55=\"\",GT55=\"\"),\"\",IF(AND($F55=GS55,$G55=GT55),10,IF($F55-$G55=GS55-GT55,7,IF(OR(AND($F55>$G55,GS55>GT55),AND($F55<$G55,GS55<GT55)),5,0))))","v":""},{"$f":"IF(GS55=\"\",\"\",IF(GS55>GT55,\"A\",IF(GS55<GT55,\"B\",IF(GS55=GT55,\"X\"))))","v":""},null,null,{"$f":"IF(OR($F55=\"\",$G55=\"\",GW55=\"\",GX55=\"\"),\"\",IF(AND($F55=GW55,$G55=GX55),10,IF($F55-$G55=GW55-GX55,7,IF(OR(AND($F55>$G55,GW55>GX55),AND($F55<$G55,GW55<GX55)),5,0))))","v":""},{"$f":"IF(GW55=\"\",\"\",IF(GW55>GX55,\"A\",IF(GW55<GX55,\"B\",IF(GW55=GX55,\"X\"))))","v":""}]
["Sa. 15. Jun","18:00:00",3,"Spanien","Kroatien",3,0,null,2,1,5,"A",2,1,5,"A",2,2,0,"X",2,0,5,"A",3,3,0,"X",2,1,5,"A",1,2,0,"B",2,1,5,"A",4,3,5,"A",2,2,0,"X",1,1,0,"X",0,0,0,"X",1,1,0,"X",1,1,0,"X",3,0,10,"A",1,2,0,"B",3,1,5,"A",1,0,5,"A",2,1,5,"A",3,3,0,"X",1,0,5,"A",2,2,0,"X",2,1,5,"A",1,1,0,"X",0,1,0,"B",2,2,0,"X",null,null,"","",null,null,"","",null,null,"","",null,null,"","",null,null,"","",null,null,"","",null,null,"","",null,null,"","",null,null,"","",null,null,"","",null,null,"","",null,null,"","",null,null,"","",null,null,"","",null,null,"","",null,null,"","",null,null,"","",null,null,"","",null,null,"","",null,null,"","",null,null,"","",null,null,"","",null,null,"","",null,null,"",""]
["Sa. 15. Jun","21:00:00",4,"Italien","Albanien",2,1,null,3,2,7,"A",3,1,5,"A",2,0,5,"A",2,1,10,"A",2,1,10,"A",1,0,7,"A",2,0,5,"A",2,0,5,"A",2,0,5,"A",1,1,0,"X",2,1,10,"A",2,1,10,"A",2,1,10,"A",1,0,7,"A",2,0,5,"A",2,0,5,"A",5,0,5,"A",1,0,7,"A",2,0,5,"A",2,0,5,"A",3,1,5,"A",2,1,10,"A",1,1,0,"X",2,1,10,"A",2,1,10,"A",1,0,7,"A",null,null,"","",null,null,"","",null,null,"","",null,null,"","",null,null,"","",null,null,"","",null,null,"","",null,null,"","",null,null,"","",null,null,"","",null,null,"","",null,null,"","",null,null,"","",null,null,"","",null,null,"","",null,null,"","",null,null,"","",null,null,"","",null,null,"","",null,null,"","",null,null,"","",null,null,"","",null,null,"","",null,null,"",""]
["So. 16. Jun","21:00:00",5,"Serbien","England",0,1,null,2,4,5,"B",0,4,5,"B",1,2,7,"B",0,2,5,"B",2,3,7,"B",1,2,7,"B",1,3,5,"B",0,2,5,"B",4,2,0,"A",1,3,5,"B",1,2,7,"B",1,1,0,"X",0,3,5,"B",0,3,5,"B",0,4,5,"B",1,2,7,"B",0,4,5,"B",0,1,10,"B",1,2,7,"B",0,2,5,"B",2,3,7,"B",1,3,5,"B",1,2,7,"B",1,2,7,"B",0,1,10,"B",0,2,5,"B",null,null,"","",null,null,"","",null,null,"","",null,null,"","",null,null,"","",null,null,"","",null,null,"","",null,null,"","",null,null,"","",null,null,"","",null,null,"","",null,null,"","",null,null,"","",null,null,"","",null,null,"","",null,null,"","",null,null,"","",null,null,"","",null,null,"","",null,null,"","",null,null,"","",null,null,"","",null,null,"","",null,null,"",""]
["So. 16. Jun","18:00:00",6,"Slowenien","Dänemark",1,1,null,1,1,10,"X",0,1,0,"B",1,2,0,"B",0,2,0,"B",2,2,7,"X",1,2,0,"B",0,2,0,"B",1,2,0,"B",1,1,10,"X",0,2,0,"B",0,1,0,"B",0,1,0,"B",1,1,10,"X",1,1,10,"X",1,2,0,"B",0,0,7,"X",1,2,0,"B",0,1,0,"B",0,1,0,"B",0,1,0,"B",0,2,0,"B",1,2,0,"B",0,2,0,"B",1,1,10,"X",0,1,0,"B",1,2,0,"B",null,null,"","",null,null,"","",null,null,"","",null,null,"","",null,null,"","",null,null,"","",null,null,"","",null,null,"","",null,null,"","",null,null,"","",null,null,"","",null,null,"","",null,null,"","",null,null,"","",null,null,"","",null,null,"","",null,null,"","",null,null,"","",null,null,"","",null,null,"","",null,null,"","",null,null,"","",null,null,"","",null,null,"",""]
["So. 16. Jun","15:00:00",7,"Polen","Holland",1,2,null,0,3,5,"B",1,3,5,"B",1,2,10,"B",0,1,7,"B",2,3,7,"B",0,1,7,"B",1,2,10,"B",0,2,5,"B",0,5,5,"B",2,3,7,"B",0,1,7,"B",0,2,5,"B",1,2,10,"B",0,2,5,"B",0,1,7,"B",1,3,5,"B",0,3,5,"B",0,1,7,"B",1,3,5,"B",0,2,5,"B",0,2,5,"B",0,3,5,"B",1,2,10,"B",0,0,0,"X",0,1,7,"B",0,3,5,"B",null,null,"","",null,null,"","",null,null,"","",null,null,"","",null,null,"","",null,null,"","",null,null,"","",null,null,"","",null,null,"","",null,null,"","",null,null,"","",null,null,"","",null,null,"","",null,null,"","",null,null,"","",null,null,"","",null,null,"","",null,null,"","",null,null,"","",null,null,"","",null,null,"","",null,null,"","",null,null,"","",null,null,"",""]
["Mo. 17. Jun","21:00:00",8,"Österreich","Frankreich",0,1,null,1,4,5,"B",1,0,0,"A",1,2,7,"B",0,1,10,"B",2,2,0,"X",1,1,0,"X",1,3,5,"B",0,2,5,"B",2,2,0,"X",1,3,5,"B",0,2,5,"B",0,3,5,"B",1,2,7,"B",1,1,0,"X",1,1,0,"X",0,2,5,"B",1,3,5,"B",0,1,10,"B",0,3,5,"B",0,3,5,"B",1,2,7,"B",1,2,7,"B",1,1,0,"X",1,3,5,"B",0,1,10,"B",1,4,5,"B",null,null,"","",null,null,"","",null,null,"","",null,null,"","",null,null,"","",null,null,"","",null,null,"","",null,null,"","",null,null,"","",null,null,"","",null,null,"","",null,null,"","",null,null,"","",null,null,"","",null,null,"","",null,null,"","",null,null,"","",null,null,"","",null,null,"","",null,null,"","",null,null,"","",null,null,"","",null,null,"","",null,null,"",""]
["Mo. 17. Jun","18:00:00",9,"Belgien","Slowakei",0,1,null,2,1,0,"A",2,0,0,"A",3,1,0,"A",1,0,0,"A",2,2,0,"X",1,1,0,"X",2,1,0,"A",2,0,0,"A",3,1,0,"A",2,1,0,"A",1,0,0,"A",2,1,0,"A",2,0,0,"A",2,0,0,"A",2,1,0,"A",3,0,0,"A",4,1,0,"A",1,0,0,"A",2,0,0,"A",1,0,0,"A",2,0,0,"A",3,1,0,"A",3,0,0,"A",2,1,0,"A",1,0,0,"A",2,1,0,"A",null,null,"","",null,null,"","",null,null,"","",null,null,"","",null,null,"","",null,null,"","",null,null,"","",null,null,"","",null,null,"","",null,null,"","",null,null,"","",null,null,"","",null,null,"","",null,null,"","",null,null,"","",null,null,"","",null,null,"","",null,null,"","",null,null,"","",null,null,"","",null,null,"","",null,null,"","",null,null,"","",null,null,"",""]
["Mo. 17. Jun","15:00:00",10,"Rumänien","Ukraine",3,0,null,2,2,0,"X",1,1,0,"X",1,2,0,"B",1,0,5,"A",0,0,0,"X",1,1,0,"X",2,1,5,"A",0,1,0,"B",4,2,5,"A",0,1,0,"B",0,1,0,"B",1,1,0,"X",1,1,0,"X",0,1,0,"B",1,2,0,"B",1,2,0,"B",1,1,0,"X",1,1,0,"X",1,1,0,"X",1,0,5,"A",1,1,0,"X",1,2,0,"B",1,3,0,"B",1,1,0,"X",0,1,0,"B",1,1,0,"X",null,null,"","",null,null,"","",null,null,"","",null,null,"","",null,null,"","",null,null,"","",null,null,"","",null,null,"","",null,null,"","",null,null,"","",null,null,"","",null,null,"","",null,null,"","",null,null,"","",null,null,"","",null,null,"","",null,null,"","",null,null,"","",null,null,"","",null,null,"","",null,null,"","",null,null,"","",null,null,"","",null,null,"",""]
["Di. 18. Jun","18:00:00",11,"Türkei","Georgien",3,1,null,1,0,5,"A",1,0,5,"A",2,1,5,"A",2,0,7,"A",0,0,0,"X",1,1,0,"X",1,0,5,"A",2,0,7,"A",2,0,7,"A",1,1,0,"X",1,0,5,"A",4,0,5,"A",2,0,7,"A",2,0,7,"A",1,1,0,"X",1,0,5,"A",3,1,10,"A",1,0,5,"A",2,0,7,"A",1,1,0,"X",1,0,5,"A",2,1,5,"A",3,0,5,"A",2,0,7,"A",2,0,7,"A",1,0,5,"A",null,null,"","",null,null,"","",null,null,"","",null,null,"","",null,null,"","",null,null,"","",null,null,"","",null,null,"","",null,null,"","",null,null,"","",null,null,"","",null,null,"","",null,null,"","",null,null,"","",null,null,"","",null,null,"","",null,null,"","",null,null,"","",null,null,"","",null,null,"","",null,null,"","",null,null,"","",null,null,"","",null,null,"",""]
["Di. 18. Jun","21:00:00",12,"Portugal","Tschechien",2,1,null,3,0,5,"A",2,1,10,"A",3,1,5,"A",2,1,10,"A",2,0,5,"A",2,0,5,"A",1,0,7,"A",2,0,5,"A",7,1,5,"A",3,0,5,"A",2,0,5,"A",2,1,10,"A",2,1,10,"A",2,1,10,"A",3,0,5,"A",2,1,10,"A",4,1,5,"A",1,1,0,"X",2,1,10,"A",3,0,5,"A",2,1,10,"A",2,2,0,"X",2,2,0,"X",3,1,5,"A",1,0,7,"A",2,0,5,"A",null,null,"","",null,null,"","",null,null,"","",null,null,"","",null,null,"","",null,null,"","",null,null,"","",null,null,"","",null,null,"","",null,null,"","",null,null,"","",null,null,"","",null,null,"","",null,null,"","",null,null,"","",null,null,"","",null,null,"","",null,null,"","",null,null,"","",null,null,"","",null,null,"","",null,null,"","",null,null,"","",null,null,"",""]
["Mi. 19. Jun","21:00:00",13,"Schottland","Schweiz",1,1,null,1,3,0,"B",0,1,0,"B",1,2,0,"B",1,1,10,"X",2,2,7,"X",0,1,0,"B",1,2,0,"B",0,1,0,"B",2,2,7,"X",1,3,0,"B",0,1,0,"B",0,2,0,"B",0,2,0,"B",1,1,10,"X",1,1,10,"X",0,1,0,"B",1,1,10,"X",0,1,0,"B",0,1,0,"B",2,1,0,"A",1,2,0,"B",0,1,0,"B",0,1,0,"B",0,1,0,"B",0,1,0,"B",1,2,0,"B",null,null,"","",null,null,"","",null,null,"","",null,null,"","",null,null,"","",null,null,"","",null,null,"","",null,null,"","",null,null,"","",null,null,"","",null,null,"","",null,null,"","",null,null,"","",null,null,"","",null,null,"","",null,null,"","",null,null,"","",null,null,"","",null,null,"","",null,null,"","",null,null,"","",null,null,"","",null,null,"","",null,null,"",""]
["Mi. 19. Jun","18:00:00",14,"Deutschland","Ungarn",2,0,null,3,0,5,"A",3,0,5,"A",3,1,7,"A",3,0,5,"A",3,2,5,"A",2,0,10,"A",3,0,5,"A",2,0,10,"A",4,1,5,"A",4,1,5,"A",2,1,5,"A",1,1,0,"X",2,1,5,"A",2,0,10,"A",2,0,10,"A",2,1,5,"A",4,0,5,"A",1,0,5,"A",2,0,10,"A",4,1,5,"A",3,1,7,"A",3,1,7,"A",2,0,10,"A",2,1,5,"A",1,0,5,"A",1,0,5,"A",null,null,"","",null,null,"","",null,null,"","",null,null,"","",null,null,"","",null,null,"","",null,null,"","",null,null,"","",null,null,"","",null,null,"","",null,null,"","",null,null,"","",null,null,"","",null,null,"","",null,null,"","",null,null,"","",null,null,"","",null,null,"","",null,null,"","",null,null,"","",null,null,"","",null,null,"","",null,null,"","",null,null,"",""]
["Mi. 19. Jun","15:00:00",15,"Kroatien","Albanien",2,2,null,2,1,0,"A",2,0,0,"A",2,1,0,"A",1,0,0,"A",4,2,0,"A",2,1,0,"A",3,1,0,"A",2,0,0,"A",3,0,0,"A",1,1,7,"X",3,0,0,"A",3,0,0,"A",2,0,0,"A",2,0,0,"A",1,0,0,"A",2,0,0,"A",4,1,0,"A",1,0,0,"A",2,0,0,"A",3,0,0,"A",2,0,0,"A",2,1,0,"A",2,0,0,"A",3,1,0,"A",2,0,0,"A",3,0,0,"A",null,null,"","",null,null,"","",null,null,"","",null,null,"","",null,null,"","",null,null,"","",null,null,"","",null,null,"","",null,null,"","",null,null,"","",null,null,"","",null,null,"","",null,null,"","",null,null,"","",null,null,"","",null,null,"","",null,null,"","",null,null,"","",null,null,"","",null,null,"","",null,null,"","",null,null,"","",null,null,"","",null,null,"",""]
["Do. 20. Jun","21:00:00",16,"Spanien","Italien",1,0,null,2,2,0,"X",3,2,7,"A",1,1,0,"X",2,1,7,"A",2,1,7,"A",2,1,7,"A",2,2,0,"X",1,0,10,"A",1,1,0,"X",1,1,0,"X",1,0,10,"A",1,1,0,"X",1,1,0,"X",2,1,7,"A",2,2,0,"X",2,2,0,"X",1,1,0,"X",1,0,10,"A",2,1,7,"A",2,1,7,"A",2,2,0,"X",2,2,0,"X",2,2,0,"X",2,2,0,"X",1,0,10,"A",1,1,0,"X",null,null,"","",null,null,"","",null,null,"","",null,null,"","",null,null,"","",null,null,"","",null,null,"","",null,null,"","",null,null,"","",null,null,"","",null,null,"","",null,null,"","",null,null,"","",null,null,"","",null,null,"","",null,null,"","",null,null,"","",null,null,"","",null,null,"","",null,null,"","",null,null,"","",null,null,"","",null,null,"","",null,null,"",""]
["Do. 20. Jun","18:00:00",17,"Dänemark","England",1,1,null,1,2,0,"B",0,2,0,"B",1,2,0,"B",1,2,0,"B",2,3,0,"B",1,2,0,"B",0,2,0,"B",0,2,0,"B",2,1,0,"A",0,3,0,"B",1,1,10,"X",0,2,0,"B",1,1,10,"X",1,1,10,"X",2,4,0,"B",0,1,0,"B",1,3,0,"B",0,1,0,"B",0,2,0,"B",1,2,0,"B",1,1,10,"X",2,2,7,"X",2,2,7,"X",0,0,7,"X",0,1,0,"B",1,2,0,"B",null,null,"","",null,null,"","",null,null,"","",null,null,"","",null,null,"","",null,null,"","",null,null,"","",null,null,"","",null,null,"","",null,null,"","",null,null,"","",null,null,"","",null,null,"","",null,null,"","",null,null,"","",null,null,"","",null,null,"","",null,null,"","",null,null,"","",null,null,"","",null,null,"","",null,null,"","",null,null,"","",null,null,"",""]
["Do. 20. Jun","15:00:00",18,"Slowenien","Serbien",1,1,null,0,2,0,"B",1,3,0,"B",1,2,0,"B",0,2,0,"B",2,2,7,"X",1,2,0,"B",1,1,10,"X",0,1,0,"B",0,2,0,"B",0,1,0,"B",0,1,0,"B",1,1,10,"X",2,1,0,"A",2,1,0,"A",1,1,10,"X",0,1,0,"B",1,1,10,"X",0,0,7,"X",1,3,0,"B",1,1,10,"X",1,2,0,"B",2,1,0,"A",1,2,0,"B",1,2,0,"B",0,1,0,"B",0,0,7,"X",null,null,"","",null,null,"","",null,null,"","",null,null,"","",null,null,"","",null,null,"","",null,null,"","",null,null,"","",null,null,"","",null,null,"","",null,null,"","",null,null,"","",null,null,"","",null,null,"","",null,null,"","",null,null,"","",null,null,"","",null,null,"","",null,null,"","",null,null,"","",null,null,"","",null,null,"","",null,null,"","",null,null,"",""]
["Fr. 21. Jun","18:00:00",19,"Polen","Österreich",1,3,null,1,1,0,"X",1,2,5,"B",1,3,10,"B",1,3,10,"B",2,3,5,"B",1,2,5,"B",2,1,0,"A",0,1,5,"B",2,2,0,"X",1,0,0,"A",0,1,5,"B",1,1,0,"X",0,1,5,"B",0,1,5,"B",0,0,0,"X",1,0,0,"A",1,2,5,"B",0,0,0,"X",1,1,0,"X",1,1,0,"X",1,2,5,"B",1,3,10,"B",1,1,0,"X",1,1,0,"X",0,1,5,"B",2,1,0,"A",null,null,"","",null,null,"","",null,null,"","",null,null,"","",null,null,"","",null,null,"","",null,null,"","",null,null,"","",null,null,"","",null,null,"","",null,null,"","",null,null,"","",null,null,"","",null,null,"","",null,null,"","",null,null,"","",null,null,"","",null,null,"","",null,null,"","",null,null,"","",null,null,"","",null,null,"","",null,null,"","",null,null,"",""]
["Fr. 21. Jun","21:00:00",20,"Holland","Frankreich",0,0,null,3,3,7,"X",2,2,7,"X",2,3,0,"B",1,3,0,"B",1,3,0,"B",1,2,0,"B",1,3,0,"B",1,2,0,"B",1,3,0,"B",2,2,7,"X",1,1,7,"X",0,0,10,"X",1,1,7,"X",1,1,7,"X",1,2,0,"B",1,3,0,"B",1,2,0,"B",0,1,0,"B",1,2,0,"B",2,3,0,"B",2,2,7,"X",2,2,7,"X",2,1,0,"A",1,2,0,"B",0,1,0,"B",1,2,0,"B",null,null,"","",null,null,"","",null,null,"","",null,null,"","",null,null,"","",null,null,"","",null,null,"","",null,null,"","",null,null,"","",null,null,"","",null,null,"","",null,null,"","",null,null,"","",null,null,"","",null,null,"","",null,null,"","",null,null,"","",null,null,"","",null,null,"","",null,null,"","",null,null,"","",null,null,"","",null,null,"","",null,null,"",""]
[{"$f":"A29","v":"Fr. 21. Jun"},"15:00:00",21,{"$f":"IF(D29=\"\",\"\",D29)","v":"Slowakei"},"Ukraine",1,2,null,2,2,0,"X",1,2,10,"B",1,2,10,"B",0,1,7,"B",2,1,0,"A",1,0,0,"A",2,0,0,"A",0,1,7,"B",2,0,0,"A",0,0,0,"X",0,1,7,"B",2,1,0,"A",1,1,0,"X",1,2,10,"B",1,3,5,"B",0,1,7,"B",1,1,0,"X",1,1,0,"X",1,1,0,"X",2,1,0,"A",0,1,7,"B",1,3,5,"B",0,1,7,"B",2,0,0,"A",0,0,0,"X",1,1,0,"X",null,null,"","",null,null,"","",null,null,"","",null,null,"","",null,null,"","",null,null,"","",null,null,"","",null,null,"","",null,null,"","",null,null,"","",null,null,"","",null,null,"","",null,null,"","",null,null,"","",null,null,"","",null,null,"","",null,null,"","",null,null,"","",null,null,"","",null,null,"","",null,null,"","",null,null,"","",null,null,"","",null,null,"",""]
["Sa. 22. Jun","21:00:00",22,"Belgien","Rumänien",2,0,null,3,0,5,"A",3,0,5,"A",3,1,7,"A",1,1,0,"X",3,2,5,"A",1,0,5,"A",2,0,10,"A",2,0,10,"A",5,0,5,"A",3,1,7,"A",2,0,10,"A",2,0,10,"A",2,0,10,"A",2,0,10,"A",2,0,10,"A",2,0,10,"A",3,1,7,"A",1,0,5,"A",3,0,5,"A",2,0,10,"A",3,1,7,"A",4,0,5,"A",4,0,5,"A",2,1,5,"A",1,0,5,"A",2,1,5,"A",null,null,"","",null,null,"","",null,null,"","",null,null,"","",null,null,"","",null,null,"","",null,null,"","",null,null,"","",null,null,"","",null,null,"","",null,null,"","",null,null,"","",null,null,"","",null,null,"","",null,null,"","",null,null,"","",null,null,"","",null,null,"","",null,null,"","",null,null,"","",null,null,"","",null,null,"","",null,null,"","",null,null,"",""]
["Sa. 22. Jun","18:00:00",23,"Türkei","Portugal",0,3,null,1,1,0,"X",1,2,5,"B",1,1,0,"X",0,2,5,"B",2,4,5,"B",0,2,5,"B",1,3,5,"B",0,1,5,"B",1,5,5,"B",2,3,5,"B",0,1,5,"B",0,2,5,"B",1,1,0,"X",1,1,0,"X",1,2,5,"B",1,3,5,"B",1,3,5,"B",0,1,5,"B",1,1,0,"X",0,3,10,"B",1,2,5,"B",1,3,5,"B",2,2,0,"X",0,2,5,"B",0,1,5,"B",0,2,5,"B",null,null,"","",null,null,"","",null,null,"","",null,null,"","",null,null,"","",null,null,"","",null,null,"","",null,null,"","",null,null,"","",null,null,"","",null,null,"","",null,null,"","",null,null,"","",null,null,"","",null,null,"","",null,null,"","",null,null,"","",null,null,"","",null,null,"","",null,null,"","",null,null,"","",null,null,"","",null,null,"","",null,null,"",""]
["Sa. 22. Jun","15:00:00",24,"Georgien","Tschechien",1,1,null,0,4,0,"B",0,2,0,"B",1,2,0,"B",0,1,0,"B",2,2,7,"X",1,2,0,"B",0,2,0,"B",0,1,0,"B",0,0,7,"X",1,0,0,"A",0,1,0,"B",0,2,0,"B",0,2,0,"B",0,2,0,"B",1,2,0,"B",0,1,0,"B",0,3,0,"B",0,2,0,"B",0,2,0,"B",0,1,0,"B",1,2,0,"B",1,3,0,"B",0,2,0,"B",1,1,10,"X",0,1,0,"B",0,1,0,"B",null,null,"","",null,null,"","",null,null,"","",null,null,"","",null,null,"","",null,null,"","",null,null,"","",null,null,"","",null,null,"","",null,null,"","",null,null,"","",null,null,"","",null,null,"","",null,null,"","",null,null,"","",null,null,"","",null,null,"","",null,null,"","",null,null,"","",null,null,"","",null,null,"","",null,null,"","",null,null,"","",null,null,"",""]
["So. 23. Jun","21:00:00",25,"Schweiz","Deutschland",1,1,null,2,3,0,"B",1,1,10,"X",1,2,0,"B",1,2,0,"B",2,3,0,"B",1,2,0,"B",0,3,0,"B",0,2,0,"B",1,4,0,"B",2,1,0,"A",1,1,10,"X",1,0,0,"A",1,2,0,"B",1,1,10,"X",3,3,7,"X",1,1,10,"X",1,3,0,"B",0,1,0,"B",0,2,0,"B",1,3,0,"B",1,1,10,"X",2,2,7,"X",1,2,0,"B",0,0,7,"X",0,1,0,"B",0,1,0,"B",null,null,"","",null,null,"","",null,null,"","",null,null,"","",null,null,"","",null,null,"","",null,null,"","",null,null,"","",null,null,"","",null,null,"","",null,null,"","",null,null,"","",null,null,"","",null,null,"","",null,null,"","",null,null,"","",null,null,"","",null,null,"","",null,null,"","",null,null,"","",null,null,"","",null,null,"","",null,null,"","",null,null,"",""]
["So. 23. Jun","21:00:00",26,"Schottland","Ungarn",0,1,null,1,0,0,"A",0,1,10,"B",0,1,10,"B",2,0,0,"A",2,2,0,"X",1,0,0,"A",2,0,0,"A",1,0,0,"A",1,1,0,"X",0,2,5,"B",0,2,5,"B",1,2,7,"B",0,1,10,"B",0,1,10,"B",2,3,7,"B",0,1,10,"B",1,1,0,"X",0,0,0,"X",1,1,0,"X",2,1,0,"A",1,2,7,"B",1,2,7,"B",1,2,7,"B",1,1,0,"X",0,0,0,"X",0,2,5,"B",null,null,"","",null,null,"","",null,null,"","",null,null,"","",null,null,"","",null,null,"","",null,null,"","",null,null,"","",null,null,"","",null,null,"","",null,null,"","",null,null,"","",null,null,"","",null,null,"","",null,null,"","",null,null,"","",null,null,"","",null,null,"","",null,null,"","",null,null,"","",null,null,"","",null,null,"","",null,null,"","",null,null,"",""]
["Mo. 24. Jun","21:00:00",27,"Albanien","Spanien",0,1,null,2,5,5,"B",0,5,5,"B",1,3,5,"B",0,2,5,"B",2,3,7,"B",1,2,7,"B",0,2,5,"B",0,2,5,"B",0,5,5,"B",1,3,5,"B",0,1,10,"B",1,0,0,"A",0,3,5,"B",0,2,5,"B",0,3,5,"B",0,2,5,"B",0,5,5,"B",0,1,10,"B",0,3,5,"B",0,4,5,"B",0,2,5,"B",1,3,5,"B",2,1,0,"A",1,3,5,"B",0,2,5,"B",1,2,7,"B",null,null,"","",null,null,"","",null,null,"","",null,null,"","",null,null,"","",null,null,"","",null,null,"","",null,null,"","",null,null,"","",null,null,"","",null,null,"","",null,null,"","",null,null,"","",null,null,"","",null,null,"","",null,null,"","",null,null,"","",null,null,"","",null,null,"","",null,null,"","",null,null,"","",null,null,"","",null,null,"","",null,null,"",""]
["Mo. 24. Jun","21:00:00",28,"Kroatien","Italien",1,1,null,0,0,7,"X",1,2,0,"B",1,1,10,"X",2,1,0,"A",3,3,7,"X",1,1,10,"X",2,1,0,"A",0,1,0,"B",2,3,0,"B",2,2,7,"X",1,0,0,"A",1,0,0,"A",1,0,0,"A",2,1,0,"A",1,1,10,"X",0,1,0,"B",1,3,0,"B",1,1,10,"X",1,2,0,"B",3,3,7,"X",1,1,10,"X",2,2,7,"X",2,1,0,"A",2,1,0,"A",1,1,10,"X",0,1,0,"B",null,null,"","",null,null,"","",null,null,"","",null,null,"","",null,null,"","",null,null,"","",null,null,"","",null,null,"","",null,null,"","",null,null,"","",null,null,"","",null,null,"","",null,null,"","",null,null,"","",null,null,"","",null,null,"","",null,null,"","",null,null,"","",null,null,"","",null,null,"","",null,null,"","",null,null,"","",null,null,"","",null,null,"",""]
["Di. 25. Jun","21:00:00",29,"England","Slowenien",0,0,null,3,1,0,"A",3,0,0,"A",2,0,0,"A",2,0,0,"A",4,3,0,"A",2,0,0,"A",3,0,0,"A",2,0,0,"A",3,1,0,"A",2,1,0,"A",1,0,0,"A",3,0,0,"A",2,0,0,"A",2,0,0,"A",1,0,0,"A",2,0,0,"A",4,0,0,"A",1,0,0,"A",3,0,0,"A",2,0,0,"A",3,0,0,"A",3,1,0,"A",2,0,0,"A",2,0,0,"A",1,0,0,"A",1,0,0,"A",null,null,"","",null,null,"","",null,null,"","",null,null,"","",null,null,"","",null,null,"","",null,null,"","",null,null,"","",null,null,"","",null,null,"","",null,null,"","",null,null,"","",null,null,"","",null,null,"","",null,null,"","",null,null,"","",null,null,"","",null,null,"","",null,null,"","",null,null,"","",null,null,"","",null,null,"","",null,null,"","",null,null,"",""]
["Di. 25. Jun","21:00:00",30,"Dänemark","Serbien",0,0,null,2,0,0,"A",2,1,0,"A",2,1,0,"A",3,0,0,"A",3,3,7,"X",0,1,0,"B",2,1,0,"A",1,0,0,"A",1,0,0,"A",3,1,0,"A",2,2,7,"X",1,1,7,"X",2,1,0,"A",1,1,7,"X",1,0,0,"A",2,1,0,"A",2,2,7,"X",1,0,0,"A",0,2,0,"B",2,0,0,"A",2,0,0,"A",3,1,0,"A",2,1,0,"A",0,1,0,"B",1,0,0,"A",3,1,0,"A",null,null,"","",null,null,"","",null,null,"","",null,null,"","",null,null,"","",null,null,"","",null,null,"","",null,null,"","",null,null,"","",null,null,"","",null,null,"","",null,null,"","",null,null,"","",null,null,"","",null,null,"","",null,null,"","",null,null,"","",null,null,"","",null,null,"","",null,null,"","",null,null,"","",null,null,"","",null,null,"","",null,null,"",""]
["Di. 25. Jun","18:00:00",31,"Holland","Österreich",2,3,null,4,2,0,"A",2,1,0,"A",2,2,0,"X",1,1,0,"X",2,2,0,"X",1,2,7,"B",2,1,0,"A",2,1,0,"A",4,2,0,"A",2,2,0,"X",2,1,0,"A",4,1,0,"A",2,2,0,"X",2,0,0,"A",2,1,0,"A",2,0,0,"A",2,2,0,"X",1,0,0,"A",2,0,0,"A",3,0,0,"A",2,2,0,"X",2,1,0,"A",2,1,0,"A",2,1,0,"A",1,0,0,"A",2,0,0,"A",null,null,"","",null,null,"","",null,null,"","",null,null,"","",null,null,"","",null,null,"","",null,null,"","",null,null,"","",null,null,"","",null,null,"","",null,null,"","",null,null,"","",null,null,"","",null,null,"","",null,null,"","",null,null,"","",null,null,"","",null,null,"","",null,null,"","",null,null,"","",null,null,"","",null,null,"","",null,null,"","",null,null,"",""]
["Di. 25. Jun","18:00:00",32,"Frankreich","Polen",1,1,null,4,1,0,"A",2,0,0,"A",3,2,0,"A",3,0,0,"A",2,0,0,"A",3,1,0,"A",2,1,0,"A",2,0,0,"A",6,2,0,"A",3,2,0,"A",2,0,0,"A",4,0,0,"A",2,0,0,"A",3,1,0,"A",1,0,0,"A",3,1,0,"A",4,0,0,"A",1,0,0,"A",2,0,0,"A",3,0,0,"A",2,0,0,"A",4,1,0,"A",3,0,0,"A",3,0,0,"A",1,0,0,"A",2,1,0,"A",null,null,"","",null,null,"","",null,null,"","",null,null,"","",null,null,"","",null,null,"","",null,null,"","",null,null,"","",null,null,"","",null,null,"","",null,null,"","",null,null,"","",null,null,"","",null,null,"","",null,null,"","",null,null,"","",null,null,"","",null,null,"","",null,null,"","",null,null,"","",null,null,"","",null,null,"","",null,null,"","",null,null,"",""]
["Mi. 26. Jun","18:00:00",33,"Slowakei","Rumänien",1,1,null,0,0,7,"X",1,0,0,"A",1,1,10,"X",1,1,10,"X",3,3,7,"X",1,0,0,"A",2,0,0,"A",0,2,0,"B",2,2,7,"X",0,1,0,"B",0,0,7,"X",1,1,10,"X",2,1,0,"A",2,1,0,"A",1,1,10,"X",1,1,10,"X",0,0,7,"X",0,1,0,"B",1,1,10,"X",1,1,10,"X",1,1,10,"X",1,0,0,"A",2,2,7,"X",1,1,10,"X",0,1,0,"B",2,2,7,"X",null,null,"","",null,null,"","",null,null,"","",null,null,"","",null,null,"","",null,null,"","",null,null,"","",null,null,"","",null,null,"","",null,null,"","",null,null,"","",null,null,"","",null,null,"","",null,null,"","",null,null,"","",null,null,"","",null,null,"","",null,null,"","",null,null,"","",null,null,"","",null,null,"","",null,null,"","",null,null,"","",null,null,"",""]
["Mi. 26. Jun","18:00:00",34,"Ukraine","Belgien",0,0,null,2,5,0,"B",1,2,0,"B",1,2,0,"B",0,1,0,"B",2,3,0,"B",1,1,7,"X",0,2,0,"B",1,2,0,"B",0,3,0,"B",0,2,0,"B",0,1,0,"B",0,3,0,"B",1,2,0,"B",1,2,0,"B",2,2,7,"X",2,3,0,"B",1,3,0,"B",0,1,0,"B",0,2,0,"B",1,3,0,"B",1,2,0,"B",1,3,0,"B",1,3,0,"B",0,2,0,"B",0,1,0,"B",1,3,0,"B",null,null,"","",null,null,"","",null,null,"","",null,null,"","",null,null,"","",null,null,"","",null,null,"","",null,null,"","",null,null,"","",null,null,"","",null,null,"","",null,null,"","",null,null,"","",null,null,"","",null,null,"","",null,null,"","",null,null,"","",null,null,"","",null,null,"","",null,null,"","",null,null,"","",null,null,"","",null,null,"","",null,null,"",""]
["Mi. 26. Jun","21:00:00",35,"Georgien","Portugal",2,0,null,0,5,0,"B",1,3,0,"B",1,2,0,"B",0,3,0,"B",2,4,0,"B",1,2,0,"B",0,2,0,"B",0,1,0,"B",0,5,0,"B",0,4,0,"B",0,2,0,"B",0,4,0,"B",0,3,0,"B",0,3,0,"B",1,4,0,"B",0,4,0,"B",0,4,0,"B",0,1,0,"B",0,3,0,"B",0,4,0,"B",0,3,0,"B",1,3,0,"B",0,5,0,"B",0,1,0,"B",0,2,0,"B",0,4,0,"B",null,null,"","",null,null,"","",null,null,"","",null,null,"","",null,null,"","",null,null,"","",null,null,"","",null,null,"","",null,null,"","",null,null,"","",null,null,"","",null,null,"","",null,null,"","",null,null,"","",null,null,"","",null,null,"","",null,null,"","",null,null,"","",null,null,"","",null,null,"","",null,null,"","",null,null,"","",null,null,"","",null,null,"",""]
["Mi. 26. Jun","21:00:00",36,"Tschechien","Türkei",1,2,null,2,3,7,"B",1,1,0,"X",2,3,7,"B",2,1,0,"A",1,1,0,"X",1,1,0,"X",0,0,0,"X",0,1,7,"B",2,1,0,"A",0,1,7,"B",1,0,0,"A",1,1,0,"X",0,2,5,"B",1,1,0,"X",1,1,0,"X",0,1,7,"B",1,1,0,"X",1,0,0,"A",0,2,5,"B",2,0,0,"A",2,2,0,"X",2,0,0,"A",1,1,0,"X",0,2,5,"B",0,1,7,"B",1,2,10,"B",null,null,"","",null,null,"","",null,null,"","",null,null,"","",null,null,"","",null,null,"","",null,null,"","",null,null,"","",null,null,"","",null,null,"","",null,null,"","",null,null,"","",null,null,"","",null,null,"","",null,null,"","",null,null,"","",null,null,"","",null,null,"","",null,null,"","",null,null,"","",null,null,"","",null,null,"","",null,null,"","",null,null,"",""]
[null,null,null,null,null,null,"Gesamtpunktzahl:",null,{"$f":"Teilnehmerliste!$C56","v":"Lechena"},null,{"$f":"SUM(K54:K89)","v":95},null,{"$f":"Teilnehmerliste!$C57","v":"Jannis"},null,{"$f":"SUM(O54:O89)","v":109},null,{"$f":"Teilnehmerliste!$C58","v":"Petra"},null,{"$f":"SUM(S54:S89)","v":125},null,{"$f":"Teilnehmerliste!$C59","v":"Martin"},null,{"$f":"SUM(W54:W89)","v":128},null,{"$f":"Teilnehmerliste!$C60","v":"Lynn"},null,{"$f":"SUM(AA54:AA89)","v":117},null,{"$f":"Teilnehmerliste!$C61","v":"Michael"},null,{"$f":"SUM(AE54:AE89)","v":104},null,{"$f":"Teilnehmerliste!$C62","v":"Sabine"},null,{"$f":"SUM(AI54:AI89)","v":87},null,{"$f":"Teilnehmerliste!$C63","v":"Erich"},null,{"$f":"SUM(AM54:AM89)","v":106},null,{"$f":"Teilnehmerliste!$C64","v":"Ralph"},null,{"$f":"SUM(AQ54:AQ89)","v":93},null,{"$f":"Teilnehmerliste!$C65","v":"Corinne"},null,{"$f":"SUM(AU54:AU89)","v":87},null,{"$f":"Teilnehmerliste!$C66","v":"Bruno"},null,{"$f":"SUM(AY54:AY89)","v":142},null,{"$f":"Teilnehmerliste!$C67","v":"Yermany"},null,{"$f":"SUM(BC54:BC89)","v":99},null,{"$f":"Teilnehmerliste!$C68","v":"Armando"},null,{"$f":"SUM(BG54:BG89)","v":121},null,{"$f":"Teilnehmerliste!$C69","v":"Julia"},null,{"$f":"SUM(BK54:BK89)","v":155},null,{"$f":"Teilnehmerliste!$C70","v":"Lea"},null,{"$f":"SUM(BO54:BO89)","v":138},null,{"$f":"Teilnehmerliste!$C71","v":"Reto"},null,{"$f":"SUM(BS54:BS89)","v":118},null,{"$f":"Teilnehmerliste!$C72","v":"Christoph"},null,{"$f":"SUM(BW54:BW89)","v":106},null,{"$f":"Teilnehmerliste!$C73","v":"Markus"},null,{"$f":"SUM(CA54:CA89)","v":106},null,{"$f":"Teilnehmerliste!$C74","v":"Stefan"},null,{"$f":"SUM(CE54:CE89)","v":96},null,{"$f":"Teilnehmerliste!$C75","v":"Jingwen"},null,{"$f":"SUM(CI54:CI89)","v":99},null,{"$f":"Teilnehmerliste!$C76","v":"Stefan"},null,{"$f":"SUM(CM54:CM89)","v":144},null,{"$f":"Teilnehmerliste!$C77","v":"Jasmine"},null,{"$f":"SUM(CQ54:CQ89)","v":114},null,{"$f":"Teilnehmerliste!$C78","v":"Stefan"},null,{"$f":"SUM(CU54:CU89)","v":80},null,{"$f":"Teilnehmerliste!$C79","v":"Mario"},null,{"$f":"SUM(CY54:CY89)","v":113},null,{"$f":"Teilnehmerliste!$C80","v":"Nidhal"},null,{"$f":"SUM(DC54:DC89)","v":108},null,{"$f":"Teilnehmerliste!$C81","v":"Hanspeter"},null,{"$f":"SUM(DG54:DG89)","v":93},null,{"$f":"Teilnehmerliste!$C82","v":0},null,{"$f":"SUM(DK54:DK89)","v":0},null,{"$f":"Teilnehmerliste!$C83","v":0},null,{"$f":"SUM(DO54:DO89)","v":0},null,{"$f":"Teilnehmerliste!$C84","v":0},null,{"$f":"SUM(DS54:DS89)","v":0},null,{"$f":"Teilnehmerliste!$C85","v":0},null,{"$f":"SUM(DW54:DW89)","v":0},null,{"$f":"Teilnehmerliste!$C86","v":0},null,{"$f":"SUM(EA54:EA89)","v":0},null,{"$f":"Teilnehmerliste!$C87","v":0},null,{"$f":"SUM(EE54:EE89)","v":0},null,{"$f":"Teilnehmerliste!$C88","v":0},null,{"$f":"SUM(EI54:EI89)","v":0},null,{"$f":"Teilnehmerliste!$C89","v":0},null,{"$f":"SUM(EM54:EM89)","v":0},null,{"$f":"Teilnehmerliste!$C90","v":0},null,{"$f":"SUM(EQ54:EQ89)","v":0},null,{"$f":"Teilnehmerliste!$C91","v":0},null,{"$f":"SUM(EU54:EU89)","v":0},null,{"$f":"Teilnehmerliste!$C92","v":0},null,{"$f":"SUM(EY54:EY89)","v":0},null,{"$f":"Teilnehmerliste!$C93","v":0},null,{"$f":"SUM(FC54:FC89)","v":0},null,{"$f":"Teilnehmerliste!$C94","v":0},null,{"$f":"SUM(FG54:FG89)","v":0},null,{"$f":"Teilnehmerliste!$C95","v":0},null,{"$f":"SUM(FK54:FK89)","v":0},null,{"$f":"Teilnehmerliste!$C96","v":0},null,{"$f":"SUM(FO54:FO89)","v":0},null,{"$f":"Teilnehmerliste!$C97","v":0},null,{"$f":"SUM(FS54:FS89)","v":0},null,{"$f":"Teilnehmerliste!$C98","v":0},null,{"$f":"SUM(FW54:FW89)","v":0},null,{"$f":"Teilnehmerliste!$C99","v":0},null,{"$f":"SUM(GA54:GA89)","v":0},null,{"$f":"Teilnehmerliste!$C100","v":0},null,{"$f":"SUM(GE54:GE89)","v":0},null,{"$f":"Teilnehmerliste!$C101","v":0},null,{"$f":"SUM(GI54:GI89)","v":0},null,{"$f":"Teilnehmerliste!$C102","v":0},null,{"$f":"SUM(GM54:GM89)","v":0},null,{"$f":"Teilnehmerliste!$C103","v":0},null,{"$f":"SUM(GQ54:GQ89)","v":0},null,{"$f":"Teilnehmerliste!$C104","v":0},null,{"$f":"SUM(GU54:GU89)","v":0},null,{"$f":"Teilnehmerliste!$C105","v":0},null,{"$f":"SUM(GY54:GY89)","v":0}]

{"sheet":"Endplatzierung","index":3,"n_rows":68,"n_cols":104,"rows_kept":68,"cut":false,"hidden":false,"merged":[[43,2,46,2],[47,2,50,2],[51,2,54,2],[55,2,58,2],[59,2,62,2],[63,2,66,2],[4,96,4,97],[4,72,4,73],[4,74,4,75],[4,76,4,77],[4,78,4,79],[4,64,4,65],[4,66,4,67],[4,68,4,69],[4,70,4,71],[4,56,4,57],[4,58,4,59],[4,60,4,61],[4,62,4,63],[4,48,4,49],[4,50,4,51],[4,52,4,53],[4,54,4,55],[4,40,4,41],[4,98,4,99],[4,100,4,101],[4,102,4,103],[4,88,4,89],[4,90,4,91],[4,92,4,93],[4,94,4,95],[4,80,4,81],[4,82,4,83],[4,84,4,85],[4,86,4,87],[4,32,4,33],[4,34,4,35],[4,36,4,37],[4,38,4,39],[4,30,4,31],[4,16,4,17],[4,18,4,19],[4,20,4,21],[4,22,4,23],[4,24,4,25],[4,26,4,27],[4,28,4,29],[3,72,3,73],[3,74,3,75],[3,76,3,77],[3,78,3,79],[3,64,3,65],[3,66,3,67],[3,68,3,69],[3,70,3,71],[4,42,4,43],[4,44,4,45],[4,46,4,47],[3,56,3,57],[3,58,3,59],[3,60,3,61],[3,62,3,63],[3,48,3,49],[3,50,3,51],[3,52,3,53],[3,54,3,55],[3,96,3,97],[3,98,3,99],[3,100,3,101],[3,102,3,103],[3,88,3,89],[3,90,3,91],[3,92,3,93],[3,94,3,95],[3,80,3,81],[3,82,3,83],[3,84,3,85],[3,86,3,87],[3,40,3,41],[3,42,3,43],[3,44,3,45],[3,46,3,47],[3,32,3,33],[3,34,3,35],[3,36,3,37],[3,38,3,39],[3,30,3,31],[3,16,3,17],[3,18,3,19],[3,20,3,21],[3,22,3,23],[3,24,3,25],[3,26,3,27],[3,28,3,29],[3,8,3,9],[3,10,3,11],[3,12,3,13],[3,14,3,15],[4,8,4,9],[4,10,4,11],[4,12,4,13],[4,14,4,15],[2,0,2,1],[36,0,36,1],[3,4,3,5],[3,6,3,7],[4,4,4,5],[4,6,4,7],[9,2,12,2],[13,2,16,2],[17,2,20,2],[21,2,24,2],[25,2,28,2],[29,2,32,2]]}
[{"$f":"Teams!$B$30","v":"EM 2024 by Rogerinho (www.fcbouncer.ch)"}]
[]
["Vorrunde",null,"Spieler 1 - 50"]
["20 Punkte für richtige Mannschaft auf Platz 3",null,null,null,{"$f":"Teilnehmerliste!$B6","v":"Agorastos"},null,{"$f":"Teilnehmerliste!$B7","v":"Antonelli"},null,{"$f":"Teilnehmerliste!$B8","v":"Antonelli"},null,{"$f":"Teilnehmerliste!$B9","v":"Bartholet"},null,{"$f":"Teilnehmerliste!$B10","v":"Bartholet"},null,{"$f":"Teilnehmerliste!$B11","v":"Bartholet"},null,{"$f":"Teilnehmerliste!$B12","v":"Bartholet"},null,{"$f":"Teilnehmerliste!$B13","v":"Beck"},null,{"$f":"Teilnehmerliste!$B14","v":"Blöchlinger/Edri"},null,{"$f":"Teilnehmerliste!$B15","v":"Bosshart"},null,{"$f":"Teilnehmerliste!$B16","v":"Brunner"},null,{"$f":"Teilnehmerliste!$B17","v":"Brunner"},null,{"$f":"Teilnehmerliste!$B18","v":"Brunner"},null,{"$f":"Teilnehmerliste!$B19","v":"Burkart"},null,{"$f":"Teilnehmerliste!$B20","v":"Burkart"},null,{"$f":"Teilnehmerliste!$B21","v":"Cadonau"},null,{"$f":"Teilnehmerliste!$B22","v":"Cadonau"},null,{"$f":"Teilnehmerliste!$B23","v":"Cadonau"},null,{"$f":"Teilnehmerliste!$B24","v":"Christiansen"},null,{"$f":"Teilnehmerliste!$B25","v":"Da Costa"},null,{"$f":"Teilnehmerliste!$B26","v":"D'Acunto"},null,{"$f":"Teilnehmerliste!$B27","v":"D'Acunto"},null,{"$f":"Teilnehmerliste!$B28","v":"D'Acunto"},null,{"$f":"Teilnehmerliste!$B29","v":"Dukic"},null,{"$f":"Teilnehmerliste!$B30","v":"Duvnjak"},null,{"$f":"Teilnehmerliste!$B31","v":"Figaro"},null,{"$f":"Teilnehmerliste!$B32","v":"Foscaldi"},null,{"$f":"Teilnehmerliste!$B33","v":"Giuralarocca"},null,{"$f":"Teilnehmerliste!$B34","v":"Gomes"},null,{"$f":"Teilnehmerliste!$B35","v":"Grosse"},null,{"$f":"Teilnehmerliste!$B36","v":"Gygli"},null,{"$f":"Teilnehmerliste!$B37","v":"Gygli"},null,{"$f":"Teilnehmerliste!$B38","v":"Gygli"},null,{"$f":"Teilnehmerliste!$B39","v":"Gygli"},null,{"$f":"Teilnehmerliste!$B40","v":"Gygli"},null,{"$f":"Teilnehmerliste!$B41","v":"Haab"},null,{"$f":"Teilnehmerliste!$B42","v":"Handanagic"},null,{"$f":"Teilnehmerliste!$B43","v":"Isenschmid"},null,{"$f":"Teilnehmerliste!$B44","v":"Isenschmid"},null,{"$f":"Teilnehmerliste!$B45","v":"Isenschmid"},null,{"$f":"Teilnehmerliste!$B46","v":"Jones"},null,{"$f":"Teilnehmerliste!$B47","v":"Kalinci"},null,{"$f":"Teilnehmerliste!$B48","v":"Keller"},null,{"$f":"Teilnehmerliste!$B49","v":"Lanz"},null,{"$f":"Teilnehmerliste!$B50","v":"Lischer"},null,{"$f":"Teilnehmerliste!$B51","v":"Lütolf"},null,{"$f":"Teilnehmerliste!$B52","v":"Marini"},null,{"$f":"Teilnehmerliste!$B53","v":"Marthaler"},null,{"$f":"Teilnehmerliste!$B54","v":"Oliveira"},null,{"$f":"Teilnehmerliste!$B55","v":"Palma"}]
["20 Punkte für richtige Mannschaft auf Platz 4",null,null,null,{"$f":"Teilnehmerliste!$C6","v":"Panos"},null,{"$f":"Teilnehmerliste!$C7","v":"Marco"},null,{"$f":"Teilnehmerliste!$C8","v":"Ruben"},null,{"$f":"Teilnehmerliste!$C9","v":"Andi"},null,{"$f":"Teilnehmerliste!$C10","v":"Nott"},null,{"$f":"Teilnehmerliste!$C11","v":"Philippe"},null,{"$f":"Teilnehmerliste!$C12","v":"Roger"},null,{"$f":"Teilnehmerliste!$C13","v":"Mara"},null,{"$f":"Teilnehmerliste!$C14","v":"Lara/Yaniv"},null,{"$f":"Teilnehmerliste!$C15","v":"Michael"},null,{"$f":"Teilnehmerliste!$C16","v":"Manuel"},null,{"$f":"Teilnehmerliste!$C17","v":"Nicolas"},null,{"$f":"Teilnehmerliste!$C18","v":"Philip"},null,{"$f":"Teilnehmerliste!$C19","v":"André"},null,{"$f":"Teilnehmerliste!$C20","v":"Louis"},null,{"$f":"Teilnehmerliste!$C21","v":"Daniel"},null,{"$f":"Teilnehmerliste!$C22","v":"Deliz"},null,{"$f":"Teilnehmerliste!$C23","v":"Florian"},null,{"$f":"Teilnehmerliste!$C24","v":"Olo"},null,{"$f":"Teilnehmerliste!$C25","v":"Leonardo"},null,{"$f":"Teilnehmerliste!$C26","v":"Lisa"},null,{"$f":"Teilnehmerliste!$C27","v":"Niva"},null,{"$f":"Teilnehmerliste!$C28","v":"Vinci"},null,{"$f":"Teilnehmerliste!$C29","v":"Goran"},null,{"$f":"Teilnehmerliste!$C30","v":"Dino"},null,{"$f":"Teilnehmerliste!$C31","v":"Marlon"},null,{"$f":"Teilnehmerliste!$C32","v":"Maurizio"},null,{"$f":"Teilnehmerliste!$C33","v":"Roberto"},null,{"$f":"Teilnehmerliste!$C34","v":"Rui"},null,{"$f":"Teilnehmerliste!$C35","v":"Laurent"},null,{"$f":"Teilnehmerliste!$C36","v":"Gregory"},null,{"$f":"Teilnehmerliste!$C37","v":"Reto"},null,{"$f":"Teilnehmerliste!$C38","v":"Sarina"},null,{"$f":"Teilnehmerliste!$C39","v":"Stefan"},null,{"$f":"Teilnehmerliste!$C40","v":"Timothy"},null,{"$f":"Teilnehmerliste!$C41","v":"Florian"},null,{"$f":"Teilnehmerliste!$C42","v":"Djuma"},null,{"$f":"Teilnehmerliste!$C43","v":"Agnes"},null,{"$f":"Teilnehmerliste!$C44","v":"Andreas"},null,{"$f":"Teilnehmerliste!$C45","v":"Michi"},null,{"$f":"Teilnehmerliste!$C46","v":"Aiden"},null,{"$f":"Teilnehmerliste!$C47","v":"Murat"},null,{"$f":"Teilnehmerliste!$C48","v":"Pascal"},null,{"$f":"Teilnehmerliste!$C49","v":"André"},null,{"$f":"Teilnehmerliste!$C50","v":"Franz"},null,{"$f":"Teilnehmerliste!$C51","v":"Marc"},null,{"$f":"Teilnehmerliste!$C52","v":"Mauro"},null,{"$f":"Teilnehmerliste!$C53","v":"Martin"},null,{"$f":"Teilnehmerliste!$C54","v":"Telmo"},null,{"$f":"Teilnehmerliste!$C55","v":"Luigi"}]
["Punkte für 1. + 2. Platz werden in der Zwischenrunde dazugerechnet",null,null,null,null,{"$f":"Teilnehmerliste!$A6","v":1},null,{"$f":"Teilnehmerliste!$A7","v":2},null,{"$f":"Teilnehmerliste!$A8","v":3},null,{"$f":"Teilnehmerliste!$A9","v":4},null,{"$f":"Teilnehmerliste!$A10","v":5},null,{"$f":"Teilnehmerliste!$A11","v":6},null,{"$f":"Teilnehmerliste!$A12","v":7},null,{"$f":"Teilnehmerliste!$A13","v":8},null,{"$f":"Teilnehmerliste!$A14","v":9},null,{"$f":"Teilnehmerliste!$A15","v":10},null,{"$f":"Teilnehmerliste!$A16","v":11},null,{"$f":"Teilnehmerliste!$A17","v":12},null,{"$f":"Teilnehmerliste!$A18","v":13},null,{"$f":"Teilnehmerliste!$A19","v":14},null,{"$f":"Teilnehmerliste!$A20","v":15},null,{"$f":"Teilnehmerliste!$A21","v":16},null,{"$f":"Teilnehmerliste!$A22","v":17},null,{"$f":"Teilnehmerliste!$A23","v":18},null,{"$f":"Teilnehmerliste!$A24","v":19},null,{"$f":"Teilnehmerliste!$A25","v":20},null,{"$f":"Teilnehmerliste!$A26","v":21},null,{"$f":"Teilnehmerliste!$A27","v":22},null,{"$f":"Teilnehmerliste!$A28","v":23},null,{"$f":"Teilnehmerliste!$A29","v":24},null,{"$f":"Teilnehmerliste!$A30","v":25},null,{"$f":"Teilnehmerliste!$A31","v":26},null,{"$f":"Teilnehmerliste!$A32","v":27},null,{"$f":"Teilnehmerliste!$A33","v":28},null,{"$f":"Teilnehmerliste!$A34","v":29},null,{"$f":"Teilnehmerliste!$A35","v":30},null,{"$f":"Teilnehmerliste!$A36","v":31},null,{"$f":"Teilnehmerliste!$A37","v":32},null,{"$f":"Teilnehmerliste!$A38","v":33},null,{"$f":"Teilnehmerliste!$A39","v":34},null,{"$f":"Teilnehmerliste!$A40","v":35},null,{"$f":"Teilnehmerliste!$A41","v":36},null,{"$f":"Teilnehmerliste!$A42","v":37},null,{"$f":"Teilnehmerliste!$A43","v":38},null,{"$f":"Teilnehmerliste!$A44","v":39},null,{"$f":"Teilnehmerliste!$A45","v":40},null,{"$f":"Teilnehmerliste!$A46","v":41},null,{"$f":"Teilnehmerliste!$A47","v":42},null,{"$f":"Teilnehmerliste!$A48","v":43},null,{"$f":"Teilnehmerliste!$A49","v":44},null,{"$f":"Teilnehmerliste!$A50","v":45},null,{"$f":"Teilnehmerliste!$A51","v":46},null,{"$f":"Teilnehmerliste!$A52","v":47},null,{"$f":"Teilnehmerliste!$A53","v":48},null,{"$f":"Teilnehmerliste!$A54","v":49},null,{"$f":"Teilnehmerliste!$A55","v":50}]
[]
["Platz","Team",null,null,"Tipp","Pkt","Tipp","Pkt","Tipp","Pkt","Tipp","Pkt","Tipp","Pkt","Tipp","Pkt","Tipp","Pkt","Tipp","Pkt","Tipp","Pkt","Tipp","Pkt","Tipp","Pkt","Tipp","Pkt","Tipp","Pkt","Tipp","Pkt","Tipp","Pkt","Tipp","Pkt","Tipp","Pkt","Tipp","Pkt","Tipp","Pkt","Tipp","Pkt","Tipp","Pkt","Tipp","Pkt","Tipp","Pkt","Tipp","Pkt","Tipp","Pkt","Tipp","Pkt","Tipp","Pkt","Tipp","Pkt","Tipp","Pkt","Tipp","Pkt","Tipp","Pkt","Tipp","Pkt","Tipp","Pkt","Tipp","Pkt","Tipp","Pkt","Tipp","Pkt","Tipp","Pkt","Tipp","Pkt","Tipp","Pkt","Tipp","Pkt","Tipp","Pkt","Tipp","Pkt","Tipp","Pkt","Tipp","Pkt","Tipp","Pkt","Tipp","Pkt","Tipp","Pkt","Tipp","Pkt","Tipp","Pkt","Tipp","Pkt"]
["Endplatzierung"]
[1,"Deutschland","Gruppe A",null,"Deutschland","-","Schweiz","-","Deutschland","-","Deutschland","-","Deutschland","-","Deutschland","-","Deutschland","-","Schweiz","-","Deutschland","-","Deutschland","-","Deutschland","-","Schweiz","-","Deutschland","-","Deutschland","-","Deutschland","-","Deutschland","-","Deutschland","-","Deutschland","-","Deutschland","-","Deutschland","-","Deutschland","-","Deutschland","-","Deutschland","-","Deutschland","-","Deutschland","-","Schweiz","-","Deutschland","-","Deutschland","-","Schweiz","-","Deutschland","-","Schweiz","-","Deutschland","-","Deutschland","-","Deutschland","-","Deutschland","-","Deutschland","-","Deutschland","-","Deutschland","-","Deutschland","-","Deutschland","-","Deutschland","-","Deutschland","-","Deutschland","-","Deutschland","-","Deutschland","-","Deutschland","-","Schweiz","-","Deutschland","-","Deutschland","-","Schottland","-"]
[2,"Schweiz",null,null,"Schweiz","-","Deutschland","-","Schweiz","-","Schweiz","-","Schweiz","-","Schweiz","-","Schweiz","-","Deutschland","-","Schweiz","-","Schweiz","-","Schweiz","-","Deutschland","-","Schweiz","-","Schweiz","-","Schweiz","-","Schweiz","-","Schweiz","-","Schweiz","-","Schweiz","-","Schweiz","-","Schweiz","-","Schweiz","-","Schweiz","-","Schweiz","-","Schweiz","-","Deutschland","-","Schweiz","-","Schweiz","-","Ungarn","-","Schweiz","-","Deutschland","-","Schweiz","-","Schweiz","-","Schweiz","-","Schweiz","-","Schweiz","-","Schweiz","-","Ungarn","-","Schweiz","-","Schweiz","-","Schweiz","-","Schweiz","-","Schweiz","-","Schweiz","-","Schweiz","-","Schweiz","-","Deutschland","-","Schweiz","-","Schweiz","-","Deutschland","-"]
[3,"Ungarn",null,null,"Ungarn",{"$f":"IF(OR($B12=\"\"),0,IF($B12=E12,20,0))","v":20},"Schottland",{"$f":"IF(OR($B12=\"\"),0,IF($B12=G12,20,0))","v":0},"Ungarn",{"$f":"IF(OR($B12=\"\"),0,IF($B12=I12,20,0))","v":20},"Ungarn",{"$f":"IF(OR($B12=\"\"),0,IF($B12=K12,20,0))","v":20},"Schottland",{"$f":"IF(OR($B12=\"\"),0,IF($B12=M12,20,0))","v":0},"Ungarn",{"$f":"IF(OR($B12=\"\"),0,IF($B12=O12,20,0))","v":20},"Ungarn",{"$f":"IF(OR($B12=\"\"),0,IF($B12=Q12,20,0))","v":20},"Ungarn",{"$f":"IF(OR($B12=\"\"),0,IF($B12=S12,20,0))","v":20},"Ungarn",{"$f":"IF(OR($B12=\"\"),0,IF($B12=U12,20,0))","v":20},"Schottland",{"$f":"IF(OR($B12=\"\"),0,IF($B12=W12,20,0))","v":0},"Ungarn",{"$f":"IF(OR($B12=\"\"),0,IF($B12=Y12,20,0))","v":20},"Ungarn",{"$f":"IF(OR($B12=\"\"),0,IF($B12=AA12,20,0))","v":20},"Schottland",{"$f":"IF(OR($B12=\"\"),0,IF($B12=AC12,20,0))","v":0},"Schottland",{"$f":"IF(OR($B12=\"\"),0,IF($B12=AE12,20,0))","v":0},"Ungarn",{"$f":"IF(OR($B12=\"\"),0,IF($B12=AG12,20,0))","v":20},"Ungarn",{"$f":"IF(OR($B12=\"\"),0,IF($B12=AI12,20,0))","v":20},"Schottland",{"$f":"IF(OR($B12=\"\"),0,IF($B12=AK12,20,0))","v":0},"Ungarn",{"$f":"IF(OR($B12=\"\"),0,IF($B12=AM12,20,0))","v":20},"Ungarn",{"$f":"IF(OR($B12=\"\"),0,IF($B12=AO12,20,0))","v":20},"Ungarn",{"$f":"IF(OR($B12=\"\"),0,IF($B12=AQ12,20,0))","v":20},"Schottland",{"$f":"IF(OR($B12=\"\"),0,IF($B12=AS12,20,0))","v":0},"Schottland",{"$f":"IF(OR($B12=\"\"),0,IF($B12=AU12,20,0))","v":0},"Schottland",{"$f":"IF(OR($B12=\"\"),0,IF($B12=AW12,20,0))","v":0},"Ungarn",{"$f":"IF(OR($B12=\"\"),0,IF($B12=AY12,20,0))","v":20},"Ungarn",{"$f":"IF(OR($B12=\"\"),0,IF($B12=BA12,20,0))","v":20},"Ungarn",{"$f":"IF(OR($B12=\"\"),0,IF($B12=BC12,20,0))","v":20},"Ungarn",{"$f":"IF(OR($B12=\"\"),0,IF($B12=BE12,20,0))","v":20},"Ungarn",{"$f":"IF(OR($B12=\"\"),0,IF($B12=BG12,20,0))","v":20},"Deutschland",{"$f":"IF(OR($B12=\"\"),0,IF($B12=BI12,20,0))","v":0},"Ungarn",{"$f":"IF(OR($B12=\"\"),0,IF($B12=BK12,20,0))","v":20},"Ungarn",{"$f":"IF(OR($B12=\"\"),0,IF($B12=BM12,20,0))","v":20},"Schottland",{"$f":"IF(OR($B12=\"\"),0,IF($B12=BO12,20,0))","v":0},"Ungarn",{"$f":"IF(OR($B12=\"\"),0,IF($B12=BQ12,20,0))","v":20},"Ungarn",{"$f":"IF(OR($B12=\"\"),0,IF($B12=BS12,20,0))","v":20},"Schottland",{"$f":"IF(OR($B12=\"\"),0,IF($B12=BU12,20,0))","v":0},"Schottland",{"$f":"IF(OR($B12=\"\"),0,IF($B12=BW12,20,0))","v":0},"Ungarn",{"$f":"IF(OR($B12=\"\"),0,IF($B12=BY12,20,0))","v":20},"Schweiz",{"$f":"IF(OR($B12=\"\"),0,IF($B12=CA12,20,0))","v":0},"Ungarn",{"$f":"IF(OR($B12=\"\"),0,IF($B12=CC12,20,0))","v":20},"Schottland",{"$f":"IF(OR($B12=\"\"),0,IF($B12=CE12,20,0))","v":0},"Schottland",{"$f":"IF(OR($B12=\"\"),0,IF($B12=CG12,20,0))","v":0},"Ungarn",{"$f":"IF(OR($B12=\"\"),0,IF($B12=CI12,20,0))","v":20},"Schottland",{"$f":"IF(OR($B12=\"\"),0,IF($B12=CK12,20,0))","v":0},"Schottland",{"$f":"IF(OR($B12=\"\"),0,IF($B12=CM12,20,0))","v":0},"Schottland",{"$f":"IF(OR($B12=\"\"),0,IF($B12=CO12,20,0))","v":0},"Schottland",{"$f":"IF(OR($B12=\"\"),0,IF($B12=CQ12,20,0))","v":0},"Ungarn",{"$f":"IF(OR($B12=\"\"),0,IF($B12=CS12,20,0))","v":20},"Schottland",{"$f":"IF(OR($B12=\"\"),0,IF($B12=CU12,20,0))","v":0},"Schottland",{"$f":"IF(OR($B12=\"\"),0,IF($B12=CW12,20,0))","v":0},"Ungarn",{"$f":"IF(OR($B12=\"\"),0,IF($B12=CY12,20,0))","v":20}]
[4,"Schottland",null,null,"Schottland",{"$f":"IF(OR($B13=\"\"),0,IF($B13=E13,20,0))","v":20},"Ungarn",{"$f":"IF(OR($B13=\"\"),0,IF($B13=G13,20,0))","v":0},"Schottland",{"$f":"IF(OR($B13=\"\"),0,IF($B13=I13,20,0))","v":20},"Schottland",{"$f":"IF(OR($B13=\"\"),0,IF($B13=K13,20,0))","v":20},"Ungarn",{"$f":"IF(OR($B13=\"\"),0,IF($B13=M13,20,0))","v":0},"Schottland",{"$f":"IF(OR($B13=\"\"),0,IF($B13=O13,20,0))","v":20},"Schottland",{"$f":"IF(OR($B13=\"\"),0,IF($B13=Q13,20,0))","v":20},"Schottland",{"$f":"IF(OR($B13=\"\"),0,IF($B13=S13,20,0))","v":20},"Schottland",{"$f":"IF(OR($B13=\"\"),0,IF($B13=U13,20,0))","v":20},"Ungarn",{"$f":"IF(OR($B13=\"\"),0,IF($B13=W13,20,0))","v":0},"Schottland",{"$f":"IF(OR($B13=\"\"),0,IF($B13=Y13,20,0))","v":20},"Schottland",{"$f":"IF(OR($B13=\"\"),0,IF($B13=AA13,20,0))","v":20},"Ungarn",{"$f":"IF(OR($B13=\"\"),0,IF($B13=AC13,20,0))","v":0},"Ungarn",{"$f":"IF(OR($B13=\"\"),0,IF($B13=AE13,20,0))","v":0},"Schottland",{"$f":"IF(OR($B13=\"\"),0,IF($B13=AG13,20,0))","v":20},"Schottland",{"$f":"IF(OR($B13=\"\"),0,IF($B13=AI13,20,0))","v":20},"Ungarn",{"$f":"IF(OR($B13=\"\"),0,IF($B13=AK13,20,0))","v":0},"Schottland",{"$f":"IF(OR($B13=\"\"),0,IF($B13=AM13,20,0))","v":20},"Schottland",{"$f":"IF(OR($B13=\"\"),0,IF($B13=AO13,20,0))","v":20},"Schottland",{"$f":"IF(OR($B13=\"\"),0,IF($B13=AQ13,20,0))","v":20},"Ungarn",{"$f":"IF(OR($B13=\"\"),0,IF($B13=AS13,20,0))","v":0},"Ungarn",{"$f":"IF(OR($B13=\"\"),0,IF($B13=AU13,20,0))","v":0},"Ungarn",{"$f":"IF(OR($B13=\"\"),0,IF($B13=AW13,20,0))","v":0},"Schottland",{"$f":"IF(OR($B13=\"\"),0,IF($B13=AY13,20,0))","v":20},"Schottland",{"$f":"IF(OR($B13=\"\"),0,IF($B13=BA13,20,0))","v":20},"Schottland",{"$f":"IF(OR($B13=\"\"),0,IF($B13=BC13,20,0))","v":20},"Schottland",{"$f":"IF(OR($B13=\"\"),0,IF($B13=BE13,20,0))","v":20},"Schottland",{"$f":"IF(OR($B13=\"\"),0,IF($B13=BG13,20,0))","v":20},"Schottland",{"$f":"IF(OR($B13=\"\"),0,IF($B13=BI13,20,0))","v":20},"Schottland",{"$f":"IF(OR($B13=\"\"),0,IF($B13=BK13,20,0))","v":20},"Schottland",{"$f":"IF(OR($B13=\"\"),0,IF($B13=BM13,20,0))","v":20},"Ungarn",{"$f":"IF(OR($B13=\"\"),0,IF($B13=BO13,20,0))","v":0},"Schottland",{"$f":"IF(OR($B13=\"\"),0,IF($B13=BQ13,20,0))","v":20},"Schottland",{"$f":"IF(OR($B13=\"\"),0,IF($B13=BS13,20,0))","v":20},"Ungarn",{"$f":"IF(OR($B13=\"\"),0,IF($B13=BU13,20,0))","v":0},"Ungarn",{"$f":"IF(OR($B13=\"\"),0,IF($B13=BW13,20,0))","v":0},"Schottland",{"$f":"IF(OR($B13=\"\"),0,IF($B13=BY13,20,0))","v":20},"Schottland",{"$f":"IF(OR($B13=\"\"),0,IF($B13=CA13,20,0))","v":20},"Schottland",{"$f":"IF(OR($B13=\"\"),0,IF($B13=CC13,20,0))","v":20},"Ungarn",{"$f":"IF(OR($B13=\"\"),0,IF($B13=CE13,20,0))","v":0},"Ungarn",{"$f":"IF(OR($B13=\"\"),0,IF($B13=CG13,20,0))","v":0},"Schottland",{"$f":"IF(OR($B13=\"\"),0,IF($B13=CI13,20,0))","v":20},"Ungarn",{"$f":"IF(OR($B13=\"\"),0,IF($B13=CK13,20,0))","v":0},"Ungarn",{"$f":"IF(OR($B13=\"\"),0,IF($B13=CM13,20,0))","v":0},"Ungarn",{"$f":"IF(OR($B13=\"\"),0,IF($B13=CO13,20,0))","v":0},"Ungarn",{"$f":"IF(OR($B13=\"\"),0,IF($B13=CQ13,20,0))","v":0},"Schottland",{"$f":"IF(OR($B13=\"\"),0,IF($B13=CS13,20,0))","v":20},"Ungarn",{"$f":"IF(OR($B13=\"\"),0,IF($B13=CU13,20,0))","v":0},"Ungarn",{"$f":"IF(OR($B13=\"\"),0,IF($B13=CW13,20,0))","v":0},"Schweiz",{"$f":"IF(OR($B13=\"\"),0,IF($B13=CY13,20,0))","v":0}]
[1,"Spanien","Gruppe B",null,"Kroatien","-","Kroatien","-","Italien","-","Spanien","-","Spanien","-","Spanien","-","Spanien","-","Spanien","-","Spanien","-","Spanien","-","Kroatien","-","Spanien","-","Spanien","-","Spanien","-","Italien","-","Spanien","-","Spanien","-","Spanien","-","Kroatien","-","Kroatien","-","Spanien","-","Spanien","-","Italien","-","Spanien","-","Spanien","-","Italien","-","Spanien","-","Italien","-","Spanien","-","Italien","-","Spanien","-","Spanien","-","Italien","-","Spanien","-","Spanien","-","Italien","-","Kroatien","-","Spanien","-","Spanien","-","Spanien","-","Spanien","-","Spanien","-","Spanien","-","Spanien","-","Italien","-","Spanien","-","Italien","-","Spanien","-","Italien","-","Spanien","-"]
[2,"Italien",null,null,"Spanien","-","Italien","-","Kroatien","-","Italien","-","Italien","-","Italien","-","Italien","-","Italien","-","Kroatien","-","Kroatien","-","Spanien","-","Italien","-","Kroatien","-","Italien","-","Spanien","-","Italien","-","Kroatien","-","Italien","-","Spanien","-","Spanien","-","Italien","-","Italien","-","Spanien","-","Italien","-","Kroatien","-","Kroatien","-","Italien","-","Kroatien","-","Kroatien","-","Spanien","-","Italien","-","Italien","-","Spanien","-","Italien","-","Italien","-","Spanien","-","Spanien","-","Kroatien","-","Italien","-","Kroatien","-","Italien","-","Italien","-","Italien","-","Kroatien","-","Spanien","-","Italien","-","Kroatien","-","Italien","-","Kroatien","-","Kroatien","-"]
[3,"Kroatien",null,null,"Italien",{"$f":"IF(OR($B16=\"\"),0,IF($B16=E16,20,0))","v":0},"Spanien",{"$f":"IF(OR($B16=\"\"),0,IF($B16=G16,20,0))","v":0},"Spanien",{"$f":"IF(OR($B16=\"\"),0,IF($B16=I16,20,0))","v":0},"Kroatien",{"$f":"IF(OR($B16=\"\"),0,IF($B16=K16,20,0))","v":20},"Kroatien",{"$f":"IF(OR($B16=\"\"),0,IF($B16=M16,20,0))","v":20},"Kroatien",{"$f":"IF(OR($B16=\"\"),0,IF($B16=O16,20,0))","v":20},"Kroatien",{"$f":"IF(OR($B16=\"\"),0,IF($B16=Q16,20,0))","v":20},"Kroatien",{"$f":"IF(OR($B16=\"\"),0,IF($B16=S16,20,0))","v":20},"Italien",{"$f":"IF(OR($B16=\"\"),0,IF($B16=U16,20,0))","v":0},"Italien",{"$f":"IF(OR($B16=\"\"),0,IF($B16=W16,20,0))","v":0},"Italien",{"$f":"IF(OR($B16=\"\"),0,IF($B16=Y16,20,0))","v":0},"Kroatien",{"$f":"IF(OR($B16=\"\"),0,IF($B16=AA16,20,0))","v":20},"Italien",{"$f":"IF(OR($B16=\"\"),0,IF($B16=AC16,20,0))","v":0},"Kroatien",{"$f":"IF(OR($B16=\"\"),0,IF($B16=AE16,20,0))","v":20},"Kroatien",{"$f":"IF(OR($B16=\"\"),0,IF($B16=AG16,20,0))","v":20},"Albanien",{"$f":"IF(OR($B16=\"\"),0,IF($B16=AI16,20,0))","v":0},"Italien",{"$f":"IF(OR($B16=\"\"),0,IF($B16=AK16,20,0))","v":0},"Kroatien",{"$f":"IF(OR($B16=\"\"),0,IF($B16=AM16,20,0))","v":20},"Italien",{"$f":"IF(OR($B16=\"\"),0,IF($B16=AO16,20,0))","v":0},"Italien",{"$f":"IF(OR($B16=\"\"),0,IF($B16=AQ16,20,0))","v":0},"Kroatien",{"$f":"IF(OR($B16=\"\"),0,IF($B16=AS16,20,0))","v":20},"Kroatien",{"$f":"IF(OR($B16=\"\"),0,IF($B16=AU16,20,0))","v":20},"Kroatien",{"$f":"IF(OR($B16=\"\"),0,IF($B16=AW16,20,0))","v":20},"Kroatien",{"$f":"IF(OR($B16=\"\"),0,IF($B16=AY16,20,0))","v":20},"Italien",{"$f":"IF(OR($B16=\"\"),0,IF($B16=BA16,20,0))","v":0},"Spanien",{"$f":"IF(OR($B16=\"\"),0,IF($B16=BC16,20,0))","v":0},"Kroatien",{"$f":"IF(OR($B16=\"\"),0,IF($B16=BE16,20,0))","v":20},"Spanien",{"$f":"IF(OR($B16=\"\"),0,IF($B16=BG16,20,0))","v":0},"Albanien",{"$f":"IF(OR($B16=\"\"),0,IF($B16=BI16,20,0))","v":0},"Kroatien",{"$f":"IF(OR($B16=\"\"),0,IF($B16=BK16,20,0))","v":20},"Kroatien",{"$f":"IF(OR($B16=\"\"),0,IF($B16=BM16,20,0))","v":20},"Kroatien",{"$f":"IF(OR($B16=\"\"),0,IF($B16=BO16,20,0))","v":20},"Kroatien",{"$f":"IF(OR($B16=\"\"),0,IF($B16=BQ16,20,0))","v":20},"Kroatien",{"$f":"IF(OR($B16=\"\"),0,IF($B16=BS16,20,0))","v":20},"Kroatien",{"$f":"IF(OR($B16=\"\"),0,IF($B16=BU16,20,0))","v":20},"Kroatien",{"$f":"IF(OR($B16=\"\"),0,IF($B16=BW16,20,0))","v":20},"Italien",{"$f":"IF(OR($B16=\"\"),0,IF($B16=BY16,20,0))","v":0},"Italien",{"$f":"IF(OR($B16=\"\"),0,IF($B16=CA16,20,0))","v":0},"Kroatien",{"$f":"IF(OR($B16=\"\"),0,IF($B16=CC16,20,0))","v":20},"Italien",{"$f":"IF(OR($B16=\"\"),0,IF($B16=CE16,20,0))","v":0},"Kroatien",{"$f":"IF(OR($B16=\"\"),0,IF($B16=CG16,20,0))","v":20},"Kroatien",{"$f":"IF(OR($B16=\"\"),0,IF($B16=CI16,20,0))","v":20},"Kroatien",{"$f":"IF(OR($B16=\"\"),0,IF($B16=CK16,20,0))","v":20},"Italien",{"$f":"IF(OR($B16=\"\"),0,IF($B16=CM16,20,0))","v":0},"Kroatien",{"$f":"IF(OR($B16=\"\"),0,IF($B16=CO16,20,0))","v":20},"Kroatien",{"$f":"IF(OR($B16=\"\"),0,IF($B16=CQ16,20,0))","v":20},"Spanien",{"$f":"IF(OR($B16=\"\"),0,IF($B16=CS16,20,0))","v":0},"Kroatien",{"$f":"IF(OR($B16=\"\"),0,IF($B16=CU16,20,0))","v":20},"Spanien",{"$f":"IF(OR($B16=\"\"),0,IF($B16=CW16,20,0))","v":0},"Italien",{"$f":"IF(OR($B16=\"\"),0,IF($B16=CY16,20,0))","v":0}]
[4,"Albanien",null,null,"Albanien",{"$f":"IF(OR($B17=\"\"),0,IF($B17=E17,20,0))","v":20},"Albanien",{"$f":"IF(OR($B17=\"\"),0,IF($B17=G17,20,0))","v":20},"Albanien",{"$f":"IF(OR($B17=\"\"),0,IF($B17=I17,20,0))","v":20},"Albanien",{"$f":"IF(OR($B17=\"\"),0,IF($B17=K17,20,0))","v":20},"Albanien",{"$f":"IF(OR($B17=\"\"),0,IF($B17=M17,20,0))","v":20},"Albanien",{"$f":"IF(OR($B17=\"\"),0,IF($B17=O17,20,0))","v":20},"Albanien",{"$f":"IF(OR($B17=\"\"),0,IF($B17=Q17,20,0))","v":20},"Albanien",{"$f":"IF(OR($B17=\"\"),0,IF($B17=S17,20,0))","v":20},"Albanien",{"$f":"IF(OR($B17=\"\"),0,IF($B17=U17,20,0))","v":20},"Albanien",{"$f":"IF(OR($B17=\"\"),0,IF($B17=W17,20,0))","v":20},"Albanien",{"$f":"IF(OR($B17=\"\"),0,IF($B17=Y17,20,0))","v":20},"Albanien",{"$f":"IF(OR($B17=\"\"),0,IF($B17=AA17,20,0))","v":20},"Albanien",{"$f":"IF(OR($B17=\"\"),0,IF($B17=AC17,20,0))","v":20},"Albanien",{"$f":"IF(OR($B17=\"\"),0,IF($B17=AE17,20,0))","v":20},"Albanien",{"$f":"IF(OR($B17=\"\"),0,IF($B17=AG17,20,0))","v":20},"Kroatien",{"$f":"IF(OR($B17=\"\"),0,IF($B17=AI17,20,0))","v":0},"Albanien",{"$f":"IF(OR($B17=\"\"),0,IF($B17=AK17,20,0))","v":20},"Albanien",{"$f":"IF(OR($B17=\"\"),0,IF($B17=AM17,20,0))","v":20},"Albanien",{"$f":"IF(OR($B17=\"\"),0,IF($B17=AO17,20,0))","v":20},"Albanien",{"$f":"IF(OR($B17=\"\"),0,IF($B17=AQ17,20,0))","v":20},"Albanien",{"$f":"IF(OR($B17=\"\"),0,IF($B17=AS17,20,0))","v":20},"Albanien",{"$f":"IF(OR($B17=\"\"),0,IF($B17=AU17,20,0))","v":20},"Albanien",{"$f":"IF(OR($B17=\"\"),0,IF($B17=AW17,20,0))","v":20},"Albanien",{"$f":"IF(OR($B17=\"\"),0,IF($B17=AY17,20,0))","v":20},"Albanien",{"$f":"IF(OR($B17=\"\"),0,IF($B17=BA17,20,0))","v":20},"Albanien",{"$f":"IF(OR($B17=\"\"),0,IF($B17=BC17,20,0))","v":20},"Albanien",{"$f":"IF(OR($B17=\"\"),0,IF($B17=BE17,20,0))","v":20},"Albanien",{"$f":"IF(OR($B17=\"\"),0,IF($B17=BG17,20,0))","v":20},"Italien",{"$f":"IF(OR($B17=\"\"),0,IF($B17=BI17,20,0))","v":0},"Albanien",{"$f":"IF(OR($B17=\"\"),0,IF($B17=BK17,20,0))","v":20},"Albanien",{"$f":"IF(OR($B17=\"\"),0,IF($B17=BM17,20,0))","v":20},"Albanien",{"$f":"IF(OR($B17=\"\"),0,IF($B17=BO17,20,0))","v":20},"Albanien",{"$f":"IF(OR($B17=\"\"),0,IF($B17=BQ17,20,0))","v":20},"Albanien",{"$f":"IF(OR($B17=\"\"),0,IF($B17=BS17,20,0))","v":20},"Albanien",{"$f":"IF(OR($B17=\"\"),0,IF($B17=BU17,20,0))","v":20},"Albanien",{"$f":"IF(OR($B17=\"\"),0,IF($B17=BW17,20,0))","v":20},"Albanien",{"$f":"IF(OR($B17=\"\"),0,IF($B17=BY17,20,0))","v":20},"Albanien",{"$f":"IF(OR($B17=\"\"),0,IF($B17=CA17,20,0))","v":20},"Albanien",{"$f":"IF(OR($B17=\"\"),0,IF($B17=CC17,20,0))","v":20},"Albanien",{"$f":"IF(OR($B17=\"\"),0,IF($B17=CE17,20,0))","v":20},"Albanien",{"$f":"IF(OR($B17=\"\"),0,IF($B17=CG17,20,0))","v":20},"Albanien",{"$f":"IF(OR($B17=\"\"),0,IF($B17=CI17,20,0))","v":20},"Albanien",{"$f":"IF(OR($B17=\"\"),0,IF($B17=CK17,20,0))","v":20},"Albanien",{"$f":"IF(OR($B17=\"\"),0,IF($B17=CM17,20,0))","v":20},"Albanien",{"$f":"IF(OR($B17=\"\"),0,IF($B17=CO17,20,0))","v":20},"Albanien",{"$f":"IF(OR($B17=\"\"),0,IF($B17=CQ17,20,0))","v":20},"Albanien",{"$f":"IF(OR($B17=\"\"),0,IF($B17=CS17,20,0))","v":20},"Albanien",{"$f":"IF(OR($B17=\"\"),0,IF($B17=CU17,20,0))","v":20},"Albanien",{"$f":"IF(OR($B17=\"\"),0,IF($B17=CW17,20,0))","v":20},"Albanien",{"$f":"IF(OR($B17=\"\"),0,IF($B17=CY17,20,0))","v":20}]
[1,"England","Gruppe C",null,"England","-","England","-","England","-","England","-","England","-","England","-","England","-","England","-","England","-","England","-","England","-","England","-","England","-","England","-","England","-","England","-","England","-","England","-","England","-","England","-","England","-","England","-","England","-","England","-","England","-","Dänemark","-","England","-","England","-","England","-","England","-","England","-","England","-","England","-","England","-","England","-","England","-","England","-","Dänemark","-","Dänemark","-","England","-","England","-","England","-","England","-","England","-","England","-","England","-","England","-","England","-","England","-","England","-"]
[2,"Dänemark",null,null,"Dänemark","-","Dänemark","-","Serbien","-","Dänemark","-","Serbien","-","Serbien","-","Dänemark","-","Dänemark","-","Dänemark","-","Dänemark","-","Dänemark","-","Dänemark","-","Dänemark","-","Dänemark","-","Serbien","-","Serbien","-","Dänemark","-","Dänemark","-","Dänemark","-","Dänemark","-","Dänemark","-","Dänemark","-","Dänemark","-","Dänemark","-","Dänemark","-","England","-","Dänemark","-","Dänemark","-","Dänemark","-","Dänemark","-","Dänemark","-","Dänemark","-","Serbien","-","Dänemark","-","Dänemark","-","Serbien","-","Dänemark","-","England","-","England","-","Serbien","-","Dänemark","-","Dänemark","-","Dänemark","-","Dänemark","-","Dänemark","-","Dänemark","-","Dänemark","-","Dänemark","-","Dänemark","-","Serbien","-"]
[3,"Slowenien",null,null,"Serbien",{"$f":"IF(OR($B20=\"\"),0,IF($B20=E20,20,0))","v":0},"Serbien",{"$f":"IF(OR($B20=\"\"),0,IF($B20=G20,20,0))","v":0},"Dänemark",{"$f":"IF(OR($B20=\"\"),0,IF($B20=I20,20,0))","v":0},"Serbien",{"$f":"IF(OR($B20=\"\"),0,IF($B20=K20,20,0))","v":0},"Dänemark",{"$f":"IF(OR($B20=\"\"),0,IF($B20=M20,20,0))","v":0},"Dänemark",{"$f":"IF(OR($B20=\"\"),0,IF($B20=O20,20,0))","v":0},"Slowenien",{"$f":"IF(OR($B20=\"\"),0,IF($B20=Q20,20,0))","v":20},"Serbien",{"$f":"IF(OR($B20=\"\"),0,IF($B20=S20,20,0))","v":0},"Serbien",{"$f":"IF(OR($B20=\"\"),0,IF($B20=U20,20,0))","v":0},"Serbien",{"$f":"IF(OR($B20=\"\"),0,IF($B20=W20,20,0))","v":0},"Slowenien",{"$f":"IF(OR($B20=\"\"),0,IF($B20=Y20,20,0))","v":20},"Serbien",{"$f":"IF(OR($B20=\"\"),0,IF($B20=AA20,20,0))","v":0},"Serbien",{"$f":"IF(OR($B20=\"\"),0,IF($B20=AC20,20,0))","v":0},"Serbien",{"$f":"IF(OR($B20=\"\"),0,IF($B20=AE20,20,0))","v":0},"Dänemark",{"$f":"IF(OR($B20=\"\"),0,IF($B20=AG20,20,0))","v":0},"Dänemark",{"$f":"IF(OR($B20=\"\"),0,IF($B20=AI20,20,0))","v":0},"Serbien",{"$f":"IF(OR($B20=\"\"),0,IF($B20=AK20,20,0))","v":0},"Serbien",{"$f":"IF(OR($B20=\"\"),0,IF($B20=AM20,20,0))","v":0},"Slowenien",{"$f":"IF(OR($B20=\"\"),0,IF($B20=AO20,20,0))","v":20},"Serbien",{"$f":"IF(OR($B20=\"\"),0,IF($B20=AQ20,20,0))","v":0},"Serbien",{"$f":"IF(OR($B20=\"\"),0,IF($B20=AS20,20,0))","v":0},"Serbien",{"$f":"IF(OR($B20=\"\"),0,IF($B20=AU20,20,0))","v":0},"Slowenien",{"$f":"IF(OR($B20=\"\"),0,IF($B20=AW20,20,0))","v":20},"Serbien",{"$f":"IF(OR($B20=\"\"),0,IF($B20=AY20,20,0))","v":0},"Serbien",{"$f":"IF(OR($B20=\"\"),0,IF($B20=BA20,20,0))","v":0},"Serbien",{"$f":"IF(OR($B20=\"\"),0,IF($B20=BC20,20,0))","v":0},"Serbien",{"$f":"IF(OR($B20=\"\"),0,IF($B20=BE20,20,0))","v":0},"Serbien",{"$f":"IF(OR($B20=\"\"),0,IF($B20=BG20,20,0))","v":0},"Serbien",{"$f":"IF(OR($B20=\"\"),0,IF($B20=BI20,20,0))","v":0},"Slowenien",{"$f":"IF(OR($B20=\"\"),0,IF($B20=BK20,20,0))","v":20},"Slowenien",{"$f":"IF(OR($B20=\"\"),0,IF($B20=BM20,20,0))","v":20},"Slowenien",{"$f":"IF(OR($B20=\"\"),0,IF($B20=BO20,20,0))","v":20},"Dänemark",{"$f":"IF(OR($B20=\"\"),0,IF($B20=BQ20,20,0))","v":0},"Slowenien",{"$f":"IF(OR($B20=\"\"),0,IF($B20=BS20,20,0))","v":20},"Slowenien",{"$f":"IF(OR($B20=\"\"),0,IF($B20=BU20,20,0))","v":20},"Slowenien",{"$f":"IF(OR($B20=\"\"),0,IF($B20=BW20,20,0))","v":20},"Serbien",{"$f":"IF(OR($B20=\"\"),0,IF($B20=BY20,20,0))","v":0},"Slowenien",{"$f":"IF(OR($B20=\"\"),0,IF($B20=CA20,20,0))","v":20},"Slowenien",{"$f":"IF(OR($B20=\"\"),0,IF($B20=CC20,20,0))","v":20},"Dänemark",{"$f":"IF(OR($B20=\"\"),0,IF($B20=CE20,20,0))","v":0},"Slowenien",{"$f":"IF(OR($B20=\"\"),0,IF($B20=CG20,20,0))","v":20},"Serbien",{"$f":"IF(OR($B20=\"\"),0,IF($B20=CI20,20,0))","v":0},"Slowenien",{"$f":"IF(OR($B20=\"\"),0,IF($B20=CK20,20,0))","v":20},"Serbien",{"$f":"IF(OR($B20=\"\"),0,IF($B20=CM20,20,0))","v":0},"Slowenien",{"$f":"IF(OR($B20=\"\"),0,IF($B20=CO20,20,0))","v":20},"Serbien",{"$f":"IF(OR($B20=\"\"),0,IF($B20=CQ20,20,0))","v":0},"Serbien",{"$f":"IF(OR($B20=\"\"),0,IF($B20=CS20,20,0))","v":0},"Serbien",{"$f":"IF(OR($B20=\"\"),0,IF($B20=CU20,20,0))","v":0},"Serbien",{"$f":"IF(OR($B20=\"\"),0,IF($B20=CW20,20,0))","v":0},"Slowenien",{"$f":"IF(OR($B20=\"\"),0,IF($B20=CY20,20,0))","v":20}]
[4,"Serbien",null,null,"Slowenien",{"$f":"IF(OR($B21=\"\"),0,IF($B21=E21,20,0))","v":0},"Slowenien",{"$f":"IF(OR($B21=\"\"),0,IF($B21=G21,20,0))","v":0},"Slowenien",{"$f":"IF(OR($B21=\"\"),0,IF($B21=I21,20,0))","v":0},"Slowenien",{"$f":"IF(OR($B21=\"\"),0,IF($B21=K21,20,0))","v":0},"Slowenien",{"$f":"IF(OR($B21=\"\"),0,IF($B21=M21,20,0))","v":0},"Slowenien",{"$f":"IF(OR($B21=\"\"),0,IF($B21=O21,20,0))","v":0},"Serbien",{"$f":"IF(OR($B21=\"\"),0,IF($B21=Q21,20,0))","v":20},"Slowenien",{"$f":"IF(OR($B21=\"\"),0,IF($B21=S21,20,0))","v":0},"Slowenien",{"$f":"IF(OR($B21=\"\"),0,IF($B21=U21,20,0))","v":0},"Slowenien",{"$f":"IF(OR($B21=\"\"),0,IF($B21=W21,20,0))","v":0},"Serbien",{"$f":"IF(OR($B21=\"\"),0,IF($B21=Y21,20,0))","v":20},"Slowenien",{"$f":"IF(OR($B21=\"\"),0,IF($B21=AA21,20,0))","v":0},"Slowenien",{"$f":"IF(OR($B21=\"\"),0,IF($B21=AC21,20,0))","v":0},"Slowenien",{"$f":"IF(OR($B21=\"\"),0,IF($B21=AE21,20,0))","v":0},"Slowenien",{"$f":"IF(OR($B21=\"\"),0,IF($B21=AG21,20,0))","v":0},"Slowenien",{"$f":"IF(OR($B21=\"\"),0,IF($B21=AI21,20,0))","v":0},"Slowenien",{"$f":"IF(OR($B21=\"\"),0,IF($B21=AK21,20,0))","v":0},"Slowenien",{"$f":"IF(OR($B21=\"\"),0,IF($B21=AM21,20,0))","v":0},"Serbien",{"$f":"IF(OR($B21=\"\"),0,IF($B21=AO21,20,0))","v":20},"Slowenien",{"$f":"IF(OR($B21=\"\"),0,IF($B21=AQ21,20,0))","v":0},"Slowenien",{"$f":"IF(OR($B21=\"\"),0,IF($B21=AS21,20,0))","v":0},"Slowenien",{"$f":"IF(OR($B21=\"\"),0,IF($B21=AU21,20,0))","v":0},"Serbien",{"$f":"IF(OR($B21=\"\"),0,IF($B21=AW21,20,0))","v":20},"Slowenien",{"$f":"IF(OR($B21=\"\"),0,IF($B21=AY21,20,0))","v":0},"Slowenien",{"$f":"IF(OR($B21=\"\"),0,IF($B21=BA21,20,0))","v":0},"Slowenien",{"$f":"IF(OR($B21=\"\"),0,IF($B21=BC21,20,0))","v":0},"Slowenien",{"$f":"IF(OR($B21=\"\"),0,IF($B21=BE21,20,0))","v":0},"Slowenien",{"$f":"IF(OR($B21=\"\"),0,IF($B21=BG21,20,0))","v":0},"Slowenien",{"$f":"IF(OR($B21=\"\"),0,IF($B21=BI21,20,0))","v":0},"Serbien",{"$f":"IF(OR($B21=\"\"),0,IF($B21=BK21,20,0))","v":20},"Serbien",{"$f":"IF(OR($B21=\"\"),0,IF($B21=BM21,20,0))","v":20},"Serbien",{"$f":"IF(OR($B21=\"\"),0,IF($B21=BO21,20,0))","v":20},"Slowenien",{"$f":"IF(OR($B21=\"\"),0,IF($B21=BQ21,20,0))","v":0},"Serbien",{"$f":"IF(OR($B21=\"\"),0,IF($B21=BS21,20,0))","v":20},"Serbien",{"$f":"IF(OR($B21=\"\"),0,IF($B21=BU21,20,0))","v":20},"Dänemark",{"$f":"IF(OR($B21=\"\"),0,IF($B21=BW21,20,0))","v":0},"Slowenien",{"$f":"IF(OR($B21=\"\"),0,IF($B21=BY21,20,0))","v":0},"Serbien",{"$f":"IF(OR($B21=\"\"),0,IF($B21=CA21,20,0))","v":20},"Serbien",{"$f":"IF(OR($B21=\"\"),0,IF($B21=CC21,20,0))","v":20},"Slowenien",{"$f":"IF(OR($B21=\"\"),0,IF($B21=CE21,20,0))","v":0},"Serbien",{"$f":"IF(OR($B21=\"\"),0,IF($B21=CG21,20,0))","v":20},"Slowenien",{"$f":"IF(OR($B21=\"\"),0,IF($B21=CI21,20,0))","v":0},"Serbien",{"$f":"IF(OR($B21=\"\"),0,IF($B21=CK21,20,0))","v":20},"Slowenien",{"$f":"IF(OR($B21=\"\"),0,IF($B21=CM21,20,0))","v":0},"Serbien",{"$f":"IF(OR($B21=\"\"),0,IF($B21=CO21,20,0))","v":20},"Slowenien",{"$f":"IF(OR($B21=\"\"),0,IF($B21=CQ21,20,0))","v":0},"Slowenien",{"$f":"IF(OR($B21=\"\"),0,IF($B21=CS21,20,0))","v":0},"Slowenien",{"$f":"IF(OR($B21=\"\"),0,IF($B21=CU21,20,0))","v":0},"Slowenien",{"$f":"IF(OR($B21=\"\"),0,IF($B21=CW21,20,0))","v":0},"Dänemark",{"$f":"IF(OR($B21=\"\"),0,IF($B21=CY21,20,0))","v":0}]
[1,"Österreich","Gruppe D",null,"Frankreich","-","Frankreich","-","Frankreich","-","Frankreich","-","Holland","-","Frankreich","-","Frankreich","-","Frankreich","-","Frankreich","-","Frankreich","-","Frankreich","-","Frankreich","-","Frankreich","-","Frankreich","-","Holland","-","Frankreich","-","Frankreich","-","Frankreich","-","Frankreich","-","Frankreich","-","Frankreich","-","Frankreich","-","Holland","-","Frankreich","-","Frankreich","-","Frankreich","-","Frankreich","-","Frankreich","-","Frankreich","-","Frankreich","-","Frankreich","-","Frankreich","-","Frankreich","-","Holland","-","Frankreich","-","Frankreich","-","Frankreich","-","Frankreich","-","Frankreich","-","Frankreich","-","Frankreich","-","Frankreich","-","Frankreich","-","Frankreich","-","Frankreich","-","Frankreich","-","Frankreich","-","Frankreich","-","Frankreich","-","Frankreich","-"]
[2,"Frankreich",null,null,"Holland","-","Österreich","-","Holland","-","Holland","-","Frankreich","-","Holland","-","Holland","-","Holland","-","Holland","-","Holland","-","Holland","-","Holland","-","Holland","-","Holland","-","Frankreich","-","Holland","-","Österreich","-","Österreich","-","Österreich","-","Holland","-","Holland","-","Holland","-","Frankreich","-","Holland","-","Österreich","-","Holland","-","Holland","-","Österreich","-","Holland","-","Holland","-","Polen","-","Holland","-","Holland","-","Frankreich","-","Holland","-","Holland","-","Holland","-","Holland","-","Holland","-","Holland","-","Holland","-","Holland","-","Österreich","-","Holland","-","Holland","-","Holland","-","Österreich","-","Holland","-","Polen","-","Holland","-"]
[3,"Holland",null,null,"Österreich",{"$f":"IF(OR($B24=\"\"),0,IF($B24=E24,20,0))","v":0},"Holland",{"$f":"IF(OR($B24=\"\"),0,IF($B24=G24,20,0))","v":20},"Österreich",{"$f":"IF(OR($B24=\"\"),0,IF($B24=I24,20,0))","v":0},"Österreich",{"$f":"IF(OR($B24=\"\"),0,IF($B24=K24,20,0))","v":0},"Österreich",{"$f":"IF(OR($B24=\"\"),0,IF($B24=M24,20,0))","v":0},"Österreich",{"$f":"IF(OR($B24=\"\"),0,IF($B24=O24,20,0))","v":0},"Österreich",{"$f":"IF(OR($B24=\"\"),0,IF($B24=Q24,20,0))","v":0},"Polen",{"$f":"IF(OR($B24=\"\"),0,IF($B24=S24,20,0))","v":0},"Österreich",{"$f":"IF(OR($B24=\"\"),0,IF($B24=U24,20,0))","v":0},"Österreich",{"$f":"IF(OR($B24=\"\"),0,IF($B24=W24,20,0))","v":0},"Polen",{"$f":"IF(OR($B24=\"\"),0,IF($B24=Y24,20,0))","v":0},"Polen",{"$f":"IF(OR($B24=\"\"),0,IF($B24=AA24,20,0))","v":0},"Österreich",{"$f":"IF(OR($B24=\"\"),0,IF($B24=AC24,20,0))","v":0},"Polen",{"$f":"IF(OR($B24=\"\"),0,IF($B24=AE24,20,0))","v":0},"Österreich",{"$f":"IF(OR($B24=\"\"),0,IF($B24=AG24,20,0))","v":0},"Österreich",{"$f":"IF(OR($B24=\"\"),0,IF($B24=AI24,20,0))","v":0},"Holland",{"$f":"IF(OR($B24=\"\"),0,IF($B24=AK24,20,0))","v":20},"Holland",{"$f":"IF(OR($B24=\"\"),0,IF($B24=AM24,20,0))","v":20},"Holland",{"$f":"IF(OR($B24=\"\"),0,IF($B24=AO24,20,0))","v":20},"Österreich",{"$f":"IF(OR($B24=\"\"),0,IF($B24=AQ24,20,0))","v":0},"Österreich",{"$f":"IF(OR($B24=\"\"),0,IF($B24=AS24,20,0))","v":0},"Österreich",{"$f":"IF(OR($B24=\"\"),0,IF($B24=AU24,20,0))","v":0},"Österreich",{"$f":"IF(OR($B24=\"\"),0,IF($B24=AW24,20,0))","v":0},"Österreich",{"$f":"IF(OR($B24=\"\"),0,IF($B24=AY24,20,0))","v":0},"Holland",{"$f":"IF(OR($B24=\"\"),0,IF($B24=BA24,20,0))","v":20},"Österreich",{"$f":"IF(OR($B24=\"\"),0,IF($B24=BC24,20,0))","v":0},"Österreich",{"$f":"IF(OR($B24=\"\"),0,IF($B24=BE24,20,0))","v":0},"Holland",{"$f":"IF(OR($B24=\"\"),0,IF($B24=BG24,20,0))","v":20},"Österreich",{"$f":"IF(OR($B24=\"\"),0,IF($B24=BI24,20,0))","v":0},"Österreich",{"$f":"IF(OR($B24=\"\"),0,IF($B24=BK24,20,0))","v":0},"Holland",{"$f":"IF(OR($B24=\"\"),0,IF($B24=BM24,20,0))","v":20},"Österreich",{"$f":"IF(OR($B24=\"\"),0,IF($B24=BO24,20,0))","v":0},"Österreich",{"$f":"IF(OR($B24=\"\"),0,IF($B24=BQ24,20,0))","v":0},"Österreich",{"$f":"IF(OR($B24=\"\"),0,IF($B24=BS24,20,0))","v":0},"Österreich",{"$f":"IF(OR($B24=\"\"),0,IF($B24=BU24,20,0))","v":0},"Österreich",{"$f":"IF(OR($B24=\"\"),0,IF($B24=BW24,20,0))","v":0},"Österreich",{"$f":"IF(OR($B24=\"\"),0,IF($B24=BY24,20,0))","v":0},"Polen",{"$f":"IF(OR($B24=\"\"),0,IF($B24=CA24,20,0))","v":0},"Österreich",{"$f":"IF(OR($B24=\"\"),0,IF($B24=CC24,20,0))","v":0},"Österreich",{"$f":"IF(OR($B24=\"\"),0,IF($B24=CE24,20,0))","v":0},"Österreich",{"$f":"IF(OR($B24=\"\"),0,IF($B24=CG24,20,0))","v":0},"Österreich",{"$f":"IF(OR($B24=\"\"),0,IF($B24=CI24,20,0))","v":0},"Polen",{"$f":"IF(OR($B24=\"\"),0,IF($B24=CK24,20,0))","v":0},"Österreich",{"$f":"IF(OR($B24=\"\"),0,IF($B24=CM24,20,0))","v":0},"Österreich",{"$f":"IF(OR($B24=\"\"),0,IF($B24=CO24,20,0))","v":0},"Österreich",{"$f":"IF(OR($B24=\"\"),0,IF($B24=CQ24,20,0))","v":0},"Holland",{"$f":"IF(OR($B24=\"\"),0,IF($B24=CS24,20,0))","v":20},"Österreich",{"$f":"IF(OR($B24=\"\"),0,IF($B24=CU24,20,0))","v":0},"Holland",{"$f":"IF(OR($B24=\"\"),0,IF($B24=CW24,20,0))","v":20},"Polen",{"$f":"IF(OR($B24=\"\"),0,IF($B24=CY24,20,0))","v":0}]
[4,"Polen",null,null,"Polen",{"$f":"IF(OR($B25=\"\"),0,IF($B25=E25,20,0))","v":20},"Polen",{"$f":"IF(OR($B25=\"\"),0,IF($B25=G25,20,0))","v":20},"Polen",{"$f":"IF(OR($B25=\"\"),0,IF($B25=I25,20,0))","v":20},"Polen",{"$f":"IF(OR($B25=\"\"),0,IF($B25=K25,20,0))","v":20},"Polen",{"$f":"IF(OR($B25=\"\"),0,IF($B25=M25,20,0))","v":20},"Polen",{"$f":"IF(OR($B25=\"\"),0,IF($B25=O25,20,0))","v":20},"Polen",{"$f":"IF(OR($B25=\"\"),0,IF($B25=Q25,20,0))","v":20},"Österreich",{"$f":"IF(OR($B25=\"\"),0,IF($B25=S25,20,0))","v":0},"Polen",{"$f":"IF(OR($B25=\"\"),0,IF($B25=U25,20,0))","v":20},"Polen",{"$f":"IF(OR($B25=\"\"),0,IF($B25=W25,20,0))","v":20},"Österreich",{"$f":"IF(OR($B25=\"\"),0,IF($B25=Y25,20,0))","v":0},"Österreich",{"$f":"IF(OR($B25=\"\"),0,IF($B25=AA25,20,0))","v":0},"Polen",{"$f":"IF(OR($B25=\"\"),0,IF($B25=AC25,20,0))","v":20},"Österreich",{"$f":"IF(OR($B25=\"\"),0,IF($B25=AE25,20,0))","v":0},"Polen",{"$f":"IF(OR($B25=\"\"),0,IF($B25=AG25,20,0))","v":20},"Polen",{"$f":"IF(OR($B25=\"\"),0,IF($B25=AI25,20,0))","v":20},"Polen",{"$f":"IF(OR($B25=\"\"),0,IF($B25=AK25,20,0))","v":20},"Polen",{"$f":"IF(OR($B25=\"\"),0,IF($B25=AM25,20,0))","v":20},"Polen",{"$f":"IF(OR($B25=\"\"),0,IF($B25=AO25,20,0))","v":20},"Polen",{"$f":"IF(OR($B25=\"\"),0,IF($B25=AQ25,20,0))","v":20},"Polen",{"$f":"IF(OR($B25=\"\"),0,IF($B25=AS25,20,0))","v":20},"Polen",{"$f":"IF(OR($B25=\"\"),0,IF($B25=AU25,20,0))","v":20},"Polen",{"$f":"IF(OR($B25=\"\"),0,IF($B25=AW25,20,0))","v":20},"Polen",{"$f":"IF(OR($B25=\"\"),0,IF($B25=AY25,20,0))","v":20},"Polen",{"$f":"IF(OR($B25=\"\"),0,IF($B25=BA25,20,0))","v":20},"Polen",{"$f":"IF(OR($B25=\"\"),0,IF($B25=BC25,20,0))","v":20},"Polen",{"$f":"IF(OR($B25=\"\"),0,IF($B25=BE25,20,0))","v":20},"Polen",{"$f":"IF(OR($B25=\"\"),0,IF($B25=BG25,20,0))","v":20},"Polen",{"$f":"IF(OR($B25=\"\"),0,IF($B25=BI25,20,0))","v":20},"Polen",{"$f":"IF(OR($B25=\"\"),0,IF($B25=BK25,20,0))","v":20},"Österreich",{"$f":"IF(OR($B25=\"\"),0,IF($B25=BM25,20,0))","v":0},"Polen",{"$f":"IF(OR($B25=\"\"),0,IF($B25=BO25,20,0))","v":20},"Polen",{"$f":"IF(OR($B25=\"\"),0,IF($B25=BQ25,20,0))","v":20},"Polen",{"$f":"IF(OR($B25=\"\"),0,IF($B25=BS25,20,0))","v":20},"Polen",{"$f":"IF(OR($B25=\"\"),0,IF($B25=BU25,20,0))","v":20},"Polen",{"$f":"IF(OR($B25=\"\"),0,IF($B25=BW25,20,0))","v":20},"Polen",{"$f":"IF(OR($B25=\"\"),0,IF($B25=BY25,20,0))","v":20},"Österreich",{"$f":"IF(OR($B25=\"\"),0,IF($B25=CA25,20,0))","v":0},"Polen",{"$f":"IF(OR($B25=\"\"),0,IF($B25=CC25,20,0))","v":20},"Polen",{"$f":"IF(OR($B25=\"\"),0,IF($B25=CE25,20,0))","v":20},"Polen",{"$f":"IF(OR($B25=\"\"),0,IF($B25=CG25,20,0))","v":20},"Polen",{"$f":"IF(OR($B25=\"\"),0,IF($B25=CI25,20,0))","v":20},"Holland",{"$f":"IF(OR($B25=\"\"),0,IF($B25=CK25,20,0))","v":0},"Polen",{"$f":"IF(OR($B25=\"\"),0,IF($B25=CM25,20,0))","v":20},"Polen",{"$f":"IF(OR($B25=\"\"),0,IF($B25=CO25,20,0))","v":20},"Polen",{"$f":"IF(OR($B25=\"\"),0,IF($B25=CQ25,20,0))","v":20},"Polen",{"$f":"IF(OR($B25=\"\"),0,IF($B25=CS25,20,0))","v":20},"Polen",{"$f":"IF(OR($B25=\"\"),0,IF($B25=CU25,20,0))","v":20},"Österreich",{"$f":"IF(OR($B25=\"\"),0,IF($B25=CW25,20,0))","v":0},"Österreich",{"$f":"IF(OR($B25=\"\"),0,IF($B25=CY25,20,0))","v":0}]
[1,"Rumänien","Gruppe E",null,"Belgien","-","Belgien","-","Belgien","-","Belgien","-","Belgien","-","Belgien","-","Belgien","-","Belgien","-","Belgien","-","Belgien","-","Belgien","-","Belgien","-","Belgien","-","Belgien","-","Belgien","-","Belgien","-","Belgien","-","Belgien","-","Belgien","-","Belgien","-","Belgien","-","Belgien","-","Belgien","-","Rumänien","-","Belgien","-","Belgien","-","Belgien","-","Belgien","-","Belgien","-","Belgien","-","Belgien","-","Belgien","-","Belgien","-","Belgien","-","Slowakei","-","Belgien","-","Ukraine","-","Ukraine","-","Belgien","-","Belgien","-","Belgien","-","Belgien","-","Ukraine","-","Belgien","-","Belgien","-","Belgien","-","Slowakei","-","Belgien","-","Belgien","-","Belgien","-"]
[2,"Belgien",null,null,"Rumänien","-","Slowakei","-","Ukraine","-","Ukraine","-","Ukraine","-","Ukraine","-","Ukraine","-","Slowakei","-","Ukraine","-","Slowakei","-","Rumänien","-","Ukraine","-","Rumänien","-","Ukraine","-","Ukraine","-","Rumänien","-","Rumänien","-","Rumänien","-","Ukraine","-","Rumänien","-","Ukraine","-","Ukraine","-","Ukraine","-","Belgien","-","Ukraine","-","Slowakei","-","Ukraine","-","Slowakei","-","Ukraine","-","Ukraine","-","Rumänien","-","Rumänien","-","Rumänien","-","Ukraine","-","Rumänien","-","Rumänien","-","Belgien","-","Belgien","-","Ukraine","-","Ukraine","-","Ukraine","-","Ukraine","-","Belgien","-","Ukraine","-","Slowakei","-","Rumänien","-","Belgien","-","Ukraine","-","Slowakei","-","Ukraine","-"]
[3,"Slowakei",null,null,"Slowakei",{"$f":"IF(OR($B28=\"\"),0,IF($B28=E28,20,0))","v":20},"Rumänien",{"$f":"IF(OR($B28=\"\"),0,IF($B28=G28,20,0))","v":0},"Slowakei",{"$f":"IF(OR($B28=\"\"),0,IF($B28=I28,20,0))","v":20},"Rumänien",{"$f":"IF(OR($B28=\"\"),0,IF($B28=K28,20,0))","v":0},"Rumänien",{"$f":"IF(OR($B28=\"\"),0,IF($B28=M28,20,0))","v":0},"Rumänien",{"$f":"IF(OR($B28=\"\"),0,IF($B28=O28,20,0))","v":0},"Rumänien",{"$f":"IF(OR($B28=\"\"),0,IF($B28=Q28,20,0))","v":0},"Rumänien",{"$f":"IF(OR($B28=\"\"),0,IF($B28=S28,20,0))","v":0},"Slowakei",{"$f":"IF(OR($B28=\"\"),0,IF($B28=U28,20,0))","v":20},"Rumänien",{"$f":"IF(OR($B28=\"\"),0,IF($B28=W28,20,0))","v":0},"Slowakei",{"$f":"IF(OR($B28=\"\"),0,IF($B28=Y28,20,0))","v":20},"Slowakei",{"$f":"IF(OR($B28=\"\"),0,IF($B28=AA28,20,0))","v":20},"Ukraine",{"$f":"IF(OR($B28=\"\"),0,IF($B28=AC28,20,0))","v":0},"Slowakei",{"$f":"IF(OR($B28=\"\"),0,IF($B28=AE28,20,0))","v":20},"Slowakei",{"$f":"IF(OR($B28=\"\"),0,IF($B28=AG28,20,0))","v":20},"Ukraine",{"$f":"IF(OR($B28=\"\"),0,IF($B28=AI28,20,0))","v":0},"Ukraine",{"$f":"IF(OR($B28=\"\"),0,IF($B28=AK28,20,0))","v":0},"Ukraine",{"$f":"IF(OR($B28=\"\"),0,IF($B28=AM28,20,0))","v":0},"Slowakei",{"$f":"IF(OR($B28=\"\"),0,IF($B28=AO28,20,0))","v":20},"Ukraine",{"$f":"IF(OR($B28=\"\"),0,IF($B28=AQ28,20,0))","v":0},"Slowakei",{"$f":"IF(OR($B28=\"\"),0,IF($B28=AS28,20,0))","v":20},"Slowakei",{"$f":"IF(OR($B28=\"\"),0,IF($B28=AU28,20,0))","v":20},"Rumänien",{"$f":"IF(OR($B28=\"\"),0,IF($B28=AW28,20,0))","v":0},"Slowakei",{"$f":"IF(OR($B28=\"\"),0,IF($B28=AY28,20,0))","v":20},"Slowakei",{"$f":"IF(OR($B28=\"\"),0,IF($B28=BA28,20,0))","v":20},"Ukraine",{"$f":"IF(OR($B28=\"\"),0,IF($B28=BC28,20,0))","v":0},"Slowakei",{"$f":"IF(OR($B28=\"\"),0,IF($B28=BE28,20,0))","v":20},"Ukraine",{"$f":"IF(OR($B28=\"\"),0,IF($B28=BG28,20,0))","v":0},"Rumänien",{"$f":"IF(OR($B28=\"\"),0,IF($B28=BI28,20,0))","v":0},"Slowakei",{"$f":"IF(OR($B28=\"\"),0,IF($B28=BK28,20,0))","v":20},"Slowakei",{"$f":"IF(OR($B28=\"\"),0,IF($B28=BM28,20,0))","v":20},"Ukraine",{"$f":"IF(OR($B28=\"\"),0,IF($B28=BO28,20,0))","v":0},"Slowakei",{"$f":"IF(OR($B28=\"\"),0,IF($B28=BQ28,20,0))","v":20},"Rumänien",{"$f":"IF(OR($B28=\"\"),0,IF($B28=BS28,20,0))","v":0},"Ukraine",{"$f":"IF(OR($B28=\"\"),0,IF($B28=BU28,20,0))","v":0},"Slowakei",{"$f":"IF(OR($B28=\"\"),0,IF($B28=BW28,20,0))","v":20},"Slowakei",{"$f":"IF(OR($B28=\"\"),0,IF($B28=BY28,20,0))","v":20},"Slowakei",{"$f":"IF(OR($B28=\"\"),0,IF($B28=CA28,20,0))","v":20},"Slowakei",{"$f":"IF(OR($B28=\"\"),0,IF($B28=CC28,20,0))","v":20},"Rumänien",{"$f":"IF(OR($B28=\"\"),0,IF($B28=CE28,20,0))","v":0},"Slowakei",{"$f":"IF(OR($B28=\"\"),0,IF($B28=CG28,20,0))","v":20},"Rumänien",{"$f":"IF(OR($B28=\"\"),0,IF($B28=CI28,20,0))","v":0},"Rumänien",{"$f":"IF(OR($B28=\"\"),0,IF($B28=CK28,20,0))","v":0},"Slowakei",{"$f":"IF(OR($B28=\"\"),0,IF($B28=CM28,20,0))","v":20},"Rumänien",{"$f":"IF(OR($B28=\"\"),0,IF($B28=CO28,20,0))","v":0},"Slowakei",{"$f":"IF(OR($B28=\"\"),0,IF($B28=CQ28,20,0))","v":20},"Ukraine",{"$f":"IF(OR($B28=\"\"),0,IF($B28=CS28,20,0))","v":0},"Rumänien",{"$f":"IF(OR($B28=\"\"),0,IF($B28=CU28,20,0))","v":0},"Ukraine",{"$f":"IF(OR($B28=\"\"),0,IF($B28=CW28,20,0))","v":0},"Rumänien",{"$f":"IF(OR($B28=\"\"),0,IF($B28=CY28,20,0))","v":0}]
[4,"Ukraine",null,null,"Ukraine",{"$f":"IF(OR($B29=\"\"),0,IF($B29=E29,20,0))","v":20},"Ukraine",{"$f":"IF(OR($B29=\"\"),0,IF($B29=G29,20,0))","v":20},"Rumänien",{"$f":"IF(OR($B29=\"\"),0,IF($B29=I29,20,0))","v":0},"Slowakei",{"$f":"IF(OR($B29=\"\"),0,IF($B29=K29,20,0))","v":0},"Slowakei",{"$f":"IF(OR($B29=\"\"),0,IF($B29=M29,20,0))","v":0},"Slowakei",{"$f":"IF(OR($B29=\"\"),0,IF($B29=O29,20,0))","v":0},"Slowakei",{"$f":"IF(OR($B29=\"\"),0,IF($B29=Q29,20,0))","v":0},"Ukraine",{"$f":"IF(OR($B29=\"\"),0,IF($B29=S29,20,0))","v":20},"Rumänien",{"$f":"IF(OR($B29=\"\"),0,IF($B29=U29,20,0))","v":0},"Ukraine",{"$f":"IF(OR($B29=\"\"),0,IF($B29=W29,20,0))","v":20},"Ukraine",{"$f":"IF(OR($B29=\"\"),0,IF($B29=Y29,20,0))","v":20},"Rumänien",{"$f":"IF(OR($B29=\"\"),0,IF($B29=AA29,20,0))","v":0},"Slowakei",{"$f":"IF(OR($B29=\"\"),0,IF($B29=AC29,20,0))","v":0},"Rumänien",{"$f":"IF(OR($B29=\"\"),0,IF($B29=AE29,20,0))","v":0},"Rumänien",{"$f":"IF(OR($B29=\"\"),0,IF($B29=AG29,20,0))","v":0},"Slowakei",{"$f":"IF(OR($B29=\"\"),0,IF($B29=AI29,20,0))","v":0},"Slowakei",{"$f":"IF(OR($B29=\"\"),0,IF($B29=AK29,20,0))","v":0},"Slowakei",{"$f":"IF(OR($B29=\"\"),0,IF($B29=AM29,20,0))","v":0},"Rumänien",{"$f":"IF(OR($B29=\"\"),0,IF($B29=AO29,20,0))","v":0},"Slowakei",{"$f":"IF(OR($B29=\"\"),0,IF($B29=AQ29,20,0))","v":0},"Rumänien",{"$f":"IF(OR($B29=\"\"),0,IF($B29=AS29,20,0))","v":0},"Rumänien",{"$f":"IF(OR($B29=\"\"),0,IF($B29=AU29,20,0))","v":0},"Slowakei",{"$f":"IF(OR($B29=\"\"),0,IF($B29=AW29,20,0))","v":0},"Ukraine",{"$f":"IF(OR($B29=\"\"),0,IF($B29=AY29,20,0))","v":20},"Rumänien",{"$f":"IF(OR($B29=\"\"),0,IF($B29=BA29,20,0))","v":0},"Rumänien",{"$f":"IF(OR($B29=\"\"),0,IF($B29=BC29,20,0))","v":0},"Rumänien",{"$f":"IF(OR($B29=\"\"),0,IF($B29=BE29,20,0))","v":0},"Rumänien",{"$f":"IF(OR($B29=\"\"),0,IF($B29=BG29,20,0))","v":0},"Slowakei",{"$f":"IF(OR($B29=\"\"),0,IF($B29=BI29,20,0))","v":0},"Rumänien",{"$f":"IF(OR($B29=\"\"),0,IF($B29=BK29,20,0))","v":0},"Ukraine",{"$f":"IF(OR($B29=\"\"),0,IF($B29=BM29,20,0))","v":20},"Slowakei",{"$f":"IF(OR($B29=\"\"),0,IF($B29=BO29,20,0))","v":0},"Ukraine",{"$f":"IF(OR($B29=\"\"),0,IF($B29=BQ29,20,0))","v":20},"Slowakei",{"$f":"IF(OR($B29=\"\"),0,IF($B29=BS29,20,0))","v":0},"Belgien",{"$f":"IF(OR($B29=\"\"),0,IF($B29=BU29,20,0))","v":0},"Ukraine",{"$f":"IF(OR($B29=\"\"),0,IF($B29=BW29,20,0))","v":20},"Rumänien",{"$f":"IF(OR($B29=\"\"),0,IF($B29=BY29,20,0))","v":0},"Rumänien",{"$f":"IF(OR($B29=\"\"),0,IF($B29=CA29,20,0))","v":0},"Rumänien",{"$f":"IF(OR($B29=\"\"),0,IF($B29=CC29,20,0))","v":0},"Slowakei",{"$f":"IF(OR($B29=\"\"),0,IF($B29=CE29,20,0))","v":0},"Rumänien",{"$f":"IF(OR($B29=\"\"),0,IF($B29=CG29,20,0))","v":0},"Slowakei",{"$f":"IF(OR($B29=\"\"),0,IF($B29=CI29,20,0))","v":0},"Slowakei",{"$f":"IF(OR($B29=\"\"),0,IF($B29=CK29,20,0))","v":0},"Rumänien",{"$f":"IF(OR($B29=\"\"),0,IF($B29=CM29,20,0))","v":0},"Ukraine",{"$f":"IF(OR($B29=\"\"),0,IF($B29=CO29,20,0))","v":20},"Ukraine",{"$f":"IF(OR($B29=\"\"),0,IF($B29=CQ29,20,0))","v":20},"Rumänien",{"$f":"IF(OR($B29=\"\"),0,IF($B29=CS29,20,0))","v":0},"Slowakei",{"$f":"IF(OR($B29=\"\"),0,IF($B29=CU29,20,0))","v":0},"Rumänien",{"$f":"IF(OR($B29=\"\"),0,IF($B29=CW29,20,0))","v":0},"Slowakei",{"$f":"IF(OR($B29=\"\"),0,IF($B29=CY29,20,0))","v":0}]
[1,"Portugal","Gruppe F",null,"Portugal","-","Portugal","-","Portugal","-","Portugal","-","Portugal","-","Portugal","-","Portugal","-","Portugal","-","Portugal","-","Portugal","-","Portugal","-","Portugal","-","Portugal","-","Portugal","-","Portugal","-","Türkei","-","Türkei","-","Portugal","-","Portugal","-","Portugal","-","Portugal","-","Portugal","-","Portugal","-","Portugal","-","Portugal","-","Portugal","-","Portugal","-","Portugal","-","Portugal","-","Portugal","-","Portugal","-","Portugal","-","Portugal","-","Portugal","-","Portugal","-","Portugal","-","Portugal","-","Portugal","-","Portugal","-","Portugal","-","Portugal","-","Türkei","-","Portugal","-","Portugal","-","Portugal","-","Portugal","-","Portugal","-","Portugal","-","Portugal","-","Portugal","-"]
[2,"Türkei",null,null,"Tschechien","-","Türkei","-","Türkei","-","Tschechien","-","Türkei","-","Tschechien","-","Tschechien","-","Tschechien","-","Tschechien","-","Tschechien","-","Türkei","-","Türkei","-","Türkei","-","Tschechien","-","Tschechien","-","Portugal","-","Portugal","-","Türkei","-","Tschechien","-","Türkei","-","Tschechien","-","Türkei","-","Tschechien","-","Tschechien","-","Türkei","-","Türkei","-","Tschechien","-","Türkei","-","Türkei","-","Türkei","-","Türkei","-","Tschechien","-","Türkei","-","Tschechien","-","Türkei","-","Türkei","-","Türkei","-","Tschechien","-","Tschechien","-","Türkei","-","Tschechien","-","Portugal","-","Tschechien","-","Türkei","-","Türkei","-","Tschechien","-","Tschechien","-","Türkei","-","Türkei","-","Tschechien","-"]
[3,"Georgien",null,null,"Türkei",{"$f":"IF(OR($B32=\"\"),0,IF($B32=E32,20,0))","v":0},"Tschechien",{"$f":"IF(OR($B32=\"\"),0,IF($B32=G32,20,0))","v":0},"Tschechien",{"$f":"IF(OR($B32=\"\"),0,IF($B32=I32,20,0))","v":0},"Türkei",{"$f":"IF(OR($B32=\"\"),0,IF($B32=K32,20,0))","v":0},"Tschechien",{"$f":"IF(OR($B32=\"\"),0,IF($B32=M32,20,0))","v":0},"Türkei",{"$f":"IF(OR($B32=\"\"),0,IF($B32=O32,20,0))","v":0},"Türkei",{"$f":"IF(OR($B32=\"\"),0,IF($B32=Q32,20,0))","v":0},"Türkei",{"$f":"IF(OR($B32=\"\"),0,IF($B32=S32,20,0))","v":0},"Türkei",{"$f":"IF(OR($B32=\"\"),0,IF($B32=U32,20,0))","v":0},"Türkei",{"$f":"IF(OR($B32=\"\"),0,IF($B32=W32,20,0))","v":0},"Tschechien",{"$f":"IF(OR($B32=\"\"),0,IF($B32=Y32,20,0))","v":0},"Tschechien",{"$f":"IF(OR($B32=\"\"),0,IF($B32=AA32,20,0))","v":0},"Tschechien",{"$f":"IF(OR($B32=\"\"),0,IF($B32=AC32,20,0))","v":0},"Türkei",{"$f":"IF(OR($B32=\"\"),0,IF($B32=AE32,20,0))","v":0},"Türkei",{"$f":"IF(OR($B32=\"\"),0,IF($B32=AG32,20,0))","v":0},"Tschechien",{"$f":"IF(OR($B32=\"\"),0,IF($B32=AI32,20,0))","v":0},"Tschechien",{"$f":"IF(OR($B32=\"\"),0,IF($B32=AK32,20,0))","v":0},"Tschechien",{"$f":"IF(OR($B32=\"\"),0,IF($B32=AM32,20,0))","v":0},"Türkei",{"$f":"IF(OR($B32=\"\"),0,IF($B32=AO32,20,0))","v":0},"Tschechien",{"$f":"IF(OR($B32=\"\"),0,IF($B32=AQ32,20,0))","v":0},"Türkei",{"$f":"IF(OR($B32=\"\"),0,IF($B32=AS32,20,0))","v":0},"Tschechien",{"$f":"IF(OR($B32=\"\"),0,IF($B32=AU32,20,0))","v":0},"Türkei",{"$f":"IF(OR($B32=\"\"),0,IF($B32=AW32,20,0))","v":0},"Türkei",{"$f":"IF(OR($B32=\"\"),0,IF($B32=AY32,20,0))","v":0},"Tschechien",{"$f":"IF(OR($B32=\"\"),0,IF($B32=BA32,20,0))","v":0},"Georgien",{"$f":"IF(OR($B32=\"\"),0,IF($B32=BC32,20,0))","v":20},"Türkei",{"$f":"IF(OR($B32=\"\"),0,IF($B32=BE32,20,0))","v":0},"Tschechien",{"$f":"IF(OR($B32=\"\"),0,IF($B32=BG32,20,0))","v":0},"Tschechien",{"$f":"IF(OR($B32=\"\"),0,IF($B32=BI32,20,0))","v":0},"Tschechien",{"$f":"IF(OR($B32=\"\"),0,IF($B32=BK32,20,0))","v":0},"Georgien",{"$f":"IF(OR($B32=\"\"),0,IF($B32=BM32,20,0))","v":20},"Türkei",{"$f":"IF(OR($B32=\"\"),0,IF($B32=BO32,20,0))","v":0},"Tschechien",{"$f":"IF(OR($B32=\"\"),0,IF($B32=BQ32,20,0))","v":0},"Türkei",{"$f":"IF(OR($B32=\"\"),0,IF($B32=BS32,20,0))","v":0},"Tschechien",{"$f":"IF(OR($B32=\"\"),0,IF($B32=BU32,20,0))","v":0},"Tschechien",{"$f":"IF(OR($B32=\"\"),0,IF($B32=BW32,20,0))","v":0},"Tschechien",{"$f":"IF(OR($B32=\"\"),0,IF($B32=BY32,20,0))","v":0},"Türkei",{"$f":"IF(OR($B32=\"\"),0,IF($B32=CA32,20,0))","v":0},"Türkei",{"$f":"IF(OR($B32=\"\"),0,IF($B32=CC32,20,0))","v":0},"Tschechien",{"$f":"IF(OR($B32=\"\"),0,IF($B32=CE32,20,0))","v":0},"Türkei",{"$f":"IF(OR($B32=\"\"),0,IF($B32=CG32,20,0))","v":0},"Tschechien",{"$f":"IF(OR($B32=\"\"),0,IF($B32=CI32,20,0))","v":0},"Türkei",{"$f":"IF(OR($B32=\"\"),0,IF($B32=CK32,20,0))","v":0},"Tschechien",{"$f":"IF(OR($B32=\"\"),0,IF($B32=CM32,20,0))","v":0},"Georgien",{"$f":"IF(OR($B32=\"\"),0,IF($B32=CO32,20,0))","v":20},"Türkei",{"$f":"IF(OR($B32=\"\"),0,IF($B32=CQ32,20,0))","v":0},"Türkei",{"$f":"IF(OR($B32=\"\"),0,IF($B32=CS32,20,0))","v":0},"Tschechien",{"$f":"IF(OR($B32=\"\"),0,IF($B32=CU32,20,0))","v":0},"Georgien",{"$f":"IF(OR($B32=\"\"),0,IF($B32=CW32,20,0))","v":20},"Türkei",{"$f":"IF(OR($B32=\"\"),0,IF($B32=CY32,20,0))","v":0}]
[4,"Tschechien",null,null,"Georgien",{"$f":"IF(OR($B33=\"\"),0,IF($B33=E33,20,0))","v":0},"Georgien",{"$f":"IF(OR($B33=\"\"),0,IF($B33=G33,20,0))","v":0},"Georgien",{"$f":"IF(OR($B33=\"\"),0,IF($B33=I33,20,0))","v":0},"Georgien",{"$f":"IF(OR($B33=\"\"),0,IF($B33=K33,20,0))","v":0},"Georgien",{"$f":"IF(OR($B33=\"\"),0,IF($B33=M33,20,0))","v":0},"Georgien",{"$f":"IF(OR($B33=\"\"),0,IF($B33=O33,20,0))","v":0},"Georgien",{"$f":"IF(OR($B33=\"\"),0,IF($B33=Q33,20,0))","v":0},"Georgien",{"$f":"IF(OR($B33=\"\"),0,IF($B33=S33,20,0))","v":0},"Georgien",{"$f":"IF(OR($B33=\"\"),0,IF($B33=U33,20,0))","v":0},"Georgien",{"$f":"IF(OR($B33=\"\"),0,IF($B33=W33,20,0))","v":0},"Georgien",{"$f":"IF(OR($B33=\"\"),0,IF($B33=Y33,20,0))","v":0},"Georgien",{"$f":"IF(OR($B33=\"\"),0,IF($B33=AA33,20,0))","v":0},"Georgien",{"$f":"IF(OR($B33=\"\"),0,IF($B33=AC33,20,0))","v":0},"Georgien",{"$f":"IF(OR($B33=\"\"),0,IF($B33=AE33,20,0))","v":0},"Georgien",{"$f":"IF(OR($B33=\"\"),0,IF($B33=AG33,20,0))","v":0},"Georgien",{"$f":"IF(OR($B33=\"\"),0,IF($B33=AI33,20,0))","v":0},"Georgien",{"$f":"IF(OR($B33=\"\"),0,IF($B33=AK33,20,0))","v":0},"Georgien",{"$f":"IF(OR($B33=\"\"),0,IF($B33=AM33,20,0))","v":0},"Georgien",{"$f":"IF(OR($B33=\"\"),0,IF($B33=AO33,20,0))","v":0},"Georgien",{"$f":"IF(OR($B33=\"\"),0,IF($B33=AQ33,20,0))","v":0},"Georgien",{"$f":"IF(OR($B33=\"\"),0,IF($B33=AS33,20,0))","v":0},"Georgien",{"$f":"IF(OR($B33=\"\"),0,IF($B33=AU33,20,0))","v":0},"Georgien",{"$f":"IF(OR($B33=\"\"),0,IF($B33=AW33,20,0))","v":0},"Georgien",{"$f":"IF(OR($B33=\"\"),0,IF($B33=AY33,20,0))","v":0},"Georgien",{"$f":"IF(OR($B33=\"\"),0,IF($B33=BA33,20,0))","v":0},"Tschechien",{"$f":"IF(OR($B33=\"\"),0,IF($B33=BC33,20,0))","v":20},"Georgien",{"$f":"IF(OR($B33=\"\"),0,IF($B33=BE33,20,0))","v":0},"Georgien",{"$f":"IF(OR($B33=\"\"),0,IF($B33=BG33,20,0))","v":0},"Georgien",{"$f":"IF(OR($B33=\"\"),0,IF($B33=BI33,20,0))","v":0},"Georgien",{"$f":"IF(OR($B33=\"\"),0,IF($B33=BK33,20,0))","v":0},"Tschechien",{"$f":"IF(OR($B33=\"\"),0,IF($B33=BM33,20,0))","v":20},"Georgien",{"$f":"IF(OR($B33=\"\"),0,IF($B33=BO33,20,0))","v":0},"Georgien",{"$f":"IF(OR($B33=\"\"),0,IF($B33=BQ33,20,0))","v":0},"Georgien",{"$f":"IF(OR($B33=\"\"),0,IF($B33=BS33,20,0))","v":0},"Georgien",{"$f":"IF(OR($B33=\"\"),0,IF($B33=BU33,20,0))","v":0},"Georgien",{"$f":"IF(OR($B33=\"\"),0,IF($B33=BW33,20,0))","v":0},"Georgien",{"$f":"IF(OR($B33=\"\"),0,IF($B33=BY33,20,0))","v":0},"Georgien",{"$f":"IF(OR($B33=\"\"),0,IF($B33=CA33,20,0))","v":0},"Georgien",{"$f":"IF(OR($B33=\"\"),0,IF($B33=CC33,20,0))","v":0},"Georgien",{"$f":"IF(OR($B33=\"\"),0,IF($B33=CE33,20,0))","v":0},"Georgien",{"$f":"IF(OR($B33=\"\"),0,IF($B33=CG33,20,0))","v":0},"Georgien",{"$f":"IF(OR($B33=\"\"),0,IF($B33=CI33,20,0))","v":0},"Georgien",{"$f":"IF(OR($B33=\"\"),0,IF($B33=CK33,20,0))","v":0},"Georgien",{"$f":"IF(OR($B33=\"\"),0,IF($B33=CM33,20,0))","v":0},"Tschechien",{"$f":"IF(OR($B33=\"\"),0,IF($B33=CO33,20,0))","v":20},"Georgien",{"$f":"IF(OR($B33=\"\"),0,IF($B33=CQ33,20,0))","v":0},"Georgien",{"$f":"IF(OR($B33=\"\"),0,IF($B33=CS33,20,0))","v":0},"Georgien",{"$f":"IF(OR($B33=\"\"),0,IF($B33=CU33,20,0))","v":0},"Tschechien",{"$f":"IF(OR($B33=\"\"),0,IF($B33=CW33,20,0))","v":20},"Georgien",{"$f":"IF(OR($B33=\"\"),0,IF($B33=CY33,20,0))","v":0}]
[null,null,"Gesamtpunktzahl:",null,{"$f":"Teilnehmerliste!$C6","v":"Panos"},{"$f":"SUM(F10:F33)","v":120},{"$f":"Teilnehmerliste!$C7","v":"Marco"},{"$f":"SUM(H10:H33)","v":80},{"$f":"Teilnehmerliste!$C8","v":"Ruben"},{"$f":"SUM(J10:J33)","v":100},{"$f":"Teilnehmerliste!$C9","v":"Andi"},{"$f":"SUM(L10:L33)","v":100},{"$f":"Teilnehmerliste!$C10","v":"Nott"},{"$f":"SUM(N10:N33)","v":60},{"$f":"Teilnehmerliste!$C11","v":"Philippe"},{"$f":"SUM(P10:P33)","v":100},{"$f":"Teilnehmerliste!$C12","v":"Roger"},{"$f":"SUM(R10:R33)","v":140},{"$f":"Teilnehmerliste!$C13","v":"Mara"},{"$f":"SUM(T10:T33)","v":100},{"$f":"Teilnehmerliste!$C14","v":"Lara/Yaniv"},{"$f":"SUM(V10:V33)","v":100},{"$f":"Teilnehmerliste!$C15","v":"Michael"},{"$f":"SUM(X10:X33)","v":60},{"$f":"Teilnehmerliste!$C16","v":"Manuel"},{"$f":"SUM(Z10:Z33)","v":140},{"$f":"Teilnehmerliste!$C17","v":"Nicolas"},{"$f":"SUM(AB10:AB33)","v":100},{"$f":"Teilnehmerliste!$C18","v":"Philip"},{"$f":"SUM(AD10:AD33)","v":40},{"$f":"Teilnehmerliste!$C19","v":"André"},{"$f":"SUM(AF10:AF33)","v":60},{"$f":"Teilnehmerliste!$C20","v":"Louis"},{"$f":"SUM(AH10:AH33)","v":120},{"$f":"Teilnehmerliste!$C21","v":"Daniel"},{"$f":"SUM(AJ10:AJ33)","v":60},{"$f":"Teilnehmerliste!$C22","v":"Deliz"},{"$f":"SUM(AL10:AL33)","v":60},{"$f":"Teilnehmerliste!$C23","v":"Florian"},{"$f":"SUM(AN10:AN33)","v":120},{"$f":"Teilnehmerliste!$C24","v":"Olo"},{"$f":"SUM(AP10:AP33)","v":160},{"$f":"Teilnehmerliste!$C25","v":"Leonardo"},{"$f":"SUM(AR10:AR33)","v":80},{"$f":"Teilnehmerliste!$C26","v":"Lisa"},{"$f":"SUM(AT10:AT33)","v":80},{"$f":"Teilnehmerliste!$C27","v":"Niva"},{"$f":"SUM(AV10:AV33)","v":80},{"$f":"Teilnehmerliste!$C28","v":"Vinci"},{"$f":"SUM(AX10:AX33)","v":100},{"$f":"Teilnehmerliste!$C29","v":"Goran"},{"$f":"SUM(AZ10:AZ33)","v":140},{"$f":"Teilnehmerliste!$C30","v":"Dino"},{"$f":"SUM(BB10:BB33)","v":120},{"$f":"Teilnehmerliste!$C31","v":"Marlon"},{"$f":"SUM(BD10:BD33)","v":120},{"$f":"Teilnehmerliste!$C32","v":"Maurizio"},{"$f":"SUM(BF10:BF33)","v":120},{"$f":"Teilnehmerliste!$C33","v":"Roberto"},{"$f":"SUM(BH10:BH33)","v":100},{"$f":"Teilnehmerliste!$C34","v":"Rui"},{"$f":"SUM(BJ10:BJ33)","v":40},{"$f":"Teilnehmerliste!$C35","v":"Laurent"},{"$f":"SUM(BL10:BL33)","v":160},{"$f":"Teilnehmerliste!$C36","v":"Gregory"},{"$f":"SUM(BN10:BN33)","v":220},{"$f":"Teilnehmerliste!$C37","v":"Reto"},{"$f":"SUM(BP10:BP33)","v":100},{"$f":"Teilnehmerliste!$C38","v":"Sarina"},{"$f":"SUM(BR10:BR33)","v":140},{"$f":"Teilnehmerliste!$C39","v":"Stefan"},{"$f":"SUM(BT10:BT33)","v":140},{"$f":"Teilnehmerliste!$C40","v":"Timothy"},{"$f":"SUM(BV10:BV33)","v":100},{"$f":"Teilnehmerliste!$C41","v":"Florian"},{"$f":"SUM(BX10:BX33)","v":120},{"$f":"Teilnehmerliste!$C42","v":"Djuma"},{"$f":"SUM(BZ10:BZ33)","v":100},{"$f":"Teilnehmerliste!$C43","v":"Agnes"},{"$f":"SUM(CB10:CB33)","v":100},{"$f":"Teilnehmerliste!$C44","v":"Andreas"},{"$f":"SUM(CD10:CD33)","v":160},{"$f":"Teilnehmerliste!$C45","v":"Michi"},{"$f":"SUM(CF10:CF33)","v":40},{"$f":"Teilnehmerliste!$C46","v":"Aiden"},{"$f":"SUM(CH10:CH33)","v":120},{"$f":"Teilnehmerliste!$C47","v":"Murat"},{"$f":"SUM(CJ10:CJ33)","v":100},{"$f":"Teilnehmerliste!$C48","v":"Pascal"},{"$f":"SUM(CL10:CL33)","v":80},{"$f":"Teilnehmerliste!$C49","v":"André"},{"$f":"SUM(CN10:CN33)","v":60},{"$f":"Teilnehmerliste!$C50","v":"Franz"},{"$f":"SUM(CP10:CP33)","v":160},{"$f":"Teilnehmerliste!$C51","v":"Marc"},{"$f":"SUM(CR10:CR33)","v":100},{"$f":"Teilnehmerliste!$C52","v":"Mauro"},{"$f":"SUM(CT10:CT33)","v":100},{"$f":"Teilnehmerliste!$C53","v":"Martin"},{"$f":"SUM(CV10:CV33)","v":60},{"$f":"Teilnehmerliste!$C54","v":"Telmo"},{"$f":"SUM(CX10:CX33)","v":80},{"$f":"Teilnehmerliste!$C55","v":"Luigi"},{"$f":"SUM(CZ10:CZ33)","v":60}]
[]
[]
["Vorrunde",null,"Spieler 51 - 100"]
[{"$f":"A4","v":"20 Punkte für richtige Mannschaft auf Platz 3"},null,null,null,{"$f":"Teilnehmerliste!$B56","v":"Pek"},null,{"$f":"Teilnehmerliste!$B57","v":"Pietzke"},null,{"$f":"Teilnehmerliste!$B58","v":"Rauscher"},null,{"$f":"Teilnehmerliste!$B59","v":"Rohner"},null,{"$f":"Teilnehmerliste!$B60","v":"Rüegg"},null,{"$f":"Teilnehmerliste!$B61","v":"Rüegg"},null,{"$f":"Teilnehmerliste!$B62","v":"Rüegg"},null,{"$f":"Teilnehmerliste!$B63","v":"Schommarz"},null,{"$f":"Teilnehmerliste!$B64","v":"Schuster"},null,{"$f":"Teilnehmerliste!$B65","v":"Schwitter"},null,{"$f":"Teilnehmerliste!$B66","v":"Silva"},null,{"$f":"Teilnehmerliste!$B67","v":"Sotelo"},null,{"$f":"Teilnehmerliste!$B68","v":"Thormann"},null,{"$f":"Teilnehmerliste!$B69","v":"Thormann"},null,{"$f":"Teilnehmerliste!$B70","v":"Treichler"},null,{"$f":"Teilnehmerliste!$B71","v":"Treichler"},null,{"$f":"Teilnehmerliste!$B72","v":"Wälti"},null,{"$f":"Teilnehmerliste!$B73","v":"Wagner"},null,{"$f":"Teilnehmerliste!$B74","v":"Walser"},null,{"$f":"Teilnehmerliste!$B75","v":"Wang"},null,{"$f":"Teilnehmerliste!$B76","v":"Wullschleger"},null,{"$f":"Teilnehmerliste!$B77","v":"Zachmann"},null,{"$f":"Teilnehmerliste!$B78","v":"Zachmann"},null,{"$f":"Teilnehmerliste!$B79","v":"Babic"},null,{"$f":"Teilnehmerliste!$B80","v":"Megdiche"},null,{"$f":"Teilnehmerliste!$B81","v":"Städelin"},null,{"$f":"Teilnehmerliste!$B82","v":0},null,{"$f":"Teilnehmerliste!$B83","v":0},null,{"$f":"Teilnehmerliste!$B84","v":0},null,{"$f":"Teilnehmerliste!$B85","v":0},null,{"$f":"Teilnehmerliste!$B86","v":0},null,{"$f":"Teilnehmerliste!$B87","v":0},null,{"$f":"Teilnehmerliste!$B88","v":0},null,{"$f":"Teilnehmerliste!$B89","v":0},null,{"$f":"Teilnehmerliste!$B90","v":0},null,{"$f":"Teilnehmerliste!$B91","v":0},null,{"$f":"Teilnehmerliste!$B92","v":0},null,{"$f":"Teilnehmerliste!$B93","v":0},null,{"$f":"Teilnehmerliste!$B94","v":0},null,{"$f":"Teilnehmerliste!$B95","v":0},null,{"$f":"Teilnehmerliste!$B96","v":0},null,{"$f":"Teilnehmerliste!$B97","v":0},null,{"$f":"Teilnehmerliste!$B98","v":0},null,{"$f":"Teilnehmerliste!$B99","v":0},null,{"$f":"Teilnehmerliste!$B100","v":0},null,{"$f":"Teilnehmerliste!$B101","v":0},null,{"$f":"Teilnehmerliste!$B102","v":0},null,{"$f":"Teilnehmerliste!$B103","v":0},null,{"$f":"Teilnehmerliste!$B104","v":0},null,{"$f":"Teilnehmerliste!$B105","v":0}]
[{"$f":"A5","v":"20 Punkte für richtige Mannschaft auf Platz 4"},null,null,null,{"$f":"Teilnehmerliste!$C56","v":"Lechena"},null,{"$f":"Teilnehmerliste!$C57","v":"Jannis"},null,{"$f":"Teilnehmerliste!$C58","v":"Petra"},null,{"$f":"Teilnehmerliste!$C59","v":"Martin"},null,{"$f":"Teilnehmerliste!$C60","v":"Lynn"},null,{"$f":"Teilnehmerliste!$C61","v":"Michael"},null,{"$f":"Teilnehmerliste!$C62","v":"Sabine"},null,{"$f":"Teilnehmerliste!$C63","v":"Erich"},null,{"$f":"Teilnehmerliste!$C64","v":"Ralph"},null,{"$f":"Teilnehmerliste!$C65","v":"Corinne"},null,{"$f":"Teilnehmerliste!$C66","v":"Bruno"},null,{"$f":"Teilnehmerliste!$C67","v":"Yermany"},null,{"$f":"Teilnehmerliste!$C68","v":"Armando"},null,{"$f":"Teilnehmerliste!$C69","v":"Julia"},null,{"$f":"Teilnehmerliste!$C70","v":"Lea"},null,{"$f":"Teilnehmerliste!$C71","v":"Reto"},null,{"$f":"Teilnehmerliste!$C72","v":"Christoph"},null,{"$f":"Teilnehmerliste!$C73","v":"Markus"},null,{"$f":"Teilnehmerliste!$C74","v":"Stefan"},null,{"$f":"Teilnehmerliste!$C75","v":"Jingwen"},null,{"$f":"Teilnehmerliste!$C76","v":"Stefan"},null,{"$f":"Teilnehmerliste!$C77","v":"Jasmine"},null,{"$f":"Teilnehmerliste!$C78","v":"Stefan"},null,{"$f":"Teilnehmerliste!$C79","v":"Mario"},null,{"$f":"Teilnehmerliste!$C80","v":"Nidhal"},null,{"$f":"Teilnehmerliste!$C81","v":"Hanspeter"},null,{"$f":"Teilnehmerliste!$C82","v":0},null,{"$f":"Teilnehmerliste!$C83","v":0},null,{"$f":"Teilnehmerliste!$C84","v":0},null,{"$f":"Teilnehmerliste!$C85","v":0},null,{"$f":"Teilnehmerliste!$C86","v":0},null,{"$f":"Teilnehmerliste!$C87","v":0},null,{"$f":"Teilnehmerliste!$C88","v":0},null,{"$f":"Teilnehmerliste!$C89","v":0},null,{"$f":"Teilnehmerliste!$C90","v":0},null,{"$f":"Teilnehmerliste!$C91","v":0},null,{"$f":"Teilnehmerliste!$C92","v":0},null,{"$f":"Teilnehmerliste!$C93","v":0},null,{"$f":"Teilnehmerliste!$C94","v":0},null,{"$f":"Teilnehmerliste!$C95","v":0},null,{"$f":"Teilnehmerliste!$C96","v":0},null,{"$f":"Teilnehmerliste!$C97","v":0},null,{"$f":"Teilnehmerliste!$C98","v":0},null,{"$f":"Teilnehmerliste!$C99","v":0},null,{"$f":"Teilnehmerliste!$C100","v":0},null,{"$f":"Teilnehmerliste!$C101","v":0},null,{"$f":"Teilnehmerliste!$C102","v":0},null,{"$f":"Teilnehmerliste!$C103","v":0},null,{"$f":"Teilnehmerliste!$C104","v":0},null,{"$f":"Teilnehmerliste!$C105","v":0}]
[{"$f":"A6","v":"Punkte für 1. + 2. Platz werden in der Zwischenrunde dazugerechnet"},null,null,null,null,{"$f":"Teilnehmerliste!$A56","v":51},null,{"$f":"Teilnehmerliste!$A57","v":52},null,{"$f":"Teilnehmerliste!$A58","v":53},null,{"$f":"Teilnehmerliste!$A59","v":54},null,{"$f":"Teilnehmerliste!$A60","v":55},null,{"$f":"Teilnehmerliste!$A61","v":56},null,{"$f":"Teilnehmerliste!$A62","v":57},null,{"$f":"Teilnehmerliste!$A63","v":58},null,{"$f":"Teilnehmerliste!$A64","v":59},null,{"$f":"Teilnehmerliste!$A65","v":60},null,{"$f":"Teilnehmerliste!$A66","v":61},null,{"$f":"Teilnehmerliste!$A67","v":62},null,{"$f":"Teilnehmerliste!$A68","v":63},null,{"$f":"Teilnehmerliste!$A69","v":64},null,{"$f":"Teilnehmerliste!$A70","v":65},null,{"$f":"Teilnehmerliste!$A71","v":66},null,{"$f":"Teilnehmerliste!$A72","v":67},null,{"$f":"Teilnehmerliste!$A73","v":68},null,{"$f":"Teilnehmerliste!$A74","v":69},null,{"$f":"Teilnehmerliste!$A75","v":70},null,{"$f":"Teilnehmerliste!$A76","v":71},null,{"$f":"Teilnehmerliste!$A77","v":72},null,{"$f":"Teilnehmerliste!$A78","v":73},null,{"$f":"Teilnehmerliste!$A79","v":74},null,{"$f":"Teilnehmerliste!$A80","v":75},null,{"$f":"Teilnehmerliste!$A81","v":76},null,{"$f":"Teilnehmerliste!$A82","v":77},null,{"$f":"Teilnehmerliste!$A83","v":78},null,{"$f":"Teilnehmerliste!$A84","v":79},null,{"$f":"Teilnehmerliste!$A85","v":80},null,{"$f":"Teilnehmerliste!$A86","v":81},null,{"$f":"Teilnehmerliste!$A87","v":82},null,{"$f":"Teilnehmerliste!$A88","v":83},null,{"$f":"Teilnehmerliste!$A89","v":84},null,{"$f":"Teilnehmerliste!$A90","v":85},null,{"$f":"Teilnehmerliste!$A91","v":86},null,{"$f":"Teilnehmerliste!$A92","v":87},null,{"$f":"Teilnehmerliste!$A93","v":88},null,{"$f":"Teilnehmerliste!$A94","v":89},null,{"$f":"Teilnehmerliste!$A95","v":90},null,{"$f":"Teilnehmerliste!$A96","v":91},null,{"$f":"Teilnehmerliste!$A97","v":92},null,{"$f":"Teilnehmerliste!$A98","v":93},null,{"$f":"Teilnehmerliste!$A99","v":94},null,{"$f":"Teilnehmerliste!$A100","v":95},null,{"$f":"Teilnehmerliste!$A101","v":96},null,{"$f":"Teilnehmerliste!$A102","v":97},null,{"$f":"Teilnehmerliste!$A103","v":98},null,{"$f":"Teilnehmerliste!$A104","v":99},null,{"$f":"Teilnehmerliste!$A105","v":100}]
[]
["Platz","Team",null,null,"Tipp","Pkt","Tipp","Pkt","Tipp","Pkt","Tipp","Pkt","Tipp","Pkt","Tipp","Pkt","Tipp","Pkt","Tipp","Pkt","Tipp","Pkt","Tipp","Pkt","Tipp","Pkt","Tipp","Pkt","Tipp","Pkt","Tipp","Pkt","Tipp","Pkt","Tipp","Pkt","Tipp","Pkt","Tipp","Pkt","Tipp","Pkt","Tipp","Pkt","Tipp","Pkt","Tipp","Pkt","Tipp","Pkt","Tipp","Pkt","Tipp","Pkt","Tipp","Pkt","Tipp","Pkt","Tipp","Pkt","Tipp","Pkt","Tipp","Pkt","Tipp","Pkt","Tipp","Pkt","Tipp","Pkt","Tipp","Pkt","Tipp","Pkt","Tipp","Pkt","Tipp","Pkt","Tipp","Pkt","Tipp","Pkt","Tipp","Pkt","Tipp","Pkt","Tipp","Pkt","Tipp","Pkt","Tipp","Pkt","Tipp","Pkt","Tipp","Pkt","Tipp","Pkt","Tipp","Pkt","Tipp","Pkt","Tipp","Pkt"]
["Endplatzierung"]
[{"$f":"A10","v":1},{"$f":"IF(B10=\"\",\"\",B10)","v":"Deutschland"},"Gruppe A",null,"Deutschland","-","Deutschland","-","Deutschland","-","Deutschland","-","Deutschland","-","Deutschland","-","Deutschland","-","Deutschland","-","Deutschland","-","Schweiz","-","Deutschland","-","Schweiz","-","Deutschland","-","Deutschland","-","Deutschland","-","Deutschland","-","Deutschland","-","Deutschland","-","Deutschland","-","Deutschland","-","Deutschland","-","Deutschland","-","Deutschland","-","Deutschland","-","Deutschland","-","Deutschland","-",null,"-",null,"-",null,"-",null,"-",null,"-",null,"-",null,"-",null,"-",null,"-",null,"-",null,"-",null,"-",null,"-",null,"-",null,"-",null,"-",null,"-",null,"-",null,"-",null,"-",null,"-",null,"-",null,"-",null,"-"]
[2,"Schweiz",null,null,"Schweiz","-","Schweiz","-","Schweiz","-","Schweiz","-","Ungarn","-","Schweiz","-","Schweiz","-","Schweiz","-","Schweiz","-","Deutschland","-","Schweiz","-","Ungarn","-","Schweiz","-","Schweiz","-","Schweiz","-","Schweiz","-","Schweiz","-","Schweiz","-","Schweiz","-","Schottland","-","Schweiz","-","Schweiz","-","Schweiz","-","Schweiz","-","Schweiz","-","Schweiz","-",null,"-",null,"-",null,"-",null,"-",null,"-",null,"-",null,"-",null,"-",null,"-",null,"-",null,"-",null,"-",null,"-",null,"-",null,"-",null,"-",null,"-",null,"-",null,"-",null,"-",null,"-",null,"-",null,"-",null,"-"]
[3,"Ungarn",null,null,"Schottland",{"$f":"IF(OR($B46=\"\"),0,IF($B46=E46,20,0))","v":0},"Ungarn",{"$f":"IF(OR($B46=\"\"),0,IF($B46=G46,20,0))","v":20},"Ungarn",{"$f":"IF(OR($B46=\"\"),0,IF($B46=I46,20,0))","v":20},"Schottland",{"$f":"IF(OR($B46=\"\"),0,IF($B46=K46,20,0))","v":0},"Schweiz",{"$f":"IF(OR($B46=\"\"),0,IF($B46=M46,20,0))","v":0},"Schottland",{"$f":"IF(OR($B46=\"\"),0,IF($B46=O46,20,0))","v":0},"Schottland",{"$f":"IF(OR($B46=\"\"),0,IF($B46=Q46,20,0))","v":0},"Schottland",{"$f":"IF(OR($B46=\"\"),0,IF($B46=S46,20,0))","v":0},"Schottland",{"$f":"IF(OR($B46=\"\"),0,IF($B46=U46,20,0))","v":0},"Ungarn",{"$f":"IF(OR($B46=\"\"),0,IF($B46=W46,20,0))","v":20},"Ungarn",{"$f":"IF(OR($B46=\"\"),0,IF($B46=Y46,20,0))","v":20},"Deutschland",{"$f":"IF(OR($B46=\"\"),0,IF($B46=AA46,20,0))","v":0},"Ungarn",{"$f":"IF(OR($B46=\"\"),0,IF($B46=AC46,20,0))","v":20},"Ungarn",{"$f":"IF(OR($B46=\"\"),0,IF($B46=AE46,20,0))","v":20},"Ungarn",{"$f":"IF(OR($B46=\"\"),0,IF($B46=AG46,20,0))","v":20},"Ungarn",{"$f":"IF(OR($B46=\"\"),0,IF($B46=AI46,20,0))","v":20},"Schottland",{"$f":"IF(OR($B46=\"\"),0,IF($B46=AK46,20,0))","v":0},"Ungarn",{"$f":"IF(OR($B46=\"\"),0,IF($B46=AM46,20,0))","v":20},"Ungarn",{"$f":"IF(OR($B46=\"\"),0,IF($B46=AO46,20,0))","v":20},"Schweiz",{"$f":"IF(OR($B46=\"\"),0,IF($B46=AQ46,20,0))","v":0},"Ungarn",{"$f":"IF(OR($B46=\"\"),0,IF($B46=AS46,20,0))","v":20},"Ungarn",{"$f":"IF(OR($B46=\"\"),0,IF($B46=AU46,20,0))","v":20},"Ungarn",{"$f":"IF(OR($B46=\"\"),0,IF($B46=AW46,20,0))","v":20},"Ungarn",{"$f":"IF(OR($B46=\"\"),0,IF($B46=AY46,20,0))","v":20},"Ungarn",{"$f":"IF(OR($B46=\"\"),0,IF($B46=BA46,20,0))","v":20},"Ungarn",{"$f":"IF(OR($B46=\"\"),0,IF($B46=BC46,20,0))","v":20},null,{"$f":"IF(OR($B46=\"\"),0,IF($B46=BE46,20,0))","v":0},null,{"$f":"IF(OR($B46=\"\"),0,IF($B46=BG46,20,0))","v":0},null,{"$f":"IF(OR($B46=\"\"),0,IF($B46=BI46,20,0))","v":0},null,{"$f":"IF(OR($B46=\"\"),0,IF($B46=BK46,20,0))","v":0},null,{"$f":"IF(OR($B46=\"\"),0,IF($B46=BM46,20,0))","v":0},null,{"$f":"IF(OR($B46=\"\"),0,IF($B46=BO46,20,0))","v":0},null,{"$f":"IF(OR($B46=\"\"),0,IF($B46=BQ46,20,0))","v":0},null,{"$f":"IF(OR($B46=\"\"),0,IF($B46=BS46,20,0))","v":0},null,{"$f":"IF(OR($B46=\"\"),0,IF($B46=BU46,20,0))","v":0},null,{"$f":"IF(OR($B46=\"\"),0,IF($B46=BW46,20,0))","v":0},null,{"$f":"IF(OR($B46=\"\"),0,IF($B46=BY46,20,0))","v":0},null,{"$f":"IF(OR($B46=\"\"),0,IF($B46=CA46,20,0))","v":0},null,{"$f":"IF(OR($B46=\"\"),0,IF($B46=CC46,20,0))","v":0},null,{"$f":"IF(OR($B46=\"\"),0,IF($B46=CE46,20,0))","v":0},null,{"$f":"IF(OR($B46=\"\"),0,IF($B46=CG46,20,0))","v":0},null,{"$f":"IF(OR($B46=\"\"),0,IF($B46=CI46,20,0))","v":0},null,{"$f":"IF(OR($B46=\"\"),0,IF($B46=CK46,20,0))","v":0},null,{"$f":"IF(OR($B46=\"\"),0,IF($B46=CM46,20,0))","v":0},null,{"$f":"IF(OR($B46=\"\"),0,IF($B46=CO46,20,0))","v":0},null,{"$f":"IF(OR($B46=\"\"),0,IF($B46=CQ46,20,0))","v":0},null,{"$f":"IF(OR($B46=\"\"),0,IF($B46=CS46,20,0))","v":0},null,{"$f":"IF(OR($B46=\"\"),0,IF($B46=CU46,20,0))","v":0},null,{"$f":"IF(OR($B46=\"\"),0,IF($B46=CW46,20,0))","v":0},null,{"$f":"IF(OR($B46=\"\"),0,IF($B46=CY46,20,0))","v":0}]
[4,"Schottland",null,null,"Ungarn",{"$f":"IF(OR($B47=\"\"),0,IF($B47=E47,20,0))","v":0},"Schottland",{"$f":"IF(OR($B47=\"\"),0,IF($B47=G47,20,0))","v":20},"Schottland",{"$f":"IF(OR($B47=\"\"),0,IF($B47=I47,20,0))","v":20},"Ungarn",{"$f":"IF(OR($B47=\"\"),0,IF($B47=K47,20,0))","v":0},"Schottland",{"$f":"IF(OR($B47=\"\"),0,IF($B47=M47,20,0))","v":20},"Ungarn",{"$f":"IF(OR($B47=\"\"),0,IF($B47=O47,20,0))","v":0},"Ungarn",{"$f":"IF(OR($B47=\"\"),0,IF($B47=Q47,20,0))","v":0},"Ungarn",{"$f":"IF(OR($B47=\"\"),0,IF($B47=S47,20,0))","v":0},"Ungarn",{"$f":"IF(OR($B47=\"\"),0,IF($B47=U47,20,0))","v":0},"Schottland",{"$f":"IF(OR($B47=\"\"),0,IF($B47=W47,20,0))","v":20},"Schottland",{"$f":"IF(OR($B47=\"\"),0,IF($B47=Y47,20,0))","v":20},"Schottland",{"$f":"IF(OR($B47=\"\"),0,IF($B47=AA47,20,0))","v":20},"Schottland",{"$f":"IF(OR($B47=\"\"),0,IF($B47=AC47,20,0))","v":20},"Schottland",{"$f":"IF(OR($B47=\"\"),0,IF($B47=AE47,20,0))","v":20},"Schottland",{"$f":"IF(OR($B47=\"\"),0,IF($B47=AG47,20,0))","v":20},"Schottland",{"$f":"IF(OR($B47=\"\"),0,IF($B47=AI47,20,0))","v":20},"Ungarn",{"$f":"IF(OR($B47=\"\"),0,IF($B47=AK47,20,0))","v":0},"Schottland",{"$f":"IF(OR($B47=\"\"),0,IF($B47=AM47,20,0))","v":20},"Schottland",{"$f":"IF(OR($B47=\"\"),0,IF($B47=AO47,20,0))","v":20},"Ungarn",{"$f":"IF(OR($B47=\"\"),0,IF($B47=AQ47,20,0))","v":0},"Schottland",{"$f":"IF(OR($B47=\"\"),0,IF($B47=AS47,20,0))","v":20},"Schottland",{"$f":"IF(OR($B47=\"\"),0,IF($B47=AU47,20,0))","v":20},"Schottland",{"$f":"IF(OR($B47=\"\"),0,IF($B47=AW47,20,0))","v":20},"Schottland",{"$f":"IF(OR($B47=\"\"),0,IF($B47=AY47,20,0))","v":20},"Schottland",{"$f":"IF(OR($B47=\"\"),0,IF($B47=BA47,20,0))","v":20},"Schottland",{"$f":"IF(OR($B47=\"\"),0,IF($B47=BC47,20,0))","v":20},null,{"$f":"IF(OR($B47=\"\"),0,IF($B47=BE47,20,0))","v":0},null,{"$f":"IF(OR($B47=\"\"),0,IF($B47=BG47,20,0))","v":0},null,{"$f":"IF(OR($B47=\"\"),0,IF($B47=BI47,20,0))","v":0},null,{"$f":"IF(OR($B47=\"\"),0,IF($B47=BK47,20,0))","v":0},null,{"$f":"IF(OR($B47=\"\"),0,IF($B47=BM47,20,0))","v":0},null,{"$f":"IF(OR($B47=\"\"),0,IF($B47=BO47,20,0))","v":0},null,{"$f":"IF(OR($B47=\"\"),0,IF($B47=BQ47,20,0))","v":0},null,{"$f":"IF(OR($B47=\"\"),0,IF($B47=BS47,20,0))","v":0},null,{"$f":"IF(OR($B47=\"\"),0,IF($B47=BU47,20,0))","v":0},null,{"$f":"IF(OR($B47=\"\"),0,IF($B47=BW47,20,0))","v":0},null,{"$f":"IF(OR($B47=\"\"),0,IF($B47=BY47,20,0))","v":0},null,{"$f":"IF(OR($B47=\"\"),0,IF($B47=CA47,20,0))","v":0},null,{"$f":"IF(OR($B47=\"\"),0,IF($B47=CC47,20,0))","v":0},null,{"$f":"IF(OR($B47=\"\"),0,IF($B47=CE47,20,0))","v":0},null,{"$f":"IF(OR($B47=\"\"),0,IF($B47=CG47,20,0))","v":0},null,{"$f":"IF(OR($B47=\"\"),0,IF($B47=CI47,20,0))","v":0},null,{"$f":"IF(OR($B47=\"\"),0,IF($B47=CK47,20,0))","v":0},null,{"$f":"IF(OR($B47=\"\"),0,IF($B47=CM47,20,0))","v":0},null,{"$f":"IF(OR($B47=\"\"),0,IF($B47=CO47,20,0))","v":0},null,{"$f":"IF(OR($B47=\"\"),0,IF($B47=CQ47,20,0))","v":0},null,{"$f":"IF(OR($B47=\"\"),0,IF($B47=CS47,20,0))","v":0},null,{"$f":"IF(OR($B47=\"\"),0,IF($B47=CU47,20,0))","v":0},null,{"$f":"IF(OR($B47=\"\"),0,IF($B47=CW47,20,0))","v":0},null,{"$f":"IF(OR($B47=\"\"),0,IF($B47=CY47,20,0))","v":0}]
[1,"Spanien","Gruppe B",null,"Spanien","-","Spanien","-","Spanien","-","Spanien","-","Spanien","-","Spanien","-","Kroatien","-","Spanien","-","Spanien","-","Spanien","-","Kroatien","-","Kroatien","-","Kroatien","-","Kroatien","-","Spanien","-","Italien","-","Spanien","-","Spanien","-","Spanien","-","Spanien","-","Spanien","-","Spanien","-","Kroatien","-","Kroatien","-","Kroatien","-","Italien","-",null,"-",null,"-",null,"-",null,"-",null,"-",null,"-",null,"-",null,"-",null,"-",null,"-",null,"-",null,"-",null,"-",null,"-",null,"-",null,"-",null,"-",null,"-",null,"-",null,"-",null,"-",null,"-",null,"-",null,"-"]
[2,"Italien",null,null,"Italien","-","Italien","-","Kroatien","-","Kroatien","-","Kroatien","-","Kroatien","-","Spanien","-","Italien","-","Italien","-","Kroatien","-","Spanien","-","Italien","-","Spanien","-","Spanien","-","Italien","-","Kroatien","-","Italien","-","Kroatien","-","Italien","-","Kroatien","-","Italien","-","Kroatien","-","Albanien","-","Spanien","-","Spanien","-","Spanien","-",null,"-",null,"-",null,"-",null,"-",null,"-",null,"-",null,"-",null,"-",null,"-",null,"-",null,"-",null,"-",null,"-",null,"-",null,"-",null,"-",null,"-",null,"-",null,"-",null,"-",null,"-",null,"-",null,"-",null,"-"]
[3,"Kroatien",null,null,"Kroatien",{"$f":"IF(OR($B50=\"\"),0,IF($B50=E50,20,0))","v":20},"Kroatien",{"$f":"IF(OR($B50=\"\"),0,IF($B50=G50,20,0))","v":20},"Italien",{"$f":"IF(OR($B50=\"\"),0,IF($B50=I50,20,0))","v":0},"Italien",{"$f":"IF(OR($B50=\"\"),0,IF($B50=K50,20,0))","v":0},"Italien",{"$f":"IF(OR($B50=\"\"),0,IF($B50=M50,20,0))","v":0},"Italien",{"$f":"IF(OR($B50=\"\"),0,IF($B50=O50,20,0))","v":0},"Italien",{"$f":"IF(OR($B50=\"\"),0,IF($B50=Q50,20,0))","v":0},"Kroatien",{"$f":"IF(OR($B50=\"\"),0,IF($B50=S50,20,0))","v":20},"Kroatien",{"$f":"IF(OR($B50=\"\"),0,IF($B50=U50,20,0))","v":20},"Italien",{"$f":"IF(OR($B50=\"\"),0,IF($B50=W50,20,0))","v":0},"Italien",{"$f":"IF(OR($B50=\"\"),0,IF($B50=Y50,20,0))","v":0},"Albanien",{"$f":"IF(OR($B50=\"\"),0,IF($B50=AA50,20,0))","v":0},"Italien",{"$f":"IF(OR($B50=\"\"),0,IF($B50=AC50,20,0))","v":0},"Italien",{"$f":"IF(OR($B50=\"\"),0,IF($B50=AE50,20,0))","v":0},"Kroatien",{"$f":"IF(OR($B50=\"\"),0,IF($B50=AG50,20,0))","v":20},"Spanien",{"$f":"IF(OR($B50=\"\"),0,IF($B50=AI50,20,0))","v":0},"Kroatien",{"$f":"IF(OR($B50=\"\"),0,IF($B50=AK50,20,0))","v":20},"Italien",{"$f":"IF(OR($B50=\"\"),0,IF($B50=AM50,20,0))","v":0},"Kroatien",{"$f":"IF(OR($B50=\"\"),0,IF($B50=AO50,20,0))","v":20},"Italien",{"$f":"IF(OR($B50=\"\"),0,IF($B50=AQ50,20,0))","v":0},"Kroatien",{"$f":"IF(OR($B50=\"\"),0,IF($B50=AS50,20,0))","v":20},"Italien",{"$f":"IF(OR($B50=\"\"),0,IF($B50=AU50,20,0))","v":0},"Spanien",{"$f":"IF(OR($B50=\"\"),0,IF($B50=AW50,20,0))","v":0},"Italien",{"$f":"IF(OR($B50=\"\"),0,IF($B50=AY50,20,0))","v":0},"Italien",{"$f":"IF(OR($B50=\"\"),0,IF($B50=BA50,20,0))","v":0},"Kroatien",{"$f":"IF(OR($B50=\"\"),0,IF($B50=BC50,20,0))","v":20},null,{"$f":"IF(OR($B50=\"\"),0,IF($B50=BE50,20,0))","v":0},null,{"$f":"IF(OR($B50=\"\"),0,IF($B50=BG50,20,0))","v":0},null,{"$f":"IF(OR($B50=\"\"),0,IF($B50=BI50,20,0))","v":0},null,{"$f":"IF(OR($B50=\"\"),0,IF($B50=BK50,20,0))","v":0},null,{"$f":"IF(OR($B50=\"\"),0,IF($B50=BM50,20,0))","v":0},null,{"$f":"IF(OR($B50=\"\"),0,IF($B50=BO50,20,0))","v":0},null,{"$f":"IF(OR($B50=\"\"),0,IF($B50=BQ50,20,0))","v":0},null,{"$f":"IF(OR($B50=\"\"),0,IF($B50=BS50,20,0))","v":0},null,{"$f":"IF(OR($B50=\"\"),0,IF($B50=BU50,20,0))","v":0},null,{"$f":"IF(OR($B50=\"\"),0,IF($B50=BW50,20,0))","v":0},null,{"$f":"IF(OR($B50=\"\"),0,IF($B50=BY50,20,0))","v":0},null,{"$f":"IF(OR($B50=\"\"),0,IF($B50=CA50,20,0))","v":0},null,{"$f":"IF(OR($B50=\"\"),0,IF($B50=CC50,20,0))","v":0},null,{"$f":"IF(OR($B50=\"\"),0,IF($B50=CE50,20,0))","v":0},null,{"$f":"IF(OR($B50=\"\"),0,IF($B50=CG50,20,0))","v":0},null,{"$f":"IF(OR($B50=\"\"),0,IF($B50=CI50,20,0))","v":0},null,{"$f":"IF(OR($B50=\"\"),0,IF($B50=CK50,20,0))","v":0},null,{"$f":"IF(OR($B50=\"\"),0,IF($B50=CM50,20,0))","v":0},null,{"$f":"IF(OR($B50=\"\"),0,IF($B50=CO50,20,0))","v":0},null,{"$f":"IF(OR($B50=\"\"),0,IF($B50=CQ50,20,0))","v":0},null,{"$f":"IF(OR($B50=\"\"),0,IF($B50=CS50,20,0))","v":0},null,{"$f":"IF(OR($B50=\"\"),0,IF($B50=CU50,20,0))","v":0},null,{"$f":"IF(OR($B50=\"\"),0,IF($B50=CW50,20,0))","v":0},null,{"$f":"IF(OR($B50=\"\"),0,IF($B50=CY50,20,0))","v":0}]
[4,"Albanien",null,null,"Albanien",{"$f":"IF(OR($B51=\"\"),0,IF($B51=E51,20,0))","v":20},"Albanien",{"$f":"IF(OR($B51=\"\"),0,IF($B51=G51,20,0))","v":20},"Albanien",{"$f":"IF(OR($B51=\"\"),0,IF($B51=I51,20,0))","v":20},"Albanien",{"$f":"IF(OR($B51=\"\"),0,IF($B51=K51,20,0))","v":20},"Albanien",{"$f":"IF(OR($B51=\"\"),0,IF($B51=M51,20,0))","v":20},"Albanien",{"$f":"IF(OR($B51=\"\"),0,IF($B51=O51,20,0))","v":20},"Albanien",{"$f":"IF(OR($B51=\"\"),0,IF($B51=Q51,20,0))","v":20},"Albanien",{"$f":"IF(OR($B51=\"\"),0,IF($B51=S51,20,0))","v":20},"Albanien",{"$f":"IF(OR($B51=\"\"),0,IF($B51=U51,20,0))","v":20},"Albanien",{"$f":"IF(OR($B51=\"\"),0,IF($B51=W51,20,0))","v":20},"Albanien",{"$f":"IF(OR($B51=\"\"),0,IF($B51=Y51,20,0))","v":20},"Spanien",{"$f":"IF(OR($B51=\"\"),0,IF($B51=AA51,20,0))","v":0},"Albanien",{"$f":"IF(OR($B51=\"\"),0,IF($B51=AC51,20,0))","v":20},"Albanien",{"$f":"IF(OR($B51=\"\"),0,IF($B51=AE51,20,0))","v":20},"Albanien",{"$f":"IF(OR($B51=\"\"),0,IF($B51=AG51,20,0))","v":20},"Albanien",{"$f":"IF(OR($B51=\"\"),0,IF($B51=AI51,20,0))","v":20},"Albanien",{"$f":"IF(OR($B51=\"\"),0,IF($B51=AK51,20,0))","v":20},"Albanien",{"$f":"IF(OR($B51=\"\"),0,IF($B51=AM51,20,0))","v":20},"Albanien",{"$f":"IF(OR($B51=\"\"),0,IF($B51=AO51,20,0))","v":20},"Albanien",{"$f":"IF(OR($B51=\"\"),0,IF($B51=AQ51,20,0))","v":20},"Albanien",{"$f":"IF(OR($B51=\"\"),0,IF($B51=AS51,20,0))","v":20},"Albanien",{"$f":"IF(OR($B51=\"\"),0,IF($B51=AU51,20,0))","v":20},"Italien",{"$f":"IF(OR($B51=\"\"),0,IF($B51=AW51,20,0))","v":0},"Albanien",{"$f":"IF(OR($B51=\"\"),0,IF($B51=AY51,20,0))","v":20},"Albanien",{"$f":"IF(OR($B51=\"\"),0,IF($B51=BA51,20,0))","v":20},"Albanien",{"$f":"IF(OR($B51=\"\"),0,IF($B51=BC51,20,0))","v":20},null,{"$f":"IF(OR($B51=\"\"),0,IF($B51=BE51,20,0))","v":0},null,{"$f":"IF(OR($B51=\"\"),0,IF($B51=BG51,20,0))","v":0},null,{"$f":"IF(OR($B51=\"\"),0,IF($B51=BI51,20,0))","v":0},null,{"$f":"IF(OR($B51=\"\"),0,IF($B51=BK51,20,0))","v":0},null,{"$f":"IF(OR($B51=\"\"),0,IF($B51=BM51,20,0))","v":0},null,{"$f":"IF(OR($B51=\"\"),0,IF($B51=BO51,20,0))","v":0},null,{"$f":"IF(OR($B51=\"\"),0,IF($B51=BQ51,20,0))","v":0},null,{"$f":"IF(OR($B51=\"\"),0,IF($B51=BS51,20,0))","v":0},null,{"$f":"IF(OR($B51=\"\"),0,IF($B51=BU51,20,0))","v":0},null,{"$f":"IF(OR($B51=\"\"),0,IF($B51=BW51,20,0))","v":0},null,{"$f":"IF(OR($B51=\"\"),0,IF($B51=BY51,20,0))","v":0},null,{"$f":"IF(OR($B51=\"\"),0,IF($B51=CA51,20,0))","v":0},null,{"$f":"IF(OR($B51=\"\"),0,IF($B51=CC51,20,0))","v":0},null,{"$f":"IF(OR($B51=\"\"),0,IF($B51=CE51,20,0))","v":0},null,{"$f":"IF(OR($B51=\"\"),0,IF($B51=CG51,20,0))","v":0},null,{"$f":"IF(OR($B51=\"\"),0,IF($B51=CI51,20,0))","v":0},null,{"$f":"IF(OR($B51=\"\"),0,IF($B51=CK51,20,0))","v":0},null,{"$f":"IF(OR($B51=\"\"),0,IF($B51=CM51,20,0))","v":0},null,{"$f":"IF(OR($B51=\"\"),0,IF($B51=CO51,20,0))","v":0},null,{"$f":"IF(OR($B51=\"\"),0,IF($B51=CQ51,20,0))","v":0},null,{"$f":"IF(OR($B51=\"\"),0,IF($B51=CS51,20,0))","v":0},null,{"$f":"IF(OR($B51=\"\"),0,IF($B51=CU51,20,0))","v":0},null,{"$f":"IF(OR($B51=\"\"),0,IF($B51=CW51,20,0))","v":0},null,{"$f":"IF(OR($B51=\"\"),0,IF($B51=CY51,20,0))","v":0}]
[1,"England","Gruppe C",null,"England","-","England","-","England","-","England","-","England","-","England","-","England","-","England","-","Dänemark","-","England","-","England","-","England","-","England","-","England","-","England","-","England","-","England","-","England","-","England","-","England","-","England","-","England","-","Dänemark","-","England","-","England","-","England","-",null,"-",null,"-",null,"-",null,"-",null,"-",null,"-",null,"-",null,"-",null,"-",null,"-",null,"-",null,"-",null,"-",null,"-",null,"-",null,"-",null,"-",null,"-",null,"-",null,"-",null,"-",null,"-",null,"-",null,"-"]
[2,"Dänemark",null,null,"Dänemark","-","Dänemark","-","Dänemark","-","Dänemark","-","Serbien","-","Serbien","-","Dänemark","-","Dänemark","-","Serbien","-","Dänemark","-","Dänemark","-","Dänemark","-","Dänemark","-","Slowenien","-","Dänemark","-","Dänemark","-","Dänemark","-","Dänemark","-","Serbien","-","Dänemark","-","Dänemark","-","Dänemark","-","England","-","Serbien","-","Dänemark","-","Dänemark","-",null,"-",null,"-",null,"-",null,"-",null,"-",null,"-",null,"-",null,"-",null,"-",null,"-",null,"-",null,"-",null,"-",null,"-",null,"-",null,"-",null,"-",null,"-",null,"-",null,"-",null,"-",null,"-",null,"-",null,"-"]
[3,"Slowenien",null,null,"Serbien",{"$f":"IF(OR($B54=\"\"),0,IF($B54=E54,20,0))","v":0},"Serbien",{"$f":"IF(OR($B54=\"\"),0,IF($B54=G54,20,0))","v":0},"Serbien",{"$f":"IF(OR($B54=\"\"),0,IF($B54=I54,20,0))","v":0},"Serbien",{"$f":"IF(OR($B54=\"\"),0,IF($B54=K54,20,0))","v":0},"Dänemark",{"$f":"IF(OR($B54=\"\"),0,IF($B54=M54,20,0))","v":0},"Dänemark",{"$f":"IF(OR($B54=\"\"),0,IF($B54=O54,20,0))","v":0},"Serbien",{"$f":"IF(OR($B54=\"\"),0,IF($B54=Q54,20,0))","v":0},"Serbien",{"$f":"IF(OR($B54=\"\"),0,IF($B54=S54,20,0))","v":0},"England",{"$f":"IF(OR($B54=\"\"),0,IF($B54=U54,20,0))","v":0},"Serbien",{"$f":"IF(OR($B54=\"\"),0,IF($B54=W54,20,0))","v":0},"Serbien",{"$f":"IF(OR($B54=\"\"),0,IF($B54=Y54,20,0))","v":0},"Serbien",{"$f":"IF(OR($B54=\"\"),0,IF($B54=AA54,20,0))","v":0},"Slowenien",{"$f":"IF(OR($B54=\"\"),0,IF($B54=AC54,20,0))","v":20},"Dänemark",{"$f":"IF(OR($B54=\"\"),0,IF($B54=AE54,20,0))","v":0},"Slowenien",{"$f":"IF(OR($B54=\"\"),0,IF($B54=AG54,20,0))","v":20},"Serbien",{"$f":"IF(OR($B54=\"\"),0,IF($B54=AI54,20,0))","v":0},"Serbien",{"$f":"IF(OR($B54=\"\"),0,IF($B54=AK54,20,0))","v":0},"Slowenien",{"$f":"IF(OR($B54=\"\"),0,IF($B54=AM54,20,0))","v":20},"Dänemark",{"$f":"IF(OR($B54=\"\"),0,IF($B54=AO54,20,0))","v":0},"Slowenien",{"$f":"IF(OR($B54=\"\"),0,IF($B54=AQ54,20,0))","v":20},"Serbien",{"$f":"IF(OR($B54=\"\"),0,IF($B54=AS54,20,0))","v":0},"Slowenien",{"$f":"IF(OR($B54=\"\"),0,IF($B54=AU54,20,0))","v":20},"Serbien",{"$f":"IF(OR($B54=\"\"),0,IF($B54=AW54,20,0))","v":0},"Dänemark",{"$f":"IF(OR($B54=\"\"),0,IF($B54=AY54,20,0))","v":0},"Serbien",{"$f":"IF(OR($B54=\"\"),0,IF($B54=BA54,20,0))","v":0},"Slowenien",{"$f":"IF(OR($B54=\"\"),0,IF($B54=BC54,20,0))","v":20},null,{"$f":"IF(OR($B54=\"\"),0,IF($B54=BE54,20,0))","v":0},null,{"$f":"IF(OR($B54=\"\"),0,IF($B54=BG54,20,0))","v":0},null,{"$f":"IF(OR($B54=\"\"),0,IF($B54=BI54,20,0))","v":0},null,{"$f":"IF(OR($B54=\"\"),0,IF($B54=BK54,20,0))","v":0},null,{"$f":"IF(OR($B54=\"\"),0,IF($B54=BM54,20,0))","v":0},null,{"$f":"IF(OR($B54=\"\"),0,IF($B54=BO54,20,0))","v":0},null,{"$f":"IF(OR($B54=\"\"),0,IF($B54=BQ54,20,0))","v":0},null,{"$f":"IF(OR($B54=\"\"),0,IF($B54=BS54,20,0))","v":0},null,{"$f":"IF(OR($B54=\"\"),0,IF($B54=BU54,20,0))","v":0},null,{"$f":"IF(OR($B54=\"\"),0,IF($B54=BW54,20,0))","v":0},null,{"$f":"IF(OR($B54=\"\"),0,IF($B54=BY54,20,0))","v":0},null,{"$f":"IF(OR($B54=\"\"),0,IF($B54=CA54,20,0))","v":0},null,{"$f":"IF(OR($B54=\"\"),0,IF($B54=CC54,20,0))","v":0},null,{"$f":"IF(OR($B54=\"\"),0,IF($B54=CE54,20,0))","v":0},null,{"$f":"IF(OR($B54=\"\"),0,IF($B54=CG54,20,0))","v":0},null,{"$f":"IF(OR($B54=\"\"),0,IF($B54=CI54,20,0))","v":0},null,{"$f":"IF(OR($B54=\"\"),0,IF($B54=CK54,20,0))","v":0},null,{"$f":"IF(OR($B54=\"\"),0,IF($B54=CM54,20,0))","v":0},null,{"$f":"IF(OR($B54=\"\"),0,IF($B54=CO54,20,0))","v":0},null,{"$f":"IF(OR($B54=\"\"),0,IF($B54=CQ54,20,0))","v":0},null,{"$f":"IF(OR($B54=\"\"),0,IF($B54=CS54,20,0))","v":0},null,{"$f":"IF(OR($B54=\"\"),0,IF($B54=CU54,20,0))","v":0},null,{"$f":"IF(OR($B54=\"\"),0,IF($B54=CW54,20,0))","v":0},null,{"$f":"IF(OR($B54=\"\"),0,IF($B54=CY54,20,0))","v":0}]
[4,"Serbien",null,null,"Slowenien",{"$f":"IF(OR($B55=\"\"),0,IF($B55=E55,20,0))","v":0},"Slowenien",{"$f":"IF(OR($B55=\"\"),0,IF($B55=G55,20,0))","v":0},"Slowenien",{"$f":"IF(OR($B55=\"\"),0,IF($B55=I55,20,0))","v":0},"Slowenien",{"$f":"IF(OR($B55=\"\"),0,IF($B55=K55,20,0))","v":0},"Slowenien",{"$f":"IF(OR($B55=\"\"),0,IF($B55=M55,20,0))","v":0},"Slowenien",{"$f":"IF(OR($B55=\"\"),0,IF($B55=O55,20,0))","v":0},"Slowenien",{"$f":"IF(OR($B55=\"\"),0,IF($B55=Q55,20,0))","v":0},"Slowenien",{"$f":"IF(OR($B55=\"\"),0,IF($B55=S55,20,0))","v":0},"Slowenien",{"$f":"IF(OR($B55=\"\"),0,IF($B55=U55,20,0))","v":0},"Slowenien",{"$f":"IF(OR($B55=\"\"),0,IF($B55=W55,20,0))","v":0},"Slowenien",{"$f":"IF(OR($B55=\"\"),0,IF($B55=Y55,20,0))","v":0},"Slowenien",{"$f":"IF(OR($B55=\"\"),0,IF($B55=AA55,20,0))","v":0},"Serbien",{"$f":"IF(OR($B55=\"\"),0,IF($B55=AC55,20,0))","v":20},"Serbien",{"$f":"IF(OR($B55=\"\"),0,IF($B55=AE55,20,0))","v":20},"Serbien",{"$f":"IF(OR($B55=\"\"),0,IF($B55=AG55,20,0))","v":20},"Slowenien",{"$f":"IF(OR($B55=\"\"),0,IF($B55=AI55,20,0))","v":0},"Slowenien",{"$f":"IF(OR($B55=\"\"),0,IF($B55=AK55,20,0))","v":0},"Serbien",{"$f":"IF(OR($B55=\"\"),0,IF($B55=AM55,20,0))","v":20},"Slowenien",{"$f":"IF(OR($B55=\"\"),0,IF($B55=AO55,20,0))","v":0},"Serbien",{"$f":"IF(OR($B55=\"\"),0,IF($B55=AQ55,20,0))","v":20},"Slowenien",{"$f":"IF(OR($B55=\"\"),0,IF($B55=AS55,20,0))","v":0},"Serbien",{"$f":"IF(OR($B55=\"\"),0,IF($B55=AU55,20,0))","v":20},"Slowenien",{"$f":"IF(OR($B55=\"\"),0,IF($B55=AW55,20,0))","v":0},"Slowenien",{"$f":"IF(OR($B55=\"\"),0,IF($B55=AY55,20,0))","v":0},"Slowenien",{"$f":"IF(OR($B55=\"\"),0,IF($B55=BA55,20,0))","v":0},"Serbien",{"$f":"IF(OR($B55=\"\"),0,IF($B55=BC55,20,0))","v":20},null,{"$f":"IF(OR($B55=\"\"),0,IF($B55=BE55,20,0))","v":0},null,{"$f":"IF(OR($B55=\"\"),0,IF($B55=BG55,20,0))","v":0},null,{"$f":"IF(OR($B55=\"\"),0,IF($B55=BI55,20,0))","v":0},null,{"$f":"IF(OR($B55=\"\"),0,IF($B55=BK55,20,0))","v":0},null,{"$f":"IF(OR($B55=\"\"),0,IF($B55=BM55,20,0))","v":0},null,{"$f":"IF(OR($B55=\"\"),0,IF($B55=BO55,20,0))","v":0},null,{"$f":"IF(OR($B55=\"\"),0,IF($B55=BQ55,20,0))","v":0},null,{"$f":"IF(OR($B55=\"\"),0,IF($B55=BS55,20,0))","v":0},null,{"$f":"IF(OR($B55=\"\"),0,IF($B55=BU55,20,0))","v":0},null,{"$f":"IF(OR($B55=\"\"),0,IF($B55=BW55,20,0))","v":0},null,{"$f":"IF(OR($B55=\"\"),0,IF($B55=BY55,20,0))","v":0},null,{"$f":"IF(OR($B55=\"\"),0,IF($B55=CA55,20,0))","v":0},null,{"$f":"IF(OR($B55=\"\"),0,IF($B55=CC55,20,0))","v":0},null,{"$f":"IF(OR($B55=\"\"),0,IF($B55=CE55,20,0))","v":0},null,{"$f":"IF(OR($B55=\"\"),0,IF($B55=CG55,20,0))","v":0},null,{"$f":"IF(OR($B55=\"\"),0,IF($B55=CI55,20,0))","v":0},null,{"$f":"IF(OR($B55=\"\"),0,IF($B55=CK55,20,0))","v":0},null,{"$f":"IF(OR($B55=\"\"),0,IF($B55=CM55,20,0))","v":0},null,{"$f":"IF(OR($B55=\"\"),0,IF($B55=CO55,20,0))","v":0},null,{"$f":"IF(OR($B55=\"\"),0,IF($B55=CQ55,20,0))","v":0},null,{"$f":"IF(OR($B55=\"\"),0,IF($B55=CS55,20,0))","v":0},null,{"$f":"IF(OR($B55=\"\"),0,IF($B55=CU55,20,0))","v":0},null,{"$f":"IF(OR($B55=\"\"),0,IF($B55=CW55,20,0))","v":0},null,{"$f":"IF(OR($B55=\"\"),0,IF($B55=CY55,20,0))","v":0}]
[1,"Österreich","Gruppe D",null,"Frankreich","-","Holland","-","Frankreich","-","Frankreich","-","Frankreich","-","Frankreich","-","Frankreich","-","Frankreich","-","Frankreich","-","Frankreich","-","Frankreich","-","Frankreich","-","Frankreich","-","Holland","-","Frankreich","-","Frankreich","-","Frankreich","-","Frankreich","-","Frankreich","-","Frankreich","-","Frankreich","-","Frankreich","-","Holland","-","Frankreich","-","Frankreich","-","Frankreich","-",null,"-",null,"-",null,"-",null,"-",null,"-",null,"-",null,"-",null,"-",null,"-",null,"-",null,"-",null,"-",null,"-",null,"-",null,"-",null,"-",null,"-",null,"-",null,"-",null,"-",null,"-",null,"-",null,"-",null,"-"]
[2,"Frankreich",null,null,"Holland","-","Österreich","-","Österreich","-","Österreich","-","Österreich","-","Österreich","-","Holland","-","Holland","-","Holland","-","Holland","-","Holland","-","Holland","-","Holland","-","Frankreich","-","Holland","-","Holland","-","Holland","-","Holland","-","Holland","-","Holland","-","Holland","-","Holland","-","Frankreich","-","Holland","-","Holland","-","Holland","-",null,"-",null,"-",null,"-",null,"-",null,"-",null,"-",null,"-",null,"-",null,"-",null,"-",null,"-",null,"-",null,"-",null,"-",null,"-",null,"-",null,"-",null,"-",null,"-",null,"-",null,"-",null,"-",null,"-",null,"-"]
[3,"Holland",null,null,"Österreich",{"$f":"IF(OR($B58=\"\"),0,IF($B58=E58,20,0))","v":0},"Frankreich",{"$f":"IF(OR($B58=\"\"),0,IF($B58=G58,20,0))","v":0},"Holland",{"$f":"IF(OR($B58=\"\"),0,IF($B58=I58,20,0))","v":20},"Holland",{"$f":"IF(OR($B58=\"\"),0,IF($B58=K58,20,0))","v":20},"Holland",{"$f":"IF(OR($B58=\"\"),0,IF($B58=M58,20,0))","v":20},"Holland",{"$f":"IF(OR($B58=\"\"),0,IF($B58=O58,20,0))","v":20},"Polen",{"$f":"IF(OR($B58=\"\"),0,IF($B58=Q58,20,0))","v":0},"Österreich",{"$f":"IF(OR($B58=\"\"),0,IF($B58=S58,20,0))","v":0},"Österreich",{"$f":"IF(OR($B58=\"\"),0,IF($B58=U58,20,0))","v":0},"Polen",{"$f":"IF(OR($B58=\"\"),0,IF($B58=W58,20,0))","v":0},"Österreich",{"$f":"IF(OR($B58=\"\"),0,IF($B58=Y58,20,0))","v":0},"Österreich",{"$f":"IF(OR($B58=\"\"),0,IF($B58=AA58,20,0))","v":0},"Österreich",{"$f":"IF(OR($B58=\"\"),0,IF($B58=AC58,20,0))","v":0},"Österreich",{"$f":"IF(OR($B58=\"\"),0,IF($B58=AE58,20,0))","v":0},"Österreich",{"$f":"IF(OR($B58=\"\"),0,IF($B58=AG58,20,0))","v":0},"Polen",{"$f":"IF(OR($B58=\"\"),0,IF($B58=AI58,20,0))","v":0},"Österreich",{"$f":"IF(OR($B58=\"\"),0,IF($B58=AK58,20,0))","v":0},"Österreich",{"$f":"IF(OR($B58=\"\"),0,IF($B58=AM58,20,0))","v":0},"Österreich",{"$f":"IF(OR($B58=\"\"),0,IF($B58=AO58,20,0))","v":0},"Österreich",{"$f":"IF(OR($B58=\"\"),0,IF($B58=AQ58,20,0))","v":0},"Österreich",{"$f":"IF(OR($B58=\"\"),0,IF($B58=AS58,20,0))","v":0},"Österreich",{"$f":"IF(OR($B58=\"\"),0,IF($B58=AU58,20,0))","v":0},"Österreich",{"$f":"IF(OR($B58=\"\"),0,IF($B58=AW58,20,0))","v":0},"Polen",{"$f":"IF(OR($B58=\"\"),0,IF($B58=AY58,20,0))","v":0},"Österreich",{"$f":"IF(OR($B58=\"\"),0,IF($B58=BA58,20,0))","v":0},"Polen",{"$f":"IF(OR($B58=\"\"),0,IF($B58=BC58,20,0))","v":0},null,{"$f":"IF(OR($B58=\"\"),0,IF($B58=BE58,20,0))","v":0},null,{"$f":"IF(OR($B58=\"\"),0,IF($B58=BG58,20,0))","v":0},null,{"$f":"IF(OR($B58=\"\"),0,IF($B58=BI58,20,0))","v":0},null,{"$f":"IF(OR($B58=\"\"),0,IF($B58=BK58,20,0))","v":0},null,{"$f":"IF(OR($B58=\"\"),0,IF($B58=BM58,20,0))","v":0},null,{"$f":"IF(OR($B58=\"\"),0,IF($B58=BO58,20,0))","v":0},null,{"$f":"IF(OR($B58=\"\"),0,IF($B58=BQ58,20,0))","v":0},null,{"$f":"IF(OR($B58=\"\"),0,IF($B58=BS58,20,0))","v":0},null,{"$f":"IF(OR($B58=\"\"),0,IF($B58=BU58,20,0))","v":0},null,{"$f":"IF(OR($B58=\"\"),0,IF($B58=BW58,20,0))","v":0},null,{"$f":"IF(OR($B58=\"\"),0,IF($B58=BY58,20,0))","v":0},null,{"$f":"IF(OR($B58=\"\"),0,IF($B58=CA58,20,0))","v":0},null,{"$f":"IF(OR($B58=\"\"),0,IF($B58=CC58,20,0))","v":0},null,{"$f":"IF(OR($B58=\"\"),0,IF($B58=CE58,20,0))","v":0},null,{"$f":"IF(OR($B58=\"\"),0,IF($B58=CG58,20,0))","v":0},null,{"$f":"IF(OR($B58=\"\"),0,IF($B58=CI58,20,0))","v":0},null,{"$f":"IF(OR($B58=\"\"),0,IF($B58=CK58,20,0))","v":0},null,{"$f":"IF(OR($B58=\"\"),0,IF($B58=CM58,20,0))","v":0},null,{"$f":"IF(OR($B58=\"\"),0,IF($B58=CO58,20,0))","v":0},null,{"$f":"IF(OR($B58=\"\"),0,IF($B58=CQ58,20,0))","v":0},null,{"$f":"IF(OR($B58=\"\"),0,IF($B58=CS58,20,0))","v":0},null,{"$f":"IF(OR($B58=\"\"),0,IF($B58=CU58,20,0))","v":0},null,{"$f":"IF(OR($B58=\"\"),0,IF($B58=CW58,20,0))","v":0},null,{"$f":"IF(OR($B58=\"\"),0,IF($B58=CY58,20,0))","v":0}]
[4,"Polen",null,null,"Polen",{"$f":"IF(OR($B59=\"\"),0,IF($B59=E59,20,0))","v":20},"Polen",{"$f":"IF(OR($B59=\"\"),0,IF($B59=G59,20,0))","v":20},"Polen",{"$f":"IF(OR($B59=\"\"),0,IF($B59=I59,20,0))","v":20},"Polen",{"$f":"IF(OR($B59=\"\"),0,IF($B59=K59,20,0))","v":20},"Polen",{"$f":"IF(OR($B59=\"\"),0,IF($B59=M59,20,0))","v":20},"Polen",{"$f":"IF(OR($B59=\"\"),0,IF($B59=O59,20,0))","v":20},"Österreich",{"$f":"IF(OR($B59=\"\"),0,IF($B59=Q59,20,0))","v":0},"Polen",{"$f":"IF(OR($B59=\"\"),0,IF($B59=S59,20,0))","v":20},"Polen",{"$f":"IF(OR($B59=\"\"),0,IF($B59=U59,20,0))","v":20},"Österreich",{"$f":"IF(OR($B59=\"\"),0,IF($B59=W59,20,0))","v":0},"Polen",{"$f":"IF(OR($B59=\"\"),0,IF($B59=Y59,20,0))","v":20},"Polen",{"$f":"IF(OR($B59=\"\"),0,IF($B59=AA59,20,0))","v":20},"Polen",{"$f":"IF(OR($B59=\"\"),0,IF($B59=AC59,20,0))","v":20},"Polen",{"$f":"IF(OR($B59=\"\"),0,IF($B59=AE59,20,0))","v":20},"Polen",{"$f":"IF(OR($B59=\"\"),0,IF($B59=AG59,20,0))","v":20},"Österreich",{"$f":"IF(OR($B59=\"\"),0,IF($B59=AI59,20,0))","v":0},"Polen",{"$f":"IF(OR($B59=\"\"),0,IF($B59=AK59,20,0))","v":20},"Polen",{"$f":"IF(OR($B59=\"\"),0,IF($B59=AM59,20,0))","v":20},"Polen",{"$f":"IF(OR($B59=\"\"),0,IF($B59=AO59,20,0))","v":20},"Polen",{"$f":"IF(OR($B59=\"\"),0,IF($B59=AQ59,20,0))","v":20},"Polen",{"$f":"IF(OR($B59=\"\"),0,IF($B59=AS59,20,0))","v":20},"Polen",{"$f":"IF(OR($B59=\"\"),0,IF($B59=AU59,20,0))","v":20},"Polen",{"$f":"IF(OR($B59=\"\"),0,IF($B59=AW59,20,0))","v":20},"Österreich",{"$f":"IF(OR($B59=\"\"),0,IF($B59=AY59,20,0))","v":0},"Polen",{"$f":"IF(OR($B59=\"\"),0,IF($B59=BA59,20,0))","v":20},"Österreich",{"$f":"IF(OR($B59=\"\"),0,IF($B59=BC59,20,0))","v":0},null,{"$f":"IF(OR($B59=\"\"),0,IF($B59=BE59,20,0))","v":0},null,{"$f":"IF(OR($B59=\"\"),0,IF($B59=BG59,20,0))","v":0},null,{"$f":"IF(OR($B59=\"\"),0,IF($B59=BI59,20,0))","v":0},null,{"$f":"IF(OR($B59=\"\"),0,IF($B59=BK59,20,0))","v":0},null,{"$f":"IF(OR($B59=\"\"),0,IF($B59=BM59,20,0))","v":0},null,{"$f":"IF(OR($B59=\"\"),0,IF($B59=BO59,20,0))","v":0},null,{"$f":"IF(OR($B59=\"\"),0,IF($B59=BQ59,20,0))","v":0},null,{"$f":"IF(OR($B59=\"\"),0,IF($B59=BS59,20,0))","v":0},null,{"$f":"IF(OR($B59=\"\"),0,IF($B59=BU59,20,0))","v":0},null,{"$f":"IF(OR($B59=\"\"),0,IF($B59=BW59,20,0))","v":0},null,{"$f":"IF(OR($B59=\"\"),0,IF($B59=BY59,20,0))","v":0},null,{"$f":"IF(OR($B59=\"\"),0,IF($B59=CA59,20,0))","v":0},null,{"$f":"IF(OR($B59=\"\"),0,IF($B59=CC59,20,0))","v":0},null,{"$f":"IF(OR($B59=\"\"),0,IF($B59=CE59,20,0))","v":0},null,{"$f":"IF(OR($B59=\"\"),0,IF($B59=CG59,20,0))","v":0},null,{"$f":"IF(OR($B59=\"\"),0,IF($B59=CI59,20,0))","v":0},null,{"$f":"IF(OR($B59=\"\"),0,IF($B59=CK59,20,0))","v":0},null,{"$f":"IF(OR($B59=\"\"),0,IF($B59=CM59,20,0))","v":0},null,{"$f":"IF(OR($B59=\"\"),0,IF($B59=CO59,20,0))","v":0},null,{"$f":"IF(OR($B59=\"\"),0,IF($B59=CQ59,20,0))","v":0},null,{"$f":"IF(OR($B59=\"\"),0,IF($B59=CS59,20,0))","v":0},null,{"$f":"IF(OR($B59=\"\"),0,IF($B59=CU59,20,0))","v":0},null,{"$f":"IF(OR($B59=\"\"),0,IF($B59=CW59,20,0))","v":0},null,{"$f":"IF(OR($B59=\"\"),0,IF($B59=CY59,20,0))","v":0}]
[1,"Rumänien","Gruppe E",null,"Belgien","-","Belgien","-","Belgien","-","Belgien","-","Belgien","-","Slowakei","-","Belgien","-","Belgien","-","Belgien","-","Belgien","-","Belgien","-","Belgien","-","Belgien","-","Belgien","-","Ukraine","-","Belgien","-","Belgien","-","Belgien","-","Belgien","-","Belgien","-","Belgien","-","Belgien","-","Belgien","-","Belgien","-","Belgien","-","Belgien","-",null,"-",null,"-",null,"-",null,"-",null,"-",null,"-",null,"-",null,"-",null,"-",null,"-",null,"-",null,"-",null,"-",null,"-",null,"-",null,"-",null,"-",null,"-",null,"-",null,"-",null,"-",null,"-",null,"-",null,"-"]
[2,"Belgien",null,null,"Ukraine","-","Ukraine","-","Ukraine","-","Rumänien","-","Slowakei","-","Belgien","-","Slowakei","-","Ukraine","-","Slowakei","-","Ukraine","-","Ukraine","-","Slowakei","-","Slowakei","-","Ukraine","-","Belgien","-","Ukraine","-","Ukraine","-","Rumänien","-","Slowakei","-","Slowakei","-","Ukraine","-","Ukraine","-","Ukraine","-","Slowakei","-","Ukraine","-","Slowakei","-",null,"-",null,"-",null,"-",null,"-",null,"-",null,"-",null,"-",null,"-",null,"-",null,"-",null,"-",null,"-",null,"-",null,"-",null,"-",null,"-",null,"-",null,"-",null,"-",null,"-",null,"-",null,"-",null,"-",null,"-"]
[3,"Slowakei",null,null,"Slowakei",{"$f":"IF(OR($B62=\"\"),0,IF($B62=E62,20,0))","v":20},"Slowakei",{"$f":"IF(OR($B62=\"\"),0,IF($B62=G62,20,0))","v":20},"Slowakei",{"$f":"IF(OR($B62=\"\"),0,IF($B62=I62,20,0))","v":20},"Ukraine",{"$f":"IF(OR($B62=\"\"),0,IF($B62=K62,20,0))","v":0},"Rumänien",{"$f":"IF(OR($B62=\"\"),0,IF($B62=M62,20,0))","v":0},"Ukraine",{"$f":"IF(OR($B62=\"\"),0,IF($B62=O62,20,0))","v":0},"Rumänien",{"$f":"IF(OR($B62=\"\"),0,IF($B62=Q62,20,0))","v":0},"Rumänien",{"$f":"IF(OR($B62=\"\"),0,IF($B62=S62,20,0))","v":0},"Rumänien",{"$f":"IF(OR($B62=\"\"),0,IF($B62=U62,20,0))","v":0},"Rumänien",{"$f":"IF(OR($B62=\"\"),0,IF($B62=W62,20,0))","v":0},"Slowakei",{"$f":"IF(OR($B62=\"\"),0,IF($B62=Y62,20,0))","v":20},"Rumänien",{"$f":"IF(OR($B62=\"\"),0,IF($B62=AA62,20,0))","v":0},"Ukraine",{"$f":"IF(OR($B62=\"\"),0,IF($B62=AC62,20,0))","v":0},"Slowakei",{"$f":"IF(OR($B62=\"\"),0,IF($B62=AE62,20,0))","v":20},"Slowakei",{"$f":"IF(OR($B62=\"\"),0,IF($B62=AG62,20,0))","v":20},"Rumänien",{"$f":"IF(OR($B62=\"\"),0,IF($B62=AI62,20,0))","v":0},"Rumänien",{"$f":"IF(OR($B62=\"\"),0,IF($B62=AK62,20,0))","v":0},"Ukraine",{"$f":"IF(OR($B62=\"\"),0,IF($B62=AM62,20,0))","v":0},"Ukraine",{"$f":"IF(OR($B62=\"\"),0,IF($B62=AO62,20,0))","v":0},"Rumänien",{"$f":"IF(OR($B62=\"\"),0,IF($B62=AQ62,20,0))","v":0},"Rumänien",{"$f":"IF(OR($B62=\"\"),0,IF($B62=AS62,20,0))","v":0},"Slowakei",{"$f":"IF(OR($B62=\"\"),0,IF($B62=AU62,20,0))","v":20},"Slowakei",{"$f":"IF(OR($B62=\"\"),0,IF($B62=AW62,20,0))","v":20},"Rumänien",{"$f":"IF(OR($B62=\"\"),0,IF($B62=AY62,20,0))","v":0},"Rumänien",{"$f":"IF(OR($B62=\"\"),0,IF($B62=BA62,20,0))","v":0},"Rumänien",{"$f":"IF(OR($B62=\"\"),0,IF($B62=BC62,20,0))","v":0},null,{"$f":"IF(OR($B62=\"\"),0,IF($B62=BE62,20,0))","v":0},null,{"$f":"IF(OR($B62=\"\"),0,IF($B62=BG62,20,0))","v":0},null,{"$f":"IF(OR($B62=\"\"),0,IF($B62=BI62,20,0))","v":0},null,{"$f":"IF(OR($B62=\"\"),0,IF($B62=BK62,20,0))","v":0},null,{"$f":"IF(OR($B62=\"\"),0,IF($B62=BM62,20,0))","v":0},null,{"$f":"IF(OR($B62=\"\"),0,IF($B62=BO62,20,0))","v":0},null,{"$f":"IF(OR($B62=\"\"),0,IF($B62=BQ62,20,0))","v":0},null,{"$f":"IF(OR($B62=\"\"),0,IF($B62=BS62,20,0))","v":0},null,{"$f":"IF(OR($B62=\"\"),0,IF($B62=BU62,20,0))","v":0},null,{"$f":"IF(OR($B62=\"\"),0,IF($B62=BW62,20,0))","v":0},null,{"$f":"IF(OR($B62=\"\"),0,IF($B62=BY62,20,0))","v":0},null,{"$f":"IF(OR($B62=\"\"),0,IF($B62=CA62,20,0))","v":0},null,{"$f":"IF(OR($B62=\"\"),0,IF($B62=CC62,20,0))","v":0},null,{"$f":"IF(OR($B62=\"\"),0,IF($B62=CE62,20,0))","v":0},null,{"$f":"IF(OR($B62=\"\"),0,IF($B62=CG62,20,0))","v":0},null,{"$f":"IF(OR($B62=\"\"),0,IF($B62=CI62,20,0))","v":0},null,{"$f":"IF(OR($B62=\"\"),0,IF($B62=CK62,20,0))","v":0},null,{"$f":"IF(OR($B62=\"\"),0,IF($B62=CM62,20,0))","v":0},null,{"$f":"IF(OR($B62=\"\"),0,IF($B62=CO62,20,0))","v":0},null,{"$f":"IF(OR($B62=\"\"),0,IF($B62=CQ62,20,0))","v":0},null,{"$f":"IF(OR($B62=\"\"),0,IF($B62=CS62,20,0))","v":0},null,{"$f":"IF(OR($B62=\"\"),0,IF($B62=CU62,20,0))","v":0},null,{"$f":"IF(OR($B62=\"\"),0,IF($B62=CW62,20,0))","v":0},null,{"$f":"IF(OR($B62=\"\"),0,IF($B62=CY62,20,0))","v":0}]
[4,"Ukraine",null,null,"Rumänien",{"$f":"IF(OR($B63=\"\"),0,IF($B63=E63,20,0))","v":0},"Rumänien",{"$f":"IF(OR($B63=\"\"),0,IF($B63=G63,20,0))","v":0},"Rumänien",{"$f":"IF(OR($B63=\"\"),0,IF($B63=I63,20,0))","v":0},"Slowakei",{"$f":"IF(OR($B63=\"\"),0,IF($B63=K63,20,0))","v":0},"Ukraine",{"$f":"IF(OR($B63=\"\"),0,IF($B63=M63,20,0))","v":20},"Rumänien",{"$f":"IF(OR($B63=\"\"),0,IF($B63=O63,20,0))","v":0},"Ukraine",{"$f":"IF(OR($B63=\"\"),0,IF($B63=Q63,20,0))","v":20},"Slowakei",{"$f":"IF(OR($B63=\"\"),0,IF($B63=S63,20,0))","v":0},"Ukraine",{"$f":"IF(OR($B63=\"\"),0,IF($B63=U63,20,0))","v":20},"Slowakei",{"$f":"IF(OR($B63=\"\"),0,IF($B63=W63,20,0))","v":0},"Rumänien",{"$f":"IF(OR($B63=\"\"),0,IF($B63=Y63,20,0))","v":0},"Ukraine",{"$f":"IF(OR($B63=\"\"),0,IF($B63=AA63,20,0))","v":20},"Rumänien",{"$f":"IF(OR($B63=\"\"),0,IF($B63=AC63,20,0))","v":0},"Rumänien",{"$f":"IF(OR($B63=\"\"),0,IF($B63=AE63,20,0))","v":0},"Rumänien",{"$f":"IF(OR($B63=\"\"),0,IF($B63=AG63,20,0))","v":0},"Slowakei",{"$f":"IF(OR($B63=\"\"),0,IF($B63=AI63,20,0))","v":0},"Slowakei",{"$f":"IF(OR($B63=\"\"),0,IF($B63=AK63,20,0))","v":0},"Slowakei",{"$f":"IF(OR($B63=\"\"),0,IF($B63=AM63,20,0))","v":0},"Rumänien",{"$f":"IF(OR($B63=\"\"),0,IF($B63=AO63,20,0))","v":0},"Ukraine",{"$f":"IF(OR($B63=\"\"),0,IF($B63=AQ63,20,0))","v":20},"Slowakei",{"$f":"IF(OR($B63=\"\"),0,IF($B63=AS63,20,0))","v":0},"Rumänien",{"$f":"IF(OR($B63=\"\"),0,IF($B63=AU63,20,0))","v":0},"Rumänien",{"$f":"IF(OR($B63=\"\"),0,IF($B63=AW63,20,0))","v":0},"Ukraine",{"$f":"IF(OR($B63=\"\"),0,IF($B63=AY63,20,0))","v":20},"Slowakei",{"$f":"IF(OR($B63=\"\"),0,IF($B63=BA63,20,0))","v":0},"Ukraine",{"$f":"IF(OR($B63=\"\"),0,IF($B63=BC63,20,0))","v":20},null,{"$f":"IF(OR($B63=\"\"),0,IF($B63=BE63,20,0))","v":0},null,{"$f":"IF(OR($B63=\"\"),0,IF($B63=BG63,20,0))","v":0},null,{"$f":"IF(OR($B63=\"\"),0,IF($B63=BI63,20,0))","v":0},null,{"$f":"IF(OR($B63=\"\"),0,IF($B63=BK63,20,0))","v":0},null,{"$f":"IF(OR($B63=\"\"),0,IF($B63=BM63,20,0))","v":0},null,{"$f":"IF(OR($B63=\"\"),0,IF($B63=BO63,20,0))","v":0},null,{"$f":"IF(OR($B63=\"\"),0,IF($B63=BQ63,20,0))","v":0},null,{"$f":"IF(OR($B63=\"\"),0,IF($B63=BS63,20,0))","v":0},null,{"$f":"IF(OR($B63=\"\"),0,IF($B63=BU63,20,0))","v":0},null,{"$f":"IF(OR($B63=\"\"),0,IF($B63=BW63,20,0))","v":0},null,{"$f":"IF(OR($B63=\"\"),0,IF($B63=BY63,20,0))","v":0},null,{"$f":"IF(OR($B63=\"\"),0,IF($B63=CA63,20,0))","v":0},null,{"$f":"IF(OR($B63=\"\"),0,IF($B63=CC63,20,0))","v":0},null,{"$f":"IF(OR($B63=\"\"),0,IF($B63=CE63,20,0))","v":0},null,{"$f":"IF(OR($B63=\"\"),0,IF($B63=CG63,20,0))","v":0},null,{"$f":"IF(OR($B63=\"\"),0,IF($B63=CI63,20,0))","v":0},null,{"$f":"IF(OR($B63=\"\"),0,IF($B63=CK63,20,0))","v":0},null,{"$f":"IF(OR($B63=\"\"),0,IF($B63=CM63,20,0))","v":0},null,{"$f":"IF(OR($B63=\"\"),0,IF($B63=CO63,20,0))","v":0},null,{"$f":"IF(OR($B63=\"\"),0,IF($B63=CQ63,20,0))","v":0},null,{"$f":"IF(OR($B63=\"\"),0,IF($B63=CS63,20,0))","v":0},null,{"$f":"IF(OR($B63=\"\"),0,IF($B63=CU63,20,0))","v":0},null,{"$f":"IF(OR($B63=\"\"),0,IF($B63=CW63,20,0))","v":0},null,{"$f":"IF(OR($B63=\"\"),0,IF($B63=CY63,20,0))","v":0}]
[1,"Portugal","Gruppe F",null,"Portugal","-","Portugal","-","Portugal","-","Portugal","-","Portugal","-","Portugal","-","Portugal","-","Portugal","-","Portugal","-","Portugal","-","Portugal","-","Portugal","-","Portugal","-","Portugal","-","Portugal","-","Portugal","-","Portugal","-","Tschechien","-","Portugal","-","Portugal","-","Portugal","-","Portugal","-","Portugal","-","Portugal","-","Portugal","-","Portugal","-",null,"-",null,"-",null,"-",null,"-",null,"-",null,"-",null,"-",null,"-",null,"-",null,"-",null,"-",null,"-",null,"-",null,"-",null,"-",null,"-",null,"-",null,"-",null,"-",null,"-",null,"-",null,"-",null,"-",null,"-"]
[2,"Türkei",null,null,"Türkei","-","Tschechien","-","Türkei","-","Tschechien","-","Tschechien","-","Tschechien","-","Tschechien","-","Türkei","-","Tschechien","-","Türkei","-","Tschechien","-","Türkei","-","Türkei","-","Türkei","-","Tschechien","-","Türkei","-","Tschechien","-","Portugal","-","Türkei","-","Tschechien","-","Tschechien","-","Tschechien","-","Türkei","-","Türkei","-","Türkei","-","Türkei","-",null,"-",null,"-",null,"-",null,"-",null,"-",null,"-",null,"-",null,"-",null,"-",null,"-",null,"-",null,"-",null,"-",null,"-",null,"-",null,"-",null,"-",null,"-",null,"-",null,"-",null,"-",null,"-",null,"-",null,"-"]
[3,"Georgien",null,null,"Tschechien",{"$f":"IF(OR($B66=\"\"),0,IF($B66=E66,20,0))","v":0},"Türkei",{"$f":"IF(OR($B66=\"\"),0,IF($B66=G66,20,0))","v":0},"Tschechien",{"$f":"IF(OR($B66=\"\"),0,IF($B66=I66,20,0))","v":0},"Türkei",{"$f":"IF(OR($B66=\"\"),0,IF($B66=K66,20,0))","v":0},"Georgien",{"$f":"IF(OR($B66=\"\"),0,IF($B66=M66,20,0))","v":20},"Türkei",{"$f":"IF(OR($B66=\"\"),0,IF($B66=O66,20,0))","v":0},"Türkei",{"$f":"IF(OR($B66=\"\"),0,IF($B66=Q66,20,0))","v":0},"Tschechien",{"$f":"IF(OR($B66=\"\"),0,IF($B66=S66,20,0))","v":0},"Türkei",{"$f":"IF(OR($B66=\"\"),0,IF($B66=U66,20,0))","v":0},"Georgien",{"$f":"IF(OR($B66=\"\"),0,IF($B66=W66,20,0))","v":20},"Türkei",{"$f":"IF(OR($B66=\"\"),0,IF($B66=Y66,20,0))","v":0},"Tschechien",{"$f":"IF(OR($B66=\"\"),0,IF($B66=AA66,20,0))","v":0},"Tschechien",{"$f":"IF(OR($B66=\"\"),0,IF($B66=AC66,20,0))","v":0},"Tschechien",{"$f":"IF(OR($B66=\"\"),0,IF($B66=AE66,20,0))","v":0},"Türkei",{"$f":"IF(OR($B66=\"\"),0,IF($B66=AG66,20,0))","v":0},"Tschechien",{"$f":"IF(OR($B66=\"\"),0,IF($B66=AI66,20,0))","v":0},"Türkei",{"$f":"IF(OR($B66=\"\"),0,IF($B66=AK66,20,0))","v":0},"Türkei",{"$f":"IF(OR($B66=\"\"),0,IF($B66=AM66,20,0))","v":0},"Tschechien",{"$f":"IF(OR($B66=\"\"),0,IF($B66=AO66,20,0))","v":0},"Georgien",{"$f":"IF(OR($B66=\"\"),0,IF($B66=AQ66,20,0))","v":20},"Türkei",{"$f":"IF(OR($B66=\"\"),0,IF($B66=AS66,20,0))","v":0},"Türkei",{"$f":"IF(OR($B66=\"\"),0,IF($B66=AU66,20,0))","v":0},"Tschechien",{"$f":"IF(OR($B66=\"\"),0,IF($B66=AW66,20,0))","v":0},"Georgien",{"$f":"IF(OR($B66=\"\"),0,IF($B66=AY66,20,0))","v":20},"Tschechien",{"$f":"IF(OR($B66=\"\"),0,IF($B66=BA66,20,0))","v":0},"Tschechien",{"$f":"IF(OR($B66=\"\"),0,IF($B66=BC66,20,0))","v":0},null,{"$f":"IF(OR($B66=\"\"),0,IF($B66=BE66,20,0))","v":0},null,{"$f":"IF(OR($B66=\"\"),0,IF($B66=BG66,20,0))","v":0},null,{"$f":"IF(OR($B66=\"\"),0,IF($B66=BI66,20,0))","v":0},null,{"$f":"IF(OR($B66=\"\"),0,IF($B66=BK66,20,0))","v":0},null,{"$f":"IF(OR($B66=\"\"),0,IF($B66=BM66,20,0))","v":0},null,{"$f":"IF(OR($B66=\"\"),0,IF($B66=BO66,20,0))","v":0},null,{"$f":"IF(OR($B66=\"\"),0,IF($B66=BQ66,20,0))","v":0},null,{"$f":"IF(OR($B66=\"\"),0,IF($B66=BS66,20,0))","v":0},null,{"$f":"IF(OR($B66=\"\"),0,IF($B66=BU66,20,0))","v":0},null,{"$f":"IF(OR($B66=\"\"),0,IF($B66=BW66,20,0))","v":0},null,{"$f":"IF(OR($B66=\"\"),0,IF($B66=BY66,20,0))","v":0},null,{"$f":"IF(OR($B66=\"\"),0,IF($B66=CA66,20,0))","v":0},null,{"$f":"IF(OR($B66=\"\"),0,IF($B66=CC66,20,0))","v":0},null,{"$f":"IF(OR($B66=\"\"),0,IF($B66=CE66,20,0))","v":0},null,{"$f":"IF(OR($B66=\"\"),0,IF($B66=CG66,20,0))","v":0},null,{"$f":"IF(OR($B66=\"\"),0,IF($B66=CI66,20,0))","v":0},null,{"$f":"IF(OR($B66=\"\"),0,IF($B66=CK66,20,0))","v":0},null,{"$f":"IF(OR($B66=\"\"),0,IF($B66=CM66,20,0))","v":0},null,{"$f":"IF(OR($B66=\"\"),0,IF($B66=CO66,20,0))","v":0},null,{"$f":"IF(OR($B66=\"\"),0,IF($B66=CQ66,20,0))","v":0},null,{"$f":"IF(OR($B66=\"\"),0,IF($B66=CS66,20,0))","v":0},null,{"$f":"IF(OR($B66=\"\"),0,IF($B66=CU66,20,0))","v":0},null,{"$f":"IF(OR($B66=\"\"),0,IF($B66=CW66,20,0))","v":0},null,{"$f":"IF(OR($B66=\"\"),0,IF($B66=CY66,20,0))","v":0}]
[4,"Tschechien",null,null,"Georgien",{"$f":"IF(OR($B67=\"\"),0,IF($B67=E67,20,0))","v":0},"Georgien",{"$f":"IF(OR($B67=\"\"),0,IF($B67=G67,20,0))","v":0},"Georgien",{"$f":"IF(OR($B67=\"\"),0,IF($B67=I67,20,0))","v":0},"Georgien",{"$f":"IF(OR($B67=\"\"),0,IF($B67=K67,20,0))","v":0},"Türkei",{"$f":"IF(OR($B67=\"\"),0,IF($B67=M67,20,0))","v":0},"Georgien",{"$f":"IF(OR($B67=\"\"),0,IF($B67=O67,20,0))","v":0},"Georgien",{"$f":"IF(OR($B67=\"\"),0,IF($B67=Q67,20,0))","v":0},"Georgien",{"$f":"IF(OR($B67=\"\"),0,IF($B67=S67,20,0))","v":0},"Georgien",{"$f":"IF(OR($B67=\"\"),0,IF($B67=U67,20,0))","v":0},"Tschechien",{"$f":"IF(OR($B67=\"\"),0,IF($B67=W67,20,0))","v":20},"Georgien",{"$f":"IF(OR($B67=\"\"),0,IF($B67=Y67,20,0))","v":0},"Georgien",{"$f":"IF(OR($B67=\"\"),0,IF($B67=AA67,20,0))","v":0},"Georgien",{"$f":"IF(OR($B67=\"\"),0,IF($B67=AC67,20,0))","v":0},"Georgien",{"$f":"IF(OR($B67=\"\"),0,IF($B67=AE67,20,0))","v":0},"Georgien",{"$f":"IF(OR($B67=\"\"),0,IF($B67=AG67,20,0))","v":0},"Georgien",{"$f":"IF(OR($B67=\"\"),0,IF($B67=AI67,20,0))","v":0},"Georgien",{"$f":"IF(OR($B67=\"\"),0,IF($B67=AK67,20,0))","v":0},"Georgien",{"$f":"IF(OR($B67=\"\"),0,IF($B67=AM67,20,0))","v":0},"Georgien",{"$f":"IF(OR($B67=\"\"),0,IF($B67=AO67,20,0))","v":0},"Türkei",{"$f":"IF(OR($B67=\"\"),0,IF($B67=AQ67,20,0))","v":0},"Georgien",{"$f":"IF(OR($B67=\"\"),0,IF($B67=AS67,20,0))","v":0},"Georgien",{"$f":"IF(OR($B67=\"\"),0,IF($B67=AU67,20,0))","v":0},"Georgien",{"$f":"IF(OR($B67=\"\"),0,IF($B67=AW67,20,0))","v":0},"Tschechien",{"$f":"IF(OR($B67=\"\"),0,IF($B67=AY67,20,0))","v":20},"Georgien",{"$f":"IF(OR($B67=\"\"),0,IF($B67=BA67,20,0))","v":0},"Georgien",{"$f":"IF(OR($B67=\"\"),0,IF($B67=BC67,20,0))","v":0},null,{"$f":"IF(OR($B67=\"\"),0,IF($B67=BE67,20,0))","v":0},null,{"$f":"IF(OR($B67=\"\"),0,IF($B67=BG67,20,0))","v":0},null,{"$f":"IF(OR($B67=\"\"),0,IF($B67=BI67,20,0))","v":0},null,{"$f":"IF(OR($B67=\"\"),0,IF($B67=BK67,20,0))","v":0},null,{"$f":"IF(OR($B67=\"\"),0,IF($B67=BM67,20,0))","v":0},null,{"$f":"IF(OR($B67=\"\"),0,IF($B67=BO67,20,0))","v":0},null,{"$f":"IF(OR($B67=\"\"),0,IF($B67=BQ67,20,0))","v":0},null,{"$f":"IF(OR($B67=\"\"),0,IF($B67=BS67,20,0))","v":0},null,{"$f":"IF(OR($B67=\"\"),0,IF($B67=BU67,20,0))","v":0},null,{"$f":"IF(OR($B67=\"\"),0,IF($B67=BW67,20,0))","v":0},null,{"$f":"IF(OR($B67=\"\"),0,IF($B67=BY67,20,0))","v":0},null,{"$f":"IF(OR($B67=\"\"),0,IF($B67=CA67,20,0))","v":0},null,{"$f":"IF(OR($B67=\"\"),0,IF($B67=CC67,20,0))","v":0},null,{"$f":"IF(OR($B67=\"\"),0,IF($B67=CE67,20,0))","v":0},null,{"$f":"IF(OR($B67=\"\"),0,IF($B67=CG67,20,0))","v":0},null,{"$f":"IF(OR($B67=\"\"),0,IF($B67=CI67,20,0))","v":0},null,{"$f":"IF(OR($B67=\"\"),0,IF($B67=CK67,20,0))","v":0},null,{"$f":"IF(OR($B67=\"\"),0,IF($B67=CM67,20,0))","v":0},null,{"$f":"IF(OR($B67=\"\"),0,IF($B67=CO67,20,0))","v":0},null,{"$f":"IF(OR($B67=\"\"),0,IF($B67=CQ67,20,0))","v":0},null,{"$f":"IF(OR($B67=\"\"),0,IF($B67=CS67,20,0))","v":0},null,{"$f":"IF(OR($B67=\"\"),0,IF($B67=CU67,20,0))","v":0},null,{"$f":"IF(OR($B67=\"\"),0,IF($B67=CW67,20,0))","v":0},null,{"$f":"IF(OR($B67=\"\"),0,IF($B67=CY67,20,0))","v":0}]
[null,null,"Gesamtpunktzahl:",null,{"$f":"Teilnehmerliste!$C56","v":"Lechena"},{"$f":"SUM(F44:F67)","v":80},{"$f":"Teilnehmerliste!$C57","v":"Jannis"},{"$f":"SUM(H44:H67)","v":120},{"$f":"Teilnehmerliste!$C58","v":"Petra"},{"$f":"SUM(J44:J67)","v":120},{"$f":"Teilnehmerliste!$C59","v":"Martin"},{"$f":"SUM(L44:L67)","v":60},{"$f":"Teilnehmerliste!$C60","v":"Lynn"},{"$f":"SUM(N44:N67)","v":120},{"$f":"Teilnehmerliste!$C61","v":"Michael"},{"$f":"SUM(P44:P67)","v":60},{"$f":"Teilnehmerliste!$C62","v":"Sabine"},{"$f":"SUM(R44:R67)","v":40},{"$f":"Teilnehmerliste!$C63","v":"Erich"},{"$f":"SUM(T44:T67)","v":60},{"$f":"Teilnehmerliste!$C64","v":"Ralph"},{"$f":"SUM(V44:V67)","v":80},{"$f":"Teilnehmerliste!$C65","v":"Corinne"},{"$f":"SUM(X44:X67)","v":100},{"$f":"Teilnehmerliste!$C66","v":"Bruno"},{"$f":"SUM(Z44:Z67)","v":100},{"$f":"Teilnehmerliste!$C67","v":"Yermany"},{"$f":"SUM(AB44:AB67)","v":60},{"$f":"Teilnehmerliste!$C68","v":"Armando"},{"$f":"SUM(AD44:AD67)","v":120},{"$f":"Teilnehmerliste!$C69","v":"Julia"},{"$f":"SUM(AF44:AF67)","v":120},{"$f":"Teilnehmerliste!$C70","v":"Lea"},{"$f":"SUM(AH44:AH67)","v":160},{"$f":"Teilnehmerliste!$C71","v":"Reto"},{"$f":"SUM(AJ44:AJ67)","v":60},{"$f":"Teilnehmerliste!$C72","v":"Christoph"},{"$f":"SUM(AL44:AL67)","v":60},{"$f":"Teilnehmerliste!$C73","v":"Markus"},{"$f":"SUM(AN44:AN67)","v":120},{"$f":"Teilnehmerliste!$C74","v":"Stefan"},{"$f":"SUM(AP44:AP67)","v":100},{"$f":"Teilnehmerliste!$C75","v":"Jingwen"},{"$f":"SUM(AR44:AR67)","v":120},{"$f":"Teilnehmerliste!$C76","v":"Stefan"},{"$f":"SUM(AT44:AT67)","v":100},{"$f":"Teilnehmerliste!$C77","v":"Jasmine"},{"$f":"SUM(AV44:AV67)","v":140},{"$f":"Teilnehmerliste!$C78","v":"Stefan"},{"$f":"SUM(AX44:AX67)","v":80},{"$f":"Teilnehmerliste!$C79","v":"Mario"},{"$f":"SUM(AZ44:AZ67)","v":120},{"$f":"Teilnehmerliste!$C80","v":"Nidhal"},{"$f":"SUM(BB44:BB67)","v":80},{"$f":"Teilnehmerliste!$C81","v":"Hanspeter"},{"$f":"SUM(BD44:BD67)","v":140},{"$f":"Teilnehmerliste!$C82","v":0},{"$f":"SUM(BF44:BF67)","v":0},{"$f":"Teilnehmerliste!$C83","v":0},{"$f":"SUM(BH44:BH67)","v":0},{"$f":"Teilnehmerliste!$C84","v":0},{"$f":"SUM(BJ44:BJ67)","v":0},{"$f":"Teilnehmerliste!$C85","v":0},{"$f":"SUM(BL44:BL67)","v":0},{"$f":"Teilnehmerliste!$C86","v":0},{"$f":"SUM(BN44:BN67)","v":0},{"$f":"Teilnehmerliste!$C87","v":0},{"$f":"SUM(BP44:BP67)","v":0},{"$f":"Teilnehmerliste!$C88","v":0},{"$f":"SUM(BR44:BR67)","v":0},{"$f":"Teilnehmerliste!$C89","v":0},{"$f":"SUM(BT44:BT67)","v":0},{"$f":"Teilnehmerliste!$C90","v":0},{"$f":"SUM(BV44:BV67)","v":0},{"$f":"Teilnehmerliste!$C91","v":0},{"$f":"SUM(BX44:BX67)","v":0},{"$f":"Teilnehmerliste!$C92","v":0},{"$f":"SUM(BZ44:BZ67)","v":0},{"$f":"Teilnehmerliste!$C93","v":0},{"$f":"SUM(CB44:CB67)","v":0},{"$f":"Teilnehmerliste!$C94","v":0},{"$f":"SUM(CD44:CD67)","v":0},{"$f":"Teilnehmerliste!$C95","v":0},{"$f":"SUM(CF44:CF67)","v":0},{"$f":"Teilnehmerliste!$C96","v":0},{"$f":"SUM(CH44:CH67)","v":0},{"$f":"Teilnehmerliste!$C97","v":0},{"$f":"SUM(CJ44:CJ67)","v":0},{"$f":"Teilnehmerliste!$C98","v":0},{"$f":"SUM(CL44:CL67)","v":0},{"$f":"Teilnehmerliste!$C99","v":0},{"$f":"SUM(CN44:CN67)","v":0},{"$f":"Teilnehmerliste!$C100","v":0},{"$f":"SUM(CP44:CP67)","v":0},{"$f":"Teilnehmerliste!$C101","v":0},{"$f":"SUM(CR44:CR67)","v":0},{"$f":"Teilnehmerliste!$C102","v":0},{"$f":"SUM(CT44:CT67)","v":0},{"$f":"Teilnehmerliste!$C103","v":0},{"$f":"SUM(CV44:CV67)","v":0},{"$f":"Teilnehmerliste!$C104","v":0},{"$f":"SUM(CX44:CX67)","v":0},{"$f":"Teilnehmerliste!$C105","v":0},{"$f":"SUM(CZ44:CZ67)","v":0}]

{"sheet":"Finalrunde","index":4,"n_rows":155,"n_cols":149,"rows_kept":155,"cut":false,"hidden":false,"merged":[[154,48,154,50],[154,55,154,57],[154,62,154,64],[154,69,154,71],[154,20,154,22],[154,27,154,29],[154,34,154,36],[154,132,154,134],[154,139,154,141],[154,146,154,148],[154,104,154,106],[154,111,154,113],[154,118,154,120],[154,125,154,127],[154,76,154,78],[154,83,154,85],[154,90,154,92],[154,97,154,99],[132,142,132,143],[132,146,132,147],[133,0,133,6],[142,0,142,6],[132,128,132,129],[132,132,132,133],[132,135,132,136],[132,139,132,140],[132,114,132,115],[132,118,132,119],[132,121,132,122],[132,125,132,126],[132,100,132,101],[132,104,132,105],[132,107,132,108],[132,111,132,112],[132,86,132,87],[132,90,132,91],[132,93,132,94],[132,16,132,17],[126,0,126,1],[132,5,132,6],[132,9,132,10],[132,13,132,14],[132,30,132,31],[132,34,132,35],[132,37,132,38],[154,41,154,43],[132,41,132,42],[132,20,132,21],[132,23,132,24],[132,27,132,28],[147,0,147,6],[152,0,152,6],[153,0,153,2],[154,13,154,15],[150,0,150,6],[123,125,123,127],[123,41,123,43],[123,48,123,50],[123,55,123,57],[123,62,123,64],[132,58,132,59],[132,62,132,63],[132,65,132,66],[132,69,132,70],[132,44,132,45],[132,48,132,49],[132,51,132,52],[132,55,132,56],[132,97,132,98],[132,72,132,73],[132,76,132,77],[132,79,132,80],[123,13,123,15],[123,20,123,22],[132,83,132,84],[2,0,2,1],[123,132,123,134],[123,69,123,71],[123,76,123,78],[123,83,123,85],[123,90,123,92],[8,5,8,6],[8,9,8,10],[8,13,8,14],[8,27,8,28],[33,0,33,1],[30,20,30,22],[30,27,30,29],[8,16,8,17],[8,20,8,21],[8,23,8,24],[9,0,9,6],[28,0,28,6],[30,13,30,15],[26,0,26,6],[23,0,23,6],[123,139,123,141],[123,146,123,148],[123,97,123,99],[123,104,123,106],[123,111,123,113],[123,118,123,120],[8,58,8,59],[8,30,8,31],[8,34,8,35],[8,37,8,38],[8,41,8,42],[30,48,30,50],[8,51,8,52],[8,55,8,56],[30,55,30,57],[30,34,30,36],[8,44,8,45],[30,111,30,113],[8,146,8,147],[30,146,30,148],[8,135,8,136],[8,128,8,129],[8,132,8,133],[8,139,8,140],[18,0,18,6],[8,100,8,101],[8,104,8,105],[30,97,30,99],[8,76,8,77],[30,83,30,85],[8,86,8,87],[8,93,8,94],[8,72,8,73],[30,76,30,78],[8,79,8,80],[8,83,8,84],[30,41,30,43],[8,48,8,49],[30,104,30,106],[8,90,8,91],[30,90,30,92],[8,97,8,98],[8,62,8,63],[30,62,30,64],[8,65,8,66],[8,69,8,70],[30,69,30,71],[39,146,39,147],[39,93,39,94],[39,97,39,98],[39,76,39,77],[39,79,39,80],[39,83,39,84],[39,62,39,63],[39,65,39,66],[64,0,64,1],[60,0,60,2],[39,37,39,38],[39,69,39,70],[61,83,61,85],[61,90,61,92],[39,86,39,87],[39,90,39,91],[61,62,61,64],[61,69,61,71],[61,76,61,78],[39,72,39,73],[39,27,39,28],[39,30,39,31],[39,44,39,45],[57,0,57,6],[30,139,30,141],[39,128,39,129],[39,132,39,133],[39,135,39,136],[39,118,39,119],[39,121,39,122],[39,125,39,126],[39,111,39,112],[8,142,8,143],[30,132,30,134],[39,139,39,140],[39,114,39,115],[8,114,8,115],[8,118,8,119],[30,118,30,120],[8,121,8,122],[8,125,8,126],[30,125,30,127],[39,142,39,143],[8,107,8,108],[8,111,8,112],[101,9,101,10],[101,13,101,14],[101,16,101,17],[101,20,101,21],[101,23,101,24],[39,58,39,59],[61,111,61,113],[39,100,39,101],[39,104,39,105],[39,107,39,108],[92,62,92,64],[92,69,92,71],[92,76,92,78],[101,93,101,94],[101,97,101,98],[101,86,101,87],[101,90,101,91],[39,41,39,42],[71,0,71,6],[101,58,101,59],[92,13,92,15],[92,20,92,22],[92,27,92,29],[92,34,92,36],[39,13,39,14],[39,20,39,21],[61,13,61,15],[61,20,61,22],[39,16,39,17],[70,5,70,6],[70,9,70,10],[70,13,70,14],[70,16,70,17],[70,20,70,21],[39,34,39,35],[59,0,59,6],[39,5,39,6],[40,0,40,6],[116,0,116,6],[119,0,119,6],[91,0,91,2],[88,0,88,6],[80,0,80,6],[85,0,85,6],[90,0,90,6],[95,0,95,1],[101,5,101,6],[102,0,102,6],[111,0,111,6],[122,0,122,2],[39,48,39,49],[39,51,39,52],[39,55,39,56],[49,0,49,6],[54,0,54,6],[61,34,61,36],[61,41,61,43],[61,48,61,50],[39,23,39,24],[39,9,39,10],[61,55,61,57],[92,41,92,43],[92,48,92,50],[92,55,92,57],[101,27,101,28],[101,30,101,31],[101,34,101,35],[101,37,101,38],[101,41,101,42],[101,44,101,45],[101,48,101,49],[101,51,101,52],[101,55,101,56],[61,118,61,120],[61,125,61,127],[61,132,61,134],[70,23,70,24],[70,27,70,28],[70,30,70,31],[70,34,70,35],[70,37,70,38],[70,41,70,42],[70,72,70,73],[61,27,61,29],[61,97,61,99],[61,104,61,106],[70,83,70,84],[70,86,70,87],[70,90,70,91],[70,93,70,94],[70,97,70,98],[70,100,70,101],[61,139,61,141],[61,146,61,148],[70,44,70,45],[70,48,70,49],[70,51,70,52],[70,55,70,56],[70,58,70,59],[70,62,70,63],[70,65,70,66],[70,69,70,70],[70,76,70,77],[70,79,70,80],[70,104,70,105],[70,107,70,108],[70,111,70,112],[70,114,70,115],[70,118,70,119],[70,121,70,122],[70,125,70,126],[70,128,70,129],[70,132,70,133],[70,135,70,136],[70,139,70,140],[70,142,70,143],[70,146,70,147],[92,83,92,85],[92,90,92,92],[92,97,92,99],[92,104,92,106],[92,111,92,113],[92,118,92,120],[92,125,92,127],[92,132,92,134],[92,139,92,141],[92,146,92,148],[101,142,101,143],[101,146,101,147],[121,0,121,6],[123,27,123,29],[123,34,123,36],[101,121,101,122],[101,125,101,126],[101,128,101,129],[101,132,101,133],[101,135,101,136],[101,139,101,140],[101,100,101,101],[101,104,101,105],[101,107,101,108],[101,111,101,112],[101,114,101,115],[101,62,101,63],[101,65,101,66],[101,69,101,70],[101,72,101,73],[101,76,101,77],[101,118,101,119],[101,79,101,80],[101,83,101,84]]}
[{"$f":"Teams!$B$30","v":"EM 2024 by Rogerinho (www.fcbouncer.ch)"}]
[]
["Finalrunde",null,null,"Spieler 1 - 20"]
["Pro richtige Mannschaft am richtigen Ort: 1/8=10, 1/4=20, 1/2=30, Finale=50",null,null,null,null,null,null,null,null,{"$f":"Teilnehmerliste!$B6","v":"Agorastos"},null,null,null,null,null,null,{"$f":"Teilnehmerliste!$B7","v":"Antonelli"},null,null,null,null,null,null,{"$f":"Teilnehmerliste!$B8","v":"Antonelli"},null,null,null,null,null,null,{"$f":"Teilnehmerliste!$B9","v":"Bartholet"},null,null,null,null,null,null,{"$f":"Teilnehmerliste!$B10","v":"Bartholet"},null,null,null,null,null,null,{"$f":"Teilnehmerliste!$B11","v":"Bartholet"},null,null,null,null,null,null,{"$f":"Teilnehmerliste!$B12","v":"Bartholet"},null,null,null,null,null,null,{"$f":"Teilnehmerliste!$B13","v":"Beck"},null,null,null,null,null,null,{"$f":"Teilnehmerliste!$B14","v":"Blöchlinger/Edri"},null,null,null,null,null,null,{"$f":"Teilnehmerliste!$B15","v":"Bosshart"},null,null,null,null,null,null,{"$f":"Teilnehmerliste!$B16","v":"Brunner"},null,null,null,null,null,null,{"$f":"Teilnehmerliste!$B17","v":"Brunner"},null,null,null,null,null,null,{"$f":"Teilnehmerliste!$B18","v":"Brunner"},null,null,null,null,null,null,{"$f":"Teilnehmerliste!$B19","v":"Burkart"},null,null,null,null,null,null,{"$f":"Teilnehmerliste!$B20","v":"Burkart"},null,null,null,null,null,null,{"$f":"Teilnehmerliste!$B21","v":"Cadonau"},null,null,null,null,null,null,{"$f":"Teilnehmerliste!$B22","v":"Cadonau"},null,null,null,null,null,null,{"$f":"Teilnehmerliste!$B23","v":"Cadonau"},null,null,null,null,null,null,{"$f":"Teilnehmerliste!$B24","v":"Christiansen"},null,null,null,null,null,null,{"$f":"Teilnehmerliste!$B25","v":"Da Costa"}]
["Pro richtige Mannschaft im ... Finale: 1/8=20, 1/4=40, 1/2=80, Finale=100",null,null,null,null,null,null,null,null,{"$f":"Teilnehmerliste!$C6","v":"Panos"},null,null,null,null,null,null,{"$f":"Teilnehmerliste!$C7","v":"Marco"},null,null,null,null,null,null,{"$f":"Teilnehmerliste!$C8","v":"Ruben"},null,null,null,null,null,null,{"$f":"Teilnehmerliste!$C9","v":"Andi"},null,null,null,null,null,null,{"$f":"Teilnehmerliste!$C10","v":"Nott"},null,null,null,null,null,null,{"$f":"Teilnehmerliste!$C11","v":"Philippe"},null,null,null,null,null,null,{"$f":"Teilnehmerliste!$C12","v":"Roger"},null,null,null,null,null,null,{"$f":"Teilnehmerliste!$C13","v":"Mara"},null,null,null,null,null,null,{"$f":"Teilnehmerliste!$C14","v":"Lara/Yaniv"},null,null,null,null,null,null,{"$f":"Teilnehmerliste!$C15","v":"Michael"},null,null,null,null,null,null,{"$f":"Teilnehmerliste!$C16","v":"Manuel"},null,null,null,null,null,null,{"$f":"Teilnehmerliste!$C17","v":"Nicolas"},null,null,null,null,null,null,{"$f":"Teilnehmerliste!$C18","v":"Philip"},null,null,null,null,null,null,{"$f":"Teilnehmerliste!$C19","v":"André"},null,null,null,null,null,null,{"$f":"Teilnehmerliste!$C20","v":"Louis"},null,null,null,null,null,null,{"$f":"Teilnehmerliste!$C21","v":"Daniel"},null,null,null,null,null,null,{"$f":"Teilnehmerliste!$C22","v":"Deliz"},null,null,null,null,null,null,{"$f":"Teilnehmerliste!$C23","v":"Florian"},null,null,null,null,null,null,{"$f":"Teilnehmerliste!$C24","v":"Olo"},null,null,null,null,null,null,{"$f":"Teilnehmerliste!$C25","v":"Leonardo"}]
["Richtiges Resultat: 1/8=30, 1/4=50, 1/2=100, Finale=200",null,null,null,null,null,null,null,null,null,null,null,null,null,null,{"$f":"Teilnehmerliste!$A6","v":1},null,null,null,null,null,null,{"$f":"Teilnehmerliste!$A7","v":2},null,null,null,null,null,null,{"$f":"Teilnehmerliste!$A8","v":3},null,null,null,null,null,null,{"$f":"Teilnehmerliste!$A9","v":4},null,null,null,null,null,null,{"$f":"Teilnehmerliste!$A10","v":5},null,null,null,null,null,null,{"$f":"Teilnehmerliste!$A11","v":6},null,null,null,null,null,null,{"$f":"Teilnehmerliste!$A12","v":7},null,null,null,null,null,null,{"$f":"Teilnehmerliste!$A13","v":8},null,null,null,null,null,null,{"$f":"Teilnehmerliste!$A14","v":9},null,null,null,null,null,null,{"$f":"Teilnehmerliste!$A15","v":10},null,null,null,null,null,null,{"$f":"Teilnehmerliste!$A16","v":11},null,null,null,null,null,null,{"$f":"Teilnehmerliste!$A17","v":12},null,null,null,null,null,null,{"$f":"Teilnehmerliste!$A18","v":13},null,null,null,null,null,null,{"$f":"Teilnehmerliste!$A19","v":14},null,null,null,null,null,null,{"$f":"Teilnehmerliste!$A20","v":15},null,null,null,null,null,null,{"$f":"Teilnehmerliste!$A21","v":16},null,null,null,null,null,null,{"$f":"Teilnehmerliste!$A22","v":17},null,null,null,null,null,null,{"$f":"Teilnehmerliste!$A23","v":18},null,null,null,null,null,null,{"$f":"Teilnehmerliste!$A24","v":19},null,null,null,null,null,null,{"$f":"Teilnehmerliste!$A25","v":20}]
["Richtiger Europameister = 300"]
[]
["Datum","Zeit","Nr.","Spiel",null,"Resultat"]
["Achtelfinale",null,null,null,null,null,null,null,null,"Tipp",null,null,null,"Pkt",null,null,"Tipp",null,null,null,"Pkt",null,null,"Tipp",null,null,null,"Pkt",null,null,"Tipp",null,null,null,"Pkt",null,null,"Tipp",null,null,null,"Pkt",null,null,"Tipp",null,null,null,"Pkt",null,null,"Tipp",null,null,null,"Pkt",null,null,"Tipp",null,null,null,"Pkt",null,null,"Tipp",null,null,null,"Pkt",null,null,"Tipp",null,null,null,"Pkt",null,null,"Tipp",null,null,null,"Pkt",null,null,"Tipp",null,null,null,"Pkt",null,null,"Tipp",null,null,null,"Pkt",null,null,"Tipp",null,null,null,"Pkt",null,null,"Tipp",null,null,null,"Pkt",null,null,"Tipp",null,null,null,"Pkt",null,null,"Tipp",null,null,null,"Pkt",null,null,"Tipp",null,null,null,"Pkt",null,null,"Tipp",null,null,null,"Pkt",null,null,"Tipp",null,null,null,"Pkt"]
["Sa. 29. Jun","21:00:00",37,"Deutschland","Dänemark",2,0,null,null,"Deutschland",2,1,"Dänemark",{"$f":"IF(OR(J11=\"\",M11=\"\"),0,IF(AND(J11=$D11,M11=$E11),20,IF(J11=$D11,10,IF(M11=$E11,10,IF(AND(J11<>$D11,M11<>$E11),0)))))","v":20},{"$f":"IF(COUNTIF($D$11:$E$18,M11),20,0)+IF(COUNTIF($D$11:$E$18,J11),20,0)","v":40},{"$f":"IF(OR(J11=\"\",M11=\"\"),0,IF(AND(J11=$D11,M11=$E11,K11=$F11,L11=$G11),30,0))","v":0},"Schweiz",2,0,"Dänemark",{"$f":"IF(OR(Q11=\"\",T11=\"\"),0,IF(AND(Q11=$D11,T11=$E11),20,IF(Q11=$D11,10,IF(T11=$E11,10,IF(AND(Q11<>$D11,T11<>$E11),0)))))","v":10},{"$f":"IF(COUNTIF($D$11:$E$18,T11),20,0)+IF(COUNTIF($D$11:$E$18,Q11),20,0)","v":40},{"$f":"IF(OR(Q11=\"\",T11=\"\"),0,IF(AND(Q11=$D11,T11=$E11,R11=$F11,S11=$G11),30,0))","v":0},"Deutschland",3,1,"Serbien",{"$f":"IF(OR(X11=\"\",AA11=\"\"),0,IF(AND(X11=$D11,AA11=$E11),20,IF(X11=$D11,10,IF(AA11=$E11,10,IF(AND(X11<>$D11,AA11<>$E11),0)))))","v":10},{"$f":"IF(COUNTIF($D$11:$E$18,AA11),20,0)+IF(COUNTIF($D$11:$E$18,X11),20,0)","v":20},{"$f":"IF(OR(X11=\"\",AA11=\"\"),0,IF(AND(X11=$D11,AA11=$E11,Y11=$F11,Z11=$G11),30,0))","v":0},"Deutschland",2,1,"Dänemark",{"$f":"IF(OR(AE11=\"\",AH11=\"\"),0,IF(AND(AE11=$D11,AH11=$E11),20,IF(AE11=$D11,10,IF(AH11=$E11,10,IF(AND(AE11<>$D11,AH11<>$E11),0)))))","v":20},{"$f":"IF(COUNTIF($D$11:$E$18,AH11),20,0)+IF(COUNTIF($D$11:$E$18,AE11),20,0)","v":40},{"$f":"IF(OR(AE11=\"\",AH11=\"\"),0,IF(AND(AE11=$D11,AH11=$E11,AF11=$F11,AG11=$G11),30,0))","v":0},"Deutschland",2,0,"Serbien",{"$f":"IF(OR(AL11=\"\",AO11=\"\"),0,IF(AND(AL11=$D11,AO11=$E11),20,IF(AL11=$D11,10,IF(AO11=$E11,10,IF(AND(AL11<>$D11,AO11<>$E11),0)))))","v":10},{"$f":"IF(COUNTIF($D$11:$E$18,AO11),20,0)+IF(COUNTIF($D$11:$E$18,AL11),20,0)","v":20},{"$f":"IF(OR(AL11=\"\",AO11=\"\"),0,IF(AND(AL11=$D11,AO11=$E11,AM11=$F11,AN11=$G11),30,0))","v":0},"Deutschland",1,0,"Serbien",{"$f":"IF(OR(AS11=\"\",AV11=\"\"),0,IF(AND(AS11=$D11,AV11=$E11),20,IF(AS11=$D11,10,IF(AV11=$E11,10,IF(AND(AS11<>$D11,AV11<>$E11),0)))))","v":10},{"$f":"IF(COUNTIF($D$11:$E$18,AV11),20,0)+IF(COUNTIF($D$11:$E$18,AS11),20,0)","v":20},{"$f":"IF(OR(AS11=\"\",AV11=\"\"),0,IF(AND(AS11=$D11,AV11=$E11,AT11=$F11,AU11=$G11),30,0))","v":0},"Deutschland",3,0,"Dänemark",{"$f":"IF(OR(AZ11=\"\",BC11=\"\"),0,IF(AND(AZ11=$D11,BC11=$E11),20,IF(AZ11=$D11,10,IF(BC11=$E11,10,IF(AND(AZ11<>$D11,BC11<>$E11),0)))))","v":20},{"$f":"IF(COUNTIF($D$11:$E$18,BC11),20,0)+IF(COUNTIF($D$11:$E$18,AZ11),20,0)","v":40},{"$f":"IF(OR(AZ11=\"\",BC11=\"\"),0,IF(AND(AZ11=$D11,BC11=$E11,BA11=$F11,BB11=$G11),30,0))","v":0},"Schweiz",1,0,"Dänemark",{"$f":"IF(OR(BG11=\"\",BJ11=\"\"),0,IF(AND(BG11=$D11,BJ11=$E11),20,IF(BG11=$D11,10,IF(BJ11=$E11,10,IF(AND(BG11<>$D11,BJ11<>$E11),0)))))","v":10},{"$f":"IF(COUNTIF($D$11:$E$18,BJ11),20,0)+IF(COUNTIF($D$11:$E$18,BG11),20,0)","v":40},{"$f":"IF(OR(BG11=\"\",BJ11=\"\"),0,IF(AND(BG11=$D11,BJ11=$E11,BH11=$F11,BI11=$G11),30,0))","v":0},"Deutschland",1,0,"Dänemark",{"$f":"IF(OR(BN11=\"\",BQ11=\"\"),0,IF(AND(BN11=$D11,BQ11=$E11),20,IF(BN11=$D11,10,IF(BQ11=$E11,10,IF(AND(BN11<>$D11,BQ11<>$E11),0)))))","v":20},{"$f":"IF(COUNTIF($D$11:$E$18,BQ11),20,0)+IF(COUNTIF($D$11:$E$18,BN11),20,0)","v":40},{"$f":"IF(OR(BN11=\"\",BQ11=\"\"),0,IF(AND(BN11=$D11,BQ11=$E11,BO11=$F11,BP11=$G11),30,0))","v":0},"Deutschland",3,1,"Dänemark",{"$f":"IF(OR(BU11=\"\",BX11=\"\"),0,IF(AND(BU11=$D11,BX11=$E11),20,IF(BU11=$D11,10,IF(BX11=$E11,10,IF(AND(BU11<>$D11,BX11<>$E11),0)))))","v":20},{"$f":"IF(COUNTIF($D$11:$E$18,BX11),20,0)+IF(COUNTIF($D$11:$E$18,BU11),20,0)","v":40},{"$f":"IF(OR(BU11=\"\",BX11=\"\"),0,IF(AND(BU11=$D11,BX11=$E11,BV11=$F11,BW11=$G11),30,0))","v":0},"Deutschland",2,1,"Dänemark",{"$f":"IF(OR(CB11=\"\",CE11=\"\"),0,IF(AND(CB11=$D11,CE11=$E11),20,IF(CB11=$D11,10,IF(CE11=$E11,10,IF(AND(CB11<>$D11,CE11<>$E11),0)))))","v":20},{"$f":"IF(COUNTIF($D$11:$E$18,CE11),20,0)+IF(COUNTIF($D$11:$E$18,CB11),20,0)","v":40},{"$f":"IF(OR(CB11=\"\",CE11=\"\"),0,IF(AND(CB11=$D11,CE11=$E11,CC11=$F11,CD11=$G11),30,0))","v":0},"Schweiz",4,6,"Dänemark",{"$f":"IF(OR(CI11=\"\",CL11=\"\"),0,IF(AND(CI11=$D11,CL11=$E11),20,IF(CI11=$D11,10,IF(CL11=$E11,10,IF(AND(CI11<>$D11,CL11<>$E11),0)))))","v":10},{"$f":"IF(COUNTIF($D$11:$E$18,CL11),20,0)+IF(COUNTIF($D$11:$E$18,CI11),20,0)","v":40},{"$f":"IF(OR(CI11=\"\",CL11=\"\"),0,IF(AND(CI11=$D11,CL11=$E11,CJ11=$F11,CK11=$G11),30,0))","v":0},"Deutschland",2,0,"Dänemark",{"$f":"IF(OR(CP11=\"\",CS11=\"\"),0,IF(AND(CP11=$D11,CS11=$E11),20,IF(CP11=$D11,10,IF(CS11=$E11,10,IF(AND(CP11<>$D11,CS11<>$E11),0)))))","v":20},{"$f":"IF(COUNTIF($D$11:$E$18,CS11),20,0)+IF(COUNTIF($D$11:$E$18,CP11),20,0)","v":40},{"$f":"IF(OR(CP11=\"\",CS11=\"\"),0,IF(AND(CP11=$D11,CS11=$E11,CQ11=$F11,CR11=$G11),30,0))","v":30},"Deutschland",1,0,"Dänemark",{"$f":"IF(OR(CW11=\"\",CZ11=\"\"),0,IF(AND(CW11=$D11,CZ11=$E11),20,IF(CW11=$D11,10,IF(CZ11=$E11,10,IF(AND(CW11<>$D11,CZ11<>$E11),0)))))","v":20},{"$f":"IF(COUNTIF($D$11:$E$18,CZ11),20,0)+IF(COUNTIF($D$11:$E$18,CW11),20,0)","v":40},{"$f":"IF(OR(CW11=\"\",CZ11=\"\"),0,IF(AND(CW11=$D11,CZ11=$E11,CX11=$F11,CY11=$G11),30,0))","v":0},"Deutschland",2,0,"Serbien",{"$f":"IF(OR(DD11=\"\",DG11=\"\"),0,IF(AND(DD11=$D11,DG11=$E11),20,IF(DD11=$D11,10,IF(DG11=$E11,10,IF(AND(DD11<>$D11,DG11<>$E11),0)))))","v":10},{"$f":"IF(COUNTIF($D$11:$E$18,DG11),20,0)+IF(COUNTIF($D$11:$E$18,DD11),20,0)","v":20},{"$f":"IF(OR(DD11=\"\",DG11=\"\"),0,IF(AND(DD11=$D11,DG11=$E11,DE11=$F11,DF11=$G11),30,0))","v":0},"Deutschland",2,1,"Serbien",{"$f":"IF(OR(DK11=\"\",DN11=\"\"),0,IF(AND(DK11=$D11,DN11=$E11),20,IF(DK11=$D11,10,IF(DN11=$E11,10,IF(AND(DK11<>$D11,DN11<>$E11),0)))))","v":10},{"$f":"IF(COUNTIF($D$11:$E$18,DN11),20,0)+IF(COUNTIF($D$11:$E$18,DK11),20,0)","v":20},{"$f":"IF(OR(DK11=\"\",DN11=\"\"),0,IF(AND(DK11=$D11,DN11=$E11,DL11=$F11,DM11=$G11),30,0))","v":0},"Deutschland",2,1,"Dänemark",{"$f":"IF(OR(DR11=\"\",DU11=\"\"),0,IF(AND(DR11=$D11,DU11=$E11),20,IF(DR11=$D11,10,IF(DU11=$E11,10,IF(AND(DR11<>$D11,DU11<>$E11),0)))))","v":20},{"$f":"IF(COUNTIF($D$11:$E$18,DU11),20,0)+IF(COUNTIF($D$11:$E$18,DR11),20,0)","v":40},{"$f":"IF(OR(DR11=\"\",DU11=\"\"),0,IF(AND(DR11=$D11,DU11=$E11,DS11=$F11,DT11=$G11),30,0))","v":0},"Deutschland",2,1,"Dänemark",{"$f":"IF(OR(DY11=\"\",EB11=\"\"),0,IF(AND(DY11=$D11,EB11=$E11),20,IF(DY11=$D11,10,IF(EB11=$E11,10,IF(AND(DY11<>$D11,EB11<>$E11),0)))))","v":20},{"$f":"IF(COUNTIF($D$11:$E$18,EB11),20,0)+IF(COUNTIF($D$11:$E$18,DY11),20,0)","v":40},{"$f":"IF(OR(DY11=\"\",EB11=\"\"),0,IF(AND(DY11=$D11,EB11=$E11,DZ11=$F11,EA11=$G11),30,0))","v":0},"Deutschland",1,3,"Dänemark",{"$f":"IF(OR(EF11=\"\",EI11=\"\"),0,IF(AND(EF11=$D11,EI11=$E11),20,IF(EF11=$D11,10,IF(EI11=$E11,10,IF(AND(EF11<>$D11,EI11<>$E11),0)))))","v":20},{"$f":"IF(COUNTIF($D$11:$E$18,EI11),20,0)+IF(COUNTIF($D$11:$E$18,EF11),20,0)","v":40},{"$f":"IF(OR(EF11=\"\",EI11=\"\"),0,IF(AND(EF11=$D11,EI11=$E11,EG11=$F11,EH11=$G11),30,0))","v":0},"Deutschland",1,0,"Dänemark",{"$f":"IF(OR(EM11=\"\",EP11=\"\"),0,IF(AND(EM11=$D11,EP11=$E11),20,IF(EM11=$D11,10,IF(EP11=$E11,10,IF(AND(EM11<>$D11,EP11<>$E11),0)))))","v":20},{"$f":"IF(COUNTIF($D$11:$E$18,EP11),20,0)+IF(COUNTIF($D$11:$E$18,EM11),20,0)","v":40},{"$f":"IF(OR(EM11=\"\",EP11=\"\"),0,IF(AND(EM11=$D11,EP11=$E11,EN11=$F11,EO11=$G11),30,0))","v":0}]
["Sa. 29. Jun","18:00:00",38,"Schweiz","Italien",2,0,null,null,"Schweiz",1,2,"Spanien",10,{"$f":"IF(COUNTIF($D$11:$E$18,M12),20,0)+IF(COUNTIF($D$11:$E$18,J12),20,0)","v":40},{"$f":"IF(OR(J12=\"\",M12=\"\"),0,IF(AND(J12=$D12,M12=$E12,K12=$F12,L12=$G12),30,0))","v":0},"Deutschland",1,2,"Italien",10,40,{"$f":"IF(OR(Q12=\"\",T12=\"\"),0,IF(AND(Q12=$D12,T12=$E12,R12=$F12,S12=$G12),30,0))","v":0},"Schweiz",0,3,"Kroatien",10,20,{"$f":"IF(OR(X12=\"\",AA12=\"\"),0,IF(AND(X12=$D12,AA12=$E12,Y12=$F12,Z12=$G12),30,0))","v":0},"Schweiz",1,0,"Italien",20,40,{"$f":"IF(OR(AE12=\"\",AH12=\"\"),0,IF(AND(AE12=$D12,AH12=$E12,AF12=$F12,AG12=$G12),30,0))","v":0},"Schweiz",2,1,"Italien",20,40,{"$f":"IF(OR(AL12=\"\",AO12=\"\"),0,IF(AND(AL12=$D12,AO12=$E12,AM12=$F12,AN12=$G12),30,0))","v":0},"Schweiz",1,0,"Italien",20,40,{"$f":"IF(OR(AS12=\"\",AV12=\"\"),0,IF(AND(AS12=$D12,AV12=$E12,AT12=$F12,AU12=$G12),30,0))","v":0},"Schweiz",4,3,"Italien",20,40,{"$f":"IF(OR(AZ12=\"\",BC12=\"\"),0,IF(AND(AZ12=$D12,BC12=$E12,BA12=$F12,BB12=$G12),30,0))","v":0},"Deutschland",2,1,"Italien",10,40,{"$f":"IF(OR(BG12=\"\",BJ12=\"\"),0,IF(AND(BG12=$D12,BJ12=$E12,BH12=$F12,BI12=$G12),30,0))","v":0},"Schweiz",1,2,"Kroatien",10,20,{"$f":"IF(OR(BN12=\"\",BQ12=\"\"),0,IF(AND(BN12=$D12,BQ12=$E12,BO12=$F12,BP12=$G12),30,0))","v":0},"Schweiz",0,1,"Kroatien",10,20,{"$f":"IF(OR(BU12=\"\",BX12=\"\"),0,IF(AND(BU12=$D12,BX12=$E12,BV12=$F12,BW12=$G12),30,0))","v":0},"Schweiz",1,2,"Spanien",10,40,{"$f":"IF(OR(CB12=\"\",CE12=\"\"),0,IF(AND(CB12=$D12,CE12=$E12,CC12=$F12,CD12=$G12),30,0))","v":0},"Deutschland",2,1,"Italien",10,40,{"$f":"IF(OR(CI12=\"\",CL12=\"\"),0,IF(AND(CI12=$D12,CL12=$E12,CJ12=$F12,CK12=$G12),30,0))","v":0},"Schweiz",0,1,"Kroatien",10,20,{"$f":"IF(OR(CP12=\"\",CS12=\"\"),0,IF(AND(CP12=$D12,CS12=$E12,CQ12=$F12,CR12=$G12),30,0))","v":0},"Schweiz",0,1,"Italien",20,40,{"$f":"IF(OR(CW12=\"\",CZ12=\"\"),0,IF(AND(CW12=$D12,CZ12=$E12,CX12=$F12,CY12=$G12),30,0))","v":0},"Schweiz",0,1,"Spanien",10,40,{"$f":"IF(OR(DD12=\"\",DG12=\"\"),0,IF(AND(DD12=$D12,DG12=$E12,DE12=$F12,DF12=$G12),30,0))","v":0},"Schweiz",1,2,"Italien",20,40,{"$f":"IF(OR(DK12=\"\",DN12=\"\"),0,IF(AND(DK12=$D12,DN12=$E12,DL12=$F12,DM12=$G12),30,0))","v":0},"Schweiz",2,1,"Kroatien",10,20,{"$f":"IF(OR(DR12=\"\",DU12=\"\"),0,IF(AND(DR12=$D12,DU12=$E12,DS12=$F12,DT12=$G12),30,0))","v":0},"Schweiz",2,1,"Italien",20,40,{"$f":"IF(OR(DY12=\"\",EB12=\"\"),0,IF(AND(DY12=$D12,EB12=$E12,DZ12=$F12,EA12=$G12),30,0))","v":0},"Schweiz",1,2,"Spanien",10,40,{"$f":"IF(OR(EF12=\"\",EI12=\"\"),0,IF(AND(EF12=$D12,EI12=$E12,EG12=$F12,EH12=$G12),30,0))","v":0},"Schweiz",0,1,"Spanien",10,40,{"$f":"IF(OR(EM12=\"\",EP12=\"\"),0,IF(AND(EM12=$D12,EP12=$E12,EN12=$F12,EO12=$G12),30,0))","v":0}]
["So. 30. Jun","21:00:00",39,"Spanien","Georgien",4,1,null,null,"Kroatien",2,1,"Slowakei",0,20,0,"Kroatien",4,3,"Holland",0,20,0,"Italien",3,1,"Ungarn",0,20,0,"Spanien",3,1,"Türkei",10,40,0,"Spanien",2,0,"Schottland",10,20,0,"Spanien",2,0,"Ungarn",10,20,0,"Spanien",1,0,"Österreich",10,40,0,"Spanien",3,0,"Ungarn",10,20,0,"Spanien",3,0,"Türkei",10,40,0,"Spanien",2,0,"Türkei",10,40,0,"Kroatien",2,1,"Polen",0,0,0,"Spanien",3,1,"Ungarn",10,20,0,"Spanien",1,0,"Schottland",10,20,0,"Spanien",3,1,"Schottland",10,20,0,"Italien",2,1,"Türkei",0,40,0,"Spanien",3,1,"Tschechien",10,20,0,"Spanien",3,1,"Schottland",10,20,0,"Spanien",3,1,"Ukraine",10,20,0,"Kroatien",2,1,"Holland",0,20,0,"Kroatien",3,0,"Ukraine",0,0,0]
["So. 30. Jun","18:00:00",40,"England","Slowakei",2,1,null,null,"England",2,1,"Türkei",10,40,0,"England",2,0,"Tschechien",10,20,0,"England",4,1,"Slowakei",20,40,0,"England",2,0,"Rumänien",10,40,0,"England",2,1,"Österreich",10,40,0,"England",2,0,"Türkei",10,40,0,"England",2,0,"Rumänien",10,40,0,"England",2,0,"Polen",10,20,0,"England",3,0,"Slowakei",20,40,0,"England",3,0,"Rumänien",10,40,0,"England",2,0,"Tschechien",10,20,0,"England",2,1,"Polen",10,20,0,"England",2,0,"Ukraine",10,20,0,"England",2,0,"Türkei",10,40,0,"England",2,1,"Österreich",10,40,0,"England",2,0,"Ukraine",10,20,0,"England",2,0,"Tschechien",10,20,0,"England",2,1,"Holland",10,40,0,"England",2,0,"Slowakei",20,40,0,"England",2,0,"Tschechien",10,20,0]
["Mo. 1. Jul","21:00:00",41,"Portugal","Slowenien",3,0,null,null,"Portugal",2,1,"Ungarn",10,20,0,"Portugal",3,2,"Spanien",10,40,0,"Portugal",2,1,"Dänemark",10,40,0,"Portugal",2,1,"Kroatien",10,20,0,"Portugal",3,1,"Dänemark",10,40,0,"Portugal",2,0,"Dänemark",10,40,0,"Portugal",3,2,"Kroatien",10,20,0,"Portugal",3,0,"Serbien",10,20,0,"Portugal",2,1,"Italien",10,40,0,"Portugal",1,2,"Italien",10,40,0,"Portugal",2,1,"Italien",10,40,0,"Portugal",2,1,"Serbien",10,20,0,"Portugal",1,0,"Serbien",10,20,0,"Portugal",2,0,"Serbien",10,20,0,"Portugal",1,0,"Ungarn",10,20,0,"Türkei",2,1,"Dänemark",0,40,0,"Türkei",2,1,"Serbien",0,20,0,"Portugal",3,0,"Ungarn",10,20,0,"Portugal",1,0,"Italien",10,40,0,"Portugal",3,1,"Ungarn",10,20,0]
["Mo. 1. Jul","18:00:00",42,"Frankreich","Belgien",1,0,null,null,"Holland",2,1,"Rumänien",0,40,0,"Österreich",2,1,"Slowakei",0,40,0,"Holland",3,0,"Ukraine",0,20,0,"Holland",1,0,"Ukraine",0,20,0,"Frankreich",2,0,"Ukraine",10,20,0,"Holland",2,0,"Ukraine",0,20,0,"Holland",1,2,"Ukraine",0,20,0,"Holland",1,0,"Slowakei",0,40,0,"Holland",2,1,"Ukraine",0,20,0,"Holland",2,1,"Slowakei",0,40,0,"Holland",2,1,"Rumänien",0,40,0,"Holland",3,2,"Ukraine",0,20,0,"Holland",2,0,"Rumänien",0,40,0,"Holland",2,0,"Ukraine",0,20,0,"Frankreich",2,0,"Ukraine",10,20,0,"Holland",2,0,"Rumänien",0,40,0,"Österreich",2,0,"Rumänien",0,40,0,"Österreich",1,0,"Rumänien",0,40,0,"Österreich",2,1,"Ukraine",0,20,0,"Holland",2,1,"Rumänien",0,40,0]
["Di. 2. Jul","18:00:00",43,"Rumänien","Holland",0,3,null,null,"Belgien",2,1,"Italien",0,40,0,"Belgien",1,2,"Schottland",0,20,0,"Belgien",1,3,"Spanien",0,40,0,"Belgien",1,0,"Serbien",0,20,0,"Belgien",1,0,"Kroatien",0,20,0,"Belgien",2,0,"Kroatien",0,20,0,"Belgien",2,0,"Ungarn",0,20,0,"Belgien",0,1,"Kroatien",0,20,0,"Belgien",2,0,"Serbien",0,20,0,"Belgien",0,1,"Serbien",0,20,0,"Belgien",1,0,"Ungarn",0,20,0,"Belgien",3,5,"Kroatien",0,20,0,"Belgien",1,0,"Italien",0,40,0,"Belgien",2,1,"Kroatien",0,20,0,"Belgien",1,0,"Dänemark",0,40,0,"Belgien",1,2,"Österreich",0,40,0,"Belgien",1,2,"Italien",0,40,0,"Belgien",2,1,"Serbien",0,20,0,"Belgien",3,2,"Ungarn",0,20,0,"Belgien",2,1,"Serbien",0,20,0]
["Di. 2. Jul","21:00:00",44,"Österreich","Türkei",1,2,null,null,"Frankreich",2,1,"Tschechien",0,20,0,"Frankreich",3,1,"Türkei",10,40,0,"Frankreich",2,0,"Türkei",10,40,0,"Frankreich",2,0,"Tschechien",0,20,0,"Holland",2,0,"Türkei",10,40,0,"Frankreich",2,0,"Tschechien",0,20,0,"Frankreich",2,0,"Tschechien",0,20,0,"Frankreich",2,0,"Tschechien",0,20,0,"Frankreich",2,0,"Tschechien",0,20,0,"Frankreich",2,0,"Tschechien",0,20,0,"Frankreich",3,1,"Türkei",10,40,0,"Frankreich",3,0,"Türkei",10,40,0,"Frankreich",2,0,"Türkei",10,40,0,"Frankreich",2,0,"Tschechien",0,20,0,"Holland",1,0,"Tschechien",0,20,0,"Frankreich",2,1,"Portugal",0,40,0,"Frankreich",2,1,"Portugal",0,40,0,"Frankreich",2,1,"Türkei",10,40,0,"Frankreich",2,0,"Tschechien",0,20,0,"Frankreich",3,0,"Türkei",10,40,0]
["Viertelfinale"]
["Fr. 5. Jul","18:00:00",45,"Spanien","Deutschland",2,1,null,null,"Kroatien",1,2,"Deutschland",{"$f":"IF(OR(J20=\"\",M20=\"\"),0,IF(AND(J20=$D20,M20=$E20),40,IF(J20=$D20,20,IF(M20=$E20,20,IF(AND(J20<>$D20,M20<>$E20),0)))))","v":20},{"$f":"IF(COUNTIF($D$20:$E$23,M20),40,0)+IF(COUNTIF($D$20:$E$23,J20),40,0)","v":40},{"$f":"IF(OR(J20=\"\",M20=\"\"),0,IF(AND(J20=$D20,M20=$E20,K20=$F20,L20=$G20),50,0))","v":0},"Kroatien",4,5,"Schweiz",{"$f":"IF(OR(Q20=\"\",T20=\"\"),0,IF(AND(Q20=$D20,T20=$E20),40,IF(Q20=$D20,20,IF(T20=$E20,20,IF(AND(Q20<>$D20,T20<>$E20),0)))))","v":0},{"$f":"IF(COUNTIF($D$20:$E$23,T20),40,0)+IF(COUNTIF($D$20:$E$23,Q20),40,0)","v":40},{"$f":"IF(OR(Q20=\"\",T20=\"\"),0,IF(AND(Q20=$D20,T20=$E20,R20=$F20,S20=$G20),50,0))","v":0},"Italien",5,4,"Deutschland",{"$f":"IF(OR(X20=\"\",AA20=\"\"),0,IF(AND(X20=$D20,AA20=$E20),40,IF(X20=$D20,20,IF(AA20=$E20,20,IF(AND(X20<>$D20,AA20<>$E20),0)))))","v":20},{"$f":"IF(COUNTIF($D$20:$E$23,AA20),40,0)+IF(COUNTIF($D$20:$E$23,X20),40,0)","v":40},{"$f":"IF(OR(X20=\"\",AA20=\"\"),0,IF(AND(X20=$D20,AA20=$E20,Y20=$F20,Z20=$G20),50,0))","v":0},"Spanien",1,0,"Deutschland",{"$f":"IF(OR(AE20=\"\",AH20=\"\"),0,IF(AND(AE20=$D20,AH20=$E20),40,IF(AE20=$D20,20,IF(AH20=$E20,20,IF(AND(AE20<>$D20,AH20<>$E20),0)))))","v":40},{"$f":"IF(COUNTIF($D$20:$E$23,AH20),40,0)+IF(COUNTIF($D$20:$E$23,AE20),40,0)","v":80},{"$f":"IF(OR(AE20=\"\",AH20=\"\"),0,IF(AND(AE20=$D20,AH20=$E20,AF20=$F20,AG20=$G20),50,0))","v":0},"Spanien",1,2,"Deutschland",{"$f":"IF(OR(AL20=\"\",AO20=\"\"),0,IF(AND(AL20=$D20,AO20=$E20),40,IF(AL20=$D20,20,IF(AO20=$E20,20,IF(AND(AL20<>$D20,AO20<>$E20),0)))))","v":40},{"$f":"IF(COUNTIF($D$20:$E$23,AO20),40,0)+IF(COUNTIF($D$20:$E$23,AL20),40,0)","v":80},{"$f":"IF(OR(AL20=\"\",AO20=\"\"),0,IF(AND(AL20=$D20,AO20=$E20,AM20=$F20,AN20=$G20),50,0))","v":0},"Spanien",2,1,"Deutschland",{"$f":"IF(OR(AS20=\"\",AV20=\"\"),0,IF(AND(AS20=$D20,AV20=$E20),40,IF(AS20=$D20,20,IF(AV20=$E20,20,IF(AND(AS20<>$D20,AV20<>$E20),0)))))","v":40},{"$f":"IF(COUNTIF($D$20:$E$23,AV20),40,0)+IF(COUNTIF($D$20:$E$23,AS20),40,0)","v":80},{"$f":"IF(OR(AS20=\"\",AV20=\"\"),0,IF(AND(AS20=$D20,AV20=$E20,AT20=$F20,AU20=$G20),50,0))","v":50},"Spanien",1,2,"Deutschland",{"$f":"IF(OR(AZ20=\"\",BC20=\"\"),0,IF(AND(AZ20=$D20,BC20=$E20),40,IF(AZ20=$D20,20,IF(BC20=$E20,20,IF(AND(AZ20<>$D20,BC20<>$E20),0)))))","v":40},{"$f":"IF(COUNTIF($D$20:$E$23,BC20),40,0)+IF(COUNTIF($D$20:$E$23,AZ20),40,0)","v":80},{"$f":"IF(OR(AZ20=\"\",BC20=\"\"),0,IF(AND(AZ20=$D20,BC20=$E20,BA20=$F20,BB20=$G20),50,0))","v":0},"Spanien",2,0,"Schweiz",{"$f":"IF(OR(BG20=\"\",BJ20=\"\"),0,IF(AND(BG20=$D20,BJ20=$E20),40,IF(BG20=$D20,20,IF(BJ20=$E20,20,IF(AND(BG20<>$D20,BJ20<>$E20),0)))))","v":20},{"$f":"IF(COUNTIF($D$20:$E$23,BJ20),40,0)+IF(COUNTIF($D$20:$E$23,BG20),40,0)","v":80},{"$f":"IF(OR(BG20=\"\",BJ20=\"\"),0,IF(AND(BG20=$D20,BJ20=$E20,BH20=$F20,BI20=$G20),50,0))","v":0},"Spanien",1,2,"Deutschland",{"$f":"IF(OR(BN20=\"\",BQ20=\"\"),0,IF(AND(BN20=$D20,BQ20=$E20),40,IF(BN20=$D20,20,IF(BQ20=$E20,20,IF(AND(BN20<>$D20,BQ20<>$E20),0)))))","v":40},{"$f":"IF(COUNTIF($D$20:$E$23,BQ20),40,0)+IF(COUNTIF($D$20:$E$23,BN20),40,0)","v":80},{"$f":"IF(OR(BN20=\"\",BQ20=\"\"),0,IF(AND(BN20=$D20,BQ20=$E20,BO20=$F20,BP20=$G20),50,0))","v":0},"Spanien",1,2,"Deutschland",{"$f":"IF(OR(BU20=\"\",BX20=\"\"),0,IF(AND(BU20=$D20,BX20=$E20),40,IF(BU20=$D20,20,IF(BX20=$E20,20,IF(AND(BU20<>$D20,BX20<>$E20),0)))))","v":40},{"$f":"IF(COUNTIF($D$20:$E$23,BX20),40,0)+IF(COUNTIF($D$20:$E$23,BU20),40,0)","v":80},{"$f":"IF(OR(BU20=\"\",BX20=\"\"),0,IF(AND(BU20=$D20,BX20=$E20,BV20=$F20,BW20=$G20),50,0))","v":0},"Kroatien",1,2,"Deutschland",{"$f":"IF(OR(CB20=\"\",CE20=\"\"),0,IF(AND(CB20=$D20,CE20=$E20),40,IF(CB20=$D20,20,IF(CE20=$E20,20,IF(AND(CB20<>$D20,CE20<>$E20),0)))))","v":20},{"$f":"IF(COUNTIF($D$20:$E$23,CE20),40,0)+IF(COUNTIF($D$20:$E$23,CB20),40,0)","v":40},{"$f":"IF(OR(CB20=\"\",CE20=\"\"),0,IF(AND(CB20=$D20,CE20=$E20,CC20=$F20,CD20=$G20),50,0))","v":0},"Spanien",3,2,"Dänemark",{"$f":"IF(OR(CI20=\"\",CL20=\"\"),0,IF(AND(CI20=$D20,CL20=$E20),40,IF(CI20=$D20,20,IF(CL20=$E20,20,IF(AND(CI20<>$D20,CL20<>$E20),0)))))","v":20},{"$f":"IF(COUNTIF($D$20:$E$23,CL20),40,0)+IF(COUNTIF($D$20:$E$23,CI20),40,0)","v":40},{"$f":"IF(OR(CI20=\"\",CL20=\"\"),0,IF(AND(CI20=$D20,CL20=$E20,CJ20=$F20,CK20=$G20),50,0))","v":0},"Spanien",0,1,"Deutschland",{"$f":"IF(OR(CP20=\"\",CS20=\"\"),0,IF(AND(CP20=$D20,CS20=$E20),40,IF(CP20=$D20,20,IF(CS20=$E20,20,IF(AND(CP20<>$D20,CS20<>$E20),0)))))","v":40},{"$f":"IF(COUNTIF($D$20:$E$23,CS20),40,0)+IF(COUNTIF($D$20:$E$23,CP20),40,0)","v":80},{"$f":"IF(OR(CP20=\"\",CS20=\"\"),0,IF(AND(CP20=$D20,CS20=$E20,CQ20=$F20,CR20=$G20),50,0))","v":0},"Spanien",1,2,"Deutschland",{"$f":"IF(OR(CW20=\"\",CZ20=\"\"),0,IF(AND(CW20=$D20,CZ20=$E20),40,IF(CW20=$D20,20,IF(CZ20=$E20,20,IF(AND(CW20<>$D20,CZ20<>$E20),0)))))","v":40},{"$f":"IF(COUNTIF($D$20:$E$23,CZ20),40,0)+IF(COUNTIF($D$20:$E$23,CW20),40,0)","v":80},{"$f":"IF(OR(CW20=\"\",CZ20=\"\"),0,IF(AND(CW20=$D20,CZ20=$E20,CX20=$F20,CY20=$G20),50,0))","v":0},"Italien",0,1,"Deutschland",{"$f":"IF(OR(DD20=\"\",DG20=\"\"),0,IF(AND(DD20=$D20,DG20=$E20),40,IF(DD20=$D20,20,IF(DG20=$E20,20,IF(AND(DD20<>$D20,DG20<>$E20),0)))))","v":20},{"$f":"IF(COUNTIF($D$20:$E$23,DG20),40,0)+IF(COUNTIF($D$20:$E$23,DD20),40,0)","v":40},{"$f":"IF(OR(DD20=\"\",DG20=\"\"),0,IF(AND(DD20=$D20,DG20=$E20,DE20=$F20,DF20=$G20),50,0))","v":0},"Spanien",1,2,"Deutschland",{"$f":"IF(OR(DK20=\"\",DN20=\"\"),0,IF(AND(DK20=$D20,DN20=$E20),40,IF(DK20=$D20,20,IF(DN20=$E20,20,IF(AND(DK20<>$D20,DN20<>$E20),0)))))","v":40},{"$f":"IF(COUNTIF($D$20:$E$23,DN20),40,0)+IF(COUNTIF($D$20:$E$23,DK20),40,0)","v":80},{"$f":"IF(OR(DK20=\"\",DN20=\"\"),0,IF(AND(DK20=$D20,DN20=$E20,DL20=$F20,DM20=$G20),50,0))","v":0},"Spanien",1,2,"Deutschland",{"$f":"IF(OR(DR20=\"\",DU20=\"\"),0,IF(AND(DR20=$D20,DU20=$E20),40,IF(DR20=$D20,20,IF(DU20=$E20,20,IF(AND(DR20<>$D20,DU20<>$E20),0)))))","v":40},{"$f":"IF(COUNTIF($D$20:$E$23,DU20),40,0)+IF(COUNTIF($D$20:$E$23,DR20),40,0)","v":80},{"$f":"IF(OR(DR20=\"\",DU20=\"\"),0,IF(AND(DR20=$D20,DU20=$E20,DS20=$F20,DT20=$G20),50,0))","v":0},"Spanien",1,2,"Deutschland",{"$f":"IF(OR(DY20=\"\",EB20=\"\"),0,IF(AND(DY20=$D20,EB20=$E20),40,IF(DY20=$D20,20,IF(EB20=$E20,20,IF(AND(DY20<>$D20,EB20<>$E20),0)))))","v":40},{"$f":"IF(COUNTIF($D$20:$E$23,EB20),40,0)+IF(COUNTIF($D$20:$E$23,DY20),40,0)","v":80},{"$f":"IF(OR(DY20=\"\",EB20=\"\"),0,IF(AND(DY20=$D20,EB20=$E20,DZ20=$F20,EA20=$G20),50,0))","v":0},"Kroatien",2,1,"Dänemark",{"$f":"IF(OR(EF20=\"\",EI20=\"\"),0,IF(AND(EF20=$D20,EI20=$E20),40,IF(EF20=$D20,20,IF(EI20=$E20,20,IF(AND(EF20<>$D20,EI20<>$E20),0)))))","v":0},{"$f":"IF(COUNTIF($D$20:$E$23,EI20),40,0)+IF(COUNTIF($D$20:$E$23,EF20),40,0)","v":0},{"$f":"IF(OR(EF20=\"\",EI20=\"\"),0,IF(AND(EF20=$D20,EI20=$E20,EG20=$F20,EH20=$G20),50,0))","v":0},"Kroatien",2,3,"Deutschland",{"$f":"IF(OR(EM20=\"\",EP20=\"\"),0,IF(AND(EM20=$D20,EP20=$E20),40,IF(EM20=$D20,20,IF(EP20=$E20,20,IF(AND(EM20<>$D20,EP20<>$E20),0)))))","v":20},{"$f":"IF(COUNTIF($D$20:$E$23,EP20),40,0)+IF(COUNTIF($D$20:$E$23,EM20),40,0)","v":40},{"$f":"IF(OR(EM20=\"\",EP20=\"\"),0,IF(AND(EM20=$D20,EP20=$E20,EN20=$F20,EO20=$G20),50,0))","v":0}]
["Fr. 5. Jul","21:00:00",46,"Portugal","Frankreich",3,5,null,null,"Portugal",2,1,"Holland",{"$f":"IF(OR(J21=\"\",M21=\"\"),0,IF(AND(J21=$D21,M21=$E21),40,IF(J21=$D21,20,IF(M21=$E21,20,IF(AND(J21<>$D21,M21<>$E21),0)))))","v":20},{"$f":"IF(COUNTIF($D$20:$E$23,M21),40,0)+IF(COUNTIF($D$20:$E$23,J21),40,0)","v":80},{"$f":"IF(OR(J21=\"\",M21=\"\"),0,IF(AND(J21=$D21,M21=$E21,K21=$F21,L21=$G21),50,0))","v":0},"Portugal",2,0,"Österreich",{"$f":"IF(OR(Q21=\"\",T21=\"\"),0,IF(AND(Q21=$D21,T21=$E21),40,IF(Q21=$D21,20,IF(T21=$E21,20,IF(AND(Q21<>$D21,T21<>$E21),0)))))","v":20},{"$f":"IF(COUNTIF($D$20:$E$23,T21),40,0)+IF(COUNTIF($D$20:$E$23,Q21),40,0)","v":40},{"$f":"IF(OR(Q21=\"\",T21=\"\"),0,IF(AND(Q21=$D21,T21=$E21,R21=$F21,S21=$G21),50,0))","v":0},"Portugal",2,1,"Holland",{"$f":"IF(OR(X21=\"\",AA21=\"\"),0,IF(AND(X21=$D21,AA21=$E21),40,IF(X21=$D21,20,IF(AA21=$E21,20,IF(AND(X21<>$D21,AA21<>$E21),0)))))","v":20},{"$f":"IF(COUNTIF($D$20:$E$23,AA21),40,0)+IF(COUNTIF($D$20:$E$23,X21),40,0)","v":80},{"$f":"IF(OR(X21=\"\",AA21=\"\"),0,IF(AND(X21=$D21,AA21=$E21,Y21=$F21,Z21=$G21),50,0))","v":0},"Portugal",0,1,"Holland",{"$f":"IF(OR(AE21=\"\",AH21=\"\"),0,IF(AND(AE21=$D21,AH21=$E21),40,IF(AE21=$D21,20,IF(AH21=$E21,20,IF(AND(AE21<>$D21,AH21<>$E21),0)))))","v":20},{"$f":"IF(COUNTIF($D$20:$E$23,AH21),40,0)+IF(COUNTIF($D$20:$E$23,AE21),40,0)","v":80},{"$f":"IF(OR(AE21=\"\",AH21=\"\"),0,IF(AND(AE21=$D21,AH21=$E21,AF21=$F21,AG21=$G21),50,0))","v":0},"Portugal",2,3,"Frankreich",{"$f":"IF(OR(AL21=\"\",AO21=\"\"),0,IF(AND(AL21=$D21,AO21=$E21),40,IF(AL21=$D21,20,IF(AO21=$E21,20,IF(AND(AL21<>$D21,AO21<>$E21),0)))))","v":40},{"$f":"IF(COUNTIF($D$20:$E$23,AO21),40,0)+IF(COUNTIF($D$20:$E$23,AL21),40,0)","v":80},{"$f":"IF(OR(AL21=\"\",AO21=\"\"),0,IF(AND(AL21=$D21,AO21=$E21,AM21=$F21,AN21=$G21),50,0))","v":0},"Portugal",2,1,"Holland",{"$f":"IF(OR(AS21=\"\",AV21=\"\"),0,IF(AND(AS21=$D21,AV21=$E21),40,IF(AS21=$D21,20,IF(AV21=$E21,20,IF(AND(AS21<>$D21,AV21<>$E21),0)))))","v":20},{"$f":"IF(COUNTIF($D$20:$E$23,AV21),40,0)+IF(COUNTIF($D$20:$E$23,AS21),40,0)","v":80},{"$f":"IF(OR(AS21=\"\",AV21=\"\"),0,IF(AND(AS21=$D21,AV21=$E21,AT21=$F21,AU21=$G21),50,0))","v":0},"Portugal",3,0,"Ukraine",{"$f":"IF(OR(AZ21=\"\",BC21=\"\"),0,IF(AND(AZ21=$D21,BC21=$E21),40,IF(AZ21=$D21,20,IF(BC21=$E21,20,IF(AND(AZ21<>$D21,BC21<>$E21),0)))))","v":20},{"$f":"IF(COUNTIF($D$20:$E$23,BC21),40,0)+IF(COUNTIF($D$20:$E$23,AZ21),40,0)","v":40},{"$f":"IF(OR(AZ21=\"\",BC21=\"\"),0,IF(AND(AZ21=$D21,BC21=$E21,BA21=$F21,BB21=$G21),50,0))","v":0},"Portugal",2,0,"Holland",{"$f":"IF(OR(BG21=\"\",BJ21=\"\"),0,IF(AND(BG21=$D21,BJ21=$E21),40,IF(BG21=$D21,20,IF(BJ21=$E21,20,IF(AND(BG21<>$D21,BJ21<>$E21),0)))))","v":20},{"$f":"IF(COUNTIF($D$20:$E$23,BJ21),40,0)+IF(COUNTIF($D$20:$E$23,BG21),40,0)","v":80},{"$f":"IF(OR(BG21=\"\",BJ21=\"\"),0,IF(AND(BG21=$D21,BJ21=$E21,BH21=$F21,BI21=$G21),50,0))","v":0},"Portugal",2,1,"Holland",{"$f":"IF(OR(BN21=\"\",BQ21=\"\"),0,IF(AND(BN21=$D21,BQ21=$E21),40,IF(BN21=$D21,20,IF(BQ21=$E21,20,IF(AND(BN21<>$D21,BQ21<>$E21),0)))))","v":20},{"$f":"IF(COUNTIF($D$20:$E$23,BQ21),40,0)+IF(COUNTIF($D$20:$E$23,BN21),40,0)","v":80},{"$f":"IF(OR(BN21=\"\",BQ21=\"\"),0,IF(AND(BN21=$D21,BQ21=$E21,BO21=$F21,BP21=$G21),50,0))","v":0},"Italien",2,1,"Holland",{"$f":"IF(OR(BU21=\"\",BX21=\"\"),0,IF(AND(BU21=$D21,BX21=$E21),40,IF(BU21=$D21,20,IF(BX21=$E21,20,IF(AND(BU21<>$D21,BX21<>$E21),0)))))","v":0},{"$f":"IF(COUNTIF($D$20:$E$23,BX21),40,0)+IF(COUNTIF($D$20:$E$23,BU21),40,0)","v":40},{"$f":"IF(OR(BU21=\"\",BX21=\"\"),0,IF(AND(BU21=$D21,BX21=$E21,BV21=$F21,BW21=$G21),50,0))","v":0},"Portugal",1,2,"Holland",{"$f":"IF(OR(CB21=\"\",CE21=\"\"),0,IF(AND(CB21=$D21,CE21=$E21),40,IF(CB21=$D21,20,IF(CE21=$E21,20,IF(AND(CB21<>$D21,CE21<>$E21),0)))))","v":20},{"$f":"IF(COUNTIF($D$20:$E$23,CE21),40,0)+IF(COUNTIF($D$20:$E$23,CB21),40,0)","v":80},{"$f":"IF(OR(CB21=\"\",CE21=\"\"),0,IF(AND(CB21=$D21,CE21=$E21,CC21=$F21,CD21=$G21),50,0))","v":0},"Portugal",6,5,"Holland",{"$f":"IF(OR(CI21=\"\",CL21=\"\"),0,IF(AND(CI21=$D21,CL21=$E21),40,IF(CI21=$D21,20,IF(CL21=$E21,20,IF(AND(CI21<>$D21,CL21<>$E21),0)))))","v":20},{"$f":"IF(COUNTIF($D$20:$E$23,CL21),40,0)+IF(COUNTIF($D$20:$E$23,CI21),40,0)","v":80},{"$f":"IF(OR(CI21=\"\",CL21=\"\"),0,IF(AND(CI21=$D21,CL21=$E21,CJ21=$F21,CK21=$G21),50,0))","v":0},"Portugal",0,1,"Holland",{"$f":"IF(OR(CP21=\"\",CS21=\"\"),0,IF(AND(CP21=$D21,CS21=$E21),40,IF(CP21=$D21,20,IF(CS21=$E21,20,IF(AND(CP21<>$D21,CS21<>$E21),0)))))","v":20},{"$f":"IF(COUNTIF($D$20:$E$23,CS21),40,0)+IF(COUNTIF($D$20:$E$23,CP21),40,0)","v":80},{"$f":"IF(OR(CP21=\"\",CS21=\"\"),0,IF(AND(CP21=$D21,CS21=$E21,CQ21=$F21,CR21=$G21),50,0))","v":0},"Portugal",1,2,"Holland",{"$f":"IF(OR(CW21=\"\",CZ21=\"\"),0,IF(AND(CW21=$D21,CZ21=$E21),40,IF(CW21=$D21,20,IF(CZ21=$E21,20,IF(AND(CW21<>$D21,CZ21<>$E21),0)))))","v":20},{"$f":"IF(COUNTIF($D$20:$E$23,CZ21),40,0)+IF(COUNTIF($D$20:$E$23,CW21),40,0)","v":80},{"$f":"IF(OR(CW21=\"\",CZ21=\"\"),0,IF(AND(CW21=$D21,CZ21=$E21,CX21=$F21,CY21=$G21),50,0))","v":0},"Portugal",1,3,"Frankreich",{"$f":"IF(OR(DD21=\"\",DG21=\"\"),0,IF(AND(DD21=$D21,DG21=$E21),40,IF(DD21=$D21,20,IF(DG21=$E21,20,IF(AND(DD21<>$D21,DG21<>$E21),0)))))","v":40},{"$f":"IF(COUNTIF($D$20:$E$23,DG21),40,0)+IF(COUNTIF($D$20:$E$23,DD21),40,0)","v":80},{"$f":"IF(OR(DD21=\"\",DG21=\"\"),0,IF(AND(DD21=$D21,DG21=$E21,DE21=$F21,DF21=$G21),50,0))","v":0},"Türkei",1,0,"Holland",{"$f":"IF(OR(DK21=\"\",DN21=\"\"),0,IF(AND(DK21=$D21,DN21=$E21),40,IF(DK21=$D21,20,IF(DN21=$E21,20,IF(AND(DK21<>$D21,DN21<>$E21),0)))))","v":0},{"$f":"IF(COUNTIF($D$20:$E$23,DN21),40,0)+IF(COUNTIF($D$20:$E$23,DK21),40,0)","v":80},{"$f":"IF(OR(DK21=\"\",DN21=\"\"),0,IF(AND(DK21=$D21,DN21=$E21,DL21=$F21,DM21=$G21),50,0))","v":0},"Türkei",1,0,"Österreich",{"$f":"IF(OR(DR21=\"\",DU21=\"\"),0,IF(AND(DR21=$D21,DU21=$E21),40,IF(DR21=$D21,20,IF(DU21=$E21,20,IF(AND(DR21<>$D21,DU21<>$E21),0)))))","v":0},{"$f":"IF(COUNTIF($D$20:$E$23,DU21),40,0)+IF(COUNTIF($D$20:$E$23,DR21),40,0)","v":40},{"$f":"IF(OR(DR21=\"\",DU21=\"\"),0,IF(AND(DR21=$D21,DU21=$E21,DS21=$F21,DT21=$G21),50,0))","v":0},"Portugal",1,0,"Österreich",{"$f":"IF(OR(DY21=\"\",EB21=\"\"),0,IF(AND(DY21=$D21,EB21=$E21),40,IF(DY21=$D21,20,IF(EB21=$E21,20,IF(AND(DY21<>$D21,EB21<>$E21),0)))))","v":20},{"$f":"IF(COUNTIF($D$20:$E$23,EB21),40,0)+IF(COUNTIF($D$20:$E$23,DY21),40,0)","v":40},{"$f":"IF(OR(DY21=\"\",EB21=\"\"),0,IF(AND(DY21=$D21,EB21=$E21,DZ21=$F21,EA21=$G21),50,0))","v":0},"Portugal",2,1,"Österreich",{"$f":"IF(OR(EF21=\"\",EI21=\"\"),0,IF(AND(EF21=$D21,EI21=$E21),40,IF(EF21=$D21,20,IF(EI21=$E21,20,IF(AND(EF21<>$D21,EI21<>$E21),0)))))","v":20},{"$f":"IF(COUNTIF($D$20:$E$23,EI21),40,0)+IF(COUNTIF($D$20:$E$23,EF21),40,0)","v":40},{"$f":"IF(OR(EF21=\"\",EI21=\"\"),0,IF(AND(EF21=$D21,EI21=$E21,EG21=$F21,EH21=$G21),50,0))","v":0},"Portugal",2,1,"Holland",{"$f":"IF(OR(EM21=\"\",EP21=\"\"),0,IF(AND(EM21=$D21,EP21=$E21),40,IF(EM21=$D21,20,IF(EP21=$E21,20,IF(AND(EM21<>$D21,EP21<>$E21),0)))))","v":20},{"$f":"IF(COUNTIF($D$20:$E$23,EP21),40,0)+IF(COUNTIF($D$20:$E$23,EM21),40,0)","v":80},{"$f":"IF(OR(EM21=\"\",EP21=\"\"),0,IF(AND(EM21=$D21,EP21=$E21,EN21=$F21,EO21=$G21),50,0))","v":0}]
["Sa. 6. Jul","21:00:00",47,"Holland","Türkei",2,1,null,null,"Belgien",1,2,"Frankreich",0,40,0,"Schottland",1,2,"Frankreich",0,40,0,"Spanien",1,2,"Frankreich",0,80,0,"Belgien",0,1,"Frankreich",0,40,0,"Belgien",1,2,"Holland",0,40,0,"Belgien",1,2,"Frankreich",0,40,0,"Belgien",4,2,"Frankreich",0,40,0,"Kroatien",1,2,"Frankreich",0,40,0,"Belgien",1,2,"Frankreich",0,40,0,"Serbien",0,2,"Frankreich",0,40,0,"Belgien",1,2,"Frankreich",0,40,0,"Kroatien",2,3,"Frankreich",0,40,0,"Belgien",1,0,"Frankreich",0,40,0,"Belgien",0,1,"Frankreich",0,40,0,"Belgien",1,2,"Holland",0,40,0,"Österreich",1,2,"Frankreich",0,40,0,"Italien",1,2,"Frankreich",0,40,0,"Belgien",1,2,"Frankreich",0,40,0,"Belgien",1,2,"Frankreich",0,40,0,"Belgien",1,3,"Frankreich",0,40,0]
["Sa. 6. Jul","18:00:00",48,"England","Schweiz",5,3,null,null,"England",2,1,"Spanien",20,80,0,"England",4,5,"Italien",20,40,0,"England",0,2,"Kroatien",20,40,0,"England",3,0,"Schweiz",40,80,0,"England",2,0,"Schweiz",40,80,0,"England",1,0,"Schweiz",40,80,0,"England",0,1,"Schweiz",40,80,0,"England",2,0,"Deutschland",20,80,0,"England",1,0,"Kroatien",20,40,0,"England",1,0,"Kroatien",20,40,0,"England",2,1,"Spanien",20,80,0,"England",9,8,"Deutschland",20,80,0,"England",1,0,"Kroatien",20,40,0,"England",1,0,"Italien",20,40,0,"England",1,0,"Spanien",20,80,0,"England",2,1,"Italien",20,40,0,"England",2,1,"Schweiz",40,80,0,"England",2,1,"Schweiz",40,80,0,"England",2,1,"Spanien",20,80,0,"England",2,1,"Spanien",20,80,0]
["Halbfinale"]
["Di. 9. Jul","21:00:00",49,"Spanien","Frankreich",2,1,null,null,"Deutschland",2,1,"Portugal",{"$f":"IF(OR(J25=\"\",M25=\"\"),0,IF(AND(J25=$D25,M25=$E25),60,IF(J25=$D25,30,IF(M25=$E25,30,IF(AND(J25<>$D25,M25<>$E25),0)))))","v":0},{"$f":"IF(COUNTIF($D$25:$E$26,M25),80,0)+IF(COUNTIF($D$25:$E$26,J25),80,0)","v":0},{"$f":"IF(OR(J25=\"\",M25=\"\"),0,IF(AND(J25=$D25,M25=$E25,K25=$F25,L25=$G25),100,0))","v":0},"Schweiz",1,3,"Portugal",{"$f":"IF(OR(Q25=\"\",T25=\"\"),0,IF(AND(Q25=$D25,T25=$E25),60,IF(Q25=$D25,30,IF(T25=$E25,30,IF(AND(Q25<>$D25,T25<>$E25),0)))))","v":0},{"$f":"IF(COUNTIF($D$25:$E$26,T25),80,0)+IF(COUNTIF($D$25:$E$26,Q25),80,0)","v":0},{"$f":"IF(OR(Q25=\"\",T25=\"\"),0,IF(AND(Q25=$D25,T25=$E25,R25=$F25,S25=$G25),100,0))","v":0},"Italien",3,2,"Portugal",{"$f":"IF(OR(X25=\"\",AA25=\"\"),0,IF(AND(X25=$D25,AA25=$E25),60,IF(X25=$D25,30,IF(AA25=$E25,30,IF(AND(X25<>$D25,AA25<>$E25),0)))))","v":0},{"$f":"IF(COUNTIF($D$25:$E$26,AA25),80,0)+IF(COUNTIF($D$25:$E$26,X25),80,0)","v":0},{"$f":"IF(OR(X25=\"\",AA25=\"\"),0,IF(AND(X25=$D25,AA25=$E25,Y25=$F25,Z25=$G25),100,0))","v":0},"Spanien",1,0,"Holland",{"$f":"IF(OR(AE25=\"\",AH25=\"\"),0,IF(AND(AE25=$D25,AH25=$E25),60,IF(AE25=$D25,30,IF(AH25=$E25,30,IF(AND(AE25<>$D25,AH25<>$E25),0)))))","v":30},{"$f":"IF(COUNTIF($D$25:$E$26,AH25),80,0)+IF(COUNTIF($D$25:$E$26,AE25),80,0)","v":160},{"$f":"IF(OR(AE25=\"\",AH25=\"\"),0,IF(AND(AE25=$D25,AH25=$E25,AF25=$F25,AG25=$G25),100,0))","v":0},"Deutschland",1,3,"Frankreich",{"$f":"IF(OR(AL25=\"\",AO25=\"\"),0,IF(AND(AL25=$D25,AO25=$E25),60,IF(AL25=$D25,30,IF(AO25=$E25,30,IF(AND(AL25<>$D25,AO25<>$E25),0)))))","v":30},{"$f":"IF(COUNTIF($D$25:$E$26,AO25),80,0)+IF(COUNTIF($D$25:$E$26,AL25),80,0)","v":80},{"$f":"IF(OR(AL25=\"\",AO25=\"\"),0,IF(AND(AL25=$D25,AO25=$E25,AM25=$F25,AN25=$G25),100,0))","v":0},"Spanien",1,2,"Portugal",{"$f":"IF(OR(AS25=\"\",AV25=\"\"),0,IF(AND(AS25=$D25,AV25=$E25),60,IF(AS25=$D25,30,IF(AV25=$E25,30,IF(AND(AS25<>$D25,AV25<>$E25),0)))))","v":30},{"$f":"IF(COUNTIF($D$25:$E$26,AV25),80,0)+IF(COUNTIF($D$25:$E$26,AS25),80,0)","v":80},{"$f":"IF(OR(AS25=\"\",AV25=\"\"),0,IF(AND(AS25=$D25,AV25=$E25,AT25=$F25,AU25=$G25),100,0))","v":0},"Deutschland",1,2,"Portugal",{"$f":"IF(OR(AZ25=\"\",BC25=\"\"),0,IF(AND(AZ25=$D25,BC25=$E25),60,IF(AZ25=$D25,30,IF(BC25=$E25,30,IF(AND(AZ25<>$D25,BC25<>$E25),0)))))","v":0},{"$f":"IF(COUNTIF($D$25:$E$26,BC25),80,0)+IF(COUNTIF($D$25:$E$26,AZ25),80,0)","v":0},{"$f":"IF(OR(AZ25=\"\",BC25=\"\"),0,IF(AND(AZ25=$D25,BC25=$E25,BA25=$F25,BB25=$G25),100,0))","v":0},"Spanien",0,1,"Portugal",{"$f":"IF(OR(BG25=\"\",BJ25=\"\"),0,IF(AND(BG25=$D25,BJ25=$E25),60,IF(BG25=$D25,30,IF(BJ25=$E25,30,IF(AND(BG25<>$D25,BJ25<>$E25),0)))))","v":30},{"$f":"IF(COUNTIF($D$25:$E$26,BJ25),80,0)+IF(COUNTIF($D$25:$E$26,BG25),80,0)","v":80},{"$f":"IF(OR(BG25=\"\",BJ25=\"\"),0,IF(AND(BG25=$D25,BJ25=$E25,BH25=$F25,BI25=$G25),100,0))","v":0},"Deutschland",2,1,"Portugal",{"$f":"IF(OR(BN25=\"\",BQ25=\"\"),0,IF(AND(BN25=$D25,BQ25=$E25),60,IF(BN25=$D25,30,IF(BQ25=$E25,30,IF(AND(BN25<>$D25,BQ25<>$E25),0)))))","v":0},{"$f":"IF(COUNTIF($D$25:$E$26,BQ25),80,0)+IF(COUNTIF($D$25:$E$26,BN25),80,0)","v":0},{"$f":"IF(OR(BN25=\"\",BQ25=\"\"),0,IF(AND(BN25=$D25,BQ25=$E25,BO25=$F25,BP25=$G25),100,0))","v":0},"Deutschland",2,1,"Italien",{"$f":"IF(OR(BU25=\"\",BX25=\"\"),0,IF(AND(BU25=$D25,BX25=$E25),60,IF(BU25=$D25,30,IF(BX25=$E25,30,IF(AND(BU25<>$D25,BX25<>$E25),0)))))","v":0},{"$f":"IF(COUNTIF($D$25:$E$26,BX25),80,0)+IF(COUNTIF($D$25:$E$26,BU25),80,0)","v":0},{"$f":"IF(OR(BU25=\"\",BX25=\"\"),0,IF(AND(BU25=$D25,BX25=$E25,BV25=$F25,BW25=$G25),100,0))","v":0},"Deutschland",1,2,"Holland",{"$f":"IF(OR(CB25=\"\",CE25=\"\"),0,IF(AND(CB25=$D25,CE25=$E25),60,IF(CB25=$D25,30,IF(CE25=$E25,30,IF(AND(CB25<>$D25,CE25<>$E25),0)))))","v":0},{"$f":"IF(COUNTIF($D$25:$E$26,CE25),80,0)+IF(COUNTIF($D$25:$E$26,CB25),80,0)","v":80},{"$f":"IF(OR(CB25=\"\",CE25=\"\"),0,IF(AND(CB25=$D25,CE25=$E25,CC25=$F25,CD25=$G25),100,0))","v":0},"Spanien",5,4,"Portugal",{"$f":"IF(OR(CI25=\"\",CL25=\"\"),0,IF(AND(CI25=$D25,CL25=$E25),60,IF(CI25=$D25,30,IF(CL25=$E25,30,IF(AND(CI25<>$D25,CL25<>$E25),0)))))","v":30},{"$f":"IF(COUNTIF($D$25:$E$26,CL25),80,0)+IF(COUNTIF($D$25:$E$26,CI25),80,0)","v":80},{"$f":"IF(OR(CI25=\"\",CL25=\"\"),0,IF(AND(CI25=$D25,CL25=$E25,CJ25=$F25,CK25=$G25),100,0))","v":0},"Deutschland",0,1,"Holland",{"$f":"IF(OR(CP25=\"\",CS25=\"\"),0,IF(AND(CP25=$D25,CS25=$E25),60,IF(CP25=$D25,30,IF(CS25=$E25,30,IF(AND(CP25<>$D25,CS25<>$E25),0)))))","v":0},{"$f":"IF(COUNTIF($D$25:$E$26,CS25),80,0)+IF(COUNTIF($D$25:$E$26,CP25),80,0)","v":80},{"$f":"IF(OR(CP25=\"\",CS25=\"\"),0,IF(AND(CP25=$D25,CS25=$E25,CQ25=$F25,CR25=$G25),100,0))","v":0},"Deutschland",2,1,"Holland",{"$f":"IF(OR(CW25=\"\",CZ25=\"\"),0,IF(AND(CW25=$D25,CZ25=$E25),60,IF(CW25=$D25,30,IF(CZ25=$E25,30,IF(AND(CW25<>$D25,CZ25<>$E25),0)))))","v":0},{"$f":"IF(COUNTIF($D$25:$E$26,CZ25),80,0)+IF(COUNTIF($D$25:$E$26,CW25),80,0)","v":80},{"$f":"IF(OR(CW25=\"\",CZ25=\"\"),0,IF(AND(CW25=$D25,CZ25=$E25,CX25=$F25,CY25=$G25),100,0))","v":0},"Deutschland",1,2,"Frankreich",{"$f":"IF(OR(DD25=\"\",DG25=\"\"),0,IF(AND(DD25=$D25,DG25=$E25),60,IF(DD25=$D25,30,IF(DG25=$E25,30,IF(AND(DD25<>$D25,DG25<>$E25),0)))))","v":30},{"$f":"IF(COUNTIF($D$25:$E$26,DG25),80,0)+IF(COUNTIF($D$25:$E$26,DD25),80,0)","v":80},{"$f":"IF(OR(DD25=\"\",DG25=\"\"),0,IF(AND(DD25=$D25,DG25=$E25,DE25=$F25,DF25=$G25),100,0))","v":0},"Deutschland",2,1,"Türkei",{"$f":"IF(OR(DK25=\"\",DN25=\"\"),0,IF(AND(DK25=$D25,DN25=$E25),60,IF(DK25=$D25,30,IF(DN25=$E25,30,IF(AND(DK25<>$D25,DN25<>$E25),0)))))","v":0},{"$f":"IF(COUNTIF($D$25:$E$26,DN25),80,0)+IF(COUNTIF($D$25:$E$26,DK25),80,0)","v":0},{"$f":"IF(OR(DK25=\"\",DN25=\"\"),0,IF(AND(DK25=$D25,DN25=$E25,DL25=$F25,DM25=$G25),100,0))","v":0},"Deutschland",2,1,"Türkei",{"$f":"IF(OR(DR25=\"\",DU25=\"\"),0,IF(AND(DR25=$D25,DU25=$E25),60,IF(DR25=$D25,30,IF(DU25=$E25,30,IF(AND(DR25<>$D25,DU25<>$E25),0)))))","v":0},{"$f":"IF(COUNTIF($D$25:$E$26,DU25),80,0)+IF(COUNTIF($D$25:$E$26,DR25),80,0)","v":0},{"$f":"IF(OR(DR25=\"\",DU25=\"\"),0,IF(AND(DR25=$D25,DU25=$E25,DS25=$F25,DT25=$G25),100,0))","v":0},"Deutschland",2,1,"Portugal",{"$f":"IF(OR(DY25=\"\",EB25=\"\"),0,IF(AND(DY25=$D25,EB25=$E25),60,IF(DY25=$D25,30,IF(EB25=$E25,30,IF(AND(DY25<>$D25,EB25<>$E25),0)))))","v":0},{"$f":"IF(COUNTIF($D$25:$E$26,EB25),80,0)+IF(COUNTIF($D$25:$E$26,DY25),80,0)","v":0},{"$f":"IF(OR(DY25=\"\",EB25=\"\"),0,IF(AND(DY25=$D25,EB25=$E25,DZ25=$F25,EA25=$G25),100,0))","v":0},"Kroatien",2,1,"Portugal",{"$f":"IF(OR(EF25=\"\",EI25=\"\"),0,IF(AND(EF25=$D25,EI25=$E25),60,IF(EF25=$D25,30,IF(EI25=$E25,30,IF(AND(EF25<>$D25,EI25<>$E25),0)))))","v":0},{"$f":"IF(COUNTIF($D$25:$E$26,EI25),80,0)+IF(COUNTIF($D$25:$E$26,EF25),80,0)","v":0},{"$f":"IF(OR(EF25=\"\",EI25=\"\"),0,IF(AND(EF25=$D25,EI25=$E25,EG25=$F25,EH25=$G25),100,0))","v":0},"Deutschland",1,2,"Portugal",{"$f":"IF(OR(EM25=\"\",EP25=\"\"),0,IF(AND(EM25=$D25,EP25=$E25),60,IF(EM25=$D25,30,IF(EP25=$E25,30,IF(AND(EM25<>$D25,EP25<>$E25),0)))))","v":0},{"$f":"IF(COUNTIF($D$25:$E$26,EP25),80,0)+IF(COUNTIF($D$25:$E$26,EM25),80,0)","v":0},{"$f":"IF(OR(EM25=\"\",EP25=\"\"),0,IF(AND(EM25=$D25,EP25=$E25,EN25=$F25,EO25=$G25),100,0))","v":0}]
["Mi. 10. Jul","21:00:00",50,"Holland","England",1,2,null,null,"Frankreich",1,2,"England",{"$f":"IF(OR(J26=\"\",M26=\"\"),0,IF(AND(J26=$D26,M26=$E26),60,IF(J26=$D26,30,IF(M26=$E26,30,IF(AND(J26<>$D26,M26<>$E26),0)))))","v":30},{"$f":"IF(COUNTIF($D$25:$E$26,M26),80,0)+IF(COUNTIF($D$25:$E$26,J26),80,0)","v":160},{"$f":"IF(OR(J26=\"\",M26=\"\"),0,IF(AND(J26=$D26,M26=$E26,K26=$F26,L26=$G26),100,0))","v":0},"Frankreich",0,2,"Italien",{"$f":"IF(OR(Q26=\"\",T26=\"\"),0,IF(AND(Q26=$D26,T26=$E26),60,IF(Q26=$D26,30,IF(T26=$E26,30,IF(AND(Q26<>$D26,T26<>$E26),0)))))","v":0},{"$f":"IF(COUNTIF($D$25:$E$26,T26),80,0)+IF(COUNTIF($D$25:$E$26,Q26),80,0)","v":80},{"$f":"IF(OR(Q26=\"\",T26=\"\"),0,IF(AND(Q26=$D26,T26=$E26,R26=$F26,S26=$G26),100,0))","v":0},"Frankreich",2,1,"Kroatien",{"$f":"IF(OR(X26=\"\",AA26=\"\"),0,IF(AND(X26=$D26,AA26=$E26),60,IF(X26=$D26,30,IF(AA26=$E26,30,IF(AND(X26<>$D26,AA26<>$E26),0)))))","v":0},{"$f":"IF(COUNTIF($D$25:$E$26,AA26),80,0)+IF(COUNTIF($D$25:$E$26,X26),80,0)","v":80},{"$f":"IF(OR(X26=\"\",AA26=\"\"),0,IF(AND(X26=$D26,AA26=$E26,Y26=$F26,Z26=$G26),100,0))","v":0},"Frankreich",0,2,"England",{"$f":"IF(OR(AE26=\"\",AH26=\"\"),0,IF(AND(AE26=$D26,AH26=$E26),60,IF(AE26=$D26,30,IF(AH26=$E26,30,IF(AND(AE26<>$D26,AH26<>$E26),0)))))","v":30},{"$f":"IF(COUNTIF($D$25:$E$26,AH26),80,0)+IF(COUNTIF($D$25:$E$26,AE26),80,0)","v":160},{"$f":"IF(OR(AE26=\"\",AH26=\"\"),0,IF(AND(AE26=$D26,AH26=$E26,AF26=$F26,AG26=$G26),100,0))","v":0},"Holland",1,2,"England",{"$f":"IF(OR(AL26=\"\",AO26=\"\"),0,IF(AND(AL26=$D26,AO26=$E26),60,IF(AL26=$D26,30,IF(AO26=$E26,30,IF(AND(AL26<>$D26,AO26<>$E26),0)))))","v":60},{"$f":"IF(COUNTIF($D$25:$E$26,AO26),80,0)+IF(COUNTIF($D$25:$E$26,AL26),80,0)","v":160},{"$f":"IF(OR(AL26=\"\",AO26=\"\"),0,IF(AND(AL26=$D26,AO26=$E26,AM26=$F26,AN26=$G26),100,0))","v":100},"Frankreich",1,0,"England",{"$f":"IF(OR(AS26=\"\",AV26=\"\"),0,IF(AND(AS26=$D26,AV26=$E26),60,IF(AS26=$D26,30,IF(AV26=$E26,30,IF(AND(AS26<>$D26,AV26<>$E26),0)))))","v":30},{"$f":"IF(COUNTIF($D$25:$E$26,AV26),80,0)+IF(COUNTIF($D$25:$E$26,AS26),80,0)","v":160},{"$f":"IF(OR(AS26=\"\",AV26=\"\"),0,IF(AND(AS26=$D26,AV26=$E26,AT26=$F26,AU26=$G26),100,0))","v":0},"Belgien",4,5,"Schweiz",{"$f":"IF(OR(AZ26=\"\",BC26=\"\"),0,IF(AND(AZ26=$D26,BC26=$E26),60,IF(AZ26=$D26,30,IF(BC26=$E26,30,IF(AND(AZ26<>$D26,BC26<>$E26),0)))))","v":0},{"$f":"IF(COUNTIF($D$25:$E$26,BC26),80,0)+IF(COUNTIF($D$25:$E$26,AZ26),80,0)","v":0},{"$f":"IF(OR(AZ26=\"\",BC26=\"\"),0,IF(AND(AZ26=$D26,BC26=$E26,BA26=$F26,BB26=$G26),100,0))","v":0},"Frankreich",2,1,"England",{"$f":"IF(OR(BG26=\"\",BJ26=\"\"),0,IF(AND(BG26=$D26,BJ26=$E26),60,IF(BG26=$D26,30,IF(BJ26=$E26,30,IF(AND(BG26<>$D26,BJ26<>$E26),0)))))","v":30},{"$f":"IF(COUNTIF($D$25:$E$26,BJ26),80,0)+IF(COUNTIF($D$25:$E$26,BG26),80,0)","v":160},{"$f":"IF(OR(BG26=\"\",BJ26=\"\"),0,IF(AND(BG26=$D26,BJ26=$E26,BH26=$F26,BI26=$G26),100,0))","v":0},"Frankreich",2,1,"England",{"$f":"IF(OR(BN26=\"\",BQ26=\"\"),0,IF(AND(BN26=$D26,BQ26=$E26),60,IF(BN26=$D26,30,IF(BQ26=$E26,30,IF(AND(BN26<>$D26,BQ26<>$E26),0)))))","v":30},{"$f":"IF(COUNTIF($D$25:$E$26,BQ26),80,0)+IF(COUNTIF($D$25:$E$26,BN26),80,0)","v":160},{"$f":"IF(OR(BN26=\"\",BQ26=\"\"),0,IF(AND(BN26=$D26,BQ26=$E26,BO26=$F26,BP26=$G26),100,0))","v":0},"Frankreich",1,2,"England",{"$f":"IF(OR(BU26=\"\",BX26=\"\"),0,IF(AND(BU26=$D26,BX26=$E26),60,IF(BU26=$D26,30,IF(BX26=$E26,30,IF(AND(BU26<>$D26,BX26<>$E26),0)))))","v":30},{"$f":"IF(COUNTIF($D$25:$E$26,BX26),80,0)+IF(COUNTIF($D$25:$E$26,BU26),80,0)","v":160},{"$f":"IF(OR(BU26=\"\",BX26=\"\"),0,IF(AND(BU26=$D26,BX26=$E26,BV26=$F26,BW26=$G26),100,0))","v":0},"Frankreich",2,1,"England",{"$f":"IF(OR(CB26=\"\",CE26=\"\"),0,IF(AND(CB26=$D26,CE26=$E26),60,IF(CB26=$D26,30,IF(CE26=$E26,30,IF(AND(CB26<>$D26,CE26<>$E26),0)))))","v":30},{"$f":"IF(COUNTIF($D$25:$E$26,CE26),80,0)+IF(COUNTIF($D$25:$E$26,CB26),80,0)","v":160},{"$f":"IF(OR(CB26=\"\",CE26=\"\"),0,IF(AND(CB26=$D26,CE26=$E26,CC26=$F26,CD26=$G26),100,0))","v":0},"Frankreich",4,3,"England",{"$f":"IF(OR(CI26=\"\",CL26=\"\"),0,IF(AND(CI26=$D26,CL26=$E26),60,IF(CI26=$D26,30,IF(CL26=$E26,30,IF(AND(CI26<>$D26,CL26<>$E26),0)))))","v":30},{"$f":"IF(COUNTIF($D$25:$E$26,CL26),80,0)+IF(COUNTIF($D$25:$E$26,CI26),80,0)","v":160},{"$f":"IF(OR(CI26=\"\",CL26=\"\"),0,IF(AND(CI26=$D26,CL26=$E26,CJ26=$F26,CK26=$G26),100,0))","v":0},"Belgien",1,0,"England",{"$f":"IF(OR(CP26=\"\",CS26=\"\"),0,IF(AND(CP26=$D26,CS26=$E26),60,IF(CP26=$D26,30,IF(CS26=$E26,30,IF(AND(CP26<>$D26,CS26<>$E26),0)))))","v":30},{"$f":"IF(COUNTIF($D$25:$E$26,CS26),80,0)+IF(COUNTIF($D$25:$E$26,CP26),80,0)","v":80},{"$f":"IF(OR(CP26=\"\",CS26=\"\"),0,IF(AND(CP26=$D26,CS26=$E26,CQ26=$F26,CR26=$G26),100,0))","v":0},"Frankreich",2,1,"England",{"$f":"IF(OR(CW26=\"\",CZ26=\"\"),0,IF(AND(CW26=$D26,CZ26=$E26),60,IF(CW26=$D26,30,IF(CZ26=$E26,30,IF(AND(CW26<>$D26,CZ26<>$E26),0)))))","v":30},{"$f":"IF(COUNTIF($D$25:$E$26,CZ26),80,0)+IF(COUNTIF($D$25:$E$26,CW26),80,0)","v":160},{"$f":"IF(OR(CW26=\"\",CZ26=\"\"),0,IF(AND(CW26=$D26,CZ26=$E26,CX26=$F26,CY26=$G26),100,0))","v":0},"Holland",1,3,"England",{"$f":"IF(OR(DD26=\"\",DG26=\"\"),0,IF(AND(DD26=$D26,DG26=$E26),60,IF(DD26=$D26,30,IF(DG26=$E26,30,IF(AND(DD26<>$D26,DG26<>$E26),0)))))","v":60},{"$f":"IF(COUNTIF($D$25:$E$26,DG26),80,0)+IF(COUNTIF($D$25:$E$26,DD26),80,0)","v":160},{"$f":"IF(OR(DD26=\"\",DG26=\"\"),0,IF(AND(DD26=$D26,DG26=$E26,DE26=$F26,DF26=$G26),100,0))","v":0},"Frankreich",1,2,"England",{"$f":"IF(OR(DK26=\"\",DN26=\"\"),0,IF(AND(DK26=$D26,DN26=$E26),60,IF(DK26=$D26,30,IF(DN26=$E26,30,IF(AND(DK26<>$D26,DN26<>$E26),0)))))","v":30},{"$f":"IF(COUNTIF($D$25:$E$26,DN26),80,0)+IF(COUNTIF($D$25:$E$26,DK26),80,0)","v":160},{"$f":"IF(OR(DK26=\"\",DN26=\"\"),0,IF(AND(DK26=$D26,DN26=$E26,DL26=$F26,DM26=$G26),100,0))","v":0},"Frankreich",2,1,"England",{"$f":"IF(OR(DR26=\"\",DU26=\"\"),0,IF(AND(DR26=$D26,DU26=$E26),60,IF(DR26=$D26,30,IF(DU26=$E26,30,IF(AND(DR26<>$D26,DU26<>$E26),0)))))","v":30},{"$f":"IF(COUNTIF($D$25:$E$26,DU26),80,0)+IF(COUNTIF($D$25:$E$26,DR26),80,0)","v":160},{"$f":"IF(OR(DR26=\"\",DU26=\"\"),0,IF(AND(DR26=$D26,DU26=$E26,DS26=$F26,DT26=$G26),100,0))","v":0},"Frankreich",1,2,"England",{"$f":"IF(OR(DY26=\"\",EB26=\"\"),0,IF(AND(DY26=$D26,EB26=$E26),60,IF(DY26=$D26,30,IF(EB26=$E26,30,IF(AND(DY26<>$D26,EB26<>$E26),0)))))","v":30},{"$f":"IF(COUNTIF($D$25:$E$26,EB26),80,0)+IF(COUNTIF($D$25:$E$26,DY26),80,0)","v":160},{"$f":"IF(OR(DY26=\"\",EB26=\"\"),0,IF(AND(DY26=$D26,EB26=$E26,DZ26=$F26,EA26=$G26),100,0))","v":0},"Frankreich",1,0,"England",{"$f":"IF(OR(EF26=\"\",EI26=\"\"),0,IF(AND(EF26=$D26,EI26=$E26),60,IF(EF26=$D26,30,IF(EI26=$E26,30,IF(AND(EF26<>$D26,EI26<>$E26),0)))))","v":30},{"$f":"IF(COUNTIF($D$25:$E$26,EI26),80,0)+IF(COUNTIF($D$25:$E$26,EF26),80,0)","v":160},{"$f":"IF(OR(EF26=\"\",EI26=\"\"),0,IF(AND(EF26=$D26,EI26=$E26,EG26=$F26,EH26=$G26),100,0))","v":0},"Frankreich",2,1,"England",{"$f":"IF(OR(EM26=\"\",EP26=\"\"),0,IF(AND(EM26=$D26,EP26=$E26),60,IF(EM26=$D26,30,IF(EP26=$E26,30,IF(AND(EM26<>$D26,EP26<>$E26),0)))))","v":30},{"$f":"IF(COUNTIF($D$25:$E$26,EP26),80,0)+IF(COUNTIF($D$25:$E$26,EM26),80,0)","v":160},{"$f":"IF(OR(EM26=\"\",EP26=\"\"),0,IF(AND(EM26=$D26,EP26=$E26,EN26=$F26,EO26=$G26),100,0))","v":0}]
["Endspiel"]
["So. 14. Jul","21:00:00",51,"Spanien","England",2,1,null,null,"Deutschland",1,2,"England",{"$f":"IF(OR(J28=\"\",M28=\"\"),0,IF(AND(J28=$D28,M28=$E28),100,IF(J28=$D28,50,IF(M28=$E28,50,IF(AND(J28<>$D28,M28<>$E28),0)))))","v":50},{"$f":"IF(COUNTIF($D$28:$E$28,M28),100,0)+IF(COUNTIF($D$28:$E$28,J28),100,0)","v":100},{"$f":"IF(OR(J28=\"\",M28=\"\"),0,IF(AND(J28=$D28,M28=$E28,K28=$F28,L28=$G28),200,0))","v":0},"Portugal",1,3,"Italien",{"$f":"IF(OR(Q28=\"\",T28=\"\"),0,IF(AND(Q28=$D28,T28=$E28),100,IF(Q28=$D28,50,IF(T28=$E28,50,IF(AND(Q28<>$D28,T28<>$E28),0)))))","v":0},{"$f":"IF(COUNTIF($D$28:$E$28,T28),100,0)+IF(COUNTIF($D$28:$E$28,Q28),100,0)","v":0},{"$f":"IF(OR(Q28=\"\",T28=\"\"),0,IF(AND(Q28=$D28,T28=$E28,R28=$F28,S28=$G28),200,0))","v":0},"Italien",1,0,"Frankreich",{"$f":"IF(OR(X28=\"\",AA28=\"\"),0,IF(AND(X28=$D28,AA28=$E28),100,IF(X28=$D28,50,IF(AA28=$E28,50,IF(AND(X28<>$D28,AA28<>$E28),0)))))","v":0},{"$f":"IF(COUNTIF($D$28:$E$28,AA28),100,0)+IF(COUNTIF($D$28:$E$28,X28),100,0)","v":0},{"$f":"IF(OR(X28=\"\",AA28=\"\"),0,IF(AND(X28=$D28,AA28=$E28,Y28=$F28,Z28=$G28),200,0))","v":0},"Spanien",2,1,"England",{"$f":"IF(OR(AE28=\"\",AH28=\"\"),0,IF(AND(AE28=$D28,AH28=$E28),100,IF(AE28=$D28,50,IF(AH28=$E28,50,IF(AND(AE28<>$D28,AH28<>$E28),0)))))","v":100},{"$f":"IF(COUNTIF($D$28:$E$28,AH28),100,0)+IF(COUNTIF($D$28:$E$28,AE28),100,0)","v":200},{"$f":"IF(OR(AE28=\"\",AH28=\"\"),0,IF(AND(AE28=$D28,AH28=$E28,AF28=$F28,AG28=$G28),200,0))","v":200},"Frankreich",2,0,"England",{"$f":"IF(OR(AL28=\"\",AO28=\"\"),0,IF(AND(AL28=$D28,AO28=$E28),100,IF(AL28=$D28,50,IF(AO28=$E28,50,IF(AND(AL28<>$D28,AO28<>$E28),0)))))","v":50},{"$f":"IF(COUNTIF($D$28:$E$28,AO28),100,0)+IF(COUNTIF($D$28:$E$28,AL28),100,0)","v":100},{"$f":"IF(OR(AL28=\"\",AO28=\"\"),0,IF(AND(AL28=$D28,AO28=$E28,AM28=$F28,AN28=$G28),200,0))","v":0},"Portugal",1,2,"Frankreich",{"$f":"IF(OR(AS28=\"\",AV28=\"\"),0,IF(AND(AS28=$D28,AV28=$E28),100,IF(AS28=$D28,50,IF(AV28=$E28,50,IF(AND(AS28<>$D28,AV28<>$E28),0)))))","v":0},{"$f":"IF(COUNTIF($D$28:$E$28,AV28),100,0)+IF(COUNTIF($D$28:$E$28,AS28),100,0)","v":0},{"$f":"IF(OR(AS28=\"\",AV28=\"\"),0,IF(AND(AS28=$D28,AV28=$E28,AT28=$F28,AU28=$G28),200,0))","v":0},"Portugal",0,1,"Schweiz",{"$f":"IF(OR(AZ28=\"\",BC28=\"\"),0,IF(AND(AZ28=$D28,BC28=$E28),100,IF(AZ28=$D28,50,IF(BC28=$E28,50,IF(AND(AZ28<>$D28,BC28<>$E28),0)))))","v":0},{"$f":"IF(COUNTIF($D$28:$E$28,BC28),100,0)+IF(COUNTIF($D$28:$E$28,AZ28),100,0)","v":0},{"$f":"IF(OR(AZ28=\"\",BC28=\"\"),0,IF(AND(AZ28=$D28,BC28=$E28,BA28=$F28,BB28=$G28),200,0))","v":0},"Portugal",1,2,"Frankreich",{"$f":"IF(OR(BG28=\"\",BJ28=\"\"),0,IF(AND(BG28=$D28,BJ28=$E28),100,IF(BG28=$D28,50,IF(BJ28=$E28,50,IF(AND(BG28<>$D28,BJ28<>$E28),0)))))","v":0},{"$f":"IF(COUNTIF($D$28:$E$28,BJ28),100,0)+IF(COUNTIF($D$28:$E$28,BG28),100,0)","v":0},{"$f":"IF(OR(BG28=\"\",BJ28=\"\"),0,IF(AND(BG28=$D28,BJ28=$E28,BH28=$F28,BI28=$G28),200,0))","v":0},"Deutschland",1,2,"Frankreich",{"$f":"IF(OR(BN28=\"\",BQ28=\"\"),0,IF(AND(BN28=$D28,BQ28=$E28),100,IF(BN28=$D28,50,IF(BQ28=$E28,50,IF(AND(BN28<>$D28,BQ28<>$E28),0)))))","v":0},{"$f":"IF(COUNTIF($D$28:$E$28,BQ28),100,0)+IF(COUNTIF($D$28:$E$28,BN28),100,0)","v":0},{"$f":"IF(OR(BN28=\"\",BQ28=\"\"),0,IF(AND(BN28=$D28,BQ28=$E28,BO28=$F28,BP28=$G28),200,0))","v":0},"Deutschland",1,2,"England",{"$f":"IF(OR(BU28=\"\",BX28=\"\"),0,IF(AND(BU28=$D28,BX28=$E28),100,IF(BU28=$D28,50,IF(BX28=$E28,50,IF(AND(BU28<>$D28,BX28<>$E28),0)))))","v":50},{"$f":"IF(COUNTIF($D$28:$E$28,BX28),100,0)+IF(COUNTIF($D$28:$E$28,BU28),100,0)","v":100},{"$f":"IF(OR(BU28=\"\",BX28=\"\"),0,IF(AND(BU28=$D28,BX28=$E28,BV28=$F28,BW28=$G28),200,0))","v":0},"Holland",1,2,"Frankreich",{"$f":"IF(OR(CB28=\"\",CE28=\"\"),0,IF(AND(CB28=$D28,CE28=$E28),100,IF(CB28=$D28,50,IF(CE28=$E28,50,IF(AND(CB28<>$D28,CE28<>$E28),0)))))","v":0},{"$f":"IF(COUNTIF($D$28:$E$28,CE28),100,0)+IF(COUNTIF($D$28:$E$28,CB28),100,0)","v":0},{"$f":"IF(OR(CB28=\"\",CE28=\"\"),0,IF(AND(CB28=$D28,CE28=$E28,CC28=$F28,CD28=$G28),200,0))","v":0},"Spanien",3,4,"Frankreich",{"$f":"IF(OR(CI28=\"\",CL28=\"\"),0,IF(AND(CI28=$D28,CL28=$E28),100,IF(CI28=$D28,50,IF(CL28=$E28,50,IF(AND(CI28<>$D28,CL28<>$E28),0)))))","v":50},{"$f":"IF(COUNTIF($D$28:$E$28,CL28),100,0)+IF(COUNTIF($D$28:$E$28,CI28),100,0)","v":100},{"$f":"IF(OR(CI28=\"\",CL28=\"\"),0,IF(AND(CI28=$D28,CL28=$E28,CJ28=$F28,CK28=$G28),200,0))","v":0},"Holland",0,1,"Belgien",{"$f":"IF(OR(CP28=\"\",CS28=\"\"),0,IF(AND(CP28=$D28,CS28=$E28),100,IF(CP28=$D28,50,IF(CS28=$E28,50,IF(AND(CP28<>$D28,CS28<>$E28),0)))))","v":0},{"$f":"IF(COUNTIF($D$28:$E$28,CS28),100,0)+IF(COUNTIF($D$28:$E$28,CP28),100,0)","v":0},{"$f":"IF(OR(CP28=\"\",CS28=\"\"),0,IF(AND(CP28=$D28,CS28=$E28,CQ28=$F28,CR28=$G28),200,0))","v":0},"Deutschland",1,0,"Frankreich",{"$f":"IF(OR(CW28=\"\",CZ28=\"\"),0,IF(AND(CW28=$D28,CZ28=$E28),100,IF(CW28=$D28,50,IF(CZ28=$E28,50,IF(AND(CW28<>$D28,CZ28<>$E28),0)))))","v":0},{"$f":"IF(COUNTIF($D$28:$E$28,CZ28),100,0)+IF(COUNTIF($D$28:$E$28,CW28),100,0)","v":0},{"$f":"IF(OR(CW28=\"\",CZ28=\"\"),0,IF(AND(CW28=$D28,CZ28=$E28,CX28=$F28,CY28=$G28),200,0))","v":0},"Frankreich",2,1,"England",{"$f":"IF(OR(DD28=\"\",DG28=\"\"),0,IF(AND(DD28=$D28,DG28=$E28),100,IF(DD28=$D28,50,IF(DG28=$E28,50,IF(AND(DD28<>$D28,DG28<>$E28),0)))))","v":50},{"$f":"IF(COUNTIF($D$28:$E$28,DG28),100,0)+IF(COUNTIF($D$28:$E$28,DD28),100,0)","v":100},{"$f":"IF(OR(DD28=\"\",DG28=\"\"),0,IF(AND(DD28=$D28,DG28=$E28,DE28=$F28,DF28=$G28),200,0))","v":0},"Deutschland",1,0,"England",{"$f":"IF(OR(DK28=\"\",DN28=\"\"),0,IF(AND(DK28=$D28,DN28=$E28),100,IF(DK28=$D28,50,IF(DN28=$E28,50,IF(AND(DK28<>$D28,DN28<>$E28),0)))))","v":50},{"$f":"IF(COUNTIF($D$28:$E$28,DN28),100,0)+IF(COUNTIF($D$28:$E$28,DK28),100,0)","v":100},{"$f":"IF(OR(DK28=\"\",DN28=\"\"),0,IF(AND(DK28=$D28,DN28=$E28,DL28=$F28,DM28=$G28),200,0))","v":0},"Deutschland",1,3,"Frankreich",{"$f":"IF(OR(DR28=\"\",DU28=\"\"),0,IF(AND(DR28=$D28,DU28=$E28),100,IF(DR28=$D28,50,IF(DU28=$E28,50,IF(AND(DR28<>$D28,DU28<>$E28),0)))))","v":0},{"$f":"IF(COUNTIF($D$28:$E$28,DU28),100,0)+IF(COUNTIF($D$28:$E$28,DR28),100,0)","v":0},{"$f":"IF(OR(DR28=\"\",DU28=\"\"),0,IF(AND(DR28=$D28,DU28=$E28,DS28=$F28,DT28=$G28),200,0))","v":0},"Deutschland",1,2,"England",{"$f":"IF(OR(DY28=\"\",EB28=\"\"),0,IF(AND(DY28=$D28,EB28=$E28),100,IF(DY28=$D28,50,IF(EB28=$E28,50,IF(AND(DY28<>$D28,EB28<>$E28),0)))))","v":50},{"$f":"IF(COUNTIF($D$28:$E$28,EB28),100,0)+IF(COUNTIF($D$28:$E$28,DY28),100,0)","v":100},{"$f":"IF(OR(DY28=\"\",EB28=\"\"),0,IF(AND(DY28=$D28,EB28=$E28,DZ28=$F28,EA28=$G28),200,0))","v":0},"Kroatien",1,2,"Frankreich",{"$f":"IF(OR(EF28=\"\",EI28=\"\"),0,IF(AND(EF28=$D28,EI28=$E28),100,IF(EF28=$D28,50,IF(EI28=$E28,50,IF(AND(EF28<>$D28,EI28<>$E28),0)))))","v":0},{"$f":"IF(COUNTIF($D$28:$E$28,EI28),100,0)+IF(COUNTIF($D$28:$E$28,EF28),100,0)","v":0},{"$f":"IF(OR(EF28=\"\",EI28=\"\"),0,IF(AND(EF28=$D28,EI28=$E28,EG28=$F28,EH28=$G28),200,0))","v":0},"Portugal",1,0,"Frankreich",{"$f":"IF(OR(EM28=\"\",EP28=\"\"),0,IF(AND(EM28=$D28,EP28=$E28),100,IF(EM28=$D28,50,IF(EP28=$E28,50,IF(AND(EM28<>$D28,EP28<>$E28),0)))))","v":0},{"$f":"IF(COUNTIF($D$28:$E$28,EP28),100,0)+IF(COUNTIF($D$28:$E$28,EM28),100,0)","v":0},{"$f":"IF(OR(EM28=\"\",EP28=\"\"),0,IF(AND(EM28=$D28,EP28=$E28,EN28=$F28,EO28=$G28),200,0))","v":0}]
["Europameister"]
[null,null,null,{"$f":"IF(F28=G28,\"???\",IF(F28>G28,D28,E28))","v":"Spanien"},null,null,null,null,null,"Europameister:",null,null,{"$f":"IF(K28=L28,\"\",IF(K28>L28,J28,M28))","v":"England"},null,null,{"$f":"IF(OR(M30=\"\"),0,IF(M30=$D30,300,0))","v":0},"Europameister:",null,null,{"$f":"IF(R28=S28,\"\",IF(R28>S28,Q28,T28))","v":"Italien"},null,null,{"$f":"IF(OR(T30=\"\"),0,IF(T30=$D30,300,0))","v":0},"Europameister:",null,null,{"$f":"IF(Y28=Z28,\"\",IF(Y28>Z28,X28,AA28))","v":"Italien"},null,null,{"$f":"IF(OR(AA30=\"\"),0,IF(AA30=$D30,300,0))","v":0},"Europameister:",null,null,{"$f":"IF(AF28=AG28,\"\",IF(AF28>AG28,AE28,AH28))","v":"Spanien"},null,null,{"$f":"IF(OR(AH30=\"\"),0,IF(AH30=$D30,300,0))","v":300},"Europameister:",null,null,{"$f":"IF(AM28=AN28,\"\",IF(AM28>AN28,AL28,AO28))","v":"Frankreich"},null,null,{"$f":"IF(OR(AO30=\"\"),0,IF(AO30=$D30,300,0))","v":0},"Europameister:",null,null,{"$f":"IF(AT28=AU28,\"\",IF(AT28>AU28,AS28,AV28))","v":"Frankreich"},null,null,{"$f":"IF(OR(AV30=\"\"),0,IF(AV30=$D30,300,0))","v":0},"Europameister:",null,null,{"$f":"IF(BA28=BB28,\"\",IF(BA28>BB28,AZ28,BC28))","v":"Schweiz"},null,null,{"$f":"IF(OR(BC30=\"\"),0,IF(BC30=$D30,300,0))","v":0},"Europameister:",null,null,{"$f":"IF(BH28=BI28,\"\",IF(BH28>BI28,BG28,BJ28))","v":"Frankreich"},null,null,{"$f":"IF(OR(BJ30=\"\"),0,IF(BJ30=$D30,300,0))","v":0},"Europameister:",null,null,{"$f":"IF(BO28=BP28,\"\",IF(BO28>BP28,BN28,BQ28))","v":"Frankreich"},null,null,{"$f":"IF(OR(BQ30=\"\"),0,IF(BQ30=$D30,300,0))","v":0},"Europameister:",null,null,{"$f":"IF(BV28=BW28,\"\",IF(BV28>BW28,BU28,BX28))","v":"England"},null,null,{"$f":"IF(OR(BX30=\"\"),0,IF(BX30=$D30,300,0))","v":0},"Europameister:",null,null,{"$f":"IF(CC28=CD28,\"\",IF(CC28>CD28,CB28,CE28))","v":"Frankreich"},null,null,{"$f":"IF(OR(CE30=\"\"),0,IF(CE30=$D30,300,0))","v":0},"Europameister:",null,null,{"$f":"IF(CJ28=CK28,\"\",IF(CJ28>CK28,CI28,CL28))","v":"Frankreich"},null,null,{"$f":"IF(OR(CL30=\"\"),0,IF(CL30=$D30,300,0))","v":0},"Europameister:",null,null,{"$f":"IF(CQ28=CR28,\"\",IF(CQ28>CR28,CP28,CS28))","v":"Belgien"},null,null,{"$f":"IF(OR(CS30=\"\"),0,IF(CS30=$D30,300,0))","v":0},"Europameister:",null,null,{"$f":"IF(CX28=CY28,\"\",IF(CX28>CY28,CW28,CZ28))","v":"Deutschland"},null,null,{"$f":"IF(OR(CZ30=\"\"),0,IF(CZ30=$D30,300,0))","v":0},"Europameister:",null,null,{"$f":"IF(DE28=DF28,\"\",IF(DE28>DF28,DD28,DG28))","v":"Frankreich"},null,null,{"$f":"IF(OR(DG30=\"\"),0,IF(DG30=$D30,300,0))","v":0},"Europameister:",null,null,{"$f":"IF(DL28=DM28,\"\",IF(DL28>DM28,DK28,DN28))","v":"Deutschland"},null,null,{"$f":"IF(OR(DN30=\"\"),0,IF(DN30=$D30,300,0))","v":0},"Europameister:",null,null,{"$f":"IF(DS28=DT28,\"\",IF(DS28>DT28,DR28,DU28))","v":"Frankreich"},null,null,{"$f":"IF(OR(DU30=\"\"),0,IF(DU30=$D30,300,0))","v":0},"Europameister:",null,null,{"$f":"IF(DZ28=EA28,\"\",IF(DZ28>EA28,DY28,EB28))","v":"England"},null,null,{"$f":"IF(OR(EB30=\"\"),0,IF(EB30=$D30,300,0))","v":0},"Europameister:",null,null,{"$f":"IF(EG28=EH28,\"\",IF(EG28>EH28,EF28,EI28))","v":"Frankreich"},null,null,{"$f":"IF(OR(EI30=\"\"),0,IF(EI30=$D30,300,0))","v":0},"Europameister:",null,null,{"$f":"IF(EN28=EO28,\"\",IF(EN28>EO28,EM28,EP28))","v":"Portugal"},null,null,{"$f":"IF(OR(EP30=\"\"),0,IF(EP30=$D30,300,0))","v":0}]
[null,null,null,null,null,null,null,null,null,{"$f":"Teilnehmerliste!$C6","v":"Panos"},null,null,{"$f":"IF(K28>L28,J28,M28)","v":"England"},{"$f":"SUM(N11:P30)","v":950},null,null,{"$f":"Teilnehmerliste!$C7","v":"Marco"},null,null,null,{"$f":"SUM(U11:W30)","v":590},null,null,{"$f":"Teilnehmerliste!$C8","v":"Ruben"},null,null,null,{"$f":"SUM(AB11:AD30)","v":680},null,null,{"$f":"Teilnehmerliste!$C9","v":"Andi"},null,null,null,{"$f":"SUM(AI11:AK30)","v":1870},null,null,{"$f":"Teilnehmerliste!$C10","v":"Nott"},null,null,null,{"$f":"SUM(AP11:AR30)","v":1300},null,null,{"$f":"Teilnehmerliste!$C11","v":"Philippe"},null,null,null,{"$f":"SUM(AW11:AY30)","v":1010},null,null,{"$f":"Teilnehmerliste!$C12","v":"Roger"},null,null,null,{"$f":"SUM(BD11:BF30)","v":650},null,null,{"$f":"Teilnehmerliste!$C13","v":"Mara"},null,null,null,{"$f":"SUM(BK11:BM30)","v":910},null,null,{"$f":"Teilnehmerliste!$C14","v":"Lara/Yaniv"},null,null,null,{"$f":"SUM(BR11:BT30)","v":820},null,null,{"$f":"Teilnehmerliste!$C15","v":"Michael"},null,null,null,{"$f":"SUM(BY11:CA30)","v":920},null,null,{"$f":"Teilnehmerliste!$C16","v":"Manuel"},null,null,null,{"$f":"SUM(CF11:CH30)","v":870},null,null,{"$f":"Teilnehmerliste!$C17","v":"Nicolas"},null,null,null,{"$f":"SUM(CM11:CO30)","v":1030},null,null,{"$f":"Teilnehmerliste!$C18","v":"Philip"},null,null,null,{"$f":"SUM(CT11:CV30)","v":850},null,null,{"$f":"Teilnehmerliste!$C19","v":"André"},null,null,null,{"$f":"SUM(DA11:DC30)","v":880},null,null,{"$f":"Teilnehmerliste!$C20","v":"Louis"},null,null,null,{"$f":"SUM(DH11:DJ30)","v":1090},null,null,{"$f":"Teilnehmerliste!$C21","v":"Daniel"},null,null,null,{"$f":"SUM(DO11:DQ30)","v":950},null,null,{"$f":"Teilnehmerliste!$C22","v":"Deliz"},null,null,null,{"$f":"SUM(DV11:DX30)","v":800},null,null,{"$f":"Teilnehmerliste!$C23","v":"Florian"},null,null,null,{"$f":"SUM(EC11:EE30)","v":1020},null,null,{"$f":"Teilnehmerliste!$C24","v":"Olo"},null,null,null,{"$f":"SUM(EJ11:EL30)","v":690},null,null,{"$f":"Teilnehmerliste!$C25","v":"Leonardo"},null,null,null,{"$f":"SUM(EQ11:ES30)","v":770}]
[]
[null,null,null,null,"ff"]
["Finalrunde",null,null,"Spieler 21 - 40"]
[{"$f":"A4","v":"Pro richtige Mannschaft am richtigen Ort: 1/8=10, 1/4=20, 1/2=30, Finale=50"},null,null,null,null,null,null,null,null,{"$f":"Teilnehmerliste!$B26","v":"D'Acunto"},null,null,null,null,null,null,{"$f":"Teilnehmerliste!$B27","v":"D'Acunto"},null,null,null,null,null,null,{"$f":"Teilnehmerliste!$B28","v":"D'Acunto"},null,null,null,null,null,null,{"$f":"Teilnehmerliste!$B29","v":"Dukic"},null,null,null,null,null,null,{"$f":"Teilnehmerliste!$B30","v":"Duvnjak"},null,null,null,null,null,null,{"$f":"Teilnehmerliste!$B31","v":"Figaro"},null,null,null,null,null,null,{"$f":"Teilnehmerliste!$B32","v":"Foscaldi"},null,null,null,null,null,null,{"$f":"Teilnehmerliste!$B33","v":"Giuralarocca"},null,null,null,null,null,null,{"$f":"Teilnehmerliste!$B34","v":"Gomes"},null,null,null,null,null,null,{"$f":"Teilnehmerliste!$B35","v":"Grosse"},null,null,null,null,null,null,{"$f":"Teilnehmerliste!$B36","v":"Gygli"},null,null,null,null,null,null,{"$f":"Teilnehmerliste!$B37","v":"Gygli"},null,null,null,null,null,null,{"$f":"Teilnehmerliste!$B38","v":"Gygli"},null,null,null,null,null,null,{"$f":"Teilnehmerliste!$B39","v":"Gygli"},null,null,null,null,null,null,{"$f":"Teilnehmerliste!$B40","v":"Gygli"},null,null,null,null,null,null,{"$f":"Teilnehmerliste!$B41","v":"Haab"},null,null,null,null,null,null,{"$f":"Teilnehmerliste!$B42","v":"Handanagic"},null,null,null,null,null,null,{"$f":"Teilnehmerliste!$B43","v":"Isenschmid"},null,null,null,null,null,null,{"$f":"Teilnehmerliste!$B44","v":"Isenschmid"},null,null,null,null,null,null,{"$f":"Teilnehmerliste!$B45","v":"Isenschmid"}]
[{"$f":"A5","v":"Pro richtige Mannschaft im ... Finale: 1/8=20, 1/4=40, 1/2=80, Finale=100"},null,null,null,null,null,null,null,null,{"$f":"Teilnehmerliste!$C26","v":"Lisa"},null,null,null,null,null,null,{"$f":"Teilnehmerliste!$C27","v":"Niva"},null,null,null,null,null,null,{"$f":"Teilnehmerliste!$C28","v":"Vinci"},null,null,null,null,null,null,{"$f":"Teilnehmerliste!$C29","v":"Goran"},null,null,null,null,null,null,{"$f":"Teilnehmerliste!$C30","v":"Dino"},null,null,null,null,null,null,{"$f":"Teilnehmerliste!$C31","v":"Marlon"},null,null,null,null,null,null,{"$f":"Teilnehmerliste!$C32","v":"Maurizio"},null,null,null,null,null,null,{"$f":"Teilnehmerliste!$C33","v":"Roberto"},null,null,null,null,null,null,{"$f":"Teilnehmerliste!$C34","v":"Rui"},null,null,null,null,null,null,{"$f":"Teilnehmerliste!$C35","v":"Laurent"},null,null,null,null,null,null,{"$f":"Teilnehmerliste!$C36","v":"Gregory"},null,null,null,null,null,null,{"$f":"Teilnehmerliste!$C37","v":"Reto"},null,null,null,null,null,null,{"$f":"Teilnehmerliste!$C38","v":"Sarina"},null,null,null,null,null,null,{"$f":"Teilnehmerliste!$C39","v":"Stefan"},null,null,null,null,null,null,{"$f":"Teilnehmerliste!$C40","v":"Timothy"},null,null,null,null,null,null,{"$f":"Teilnehmerliste!$C41","v":"Florian"},null,null,null,null,null,null,{"$f":"Teilnehmerliste!$C42","v":"Djuma"},null,null,null,null,null,null,{"$f":"Teilnehmerliste!$C43","v":"Agnes"},null,null,null,null,null,null,{"$f":"Teilnehmerliste!$C44","v":"Andreas"},null,null,null,null,null,null,{"$f":"Teilnehmerliste!$C45","v":"Michi"}]
[{"$f":"A6","v":"Richtiges Resultat: 1/8=30, 1/4=50, 1/2=100, Finale=200"},null,null,null,null,null,null,null,null,null,null,null,null,null,null,{"$f":"Teilnehmerliste!A26","v":21},null,null,null,null,null,null,{"$f":"Teilnehmerliste!$A27","v":22},null,null,null,null,null,null,{"$f":"Teilnehmerliste!$A28","v":23},null,null,null,null,null,null,{"$f":"Teilnehmerliste!$A29","v":24},null,null,null,null,null,null,{"$f":"Teilnehmerliste!$A30","v":25},null,null,null,null,null,null,{"$f":"Teilnehmerliste!$A31","v":26},null,null,null,null,null,null,{"$f":"Teilnehmerliste!$A32","v":27},null,null,null,null,null,null,{"$f":"Teilnehmerliste!$A33","v":28},null,null,null,null,null,null,{"$f":"Teilnehmerliste!$A34","v":29},null,null,null,null,null,null,{"$f":"Teilnehmerliste!$A35","v":30},null,null,null,null,null,null,{"$f":"Teilnehmerliste!$A36","v":31},null,null,null,null,null,null,{"$f":"Teilnehmerliste!$A37","v":32},null,null,null,null,null,null,{"$f":"Teilnehmerliste!$A38","v":33},null,null,null,null,null,null,{"$f":"Teilnehmerliste!$A39","v":34},null,null,null,null,null,null,{"$f":"Teilnehmerliste!$A40","v":35},null,null,null,null,null,null,{"$f":"Teilnehmerliste!$A41","v":36},null,null,null,null,null,null,{"$f":"Teilnehmerliste!$A42","v":37},null,null,null,null,null,null,{"$f":"Teilnehmerliste!$A43","v":38},null,null,null,null,null,null,{"$f":"Teilnehmerliste!$A44","v":39},null,null,null,null,null,null,{"$f":"Teilnehmerliste!$A45","v":40}]
[{"$f":"A7","v":"Richtiger Europameister = 300"}]
[]
["Datum","Zeit","Nr.","Spiel",null,"Resultat"]
["Achtelfinale",null,null,null,null,null,null,null,null,"Tipp",null,null,null,"Pkt",null,null,"Tipp",null,null,null,"Pkt",null,null,"Tipp",null,null,null,"Pkt",null,null,"Tipp",null,null,null,"Pkt",null,null,"Tipp",null,null,null,"Pkt",null,null,"Tipp",null,null,null,"Pkt",null,null,"Tipp",null,null,null,"Pkt",null,null,"Tipp",null,null,null,"Pkt",null,null,"Tipp",null,null,null,"Pkt",null,null,"Tipp",null,null,null,"Pkt",null,null,"Tipp",null,null,null,"Pkt",null,null,"Tipp",null,null,null,"Pkt",null,null,"Tipp",null,null,null,"Pkt",null,null,"Tipp",null,null,null,"Pkt",null,null,"Tipp",null,null,null,"Pkt",null,null,"Tipp",null,null,null,"Pkt",null,null,"Tipp",null,null,null,"Pkt",null,null,"Tipp",null,null,null,"Pkt",null,null,"Tipp",null,null,null,"Pkt",null,null,"Tipp",null,null,null,"Pkt"]
[{"$f":"A11","v":"Sa. 29. Jun"},"21:00:00",37,"Deutschland","Dänemark",{"$f":"IF(F11=\"\",\"\",F11)","v":2},0,null,null,"Deutschland",2,0,"Dänemark",{"$f":"IF(OR(J42=\"\",M42=\"\"),0,IF(AND(J42=$D42,M42=$E42),20,IF(J42=$D42,10,IF(M42=$E42,10,IF(AND(J42<>$D42,M42<>$E42),0)))))","v":20},{"$f":"IF(COUNTIF($D$11:$E$18,M42),20,0)+IF(COUNTIF($D$11:$E$18,J42),20,0)","v":40},{"$f":"IF(OR(J42=\"\",M42=\"\"),0,IF(AND(J42=$D42,M42=$E42,K42=$F42,L42=$G42),30,0))","v":30},"Deutschland",3,0,"Dänemark",{"$f":"IF(OR(Q42=\"\",T42=\"\"),0,IF(AND(Q42=$D42,T42=$E42),20,IF(Q42=$D42,10,IF(T42=$E42,10,IF(AND(Q42<>$D42,T42<>$E42),0)))))","v":20},{"$f":"IF(COUNTIF($D$11:$E$18,T42),20,0)+IF(COUNTIF($D$11:$E$18,Q42),20,0)","v":40},{"$f":"IF(OR(Q42=\"\",T42=\"\"),0,IF(AND(Q42=$D42,T42=$E42,R42=$F42,S42=$G42),30,0))","v":0},"Deutschland",2,0,"Dänemark",{"$f":"IF(OR(X42=\"\",AA42=\"\"),0,IF(AND(X42=$D42,AA42=$E42),20,IF(X42=$D42,10,IF(AA42=$E42,10,IF(AND(X42<>$D42,AA42<>$E42),0)))))","v":20},{"$f":"IF(COUNTIF($D$11:$E$18,AA42),20,0)+IF(COUNTIF($D$11:$E$18,X42),20,0)","v":40},{"$f":"IF(OR(X42=\"\",AA42=\"\"),0,IF(AND(X42=$D42,AA42=$E42,Y42=$F42,Z42=$G42),30,0))","v":30},"Deutschland",2,1,"Dänemark",{"$f":"IF(OR(AE42=\"\",AH42=\"\"),0,IF(AND(AE42=$D42,AH42=$E42),20,IF(AE42=$D42,10,IF(AH42=$E42,10,IF(AND(AE42<>$D42,AH42<>$E42),0)))))","v":20},{"$f":"IF(COUNTIF($D$11:$E$18,AH42),20,0)+IF(COUNTIF($D$11:$E$18,AE42),20,0)","v":40},{"$f":"IF(OR(AE42=\"\",AH42=\"\"),0,IF(AND(AE42=$D42,AH42=$E42,AF42=$F42,AG42=$G42),30,0))","v":0},"Deutschland",2,1,"Dänemark",{"$f":"IF(OR(AL42=\"\",AO42=\"\"),0,IF(AND(AL42=$D42,AO42=$E42),20,IF(AL42=$D42,10,IF(AO42=$E42,10,IF(AND(AL42<>$D42,AO42<>$E42),0)))))","v":20},{"$f":"IF(COUNTIF($D$11:$E$18,AO42),20,0)+IF(COUNTIF($D$11:$E$18,AL42),20,0)","v":40},{"$f":"IF(OR(AL42=\"\",AO42=\"\"),0,IF(AND(AL42=$D42,AO42=$E42,AM42=$F42,AN42=$G42),30,0))","v":0},"Schweiz",1,3,"England",{"$f":"IF(OR(AS42=\"\",AV42=\"\"),0,IF(AND(AS42=$D42,AV42=$E42),20,IF(AS42=$D42,10,IF(AV42=$E42,10,IF(AND(AS42<>$D42,AV42<>$E42),0)))))","v":0},{"$f":"IF(COUNTIF($D$11:$E$18,AV42),20,0)+IF(COUNTIF($D$11:$E$18,AS42),20,0)","v":40},{"$f":"IF(OR(AS42=\"\",AV42=\"\"),0,IF(AND(AS42=$D42,AV42=$E42,AT42=$F42,AU42=$G42),30,0))","v":0},"Deutschland",2,1,"Dänemark",{"$f":"IF(OR(AZ42=\"\",BC42=\"\"),0,IF(AND(AZ42=$D42,BC42=$E42),20,IF(AZ42=$D42,10,IF(BC42=$E42,10,IF(AND(AZ42<>$D42,BC42<>$E42),0)))))","v":20},{"$f":"IF(COUNTIF($D$11:$E$18,BC42),20,0)+IF(COUNTIF($D$11:$E$18,AZ42),20,0)","v":40},{"$f":"IF(OR(AZ42=\"\",BC42=\"\"),0,IF(AND(AZ42=$D42,BC42=$E42,BA42=$F42,BB42=$G42),30,0))","v":0},"Deutschland",5,4,"Dänemark",{"$f":"IF(OR(BG42=\"\",BJ42=\"\"),0,IF(AND(BG42=$D42,BJ42=$E42),20,IF(BG42=$D42,10,IF(BJ42=$E42,10,IF(AND(BG42<>$D42,BJ42<>$E42),0)))))","v":20},{"$f":"IF(COUNTIF($D$11:$E$18,BJ42),20,0)+IF(COUNTIF($D$11:$E$18,BG42),20,0)","v":40},{"$f":"IF(OR(BG42=\"\",BJ42=\"\"),0,IF(AND(BG42=$D42,BJ42=$E42,BH42=$F42,BI42=$G42),30,0))","v":0},"Schweiz",2,1,"Dänemark",{"$f":"IF(OR(BN42=\"\",BQ42=\"\"),0,IF(AND(BN42=$D42,BQ42=$E42),20,IF(BN42=$D42,10,IF(BQ42=$E42,10,IF(AND(BN42<>$D42,BQ42<>$E42),0)))))","v":10},{"$f":"IF(COUNTIF($D$11:$E$18,BQ42),20,0)+IF(COUNTIF($D$11:$E$18,BN42),20,0)","v":40},{"$f":"IF(OR(BN42=\"\",BQ42=\"\"),0,IF(AND(BN42=$D42,BQ42=$E42,BO42=$F42,BP42=$G42),30,0))","v":0},"Deutschland",2,0,"Dänemark",{"$f":"IF(OR(BU42=\"\",BX42=\"\"),0,IF(AND(BU42=$D42,BX42=$E42),20,IF(BU42=$D42,10,IF(BX42=$E42,10,IF(AND(BU42<>$D42,BX42<>$E42),0)))))","v":20},{"$f":"IF(COUNTIF($D$11:$E$18,BX42),20,0)+IF(COUNTIF($D$11:$E$18,BU42),20,0)","v":40},{"$f":"IF(OR(BU42=\"\",BX42=\"\"),0,IF(AND(BU42=$D42,BX42=$E42,BV42=$F42,BW42=$G42),30,0))","v":30},"Schweiz",2,1,"Dänemark",{"$f":"IF(OR(CB42=\"\",CE42=\"\"),0,IF(AND(CB42=$D42,CE42=$E42),20,IF(CB42=$D42,10,IF(CE42=$E42,10,IF(AND(CB42<>$D42,CE42<>$E42),0)))))","v":10},{"$f":"IF(COUNTIF($D$11:$E$18,CE42),20,0)+IF(COUNTIF($D$11:$E$18,CB42),20,0)","v":40},{"$f":"IF(OR(CB42=\"\",CE42=\"\"),0,IF(AND(CB42=$D42,CE42=$E42,CC42=$F42,CD42=$G42),30,0))","v":0},"Deutschland",2,0,"Dänemark",{"$f":"IF(OR(CI42=\"\",CL42=\"\"),0,IF(AND(CI42=$D42,CL42=$E42),20,IF(CI42=$D42,10,IF(CL42=$E42,10,IF(AND(CI42<>$D42,CL42<>$E42),0)))))","v":20},{"$f":"IF(COUNTIF($D$11:$E$18,CL42),20,0)+IF(COUNTIF($D$11:$E$18,CI42),20,0)","v":40},{"$f":"IF(OR(CI42=\"\",CL42=\"\"),0,IF(AND(CI42=$D42,CL42=$E42,CJ42=$F42,CK42=$G42),30,0))","v":30},"Deutschland",2,1,"Serbien",{"$f":"IF(OR(CP42=\"\",CS42=\"\"),0,IF(AND(CP42=$D42,CS42=$E42),20,IF(CP42=$D42,10,IF(CS42=$E42,10,IF(AND(CP42<>$D42,CS42<>$E42),0)))))","v":10},{"$f":"IF(COUNTIF($D$11:$E$18,CS42),20,0)+IF(COUNTIF($D$11:$E$18,CP42),20,0)","v":20},{"$f":"IF(OR(CP42=\"\",CS42=\"\"),0,IF(AND(CP42=$D42,CS42=$E42,CQ42=$F42,CR42=$G42),30,0))","v":0},"Deutschland",2,0,"Dänemark",{"$f":"IF(OR(CW42=\"\",CZ42=\"\"),0,IF(AND(CW42=$D42,CZ42=$E42),20,IF(CW42=$D42,10,IF(CZ42=$E42,10,IF(AND(CW42<>$D42,CZ42<>$E42),0)))))","v":20},{"$f":"IF(COUNTIF($D$11:$E$18,CZ42),20,0)+IF(COUNTIF($D$11:$E$18,CW42),20,0)","v":40},{"$f":"IF(OR(CW42=\"\",CZ42=\"\"),0,IF(AND(CW42=$D42,CZ42=$E42,CX42=$F42,CY42=$G42),30,0))","v":30},"Deutschland",1,0,"Dänemark",{"$f":"IF(OR(DD42=\"\",DG42=\"\"),0,IF(AND(DD42=$D42,DG42=$E42),20,IF(DD42=$D42,10,IF(DG42=$E42,10,IF(AND(DD42<>$D42,DG42<>$E42),0)))))","v":20},{"$f":"IF(COUNTIF($D$11:$E$18,DG42),20,0)+IF(COUNTIF($D$11:$E$18,DD42),20,0)","v":40},{"$f":"IF(OR(DD42=\"\",DG42=\"\"),0,IF(AND(DD42=$D42,DG42=$E42,DE42=$F42,DF42=$G42),30,0))","v":0},"Deutschland",2,0,"Serbien",{"$f":"IF(OR(DK42=\"\",DN42=\"\"),0,IF(AND(DK42=$D42,DN42=$E42),20,IF(DK42=$D42,10,IF(DN42=$E42,10,IF(AND(DK42<>$D42,DN42<>$E42),0)))))","v":10},{"$f":"IF(COUNTIF($D$11:$E$18,DN42),20,0)+IF(COUNTIF($D$11:$E$18,DK42),20,0)","v":20},{"$f":"IF(OR(DK42=\"\",DN42=\"\"),0,IF(AND(DK42=$D42,DN42=$E42,DL42=$F42,DM42=$G42),30,0))","v":0},"Deutschland",2,0,"Dänemark",{"$f":"IF(OR(DR42=\"\",DU42=\"\"),0,IF(AND(DR42=$D42,DU42=$E42),20,IF(DR42=$D42,10,IF(DU42=$E42,10,IF(AND(DR42<>$D42,DU42<>$E42),0)))))","v":20},{"$f":"IF(COUNTIF($D$11:$E$18,DU42),20,0)+IF(COUNTIF($D$11:$E$18,DR42),20,0)","v":40},{"$f":"IF(OR(DR42=\"\",DU42=\"\"),0,IF(AND(DR42=$D42,DU42=$E42,DS42=$F42,DT42=$G42),30,0))","v":30},"Deutschland",2,1,"England",{"$f":"IF(OR(DY42=\"\",EB42=\"\"),0,IF(AND(DY42=$D42,EB42=$E42),20,IF(DY42=$D42,10,IF(EB42=$E42,10,IF(AND(DY42<>$D42,EB42<>$E42),0)))))","v":10},{"$f":"IF(COUNTIF($D$11:$E$18,EB42),20,0)+IF(COUNTIF($D$11:$E$18,DY42),20,0)","v":40},{"$f":"IF(OR(DY42=\"\",EB42=\"\"),0,IF(AND(DY42=$D42,EB42=$E42,DZ42=$F42,EA42=$G42),30,0))","v":0},"Deutschland",2,1,"England",{"$f":"IF(OR(EF42=\"\",EI42=\"\"),0,IF(AND(EF42=$D42,EI42=$E42),20,IF(EF42=$D42,10,IF(EI42=$E42,10,IF(AND(EF42<>$D42,EI42<>$E42),0)))))","v":10},{"$f":"IF(COUNTIF($D$11:$E$18,EI42),20,0)+IF(COUNTIF($D$11:$E$18,EF42),20,0)","v":40},{"$f":"IF(OR(EF42=\"\",EI42=\"\"),0,IF(AND(EF42=$D42,EI42=$E42,EG42=$F42,EH42=$G42),30,0))","v":0},"Deutschland",1,0,"Serbien",{"$f":"IF(OR(EM42=\"\",EP42=\"\"),0,IF(AND(EM42=$D42,EP42=$E42),20,IF(EM42=$D42,10,IF(EP42=$E42,10,IF(AND(EM42<>$D42,EP42<>$E42),0)))))","v":10},{"$f":"IF(COUNTIF($D$11:$E$18,EP42),20,0)+IF(COUNTIF($D$11:$E$18,EM42),20,0)","v":20},{"$f":"IF(OR(EM42=\"\",EP42=\"\"),0,IF(AND(EM42=$D42,EP42=$E42,EN42=$F42,EO42=$G42),30,0))","v":0}]
["Sa. 29. Jun","18:00:00",38,"Schweiz","Italien",2,0,null,null,"Schweiz",0,2,"Italien",20,40,{"$f":"IF(OR(J43=\"\",M43=\"\"),0,IF(AND(J43=$D43,M43=$E43,K43=$F43,L43=$G43),30,0))","v":0},"Schweiz",0,1,"Italien",20,40,{"$f":"IF(OR(Q43=\"\",T43=\"\"),0,IF(AND(Q43=$D43,T43=$E43,R43=$F43,S43=$G43),30,0))","v":0},"Schweiz",0,1,"Spanien",10,40,{"$f":"IF(OR(X43=\"\",AA43=\"\"),0,IF(AND(X43=$D43,AA43=$E43,Y43=$F43,Z43=$G43),30,0))","v":0},"Schweiz",1,3,"Italien",20,40,{"$f":"IF(OR(AE43=\"\",AH43=\"\"),0,IF(AND(AE43=$D43,AH43=$E43,AF43=$F43,AG43=$G43),30,0))","v":0},"Schweiz",0,1,"Kroatien",10,20,{"$f":"IF(OR(AL43=\"\",AO43=\"\"),0,IF(AND(AL43=$D43,AO43=$E43,AM43=$F43,AN43=$G43),30,0))","v":0},"Deutschland",1,2,"Kroatien",0,20,{"$f":"IF(OR(AS43=\"\",AV43=\"\"),0,IF(AND(AS43=$D43,AV43=$E43,AT43=$F43,AU43=$G43),30,0))","v":0},"Schweiz",0,2,"Italien",20,40,{"$f":"IF(OR(AZ43=\"\",BC43=\"\"),0,IF(AND(AZ43=$D43,BC43=$E43,BA43=$F43,BB43=$G43),30,0))","v":0},"Schweiz",1,3,"Kroatien",10,20,{"$f":"IF(OR(BG43=\"\",BJ43=\"\"),0,IF(AND(BG43=$D43,BJ43=$E43,BH43=$F43,BI43=$G43),30,0))","v":0},"Ungarn",1,3,"Kroatien",0,0,{"$f":"IF(OR(BN43=\"\",BQ43=\"\"),0,IF(AND(BN43=$D43,BQ43=$E43,BO43=$F43,BP43=$G43),30,0))","v":0},"Schweiz",1,2,"Spanien",10,40,{"$f":"IF(OR(BU43=\"\",BX43=\"\"),0,IF(AND(BU43=$D43,BX43=$E43,BV43=$F43,BW43=$G43),30,0))","v":0},"Deutschland",3,1,"Italien",10,40,{"$f":"IF(OR(CB43=\"\",CE43=\"\"),0,IF(AND(CB43=$D43,CE43=$E43,CC43=$F43,CD43=$G43),30,0))","v":0},"Schweiz",0,1,"Italien",20,40,{"$f":"IF(OR(CI43=\"\",CL43=\"\"),0,IF(AND(CI43=$D43,CL43=$E43,CJ43=$F43,CK43=$G43),30,0))","v":0},"Schweiz",1,0,"Spanien",10,40,{"$f":"IF(OR(CP43=\"\",CS43=\"\"),0,IF(AND(CP43=$D43,CS43=$E43,CQ43=$F43,CR43=$G43),30,0))","v":0},"Schweiz",1,0,"Italien",20,40,{"$f":"IF(OR(CW43=\"\",CZ43=\"\"),0,IF(AND(CW43=$D43,CZ43=$E43,CX43=$F43,CY43=$G43),30,0))","v":0},"Schweiz",1,2,"Italien",20,40,{"$f":"IF(OR(DD43=\"\",DG43=\"\"),0,IF(AND(DD43=$D43,DG43=$E43,DE43=$F43,DF43=$G43),30,0))","v":0},"Schweiz",1,0,"Spanien",10,40,{"$f":"IF(OR(DK43=\"\",DN43=\"\"),0,IF(AND(DK43=$D43,DN43=$E43,DL43=$F43,DM43=$G43),30,0))","v":0},"Schweiz",0,1,"Spanien",10,40,{"$f":"IF(OR(DR43=\"\",DU43=\"\"),0,IF(AND(DR43=$D43,DU43=$E43,DS43=$F43,DT43=$G43),30,0))","v":0},"Ungarn",0,2,"Kroatien",0,0,{"$f":"IF(OR(DY43=\"\",EB43=\"\"),0,IF(AND(DY43=$D43,EB43=$E43,DZ43=$F43,EA43=$G43),30,0))","v":0},"Schweiz",0,1,"Italien",20,40,{"$f":"IF(OR(EF43=\"\",EI43=\"\"),0,IF(AND(EF43=$D43,EI43=$E43,EG43=$F43,EH43=$G43),30,0))","v":0},"Schweiz",0,1,"Kroatien",10,20,{"$f":"IF(OR(EM43=\"\",EP43=\"\"),0,IF(AND(EM43=$D43,EP43=$E43,EN43=$F43,EO43=$G43),30,0))","v":0}]
["So. 30. Jun","21:00:00",39,"Spanien","Georgien",4,1,null,null,"Spanien",3,2,"Österreich",10,40,0,"Spanien",3,1,"Österreich",10,40,0,"Italien",3,0,"Rumänien",0,40,0,"Spanien",2,1,"Ungarn",10,20,0,"Spanien",1,0,"Tschechien",10,20,0,"Italien",3,1,"Ukraine",0,20,0,"Spanien",3,1,"Ungarn",10,20,0,"Italien",2,0,"Ungarn",0,20,0,"Spanien",2,0,"Deutschland",10,40,0,"Italien",1,0,"Slowakei",0,40,0,"Spanien",1,0,"Ungarn",10,20,0,"Spanien",2,1,"Österreich",10,40,0,"Italien",2,0,"Slowakei",0,40,0,"Spanien",3,0,"Türkei",10,40,0,"Spanien",3,0,"Ukraine",10,20,0,"Italien",2,1,"Tschechien",0,20,0,"Kroatien",2,0,"Slowakei",0,20,0,"Spanien",2,0,"Schweiz",10,40,0,"Spanien",2,0,"Slowakei",10,40,0,"Spanien",1,0,"Rumänien",10,40,0]
["So. 30. Jun","18:00:00",40,"England","Slowakei",2,1,null,null,"England",1,0,"Türkei",10,40,0,"England",2,0,"Tschechien",10,20,0,"England",2,1,"Türkei",10,40,0,"England",3,0,"Türkei",10,40,0,"England",2,0,"Slowakei",20,40,0,"Dänemark",2,0,"Österreich",0,40,0,"England",2,0,"Österreich",10,40,0,"England",2,1,"Tschechien",10,20,0,"England",1,0,"Österreich",10,40,0,"England",1,0,"Tschechien",10,20,0,"England",2,0,"Georgien",10,40,0,"England",2,0,"Türkei",10,40,0,"England",2,1,"Tschechien",10,20,0,"England",2,0,"Rumänien",10,40,0,"England",3,2,"Tschechien",10,20,0,"England",1,0,"Österreich",10,40,0,"England",1,0,"Österreich",10,40,0,"Dänemark",2,1,"Slowakei",10,40,0,"Dänemark",1,2,"Österreich",0,40,0,"England",1,0,"Österreich",10,40,0]
["Mo. 1. Jul","21:00:00",41,"Portugal","Slowenien",3,0,null,null,"Portugal",0,1,"Kroatien",10,20,0,"Portugal",1,0,"Kroatien",10,20,0,"Portugal",2,0,"Schottland",10,20,0,"Portugal",3,1,"Serbien",10,20,0,"Portugal",1,0,"Italien",10,40,0,"Portugal",3,0,"Serbien",10,20,0,"Portugal",3,1,"Serbien",10,20,0,"Portugal",3,1,"Serbien",10,20,0,"Portugal",2,0,"Serbien",10,20,0,"Portugal",2,0,"Ungarn",10,20,0,"Portugal",1,0,"Slowenien",20,40,0,"Portugal",2,0,"Kroatien",10,20,0,"Portugal",1,0,"Ungarn",10,20,0,"Portugal",2,1,"Kroatien",10,20,0,"Portugal",0,1,"Schottland",10,20,0,"Portugal",2,0,"Kroatien",10,20,0,"Portugal",2,0,"Serbien",10,20,0,"Portugal",3,1,"Slowenien",20,40,0,"Portugal",2,0,"Slowenien",20,40,0,"Portugal",1,0,"Dänemark",10,40,0]
["Mo. 1. Jul","18:00:00",42,"Frankreich","Belgien",1,0,null,null,"Holland",2,0,"Ukraine",0,20,0,"Holland",2,0,"Ukraine",0,20,0,"Frankreich",2,0,"Ukraine",10,20,0,"Holland",2,1,"Belgien",10,40,0,"Österreich",1,0,"Ukraine",0,20,0,"Holland",1,0,"Slowakei",0,40,0,"Holland",1,0,"Ukraine",0,20,0,"Österreich",2,0,"Slowakei",0,40,0,"Holland",2,0,"Ukraine",0,20,0,"Holland",2,1,"Ukraine",0,20,0,"Polen",3,2,"Rumänien",0,20,0,"Holland",3,1,"Rumänien",0,40,0,"Holland",1,0,"Rumänien",0,40,0,"Frankreich",3,1,"Ukraine",10,20,0,"Holland",2,1,"Rumänien",0,40,0,"Holland",2,1,"Rumänien",0,40,0,"Holland",0,1,"Belgien",10,40,0,"Holland",1,2,"Belgien",10,40,0,"Holland",2,1,"Ukraine",0,20,0,"Holland",1,0,"Ukraine",0,20,0]
["Di. 2. Jul","18:00:00",43,"Rumänien","Holland",0,3,null,null,"Belgien",2,0,"Schottland",0,20,0,"Belgien",2,1,"Schottland",0,20,0,"Belgien",0,1,"Kroatien",0,20,0,"Rumänien",1,2,"Kroatien",10,20,0,"Belgien",1,0,"Holland",10,40,0,"Belgien",2,1,"Spanien",0,40,0,"Belgien",0,1,"Kroatien",0,20,0,"Belgien",1,3,"Spanien",0,40,0,"Belgien",1,0,"Albanien",0,20,0,"Belgien",1,0,"Slowenien",0,40,0,"Belgien",1,2,"Kroatien",0,20,0,"Belgien",2,0,"Schottland",0,20,0,"Belgien",1,2,"Kroatien",0,20,0,"Belgien",2,1,"Österreich",0,40,0,"Slowakei",1,0,"Kroatien",0,20,0,"Belgien",1,0,"Slowenien",0,40,0,"Ukraine",0,1,"Italien",0,20,0,"Ukraine",1,2,"Italien",0,20,0,"Belgien",2,1,"Kroatien",0,20,0,"Belgien",1,0,"Italien",0,40,0]
["Di. 2. Jul","21:00:00",44,"Österreich","Türkei",1,2,null,null,"Frankreich",3,0,"Tschechien",0,20,0,"Frankreich",3,1,"Türkei",10,40,0,"Holland",2,0,"Tschechien",0,20,0,"Frankreich",2,1,"Tschechien",0,20,0,"Frankreich",2,1,"Türkei",10,40,0,"Frankreich",3,0,"Türkei",10,40,0,"Frankreich",3,0,"Tschechien",0,20,0,"Frankreich",3,1,"Türkei",10,40,0,"Frankreich",1,0,"Türkei",10,40,0,"Frankreich",3,0,"Türkei",10,40,0,"Frankreich",2,0,"Türkei",10,40,0,"Frankreich",2,0,"Tschechien",0,20,0,"Frankreich",2,0,"Türkei",10,40,0,"Holland",2,0,"Tschechien",0,20,0,"Frankreich",2,1,"Türkei",10,40,0,"Frankreich",1,0,"Türkei",10,40,0,"Frankreich",1,0,"Türkei",10,40,0,"Frankreich",2,0,"Tschechien",0,20,0,"Frankreich",2,1,"Tschechien",0,20,0,"Frankreich",1,0,"Türkei",10,40,0]
["Viertelfinale"]
[{"$f":"A20","v":"Fr. 5. Jul"},"18:00:00",45,"Spanien","Deutschland",{"$f":"IF(F20=\"\",\"\",F20)","v":2},1,null,null,"Spanien",2,1,"Deutschland",{"$f":"IF(OR(J51=\"\",M51=\"\"),0,IF(AND(J51=$D51,M51=$E51),40,IF(J51=$D51,20,IF(M51=$E51,20,IF(AND(J51<>$D51,M51<>$E51),0)))))","v":40},{"$f":"IF(COUNTIF($D$20:$E$23,M51),40,0)+IF(COUNTIF($D$20:$E$23,J51),40,0)","v":80},{"$f":"IF(OR(J51=\"\",M51=\"\"),0,IF(AND(J51=$D51,M51=$E51,K51=$F51,L51=$G51),50,0))","v":50},"Spanien",1,2,"Deutschland",{"$f":"IF(OR(Q51=\"\",T51=\"\"),0,IF(AND(Q51=$D51,T51=$E51),40,IF(Q51=$D51,20,IF(T51=$E51,20,IF(AND(Q51<>$D51,T51<>$E51),0)))))","v":40},{"$f":"IF(COUNTIF($D$20:$E$23,T51),40,0)+IF(COUNTIF($D$20:$E$23,Q51),40,0)","v":80},{"$f":"IF(OR(Q51=\"\",T51=\"\"),0,IF(AND(Q51=$D51,T51=$E51,R51=$F51,S51=$G51),50,0))","v":0},"Italien",2,1,"Deutschland",{"$f":"IF(OR(X51=\"\",AA51=\"\"),0,IF(AND(X51=$D51,AA51=$E51),40,IF(X51=$D51,20,IF(AA51=$E51,20,IF(AND(X51<>$D51,AA51<>$E51),0)))))","v":20},{"$f":"IF(COUNTIF($D$20:$E$23,AA51),40,0)+IF(COUNTIF($D$20:$E$23,X51),40,0)","v":40},{"$f":"IF(OR(X51=\"\",AA51=\"\"),0,IF(AND(X51=$D51,AA51=$E51,Y51=$F51,Z51=$G51),50,0))","v":0},"Spanien",3,2,"Deutschland",{"$f":"IF(OR(AE51=\"\",AH51=\"\"),0,IF(AND(AE51=$D51,AH51=$E51),40,IF(AE51=$D51,20,IF(AH51=$E51,20,IF(AND(AE51<>$D51,AH51<>$E51),0)))))","v":40},{"$f":"IF(COUNTIF($D$20:$E$23,AH51),40,0)+IF(COUNTIF($D$20:$E$23,AE51),40,0)","v":80},{"$f":"IF(OR(AE51=\"\",AH51=\"\"),0,IF(AND(AE51=$D51,AH51=$E51,AF51=$F51,AG51=$G51),50,0))","v":0},"Spanien",0,1,"Deutschland",{"$f":"IF(OR(AL51=\"\",AO51=\"\"),0,IF(AND(AL51=$D51,AO51=$E51),40,IF(AL51=$D51,20,IF(AO51=$E51,20,IF(AND(AL51<>$D51,AO51<>$E51),0)))))","v":40},{"$f":"IF(COUNTIF($D$20:$E$23,AO51),40,0)+IF(COUNTIF($D$20:$E$23,AL51),40,0)","v":80},{"$f":"IF(OR(AL51=\"\",AO51=\"\"),0,IF(AND(AL51=$D51,AO51=$E51,AM51=$F51,AN51=$G51),50,0))","v":0},"Italien",2,1,"England",{"$f":"IF(OR(AS51=\"\",AV51=\"\"),0,IF(AND(AS51=$D51,AV51=$E51),40,IF(AS51=$D51,20,IF(AV51=$E51,20,IF(AND(AS51<>$D51,AV51<>$E51),0)))))","v":0},{"$f":"IF(COUNTIF($D$20:$E$23,AV51),40,0)+IF(COUNTIF($D$20:$E$23,AS51),40,0)","v":40},{"$f":"IF(OR(AS51=\"\",AV51=\"\"),0,IF(AND(AS51=$D51,AV51=$E51,AT51=$F51,AU51=$G51),50,0))","v":0},"Spanien",1,2,"Deutschland",{"$f":"IF(OR(AZ51=\"\",BC51=\"\"),0,IF(AND(AZ51=$D51,BC51=$E51),40,IF(AZ51=$D51,20,IF(BC51=$E51,20,IF(AND(AZ51<>$D51,BC51<>$E51),0)))))","v":40},{"$f":"IF(COUNTIF($D$20:$E$23,BC51),40,0)+IF(COUNTIF($D$20:$E$23,AZ51),40,0)","v":80},{"$f":"IF(OR(AZ51=\"\",BC51=\"\"),0,IF(AND(AZ51=$D51,BC51=$E51,BA51=$F51,BB51=$G51),50,0))","v":0},"Italien",6,4,"Deutschland",{"$f":"IF(OR(BG51=\"\",BJ51=\"\"),0,IF(AND(BG51=$D51,BJ51=$E51),40,IF(BG51=$D51,20,IF(BJ51=$E51,20,IF(AND(BG51<>$D51,BJ51<>$E51),0)))))","v":20},{"$f":"IF(COUNTIF($D$20:$E$23,BJ51),40,0)+IF(COUNTIF($D$20:$E$23,BG51),40,0)","v":40},{"$f":"IF(OR(BG51=\"\",BJ51=\"\"),0,IF(AND(BG51=$D51,BJ51=$E51,BH51=$F51,BI51=$G51),50,0))","v":0},"Spanien",2,1,"Schweiz",{"$f":"IF(OR(BN51=\"\",BQ51=\"\"),0,IF(AND(BN51=$D51,BQ51=$E51),40,IF(BN51=$D51,20,IF(BQ51=$E51,20,IF(AND(BN51<>$D51,BQ51<>$E51),0)))))","v":20},{"$f":"IF(COUNTIF($D$20:$E$23,BQ51),40,0)+IF(COUNTIF($D$20:$E$23,BN51),40,0)","v":80},{"$f":"IF(OR(BN51=\"\",BQ51=\"\"),0,IF(AND(BN51=$D51,BQ51=$E51,BO51=$F51,BP51=$G51),50,0))","v":0},"Italien",1,2,"Deutschland",{"$f":"IF(OR(BU51=\"\",BX51=\"\"),0,IF(AND(BU51=$D51,BX51=$E51),40,IF(BU51=$D51,20,IF(BX51=$E51,20,IF(AND(BU51<>$D51,BX51<>$E51),0)))))","v":20},{"$f":"IF(COUNTIF($D$20:$E$23,BX51),40,0)+IF(COUNTIF($D$20:$E$23,BU51),40,0)","v":40},{"$f":"IF(OR(BU51=\"\",BX51=\"\"),0,IF(AND(BU51=$D51,BX51=$E51,BV51=$F51,BW51=$G51),50,0))","v":0},"Spanien",1,2,"Schweiz",{"$f":"IF(OR(CB51=\"\",CE51=\"\"),0,IF(AND(CB51=$D51,CE51=$E51),40,IF(CB51=$D51,20,IF(CE51=$E51,20,IF(AND(CB51<>$D51,CE51<>$E51),0)))))","v":20},{"$f":"IF(COUNTIF($D$20:$E$23,CE51),40,0)+IF(COUNTIF($D$20:$E$23,CB51),40,0)","v":80},{"$f":"IF(OR(CB51=\"\",CE51=\"\"),0,IF(AND(CB51=$D51,CE51=$E51,CC51=$F51,CD51=$G51),50,0))","v":0},"Spanien",1,2,"Deutschland",{"$f":"IF(OR(CI51=\"\",CL51=\"\"),0,IF(AND(CI51=$D51,CL51=$E51),40,IF(CI51=$D51,20,IF(CL51=$E51,20,IF(AND(CI51<>$D51,CL51<>$E51),0)))))","v":40},{"$f":"IF(COUNTIF($D$20:$E$23,CL51),40,0)+IF(COUNTIF($D$20:$E$23,CI51),40,0)","v":80},{"$f":"IF(OR(CI51=\"\",CL51=\"\"),0,IF(AND(CI51=$D51,CL51=$E51,CJ51=$F51,CK51=$G51),50,0))","v":0},"Italien",1,2,"Deutschland",{"$f":"IF(OR(CP51=\"\",CS51=\"\"),0,IF(AND(CP51=$D51,CS51=$E51),40,IF(CP51=$D51,20,IF(CS51=$E51,20,IF(AND(CP51<>$D51,CS51<>$E51),0)))))","v":20},{"$f":"IF(COUNTIF($D$20:$E$23,CS51),40,0)+IF(COUNTIF($D$20:$E$23,CP51),40,0)","v":40},{"$f":"IF(OR(CP51=\"\",CS51=\"\"),0,IF(AND(CP51=$D51,CS51=$E51,CQ51=$F51,CR51=$G51),50,0))","v":0},"Spanien",2,1,"Deutschland",{"$f":"IF(OR(CW51=\"\",CZ51=\"\"),0,IF(AND(CW51=$D51,CZ51=$E51),40,IF(CW51=$D51,20,IF(CZ51=$E51,20,IF(AND(CW51<>$D51,CZ51<>$E51),0)))))","v":40},{"$f":"IF(COUNTIF($D$20:$E$23,CZ51),40,0)+IF(COUNTIF($D$20:$E$23,CW51),40,0)","v":80},{"$f":"IF(OR(CW51=\"\",CZ51=\"\"),0,IF(AND(CW51=$D51,CZ51=$E51,CX51=$F51,CY51=$G51),50,0))","v":50},"Spanien",2,1,"Deutschland",{"$f":"IF(OR(DD51=\"\",DG51=\"\"),0,IF(AND(DD51=$D51,DG51=$E51),40,IF(DD51=$D51,20,IF(DG51=$E51,20,IF(AND(DD51<>$D51,DG51<>$E51),0)))))","v":40},{"$f":"IF(COUNTIF($D$20:$E$23,DG51),40,0)+IF(COUNTIF($D$20:$E$23,DD51),40,0)","v":80},{"$f":"IF(OR(DD51=\"\",DG51=\"\"),0,IF(AND(DD51=$D51,DG51=$E51,DE51=$F51,DF51=$G51),50,0))","v":50},"Italien",0,1,"Deutschland",{"$f":"IF(OR(DK51=\"\",DN51=\"\"),0,IF(AND(DK51=$D51,DN51=$E51),40,IF(DK51=$D51,20,IF(DN51=$E51,20,IF(AND(DK51<>$D51,DN51<>$E51),0)))))","v":20},{"$f":"IF(COUNTIF($D$20:$E$23,DN51),40,0)+IF(COUNTIF($D$20:$E$23,DK51),40,0)","v":40},{"$f":"IF(OR(DK51=\"\",DN51=\"\"),0,IF(AND(DK51=$D51,DN51=$E51,DL51=$F51,DM51=$G51),50,0))","v":0},"Kroatien",1,2,"Deutschland",{"$f":"IF(OR(DR51=\"\",DU51=\"\"),0,IF(AND(DR51=$D51,DU51=$E51),40,IF(DR51=$D51,20,IF(DU51=$E51,20,IF(AND(DR51<>$D51,DU51<>$E51),0)))))","v":20},{"$f":"IF(COUNTIF($D$20:$E$23,DU51),40,0)+IF(COUNTIF($D$20:$E$23,DR51),40,0)","v":40},{"$f":"IF(OR(DR51=\"\",DU51=\"\"),0,IF(AND(DR51=$D51,DU51=$E51,DS51=$F51,DT51=$G51),50,0))","v":0},"Spanien",2,0,"Deutschland",{"$f":"IF(OR(DY51=\"\",EB51=\"\"),0,IF(AND(DY51=$D51,EB51=$E51),40,IF(DY51=$D51,20,IF(EB51=$E51,20,IF(AND(DY51<>$D51,EB51<>$E51),0)))))","v":40},{"$f":"IF(COUNTIF($D$20:$E$23,EB51),40,0)+IF(COUNTIF($D$20:$E$23,DY51),40,0)","v":80},{"$f":"IF(OR(DY51=\"\",EB51=\"\"),0,IF(AND(DY51=$D51,EB51=$E51,DZ51=$F51,EA51=$G51),50,0))","v":0},"Spanien",2,1,"Deutschland",{"$f":"IF(OR(EF51=\"\",EI51=\"\"),0,IF(AND(EF51=$D51,EI51=$E51),40,IF(EF51=$D51,20,IF(EI51=$E51,20,IF(AND(EF51<>$D51,EI51<>$E51),0)))))","v":40},{"$f":"IF(COUNTIF($D$20:$E$23,EI51),40,0)+IF(COUNTIF($D$20:$E$23,EF51),40,0)","v":80},{"$f":"IF(OR(EF51=\"\",EI51=\"\"),0,IF(AND(EF51=$D51,EI51=$E51,EG51=$F51,EH51=$G51),50,0))","v":50},"Spanien",0,1,"Deutschland",{"$f":"IF(OR(EM51=\"\",EP51=\"\"),0,IF(AND(EM51=$D51,EP51=$E51),40,IF(EM51=$D51,20,IF(EP51=$E51,20,IF(AND(EM51<>$D51,EP51<>$E51),0)))))","v":40},{"$f":"IF(COUNTIF($D$20:$E$23,EP51),40,0)+IF(COUNTIF($D$20:$E$23,EM51),40,0)","v":80},{"$f":"IF(OR(EM51=\"\",EP51=\"\"),0,IF(AND(EM51=$D51,EP51=$E51,EN51=$F51,EO51=$G51),50,0))","v":0}]
["Fr. 5. Jul","21:00:00",46,"Portugal","Frankreich",3,5,null,null,"Kroatien",0,2,"Holland",{"$f":"IF(OR(J52=\"\",M52=\"\"),0,IF(AND(J52=$D52,M52=$E52),40,IF(J52=$D52,20,IF(M52=$E52,20,IF(AND(J52<>$D52,M52<>$E52),0)))))","v":0},{"$f":"IF(COUNTIF($D$20:$E$23,M52),40,0)+IF(COUNTIF($D$20:$E$23,J52),40,0)","v":40},{"$f":"IF(OR(J52=\"\",M52=\"\"),0,IF(AND(J52=$D52,M52=$E52,K52=$F52,L52=$G52),50,0))","v":0},"Portugal",0,1,"Holland",{"$f":"IF(OR(Q52=\"\",T52=\"\"),0,IF(AND(Q52=$D52,T52=$E52),40,IF(Q52=$D52,20,IF(T52=$E52,20,IF(AND(Q52<>$D52,T52<>$E52),0)))))","v":20},{"$f":"IF(COUNTIF($D$20:$E$23,T52),40,0)+IF(COUNTIF($D$20:$E$23,Q52),40,0)","v":80},{"$f":"IF(OR(Q52=\"\",T52=\"\"),0,IF(AND(Q52=$D52,T52=$E52,R52=$F52,S52=$G52),50,0))","v":0},"Portugal",0,1,"Frankreich",{"$f":"IF(OR(X52=\"\",AA52=\"\"),0,IF(AND(X52=$D52,AA52=$E52),40,IF(X52=$D52,20,IF(AA52=$E52,20,IF(AND(X52<>$D52,AA52<>$E52),0)))))","v":40},{"$f":"IF(COUNTIF($D$20:$E$23,AA52),40,0)+IF(COUNTIF($D$20:$E$23,X52),40,0)","v":80},{"$f":"IF(OR(X52=\"\",AA52=\"\"),0,IF(AND(X52=$D52,AA52=$E52,Y52=$F52,Z52=$G52),50,0))","v":0},"Portugal",3,1,"Holland",{"$f":"IF(OR(AE52=\"\",AH52=\"\"),0,IF(AND(AE52=$D52,AH52=$E52),40,IF(AE52=$D52,20,IF(AH52=$E52,20,IF(AND(AE52<>$D52,AH52<>$E52),0)))))","v":20},{"$f":"IF(COUNTIF($D$20:$E$23,AH52),40,0)+IF(COUNTIF($D$20:$E$23,AE52),40,0)","v":80},{"$f":"IF(OR(AE52=\"\",AH52=\"\"),0,IF(AND(AE52=$D52,AH52=$E52,AF52=$F52,AG52=$G52),50,0))","v":0},"Portugal",1,0,"Österreich",{"$f":"IF(OR(AL52=\"\",AO52=\"\"),0,IF(AND(AL52=$D52,AO52=$E52),40,IF(AL52=$D52,20,IF(AO52=$E52,20,IF(AND(AL52<>$D52,AO52<>$E52),0)))))","v":20},{"$f":"IF(COUNTIF($D$20:$E$23,AO52),40,0)+IF(COUNTIF($D$20:$E$23,AL52),40,0)","v":40},{"$f":"IF(OR(AL52=\"\",AO52=\"\"),0,IF(AND(AL52=$D52,AO52=$E52,AM52=$F52,AN52=$G52),50,0))","v":0},"Portugal",2,1,"Holland",{"$f":"IF(OR(AS52=\"\",AV52=\"\"),0,IF(AND(AS52=$D52,AV52=$E52),40,IF(AS52=$D52,20,IF(AV52=$E52,20,IF(AND(AS52<>$D52,AV52<>$E52),0)))))","v":20},{"$f":"IF(COUNTIF($D$20:$E$23,AV52),40,0)+IF(COUNTIF($D$20:$E$23,AS52),40,0)","v":80},{"$f":"IF(OR(AS52=\"\",AV52=\"\"),0,IF(AND(AS52=$D52,AV52=$E52,AT52=$F52,AU52=$G52),50,0))","v":0},"Portugal",2,0,"Holland",{"$f":"IF(OR(AZ52=\"\",BC52=\"\"),0,IF(AND(AZ52=$D52,BC52=$E52),40,IF(AZ52=$D52,20,IF(BC52=$E52,20,IF(AND(AZ52<>$D52,BC52<>$E52),0)))))","v":20},{"$f":"IF(COUNTIF($D$20:$E$23,BC52),40,0)+IF(COUNTIF($D$20:$E$23,AZ52),40,0)","v":80},{"$f":"IF(OR(AZ52=\"\",BC52=\"\"),0,IF(AND(AZ52=$D52,BC52=$E52,BA52=$F52,BB52=$G52),50,0))","v":0},"Portugal",2,1,"Österreich",{"$f":"IF(OR(BG52=\"\",BJ52=\"\"),0,IF(AND(BG52=$D52,BJ52=$E52),40,IF(BG52=$D52,20,IF(BJ52=$E52,20,IF(AND(BG52<>$D52,BJ52<>$E52),0)))))","v":20},{"$f":"IF(COUNTIF($D$20:$E$23,BJ52),40,0)+IF(COUNTIF($D$20:$E$23,BG52),40,0)","v":40},{"$f":"IF(OR(BG52=\"\",BJ52=\"\"),0,IF(AND(BG52=$D52,BJ52=$E52,BH52=$F52,BI52=$G52),50,0))","v":0},"Portugal",3,1,"Holland",{"$f":"IF(OR(BN52=\"\",BQ52=\"\"),0,IF(AND(BN52=$D52,BQ52=$E52),40,IF(BN52=$D52,20,IF(BQ52=$E52,20,IF(AND(BN52<>$D52,BQ52<>$E52),0)))))","v":20},{"$f":"IF(COUNTIF($D$20:$E$23,BQ52),40,0)+IF(COUNTIF($D$20:$E$23,BN52),40,0)","v":80},{"$f":"IF(OR(BN52=\"\",BQ52=\"\"),0,IF(AND(BN52=$D52,BQ52=$E52,BO52=$F52,BP52=$G52),50,0))","v":0},"Portugal",1,2,"Holland",{"$f":"IF(OR(BU52=\"\",BX52=\"\"),0,IF(AND(BU52=$D52,BX52=$E52),40,IF(BU52=$D52,20,IF(BX52=$E52,20,IF(AND(BU52<>$D52,BX52<>$E52),0)))))","v":20},{"$f":"IF(COUNTIF($D$20:$E$23,BX52),40,0)+IF(COUNTIF($D$20:$E$23,BU52),40,0)","v":80},{"$f":"IF(OR(BU52=\"\",BX52=\"\"),0,IF(AND(BU52=$D52,BX52=$E52,BV52=$F52,BW52=$G52),50,0))","v":0},"Portugal",1,0,"Polen",{"$f":"IF(OR(CB52=\"\",CE52=\"\"),0,IF(AND(CB52=$D52,CE52=$E52),40,IF(CB52=$D52,20,IF(CE52=$E52,20,IF(AND(CB52<>$D52,CE52<>$E52),0)))))","v":20},{"$f":"IF(COUNTIF($D$20:$E$23,CE52),40,0)+IF(COUNTIF($D$20:$E$23,CB52),40,0)","v":40},{"$f":"IF(OR(CB52=\"\",CE52=\"\"),0,IF(AND(CB52=$D52,CE52=$E52,CC52=$F52,CD52=$G52),50,0))","v":0},"Portugal",1,2,"Holland",{"$f":"IF(OR(CI52=\"\",CL52=\"\"),0,IF(AND(CI52=$D52,CL52=$E52),40,IF(CI52=$D52,20,IF(CL52=$E52,20,IF(AND(CI52<>$D52,CL52<>$E52),0)))))","v":20},{"$f":"IF(COUNTIF($D$20:$E$23,CL52),40,0)+IF(COUNTIF($D$20:$E$23,CI52),40,0)","v":80},{"$f":"IF(OR(CI52=\"\",CL52=\"\"),0,IF(AND(CI52=$D52,CL52=$E52,CJ52=$F52,CK52=$G52),50,0))","v":0},"Portugal",1,0,"Holland",{"$f":"IF(OR(CP52=\"\",CS52=\"\"),0,IF(AND(CP52=$D52,CS52=$E52),40,IF(CP52=$D52,20,IF(CS52=$E52,20,IF(AND(CP52<>$D52,CS52<>$E52),0)))))","v":20},{"$f":"IF(COUNTIF($D$20:$E$23,CS52),40,0)+IF(COUNTIF($D$20:$E$23,CP52),40,0)","v":80},{"$f":"IF(OR(CP52=\"\",CS52=\"\"),0,IF(AND(CP52=$D52,CS52=$E52,CQ52=$F52,CR52=$G52),50,0))","v":0},"Portugal",0,2,"Frankreich",{"$f":"IF(OR(CW52=\"\",CZ52=\"\"),0,IF(AND(CW52=$D52,CZ52=$E52),40,IF(CW52=$D52,20,IF(CZ52=$E52,20,IF(AND(CW52<>$D52,CZ52<>$E52),0)))))","v":40},{"$f":"IF(COUNTIF($D$20:$E$23,CZ52),40,0)+IF(COUNTIF($D$20:$E$23,CW52),40,0)","v":80},{"$f":"IF(OR(CW52=\"\",CZ52=\"\"),0,IF(AND(CW52=$D52,CZ52=$E52,CX52=$F52,CY52=$G52),50,0))","v":0},"Schottland",1,2,"Holland",{"$f":"IF(OR(DD52=\"\",DG52=\"\"),0,IF(AND(DD52=$D52,DG52=$E52),40,IF(DD52=$D52,20,IF(DG52=$E52,20,IF(AND(DD52<>$D52,DG52<>$E52),0)))))","v":0},{"$f":"IF(COUNTIF($D$20:$E$23,DG52),40,0)+IF(COUNTIF($D$20:$E$23,DD52),40,0)","v":40},{"$f":"IF(OR(DD52=\"\",DG52=\"\"),0,IF(AND(DD52=$D52,DG52=$E52,DE52=$F52,DF52=$G52),50,0))","v":0},"Portugal",1,0,"Holland",{"$f":"IF(OR(DK52=\"\",DN52=\"\"),0,IF(AND(DK52=$D52,DN52=$E52),40,IF(DK52=$D52,20,IF(DN52=$E52,20,IF(AND(DK52<>$D52,DN52<>$E52),0)))))","v":20},{"$f":"IF(COUNTIF($D$20:$E$23,DN52),40,0)+IF(COUNTIF($D$20:$E$23,DK52),40,0)","v":80},{"$f":"IF(OR(DK52=\"\",DN52=\"\"),0,IF(AND(DK52=$D52,DN52=$E52,DL52=$F52,DM52=$G52),50,0))","v":0},"Portugal",1,0,"Belgien",{"$f":"IF(OR(DR52=\"\",DU52=\"\"),0,IF(AND(DR52=$D52,DU52=$E52),40,IF(DR52=$D52,20,IF(DU52=$E52,20,IF(AND(DR52<>$D52,DU52<>$E52),0)))))","v":20},{"$f":"IF(COUNTIF($D$20:$E$23,DU52),40,0)+IF(COUNTIF($D$20:$E$23,DR52),40,0)","v":40},{"$f":"IF(OR(DR52=\"\",DU52=\"\"),0,IF(AND(DR52=$D52,DU52=$E52,DS52=$F52,DT52=$G52),50,0))","v":0},"Portugal",2,0,"Belgien",{"$f":"IF(OR(DY52=\"\",EB52=\"\"),0,IF(AND(DY52=$D52,EB52=$E52),40,IF(DY52=$D52,20,IF(EB52=$E52,20,IF(AND(DY52<>$D52,EB52<>$E52),0)))))","v":20},{"$f":"IF(COUNTIF($D$20:$E$23,EB52),40,0)+IF(COUNTIF($D$20:$E$23,DY52),40,0)","v":40},{"$f":"IF(OR(DY52=\"\",EB52=\"\"),0,IF(AND(DY52=$D52,EB52=$E52,DZ52=$F52,EA52=$G52),50,0))","v":0},"Portugal",0,1,"Holland",{"$f":"IF(OR(EF52=\"\",EI52=\"\"),0,IF(AND(EF52=$D52,EI52=$E52),40,IF(EF52=$D52,20,IF(EI52=$E52,20,IF(AND(EF52<>$D52,EI52<>$E52),0)))))","v":20},{"$f":"IF(COUNTIF($D$20:$E$23,EI52),40,0)+IF(COUNTIF($D$20:$E$23,EF52),40,0)","v":80},{"$f":"IF(OR(EF52=\"\",EI52=\"\"),0,IF(AND(EF52=$D52,EI52=$E52,EG52=$F52,EH52=$G52),50,0))","v":0},"Portugal",0,1,"Holland",{"$f":"IF(OR(EM52=\"\",EP52=\"\"),0,IF(AND(EM52=$D52,EP52=$E52),40,IF(EM52=$D52,20,IF(EP52=$E52,20,IF(AND(EM52<>$D52,EP52<>$E52),0)))))","v":20},{"$f":"IF(COUNTIF($D$20:$E$23,EP52),40,0)+IF(COUNTIF($D$20:$E$23,EM52),40,0)","v":80},{"$f":"IF(OR(EM52=\"\",EP52=\"\"),0,IF(AND(EM52=$D52,EP52=$E52,EN52=$F52,EO52=$G52),50,0))","v":0}]
["Sa. 6. Jul","21:00:00",47,"Holland","Türkei",2,1,null,null,"Belgien",1,3,"Frankreich",0,40,0,"Belgien",1,2,"Frankreich",0,40,0,"Kroatien",1,2,"Holland",0,40,0,"Kroatien",1,3,"Frankreich",0,40,0,"Belgien",0,1,"Frankreich",0,40,0,"Belgien",0,3,"Frankreich",0,40,0,"Kroatien",0,1,"Frankreich",0,40,0,"Spanien",5,4,"Frankreich",0,80,0,"Belgien",2,1,"Frankreich",0,40,0,"Belgien",0,2,"Frankreich",0,40,0,"Kroatien",1,2,"Frankreich",0,40,0,"Belgien",0,1,"Frankreich",0,40,0,"Kroatien",1,2,"Frankreich",0,40,0,"Belgien",0,1,"Holland",0,40,0,"Slowakei",1,3,"Frankreich",0,40,0,"Belgien",1,2,"Frankreich",0,40,0,"Italien",0,2,"Frankreich",0,40,0,"Italien",1,2,"Frankreich",0,40,0,"Belgien",0,2,"Frankreich",0,40,0,"Belgien",0,1,"Frankreich",0,40,0]
["Sa. 6. Jul","18:00:00",48,"England","Schweiz",5,3,null,null,"England",1,2,"Italien",20,40,0,"England",0,1,"Italien",20,40,0,"England",1,0,"Spanien",20,80,0,"England",2,1,"Italien",20,40,0,"England",1,0,"Kroatien",20,40,0,"Dänemark",1,2,"Kroatien",0,0,0,"England",1,2,"Italien",20,40,0,"England",1,3,"Kroatien",20,40,0,"England",1,0,"Kroatien",20,40,0,"England",3,2,"Spanien",20,80,0,"England",2,0,"Deutschland",20,80,0,"England",1,0,"Italien",20,40,0,"England",1,0,"Schweiz",40,80,0,"England",3,0,"Schweiz",40,80,0,"England",1,2,"Italien",20,40,0,"England",1,0,"Schweiz",40,80,0,"England",1,0,"Spanien",20,80,0,"Dänemark",1,2,"Kroatien",0,0,0,"Österreich",1,2,"Italien",0,0,0,"England",0,1,"Kroatien",20,40,0]
["Halbfinale"]
[{"$f":"A25","v":"Di. 9. Jul"},"21:00:00",49,"Spanien","Frankreich",{"$f":"IF(F25=\"\",\"\",F25)","v":2},{"$f":"IF(G25=\"\",\"\",G25)","v":1},null,null,"Spanien",2,1,"Holland",{"$f":"IF(OR(J56=\"\",M56=\"\"),0,IF(AND(J56=$D56,M56=$E56),60,IF(J56=$D56,30,IF(M56=$E56,30,IF(AND(J56<>$D56,M56<>$E56),0)))))","v":30},{"$f":"IF(COUNTIF($D$25:$E$26,M56),80,0)+IF(COUNTIF($D$25:$E$26,J56),80,0)","v":160},{"$f":"IF(OR(J56=\"\",M56=\"\"),0,IF(AND(J56=$D56,M56=$E56,K56=$F56,L56=$G56),100,0))","v":0},"Deutschland",2,1,"Holland",{"$f":"IF(OR(Q56=\"\",T56=\"\"),0,IF(AND(Q56=$D56,T56=$E56),60,IF(Q56=$D56,30,IF(T56=$E56,30,IF(AND(Q56<>$D56,T56<>$E56),0)))))","v":0},{"$f":"IF(COUNTIF($D$25:$E$26,T56),80,0)+IF(COUNTIF($D$25:$E$26,Q56),80,0)","v":80},{"$f":"IF(OR(Q56=\"\",T56=\"\"),0,IF(AND(Q56=$D56,T56=$E56,R56=$F56,S56=$G56),100,0))","v":0},"Italien",2,1,"Frankreich",{"$f":"IF(OR(X56=\"\",AA56=\"\"),0,IF(AND(X56=$D56,AA56=$E56),60,IF(X56=$D56,30,IF(AA56=$E56,30,IF(AND(X56<>$D56,AA56<>$E56),0)))))","v":30},{"$f":"IF(COUNTIF($D$25:$E$26,AA56),80,0)+IF(COUNTIF($D$25:$E$26,X56),80,0)","v":80},{"$f":"IF(OR(X56=\"\",AA56=\"\"),0,IF(AND(X56=$D56,AA56=$E56,Y56=$F56,Z56=$G56),100,0))","v":0},"Spanien",1,2,"Portugal",{"$f":"IF(OR(AE56=\"\",AH56=\"\"),0,IF(AND(AE56=$D56,AH56=$E56),60,IF(AE56=$D56,30,IF(AH56=$E56,30,IF(AND(AE56<>$D56,AH56<>$E56),0)))))","v":30},{"$f":"IF(COUNTIF($D$25:$E$26,AH56),80,0)+IF(COUNTIF($D$25:$E$26,AE56),80,0)","v":80},{"$f":"IF(OR(AE56=\"\",AH56=\"\"),0,IF(AND(AE56=$D56,AH56=$E56,AF56=$F56,AG56=$G56),100,0))","v":0},"Deutschland",1,0,"Portugal",{"$f":"IF(OR(AL56=\"\",AO56=\"\"),0,IF(AND(AL56=$D56,AO56=$E56),60,IF(AL56=$D56,30,IF(AO56=$E56,30,IF(AND(AL56<>$D56,AO56<>$E56),0)))))","v":0},{"$f":"IF(COUNTIF($D$25:$E$26,AO56),80,0)+IF(COUNTIF($D$25:$E$26,AL56),80,0)","v":0},{"$f":"IF(OR(AL56=\"\",AO56=\"\"),0,IF(AND(AL56=$D56,AO56=$E56,AM56=$F56,AN56=$G56),100,0))","v":0},"Italien",0,2,"Portugal",{"$f":"IF(OR(AS56=\"\",AV56=\"\"),0,IF(AND(AS56=$D56,AV56=$E56),60,IF(AS56=$D56,30,IF(AV56=$E56,30,IF(AND(AS56<>$D56,AV56<>$E56),0)))))","v":0},{"$f":"IF(COUNTIF($D$25:$E$26,AV56),80,0)+IF(COUNTIF($D$25:$E$26,AS56),80,0)","v":0},{"$f":"IF(OR(AS56=\"\",AV56=\"\"),0,IF(AND(AS56=$D56,AV56=$E56,AT56=$F56,AU56=$G56),100,0))","v":0},"Deutschland",2,1,"Portugal",{"$f":"IF(OR(AZ56=\"\",BC56=\"\"),0,IF(AND(AZ56=$D56,BC56=$E56),60,IF(AZ56=$D56,30,IF(BC56=$E56,30,IF(AND(AZ56<>$D56,BC56<>$E56),0)))))","v":0},{"$f":"IF(COUNTIF($D$25:$E$26,BC56),80,0)+IF(COUNTIF($D$25:$E$26,AZ56),80,0)","v":0},{"$f":"IF(OR(AZ56=\"\",BC56=\"\"),0,IF(AND(AZ56=$D56,BC56=$E56,BA56=$F56,BB56=$G56),100,0))","v":0},"Italien",3,2,"Portugal",{"$f":"IF(OR(BG56=\"\",BJ56=\"\"),0,IF(AND(BG56=$D56,BJ56=$E56),60,IF(BG56=$D56,30,IF(BJ56=$E56,30,IF(AND(BG56<>$D56,BJ56<>$E56),0)))))","v":0},{"$f":"IF(COUNTIF($D$25:$E$26,BJ56),80,0)+IF(COUNTIF($D$25:$E$26,BG56),80,0)","v":0},{"$f":"IF(OR(BG56=\"\",BJ56=\"\"),0,IF(AND(BG56=$D56,BJ56=$E56,BH56=$F56,BI56=$G56),100,0))","v":0},"Spanien",1,2,"Portugal",{"$f":"IF(OR(BN56=\"\",BQ56=\"\"),0,IF(AND(BN56=$D56,BQ56=$E56),60,IF(BN56=$D56,30,IF(BQ56=$E56,30,IF(AND(BN56<>$D56,BQ56<>$E56),0)))))","v":30},{"$f":"IF(COUNTIF($D$25:$E$26,BQ56),80,0)+IF(COUNTIF($D$25:$E$26,BN56),80,0)","v":80},{"$f":"IF(OR(BN56=\"\",BQ56=\"\"),0,IF(AND(BN56=$D56,BQ56=$E56,BO56=$F56,BP56=$G56),100,0))","v":0},"Deutschland",2,1,"Holland",{"$f":"IF(OR(BU56=\"\",BX56=\"\"),0,IF(AND(BU56=$D56,BX56=$E56),60,IF(BU56=$D56,30,IF(BX56=$E56,30,IF(AND(BU56<>$D56,BX56<>$E56),0)))))","v":0},{"$f":"IF(COUNTIF($D$25:$E$26,BX56),80,0)+IF(COUNTIF($D$25:$E$26,BU56),80,0)","v":80},{"$f":"IF(OR(BU56=\"\",BX56=\"\"),0,IF(AND(BU56=$D56,BX56=$E56,BV56=$F56,BW56=$G56),100,0))","v":0},"Schweiz",1,0,"Portugal",{"$f":"IF(OR(CB56=\"\",CE56=\"\"),0,IF(AND(CB56=$D56,CE56=$E56),60,IF(CB56=$D56,30,IF(CE56=$E56,30,IF(AND(CB56<>$D56,CE56<>$E56),0)))))","v":0},{"$f":"IF(COUNTIF($D$25:$E$26,CE56),80,0)+IF(COUNTIF($D$25:$E$26,CB56),80,0)","v":0},{"$f":"IF(OR(CB56=\"\",CE56=\"\"),0,IF(AND(CB56=$D56,CE56=$E56,CC56=$F56,CD56=$G56),100,0))","v":0},"Deutschland",2,1,"Holland",{"$f":"IF(OR(CI56=\"\",CL56=\"\"),0,IF(AND(CI56=$D56,CL56=$E56),60,IF(CI56=$D56,30,IF(CL56=$E56,30,IF(AND(CI56<>$D56,CL56<>$E56),0)))))","v":0},{"$f":"IF(COUNTIF($D$25:$E$26,CL56),80,0)+IF(COUNTIF($D$25:$E$26,CI56),80,0)","v":80},{"$f":"IF(OR(CI56=\"\",CL56=\"\"),0,IF(AND(CI56=$D56,CL56=$E56,CJ56=$F56,CK56=$G56),100,0))","v":0},"Deutschland",1,0,"Portugal",{"$f":"IF(OR(CP56=\"\",CS56=\"\"),0,IF(AND(CP56=$D56,CS56=$E56),60,IF(CP56=$D56,30,IF(CS56=$E56,30,IF(AND(CP56<>$D56,CS56<>$E56),0)))))","v":0},{"$f":"IF(COUNTIF($D$25:$E$26,CS56),80,0)+IF(COUNTIF($D$25:$E$26,CP56),80,0)","v":0},{"$f":"IF(OR(CP56=\"\",CS56=\"\"),0,IF(AND(CP56=$D56,CS56=$E56,CQ56=$F56,CR56=$G56),100,0))","v":0},"Spanien",0,1,"Frankreich",{"$f":"IF(OR(CW56=\"\",CZ56=\"\"),0,IF(AND(CW56=$D56,CZ56=$E56),60,IF(CW56=$D56,30,IF(CZ56=$E56,30,IF(AND(CW56<>$D56,CZ56<>$E56),0)))))","v":60},{"$f":"IF(COUNTIF($D$25:$E$26,CZ56),80,0)+IF(COUNTIF($D$25:$E$26,CW56),80,0)","v":160},{"$f":"IF(OR(CW56=\"\",CZ56=\"\"),0,IF(AND(CW56=$D56,CZ56=$E56,CX56=$F56,CY56=$G56),100,0))","v":0},"Spanien",2,1,"Holland",{"$f":"IF(OR(DD56=\"\",DG56=\"\"),0,IF(AND(DD56=$D56,DG56=$E56),60,IF(DD56=$D56,30,IF(DG56=$E56,30,IF(AND(DD56<>$D56,DG56<>$E56),0)))))","v":30},{"$f":"IF(COUNTIF($D$25:$E$26,DG56),80,0)+IF(COUNTIF($D$25:$E$26,DD56),80,0)","v":160},{"$f":"IF(OR(DD56=\"\",DG56=\"\"),0,IF(AND(DD56=$D56,DG56=$E56,DE56=$F56,DF56=$G56),100,0))","v":0},"Deutschland",1,0,"Portugal",{"$f":"IF(OR(DK56=\"\",DN56=\"\"),0,IF(AND(DK56=$D56,DN56=$E56),60,IF(DK56=$D56,30,IF(DN56=$E56,30,IF(AND(DK56<>$D56,DN56<>$E56),0)))))","v":0},{"$f":"IF(COUNTIF($D$25:$E$26,DN56),80,0)+IF(COUNTIF($D$25:$E$26,DK56),80,0)","v":0},{"$f":"IF(OR(DK56=\"\",DN56=\"\"),0,IF(AND(DK56=$D56,DN56=$E56,DL56=$F56,DM56=$G56),100,0))","v":0},"Deutschland",0,1,"Portugal",{"$f":"IF(OR(DR56=\"\",DU56=\"\"),0,IF(AND(DR56=$D56,DU56=$E56),60,IF(DR56=$D56,30,IF(DU56=$E56,30,IF(AND(DR56<>$D56,DU56<>$E56),0)))))","v":0},{"$f":"IF(COUNTIF($D$25:$E$26,DU56),80,0)+IF(COUNTIF($D$25:$E$26,DR56),80,0)","v":0},{"$f":"IF(OR(DR56=\"\",DU56=\"\"),0,IF(AND(DR56=$D56,DU56=$E56,DS56=$F56,DT56=$G56),100,0))","v":0},"Spanien",2,0,"Portugal",{"$f":"IF(OR(DY56=\"\",EB56=\"\"),0,IF(AND(DY56=$D56,EB56=$E56),60,IF(DY56=$D56,30,IF(EB56=$E56,30,IF(AND(DY56<>$D56,EB56<>$E56),0)))))","v":30},{"$f":"IF(COUNTIF($D$25:$E$26,EB56),80,0)+IF(COUNTIF($D$25:$E$26,DY56),80,0)","v":80},{"$f":"IF(OR(DY56=\"\",EB56=\"\"),0,IF(AND(DY56=$D56,EB56=$E56,DZ56=$F56,EA56=$G56),100,0))","v":0},"Spanien",2,0,"Holland",{"$f":"IF(OR(EF56=\"\",EI56=\"\"),0,IF(AND(EF56=$D56,EI56=$E56),60,IF(EF56=$D56,30,IF(EI56=$E56,30,IF(AND(EF56<>$D56,EI56<>$E56),0)))))","v":30},{"$f":"IF(COUNTIF($D$25:$E$26,EI56),80,0)+IF(COUNTIF($D$25:$E$26,EF56),80,0)","v":160},{"$f":"IF(OR(EF56=\"\",EI56=\"\"),0,IF(AND(EF56=$D56,EI56=$E56,EG56=$F56,EH56=$G56),100,0))","v":0},"Deutschland",1,0,"Holland",{"$f":"IF(OR(EM56=\"\",EP56=\"\"),0,IF(AND(EM56=$D56,EP56=$E56),60,IF(EM56=$D56,30,IF(EP56=$E56,30,IF(AND(EM56<>$D56,EP56<>$E56),0)))))","v":0},{"$f":"IF(COUNTIF($D$25:$E$26,EP56),80,0)+IF(COUNTIF($D$25:$E$26,EM56),80,0)","v":80},{"$f":"IF(OR(EM56=\"\",EP56=\"\"),0,IF(AND(EM56=$D56,EP56=$E56,EN56=$F56,EO56=$G56),100,0))","v":0}]
["Mi. 10. Jul","21:00:00",50,"Holland","England",{"$f":"IF(F26=\"\",\"\",F26)","v":1},{"$f":"IF(G26=\"\",\"\",G26)","v":2},null,null,"Frankreich",2,1,"Italien",{"$f":"IF(OR(J57=\"\",M57=\"\"),0,IF(AND(J57=$D57,M57=$E57),60,IF(J57=$D57,30,IF(M57=$E57,30,IF(AND(J57<>$D57,M57<>$E57),0)))))","v":0},{"$f":"IF(COUNTIF($D$25:$E$26,M57),80,0)+IF(COUNTIF($D$25:$E$26,J57),80,0)","v":80},{"$f":"IF(OR(J57=\"\",M57=\"\"),0,IF(AND(J57=$D57,M57=$E57,K57=$F57,L57=$G57),100,0))","v":0},"Frankreich",0,1,"Italien",{"$f":"IF(OR(Q57=\"\",T57=\"\"),0,IF(AND(Q57=$D57,T57=$E57),60,IF(Q57=$D57,30,IF(T57=$E57,30,IF(AND(Q57<>$D57,T57<>$E57),0)))))","v":0},{"$f":"IF(COUNTIF($D$25:$E$26,T57),80,0)+IF(COUNTIF($D$25:$E$26,Q57),80,0)","v":80},{"$f":"IF(OR(Q57=\"\",T57=\"\"),0,IF(AND(Q57=$D57,T57=$E57,R57=$F57,S57=$G57),100,0))","v":0},"Holland",0,2,"England",{"$f":"IF(OR(X57=\"\",AA57=\"\"),0,IF(AND(X57=$D57,AA57=$E57),60,IF(X57=$D57,30,IF(AA57=$E57,30,IF(AND(X57<>$D57,AA57<>$E57),0)))))","v":60},{"$f":"IF(COUNTIF($D$25:$E$26,AA57),80,0)+IF(COUNTIF($D$25:$E$26,X57),80,0)","v":160},{"$f":"IF(OR(X57=\"\",AA57=\"\"),0,IF(AND(X57=$D57,AA57=$E57,Y57=$F57,Z57=$G57),100,0))","v":0},"Frankreich",2,1,"England",{"$f":"IF(OR(AE57=\"\",AH57=\"\"),0,IF(AND(AE57=$D57,AH57=$E57),60,IF(AE57=$D57,30,IF(AH57=$E57,30,IF(AND(AE57<>$D57,AH57<>$E57),0)))))","v":30},{"$f":"IF(COUNTIF($D$25:$E$26,AH57),80,0)+IF(COUNTIF($D$25:$E$26,AE57),80,0)","v":160},{"$f":"IF(OR(AE57=\"\",AH57=\"\"),0,IF(AND(AE57=$D57,AH57=$E57,AF57=$F57,AG57=$G57),100,0))","v":0},"Frankreich",0,1,"England",{"$f":"IF(OR(AL57=\"\",AO57=\"\"),0,IF(AND(AL57=$D57,AO57=$E57),60,IF(AL57=$D57,30,IF(AO57=$E57,30,IF(AND(AL57<>$D57,AO57<>$E57),0)))))","v":30},{"$f":"IF(COUNTIF($D$25:$E$26,AO57),80,0)+IF(COUNTIF($D$25:$E$26,AL57),80,0)","v":160},{"$f":"IF(OR(AL57=\"\",AO57=\"\"),0,IF(AND(AL57=$D57,AO57=$E57,AM57=$F57,AN57=$G57),100,0))","v":0},"Frankreich",3,0,"Kroatien",{"$f":"IF(OR(AS57=\"\",AV57=\"\"),0,IF(AND(AS57=$D57,AV57=$E57),60,IF(AS57=$D57,30,IF(AV57=$E57,30,IF(AND(AS57<>$D57,AV57<>$E57),0)))))","v":0},{"$f":"IF(COUNTIF($D$25:$E$26,AV57),80,0)+IF(COUNTIF($D$25:$E$26,AS57),80,0)","v":80},{"$f":"IF(OR(AS57=\"\",AV57=\"\"),0,IF(AND(AS57=$D57,AV57=$E57,AT57=$F57,AU57=$G57),100,0))","v":0},"Frankreich",0,1,"Italien",{"$f":"IF(OR(AZ57=\"\",BC57=\"\"),0,IF(AND(AZ57=$D57,BC57=$E57),60,IF(AZ57=$D57,30,IF(BC57=$E57,30,IF(AND(AZ57<>$D57,BC57<>$E57),0)))))","v":0},{"$f":"IF(COUNTIF($D$25:$E$26,BC57),80,0)+IF(COUNTIF($D$25:$E$26,AZ57),80,0)","v":80},{"$f":"IF(OR(AZ57=\"\",BC57=\"\"),0,IF(AND(AZ57=$D57,BC57=$E57,BA57=$F57,BB57=$G57),100,0))","v":0},"Spanien",2,1,"Kroatien",{"$f":"IF(OR(BG57=\"\",BJ57=\"\"),0,IF(AND(BG57=$D57,BJ57=$E57),60,IF(BG57=$D57,30,IF(BJ57=$E57,30,IF(AND(BG57<>$D57,BJ57<>$E57),0)))))","v":0},{"$f":"IF(COUNTIF($D$25:$E$26,BJ57),80,0)+IF(COUNTIF($D$25:$E$26,BG57),80,0)","v":80},{"$f":"IF(OR(BG57=\"\",BJ57=\"\"),0,IF(AND(BG57=$D57,BJ57=$E57,BH57=$F57,BI57=$G57),100,0))","v":0},"Belgien",2,3,"England",{"$f":"IF(OR(BN57=\"\",BQ57=\"\"),0,IF(AND(BN57=$D57,BQ57=$E57),60,IF(BN57=$D57,30,IF(BQ57=$E57,30,IF(AND(BN57<>$D57,BQ57<>$E57),0)))))","v":30},{"$f":"IF(COUNTIF($D$25:$E$26,BQ57),80,0)+IF(COUNTIF($D$25:$E$26,BN57),80,0)","v":80},{"$f":"IF(OR(BN57=\"\",BQ57=\"\"),0,IF(AND(BN57=$D57,BQ57=$E57,BO57=$F57,BP57=$G57),100,0))","v":0},"Frankreich",1,2,"England",{"$f":"IF(OR(BU57=\"\",BX57=\"\"),0,IF(AND(BU57=$D57,BX57=$E57),60,IF(BU57=$D57,30,IF(BX57=$E57,30,IF(AND(BU57<>$D57,BX57<>$E57),0)))))","v":30},{"$f":"IF(COUNTIF($D$25:$E$26,BX57),80,0)+IF(COUNTIF($D$25:$E$26,BU57),80,0)","v":160},{"$f":"IF(OR(BU57=\"\",BX57=\"\"),0,IF(AND(BU57=$D57,BX57=$E57,BV57=$F57,BW57=$G57),100,0))","v":0},"Frankreich",3,1,"England",{"$f":"IF(OR(CB57=\"\",CE57=\"\"),0,IF(AND(CB57=$D57,CE57=$E57),60,IF(CB57=$D57,30,IF(CE57=$E57,30,IF(AND(CB57<>$D57,CE57<>$E57),0)))))","v":30},{"$f":"IF(COUNTIF($D$25:$E$26,CE57),80,0)+IF(COUNTIF($D$25:$E$26,CB57),80,0)","v":160},{"$f":"IF(OR(CB57=\"\",CE57=\"\"),0,IF(AND(CB57=$D57,CE57=$E57,CC57=$F57,CD57=$G57),100,0))","v":0},"Frankreich",1,2,"England",{"$f":"IF(OR(CI57=\"\",CL57=\"\"),0,IF(AND(CI57=$D57,CL57=$E57),60,IF(CI57=$D57,30,IF(CL57=$E57,30,IF(AND(CI57<>$D57,CL57<>$E57),0)))))","v":30},{"$f":"IF(COUNTIF($D$25:$E$26,CL57),80,0)+IF(COUNTIF($D$25:$E$26,CI57),80,0)","v":160},{"$f":"IF(OR(CI57=\"\",CL57=\"\"),0,IF(AND(CI57=$D57,CL57=$E57,CJ57=$F57,CK57=$G57),100,0))","v":0},"Frankreich",2,1,"England",{"$f":"IF(OR(CP57=\"\",CS57=\"\"),0,IF(AND(CP57=$D57,CS57=$E57),60,IF(CP57=$D57,30,IF(CS57=$E57,30,IF(AND(CP57<>$D57,CS57<>$E57),0)))))","v":30},{"$f":"IF(COUNTIF($D$25:$E$26,CS57),80,0)+IF(COUNTIF($D$25:$E$26,CP57),80,0)","v":160},{"$f":"IF(OR(CP57=\"\",CS57=\"\"),0,IF(AND(CP57=$D57,CS57=$E57,CQ57=$F57,CR57=$G57),100,0))","v":0},"Holland",0,2,"England",{"$f":"IF(OR(CW57=\"\",CZ57=\"\"),0,IF(AND(CW57=$D57,CZ57=$E57),60,IF(CW57=$D57,30,IF(CZ57=$E57,30,IF(AND(CW57<>$D57,CZ57<>$E57),0)))))","v":60},{"$f":"IF(COUNTIF($D$25:$E$26,CZ57),80,0)+IF(COUNTIF($D$25:$E$26,CW57),80,0)","v":160},{"$f":"IF(OR(CW57=\"\",CZ57=\"\"),0,IF(AND(CW57=$D57,CZ57=$E57,CX57=$F57,CY57=$G57),100,0))","v":0},"Frankreich",3,2,"Italien",{"$f":"IF(OR(DD57=\"\",DG57=\"\"),0,IF(AND(DD57=$D57,DG57=$E57),60,IF(DD57=$D57,30,IF(DG57=$E57,30,IF(AND(DD57<>$D57,DG57<>$E57),0)))))","v":0},{"$f":"IF(COUNTIF($D$25:$E$26,DG57),80,0)+IF(COUNTIF($D$25:$E$26,DD57),80,0)","v":80},{"$f":"IF(OR(DD57=\"\",DG57=\"\"),0,IF(AND(DD57=$D57,DG57=$E57,DE57=$F57,DF57=$G57),100,0))","v":0},"Frankreich",2,1,"England",{"$f":"IF(OR(DK57=\"\",DN57=\"\"),0,IF(AND(DK57=$D57,DN57=$E57),60,IF(DK57=$D57,30,IF(DN57=$E57,30,IF(AND(DK57<>$D57,DN57<>$E57),0)))))","v":30},{"$f":"IF(COUNTIF($D$25:$E$26,DN57),80,0)+IF(COUNTIF($D$25:$E$26,DK57),80,0)","v":160},{"$f":"IF(OR(DK57=\"\",DN57=\"\"),0,IF(AND(DK57=$D57,DN57=$E57,DL57=$F57,DM57=$G57),100,0))","v":0},"Frankreich",0,1,"England",{"$f":"IF(OR(DR57=\"\",DU57=\"\"),0,IF(AND(DR57=$D57,DU57=$E57),60,IF(DR57=$D57,30,IF(DU57=$E57,30,IF(AND(DR57<>$D57,DU57<>$E57),0)))))","v":30},{"$f":"IF(COUNTIF($D$25:$E$26,DU57),80,0)+IF(COUNTIF($D$25:$E$26,DR57),80,0)","v":160},{"$f":"IF(OR(DR57=\"\",DU57=\"\"),0,IF(AND(DR57=$D57,DU57=$E57,DS57=$F57,DT57=$G57),100,0))","v":0},"Frankreich",2,0,"Kroatien",{"$f":"IF(OR(DY57=\"\",EB57=\"\"),0,IF(AND(DY57=$D57,EB57=$E57),60,IF(DY57=$D57,30,IF(EB57=$E57,30,IF(AND(DY57<>$D57,EB57<>$E57),0)))))","v":0},{"$f":"IF(COUNTIF($D$25:$E$26,EB57),80,0)+IF(COUNTIF($D$25:$E$26,DY57),80,0)","v":80},{"$f":"IF(OR(DY57=\"\",EB57=\"\"),0,IF(AND(DY57=$D57,EB57=$E57,DZ57=$F57,EA57=$G57),100,0))","v":0},"Frankreich",1,0,"Italien",{"$f":"IF(OR(EF57=\"\",EI57=\"\"),0,IF(AND(EF57=$D57,EI57=$E57),60,IF(EF57=$D57,30,IF(EI57=$E57,30,IF(AND(EF57<>$D57,EI57<>$E57),0)))))","v":0},{"$f":"IF(COUNTIF($D$25:$E$26,EI57),80,0)+IF(COUNTIF($D$25:$E$26,EF57),80,0)","v":80},{"$f":"IF(OR(EF57=\"\",EI57=\"\"),0,IF(AND(EF57=$D57,EI57=$E57,EG57=$F57,EH57=$G57),100,0))","v":0},"Frankreich",1,0,"Kroatien",{"$f":"IF(OR(EM57=\"\",EP57=\"\"),0,IF(AND(EM57=$D57,EP57=$E57),60,IF(EM57=$D57,30,IF(EP57=$E57,30,IF(AND(EM57<>$D57,EP57<>$E57),0)))))","v":0},{"$f":"IF(COUNTIF($D$25:$E$26,EP57),80,0)+IF(COUNTIF($D$25:$E$26,EM57),80,0)","v":80},{"$f":"IF(OR(EM57=\"\",EP57=\"\"),0,IF(AND(EM57=$D57,EP57=$E57,EN57=$F57,EO57=$G57),100,0))","v":0}]
["Endspiel"]
[{"$f":"A28","v":"So. 14. Jul"},{"$f":"B28","v":"21:00:00"},{"$f":"C28","v":51},{"$f":"D28","v":"Spanien"},{"$f":"E28","v":"England"},{"$f":"IF(F28=\"\",\"\",F28)","v":2},{"$f":"IF(G28=\"\",\"\",G28)","v":1},null,null,"Spanien",0,2,"Frankreich",{"$f":"IF(OR(J59=\"\",M59=\"\"),0,IF(AND(J59=$D59,M59=$E59),100,IF(J59=$D59,50,IF(M59=$E59,50,IF(AND(J59<>$D59,M59<>$E59),0)))))","v":50},{"$f":"IF(COUNTIF($D$28:$E$28,M59),100,0)+IF(COUNTIF($D$28:$E$28,J59),100,0)","v":100},{"$f":"IF(OR(J59=\"\",M59=\"\"),0,IF(AND(J59=$D59,M59=$E59,K59=$F59,L59=$G59),200,0))","v":0},"Deutschland",0,2,"Italien",{"$f":"IF(OR(Q59=\"\",T59=\"\"),0,IF(AND(Q59=$D59,T59=$E59),100,IF(Q59=$D59,50,IF(T59=$E59,50,IF(AND(Q59<>$D59,T59<>$E59),0)))))","v":0},{"$f":"IF(COUNTIF($D$28:$E$28,T59),100,0)+IF(COUNTIF($D$28:$E$28,Q59),100,0)","v":0},{"$f":"IF(OR(Q59=\"\",T59=\"\"),0,IF(AND(Q59=$D59,T59=$E59,R59=$F59,S59=$G59),200,0))","v":0},"Italien",2,1,"England",{"$f":"IF(OR(X59=\"\",AA59=\"\"),0,IF(AND(X59=$D59,AA59=$E59),100,IF(X59=$D59,50,IF(AA59=$E59,50,IF(AND(X59<>$D59,AA59<>$E59),0)))))","v":50},{"$f":"IF(COUNTIF($D$28:$E$28,AA59),100,0)+IF(COUNTIF($D$28:$E$28,X59),100,0)","v":100},{"$f":"IF(OR(X59=\"\",AA59=\"\"),0,IF(AND(X59=$D59,AA59=$E59,Y59=$F59,Z59=$G59),200,0))","v":0},"Portugal",1,3,"Frankreich",{"$f":"IF(OR(AE59=\"\",AH59=\"\"),0,IF(AND(AE59=$D59,AH59=$E59),100,IF(AE59=$D59,50,IF(AH59=$E59,50,IF(AND(AE59<>$D59,AH59<>$E59),0)))))","v":0},{"$f":"IF(COUNTIF($D$28:$E$28,AH59),100,0)+IF(COUNTIF($D$28:$E$28,AE59),100,0)","v":0},{"$f":"IF(OR(AE59=\"\",AH59=\"\"),0,IF(AND(AE59=$D59,AH59=$E59,AF59=$F59,AG59=$G59),200,0))","v":0},"Deutschland",1,2,"England",{"$f":"IF(OR(AL59=\"\",AO59=\"\"),0,IF(AND(AL59=$D59,AO59=$E59),100,IF(AL59=$D59,50,IF(AO59=$E59,50,IF(AND(AL59<>$D59,AO59<>$E59),0)))))","v":50},{"$f":"IF(COUNTIF($D$28:$E$28,AO59),100,0)+IF(COUNTIF($D$28:$E$28,AL59),100,0)","v":100},{"$f":"IF(OR(AL59=\"\",AO59=\"\"),0,IF(AND(AL59=$D59,AO59=$E59,AM59=$F59,AN59=$G59),200,0))","v":0},"Portugal",2,1,"Frankreich",{"$f":"IF(OR(AS59=\"\",AV59=\"\"),0,IF(AND(AS59=$D59,AV59=$E59),100,IF(AS59=$D59,50,IF(AV59=$E59,50,IF(AND(AS59<>$D59,AV59<>$E59),0)))))","v":0},{"$f":"IF(COUNTIF($D$28:$E$28,AV59),100,0)+IF(COUNTIF($D$28:$E$28,AS59),100,0)","v":0},{"$f":"IF(OR(AS59=\"\",AV59=\"\"),0,IF(AND(AS59=$D59,AV59=$E59,AT59=$F59,AU59=$G59),200,0))","v":0},"Deutschland",0,2,"Italien",{"$f":"IF(OR(AZ59=\"\",BC59=\"\"),0,IF(AND(AZ59=$D59,BC59=$E59),100,IF(AZ59=$D59,50,IF(BC59=$E59,50,IF(AND(AZ59<>$D59,BC59<>$E59),0)))))","v":0},{"$f":"IF(COUNTIF($D$28:$E$28,BC59),100,0)+IF(COUNTIF($D$28:$E$28,AZ59),100,0)","v":0},{"$f":"IF(OR(AZ59=\"\",BC59=\"\"),0,IF(AND(AZ59=$D59,BC59=$E59,BA59=$F59,BB59=$G59),200,0))","v":0},"Italien",5,4,"Spanien",{"$f":"IF(OR(BG59=\"\",BJ59=\"\"),0,IF(AND(BG59=$D59,BJ59=$E59),100,IF(BG59=$D59,50,IF(BJ59=$E59,50,IF(AND(BG59<>$D59,BJ59<>$E59),0)))))","v":0},{"$f":"IF(COUNTIF($D$28:$E$28,BJ59),100,0)+IF(COUNTIF($D$28:$E$28,BG59),100,0)","v":100},{"$f":"IF(OR(BG59=\"\",BJ59=\"\"),0,IF(AND(BG59=$D59,BJ59=$E59,BH59=$F59,BI59=$G59),200,0))","v":0},"Portugal",2,0,"England",{"$f":"IF(OR(BN59=\"\",BQ59=\"\"),0,IF(AND(BN59=$D59,BQ59=$E59),100,IF(BN59=$D59,50,IF(BQ59=$E59,50,IF(AND(BN59<>$D59,BQ59<>$E59),0)))))","v":50},{"$f":"IF(COUNTIF($D$28:$E$28,BQ59),100,0)+IF(COUNTIF($D$28:$E$28,BN59),100,0)","v":100},{"$f":"IF(OR(BN59=\"\",BQ59=\"\"),0,IF(AND(BN59=$D59,BQ59=$E59,BO59=$F59,BP59=$G59),200,0))","v":0},"Deutschland",2,1,"England",{"$f":"IF(OR(BU59=\"\",BX59=\"\"),0,IF(AND(BU59=$D59,BX59=$E59),100,IF(BU59=$D59,50,IF(BX59=$E59,50,IF(AND(BU59<>$D59,BX59<>$E59),0)))))","v":50},{"$f":"IF(COUNTIF($D$28:$E$28,BX59),100,0)+IF(COUNTIF($D$28:$E$28,BU59),100,0)","v":100},{"$f":"IF(OR(BU59=\"\",BX59=\"\"),0,IF(AND(BU59=$D59,BX59=$E59,BV59=$F59,BW59=$G59),200,0))","v":0},"Schweiz",1,2,"Frankreich",{"$f":"IF(OR(CB59=\"\",CE59=\"\"),0,IF(AND(CB59=$D59,CE59=$E59),100,IF(CB59=$D59,50,IF(CE59=$E59,50,IF(AND(CB59<>$D59,CE59<>$E59),0)))))","v":0},{"$f":"IF(COUNTIF($D$28:$E$28,CE59),100,0)+IF(COUNTIF($D$28:$E$28,CB59),100,0)","v":0},{"$f":"IF(OR(CB59=\"\",CE59=\"\"),0,IF(AND(CB59=$D59,CE59=$E59,CC59=$F59,CD59=$G59),200,0))","v":0},"Deutschland",1,0,"England",{"$f":"IF(OR(CI59=\"\",CL59=\"\"),0,IF(AND(CI59=$D59,CL59=$E59),100,IF(CI59=$D59,50,IF(CL59=$E59,50,IF(AND(CI59<>$D59,CL59<>$E59),0)))))","v":50},{"$f":"IF(COUNTIF($D$28:$E$28,CL59),100,0)+IF(COUNTIF($D$28:$E$28,CI59),100,0)","v":100},{"$f":"IF(OR(CI59=\"\",CL59=\"\"),0,IF(AND(CI59=$D59,CL59=$E59,CJ59=$F59,CK59=$G59),200,0))","v":0},"Deutschland",2,3,"Frankreich",{"$f":"IF(OR(CP59=\"\",CS59=\"\"),0,IF(AND(CP59=$D59,CS59=$E59),100,IF(CP59=$D59,50,IF(CS59=$E59,50,IF(AND(CP59<>$D59,CS59<>$E59),0)))))","v":0},{"$f":"IF(COUNTIF($D$28:$E$28,CS59),100,0)+IF(COUNTIF($D$28:$E$28,CP59),100,0)","v":0},{"$f":"IF(OR(CP59=\"\",CS59=\"\"),0,IF(AND(CP59=$D59,CS59=$E59,CQ59=$F59,CR59=$G59),200,0))","v":0},"Frankreich",1,3,"England",{"$f":"IF(OR(CW59=\"\",CZ59=\"\"),0,IF(AND(CW59=$D59,CZ59=$E59),100,IF(CW59=$D59,50,IF(CZ59=$E59,50,IF(AND(CW59<>$D59,CZ59<>$E59),0)))))","v":50},{"$f":"IF(COUNTIF($D$28:$E$28,CZ59),100,0)+IF(COUNTIF($D$28:$E$28,CW59),100,0)","v":100},{"$f":"IF(OR(CW59=\"\",CZ59=\"\"),0,IF(AND(CW59=$D59,CZ59=$E59,CX59=$F59,CY59=$G59),200,0))","v":0},"Spanien",0,1,"Frankreich",{"$f":"IF(OR(DD59=\"\",DG59=\"\"),0,IF(AND(DD59=$D59,DG59=$E59),100,IF(DD59=$D59,50,IF(DG59=$E59,50,IF(AND(DD59<>$D59,DG59<>$E59),0)))))","v":50},{"$f":"IF(COUNTIF($D$28:$E$28,DG59),100,0)+IF(COUNTIF($D$28:$E$28,DD59),100,0)","v":100},{"$f":"IF(OR(DD59=\"\",DG59=\"\"),0,IF(AND(DD59=$D59,DG59=$E59,DE59=$F59,DF59=$G59),200,0))","v":0},"Deutschland",1,0,"Frankreich",{"$f":"IF(OR(DK59=\"\",DN59=\"\"),0,IF(AND(DK59=$D59,DN59=$E59),100,IF(DK59=$D59,50,IF(DN59=$E59,50,IF(AND(DK59<>$D59,DN59<>$E59),0)))))","v":0},{"$f":"IF(COUNTIF($D$28:$E$28,DN59),100,0)+IF(COUNTIF($D$28:$E$28,DK59),100,0)","v":0},{"$f":"IF(OR(DK59=\"\",DN59=\"\"),0,IF(AND(DK59=$D59,DN59=$E59,DL59=$F59,DM59=$G59),200,0))","v":0},"Portugal",1,0,"England",{"$f":"IF(OR(DR59=\"\",DU59=\"\"),0,IF(AND(DR59=$D59,DU59=$E59),100,IF(DR59=$D59,50,IF(DU59=$E59,50,IF(AND(DR59<>$D59,DU59<>$E59),0)))))","v":50},{"$f":"IF(COUNTIF($D$28:$E$28,DU59),100,0)+IF(COUNTIF($D$28:$E$28,DR59),100,0)","v":100},{"$f":"IF(OR(DR59=\"\",DU59=\"\"),0,IF(AND(DR59=$D59,DU59=$E59,DS59=$F59,DT59=$G59),200,0))","v":0},"Spanien",2,1,"Frankreich",{"$f":"IF(OR(DY59=\"\",EB59=\"\"),0,IF(AND(DY59=$D59,EB59=$E59),100,IF(DY59=$D59,50,IF(EB59=$E59,50,IF(AND(DY59<>$D59,EB59<>$E59),0)))))","v":50},{"$f":"IF(COUNTIF($D$28:$E$28,EB59),100,0)+IF(COUNTIF($D$28:$E$28,DY59),100,0)","v":100},{"$f":"IF(OR(DY59=\"\",EB59=\"\"),0,IF(AND(DY59=$D59,EB59=$E59,DZ59=$F59,EA59=$G59),200,0))","v":0},"Spanien",1,2,"Frankreich",{"$f":"IF(OR(EF59=\"\",EI59=\"\"),0,IF(AND(EF59=$D59,EI59=$E59),100,IF(EF59=$D59,50,IF(EI59=$E59,50,IF(AND(EF59<>$D59,EI59<>$E59),0)))))","v":50},{"$f":"IF(COUNTIF($D$28:$E$28,EI59),100,0)+IF(COUNTIF($D$28:$E$28,EF59),100,0)","v":100},{"$f":"IF(OR(EF59=\"\",EI59=\"\"),0,IF(AND(EF59=$D59,EI59=$E59,EG59=$F59,EH59=$G59),200,0))","v":0},"Deutschland",0,1,"Frankreich",{"$f":"IF(OR(EM59=\"\",EP59=\"\"),0,IF(AND(EM59=$D59,EP59=$E59),100,IF(EM59=$D59,50,IF(EP59=$E59,50,IF(AND(EM59<>$D59,EP59<>$E59),0)))))","v":0},{"$f":"IF(COUNTIF($D$28:$E$28,EP59),100,0)+IF(COUNTIF($D$28:$E$28,EM59),100,0)","v":0},{"$f":"IF(OR(EM59=\"\",EP59=\"\"),0,IF(AND(EM59=$D59,EP59=$E59,EN59=$F59,EO59=$G59),200,0))","v":0}]
["Europameister"]
[null,null,null,{"$f":"D30","v":"Spanien"},null,null,null,null,null,"Europameister:",null,null,{"$f":"IF(K59=L59,\"\",IF(K59>L59,J59,M59))","v":"Frankreich"},null,null,{"$f":"IF(OR(M61=\"\"),0,IF(M61=$D61,300,0))","v":0},"Europameister:",null,null,{"$f":"IF(R59=S59,\"\",IF(R59>S59,Q59,T59))","v":"Italien"},null,null,{"$f":"IF(OR(T61=\"\"),0,IF(T61=$D61,300,0))","v":0},"Europameister:",null,null,{"$f":"IF(Y59=Z59,\"\",IF(Y59>Z59,X59,AA59))","v":"Italien"},null,null,{"$f":"IF(OR(AA61=\"\"),0,IF(AA61=$D61,300,0))","v":0},"Europameister:",null,null,{"$f":"IF(AF59=AG59,\"\",IF(AF59>AG59,AE59,AH59))","v":"Frankreich"},null,null,{"$f":"IF(OR(AH61=\"\"),0,IF(AH61=$D61,300,0))","v":0},"Europameister:",null,null,{"$f":"IF(AM59=AN59,\"\",IF(AM59>AN59,AL59,AO59))","v":"England"},null,null,{"$f":"IF(OR(AO61=\"\"),0,IF(AO61=$D61,300,0))","v":0},"Europameister:",null,null,{"$f":"IF(AT59=AU59,\"\",IF(AT59>AU59,AS59,AV59))","v":"Portugal"},null,null,{"$f":"IF(OR(AV61=\"\"),0,IF(AV61=$D61,300,0))","v":0},"Europameister:",null,null,{"$f":"IF(BA59=BB59,\"\",IF(BA59>BB59,AZ59,BC59))","v":"Italien"},null,null,{"$f":"IF(OR(BC61=\"\"),0,IF(BC61=$D61,300,0))","v":0},"Europameister:",null,null,{"$f":"IF(BH59=BI59,\"\",IF(BH59>BI59,BG59,BJ59))","v":"Italien"},null,null,{"$f":"IF(OR(BJ61=\"\"),0,IF(BJ61=$D61,300,0))","v":0},"Europameister:",null,null,{"$f":"IF(BO59=BP59,\"\",IF(BO59>BP59,BN59,BQ59))","v":"Portugal"},null,null,{"$f":"IF(OR(BQ61=\"\"),0,IF(BQ61=$D61,300,0))","v":0},"Europameister:",null,null,{"$f":"IF(BV59=BW59,\"\",IF(BV59>BW59,BU59,BX59))","v":"Deutschland"},null,null,{"$f":"IF(OR(BX61=\"\"),0,IF(BX61=$D61,300,0))","v":0},"Europameister:",null,null,{"$f":"IF(CC59=CD59,\"\",IF(CC59>CD59,CB59,CE59))","v":"Frankreich"},null,null,{"$f":"IF(OR(CE61=\"\"),0,IF(CE61=$D61,300,0))","v":0},"Europameister:",null,null,{"$f":"IF(CJ59=CK59,\"\",IF(CJ59>CK59,CI59,CL59))","v":"Deutschland"},null,null,{"$f":"IF(OR(CL61=\"\"),0,IF(CL61=$D61,300,0))","v":0},"Europameister:",null,null,{"$f":"IF(CQ59=CR59,\"\",IF(CQ59>CR59,CP59,CS59))","v":"Frankreich"},null,null,{"$f":"IF(OR(CS61=\"\"),0,IF(CS61=$D61,300,0))","v":0},"Europameister:",null,null,{"$f":"IF(CX59=CY59,\"\",IF(CX59>CY59,CW59,CZ59))","v":"England"},null,null,{"$f":"IF(OR(CZ61=\"\"),0,IF(CZ61=$D61,300,0))","v":0},"Europameister:",null,null,{"$f":"IF(DE59=DF59,\"\",IF(DE59>DF59,DD59,DG59))","v":"Frankreich"},null,null,{"$f":"IF(OR(DG61=\"\"),0,IF(DG61=$D61,300,0))","v":0},"Europameister:",null,null,{"$f":"IF(DL59=DM59,\"\",IF(DL59>DM59,DK59,DN59))","v":"Deutschland"},null,null,{"$f":"IF(OR(DN61=\"\"),0,IF(DN61=$D61,300,0))","v":0},"Europameister:",null,null,{"$f":"IF(DS59=DT59,\"\",IF(DS59>DT59,DR59,DU59))","v":"Portugal"},null,null,{"$f":"IF(OR(DU61=\"\"),0,IF(DU61=$D61,300,0))","v":0},"Europameister:",null,null,{"$f":"IF(DZ59=EA59,\"\",IF(DZ59>EA59,DY59,EB59))","v":"Spanien"},null,null,{"$f":"IF(OR(EB61=\"\"),0,IF(EB61=$D61,300,0))","v":300},"Europameister:",null,null,{"$f":"IF(EG59=EH59,\"\",IF(EG59>EH59,EF59,EI59))","v":"Frankreich"},null,null,{"$f":"IF(OR(EI61=\"\"),0,IF(EI61=$D61,300,0))","v":0},"Europameister:",null,null,{"$f":"IF(EN59=EO59,\"\",IF(EN59>EO59,EM59,EP59))","v":"Frankreich"},null,null,{"$f":"IF(OR(EP61=\"\"),0,IF(EP61=$D61,300,0))","v":0}]
[null,null,null,null,null,null,null,null,null,{"$f":"Teilnehmerliste!$C26","v":"Lisa"},null,null,null,{"$f":"SUM(N42:P61)","v":1070},null,null,{"$f":"Teilnehmerliste!$C27","v":"Niva"},null,null,null,{"$f":"SUM(U42:W61)","v":800},null,null,{"$f":"Teilnehmerliste!$C28","v":"Vinci"},null,null,null,{"$f":"SUM(AB42:AD61)","v":1130},null,null,{"$f":"Teilnehmerliste!$C29","v":"Goran"},null,null,null,{"$f":"SUM(AI42:AK61)","v":950},null,null,{"$f":"Teilnehmerliste!$C30","v":"Dino"},null,null,null,{"$f":"SUM(AP42:AR61)","v":970},null,null,{"$f":"Teilnehmerliste!$C31","v":"Marlon"},null,null,null,{"$f":"SUM(AW42:AY61)","v":540},null,null,{"$f":"Teilnehmerliste!$C32","v":"Maurizio"},null,null,null,{"$f":"SUM(BD42:BF61)","v":690},null,null,{"$f":"Teilnehmerliste!$C33","v":"Roberto"},null,null,null,{"$f":"SUM(BK42:BM61)","v":740},null,null,{"$f":"Teilnehmerliste!$C34","v":"Rui"},null,null,null,{"$f":"SUM(BR42:BT61)","v":940},null,null,{"$f":"Teilnehmerliste!$C35","v":"Laurent"},null,null,null,{"$f":"SUM(BY42:CA61)","v":1070},null,null,{"$f":"Teilnehmerliste!$C36","v":"Gregory"},null,null,null,{"$f":"SUM(CF42:CH61)","v":820},null,null,{"$f":"Teilnehmerliste!$C37","v":"Reto"},null,null,null,{"$f":"SUM(CM42:CO61)","v":1100},null,null,{"$f":"Teilnehmerliste!$C38","v":"Sarina"},null,null,null,{"$f":"SUM(CT42:CV61)","v":800},null,null,{"$f":"Teilnehmerliste!$C39","v":"Stefan"},null,null,null,{"$f":"SUM(DA42:DC61)","v":1410},null,null,{"$f":"Teilnehmerliste!$C40","v":"Timothy"},null,null,null,{"$f":"SUM(DH42:DJ61)","v":1050},null,null,{"$f":"Teilnehmerliste!$C41","v":"Florian"},null,null,null,{"$f":"SUM(DO42:DQ61)","v":820},null,null,{"$f":"Teilnehmerliste!$C42","v":"Djuma"},null,null,null,{"$f":"SUM(DV42:DX61)","v":960},null,null,{"$f":"Teilnehmerliste!$C43","v":"Agnes"},null,null,null,{"$f":"SUM(EC42:EE61)","v":1160},null,null,{"$f":"Teilnehmerliste!$C44","v":"Andreas"},null,null,null,{"$f":"SUM(EJ42:EL61)","v":1050},null,null,{"$f":"Teilnehmerliste!$C45","v":"Michi"},null,null,null,{"$f":"SUM(EQ42:ES61)","v":800}]
[]
[]
["Finalrunde",null,null,"Spieler 41 - 60"]
[{"$f":"A4","v":"Pro richtige Mannschaft am richtigen Ort: 1/8=10, 1/4=20, 1/2=30, Finale=50"},null,null,null,null,null,null,null,null,{"$f":"Teilnehmerliste!$B46","v":"Jones"},null,null,null,null,null,null,{"$f":"Teilnehmerliste!$B47","v":"Kalinci"},null,null,null,null,null,null,{"$f":"Teilnehmerliste!$B48","v":"Keller"},null,null,null,null,null,null,{"$f":"Teilnehmerliste!$B49","v":"Lanz"},null,null,null,null,null,null,{"$f":"Teilnehmerliste!$B50","v":"Lischer"},null,null,null,null,null,null,{"$f":"Teilnehmerliste!$B51","v":"Lütolf"},null,null,null,null,null,null,{"$f":"Teilnehmerliste!$B52","v":"Marini"},null,null,null,null,null,null,{"$f":"Teilnehmerliste!$B53","v":"Marthaler"},null,null,null,null,null,null,{"$f":"Teilnehmerliste!$B54","v":"Oliveira"},null,null,null,null,null,null,{"$f":"Teilnehmerliste!$B55","v":"Palma"},null,null,null,null,null,null,{"$f":"Teilnehmerliste!$B56","v":"Pek"},null,null,null,null,null,null,{"$f":"Teilnehmerliste!$B57","v":"Pietzke"},null,null,null,null,null,null,{"$f":"Teilnehmerliste!$B58","v":"Rauscher"},null,null,null,null,null,null,{"$f":"Teilnehmerliste!$B59","v":"Rohner"},null,null,null,null,null,null,{"$f":"Teilnehmerliste!$B60","v":"Rüegg"},null,null,null,null,null,null,{"$f":"Teilnehmerliste!$B61","v":"Rüegg"},null,null,null,null,null,null,{"$f":"Teilnehmerliste!$B62","v":"Rüegg"},null,null,null,null,null,null,{"$f":"Teilnehmerliste!$B63","v":"Schommarz"},null,null,null,null,null,null,{"$f":"Teilnehmerliste!$B64","v":"Schuster"},null,null,null,null,null,null,{"$f":"Teilnehmerliste!$B65","v":"Schwitter"}]
[{"$f":"A5","v":"Pro richtige Mannschaft im ... Finale: 1/8=20, 1/4=40, 1/2=80, Finale=100"},null,null,null,null,null,null,null,null,{"$f":"Teilnehmerliste!$C46","v":"Aiden"},null,null,null,null,null,null,{"$f":"Teilnehmerliste!$C47","v":"Murat"},null,null,null,null,null,null,{"$f":"Teilnehmerliste!$C48","v":"Pascal"},null,null,null,null,null,null,{"$f":"Teilnehmerliste!$C49","v":"André"},null,null,null,null,null,null,{"$f":"Teilnehmerliste!$C50","v":"Franz"},null,null,null,null,null,null,{"$f":"Teilnehmerliste!$C51","v":"Marc"},null,null,null,null,null,null,{"$f":"Teilnehmerliste!$C52","v":"Mauro"},null,null,null,null,null,null,{"$f":"Teilnehmerliste!$C53","v":"Martin"},null,null,null,null,null,null,{"$f":"Teilnehmerliste!$C54","v":"Telmo"},null,null,null,null,null,null,{"$f":"Teilnehmerliste!$C55","v":"Luigi"},null,null,null,null,null,null,{"$f":"Teilnehmerliste!$C56","v":"Lechena"},null,null,null,null,null,null,{"$f":"Teilnehmerliste!$C57","v":"Jannis"},null,null,null,null,null,null,{"$f":"Teilnehmerliste!$C58","v":"Petra"},null,null,null,null,null,null,{"$f":"Teilnehmerliste!$C59","v":"Martin"},null,null,null,null,null,null,{"$f":"Teilnehmerliste!$C60","v":"Lynn"},null,null,null,null,null,null,{"$f":"Teilnehmerliste!$C61","v":"Michael"},null,null,null,null,null,null,{"$f":"Teilnehmerliste!$C62","v":"Sabine"},null,null,null,null,null,null,{"$f":"Teilnehmerliste!$C63","v":"Erich"},null,null,null,null,null,null,{"$f":"Teilnehmerliste!$C64","v":"Ralph"},null,null,null,null,null,null,{"$f":"Teilnehmerliste!$C65","v":"Corinne"}]
[{"$f":"A6","v":"Richtiges Resultat: 1/8=30, 1/4=50, 1/2=100, Finale=200"},null,null,null,null,null,null,null,null,null,null,null,null,null,null,{"$f":"Teilnehmerliste!$A46","v":41},null,null,null,null,null,null,{"$f":"Teilnehmerliste!$A47","v":42},null,null,null,null,null,null,{"$f":"Teilnehmerliste!$A48","v":43},null,null,null,null,null,null,{"$f":"Teilnehmerliste!$A49","v":44},null,null,null,null,null,null,{"$f":"Teilnehmerliste!$A50","v":45},null,null,null,null,null,null,{"$f":"Teilnehmerliste!$A51","v":46},null,null,null,null,null,null,{"$f":"Teilnehmerliste!$A52","v":47},null,null,null,null,null,null,{"$f":"Teilnehmerliste!$A53","v":48},null,null,null,null,null,null,{"$f":"Teilnehmerliste!$A54","v":49},null,null,null,null,null,null,{"$f":"Teilnehmerliste!$A55","v":50},null,null,null,null,null,null,{"$f":"Teilnehmerliste!$A56","v":51},null,null,null,null,null,null,{"$f":"Teilnehmerliste!$A57","v":52},null,null,null,null,null,null,{"$f":"Teilnehmerliste!$A58","v":53},null,null,null,null,null,null,{"$f":"Teilnehmerliste!$A59","v":54},null,null,null,null,null,null,{"$f":"Teilnehmerliste!$A60","v":55},null,null,null,null,null,null,{"$f":"Teilnehmerliste!$A61","v":56},null,null,null,null,null,null,{"$f":"Teilnehmerliste!$A62","v":57},null,null,null,null,null,null,{"$f":"Teilnehmerliste!$A63","v":58},null,null,null,null,null,null,{"$f":"Teilnehmerliste!$A64","v":59},null,null,null,null,null,null,{"$f":"Teilnehmerliste!$A65","v":60}]
[{"$f":"A7","v":"Richtiger Europameister = 300"}]
[]
["Datum","Zeit","Nr.","Spiel",null,"Resultat"]
["Achtelfinale",null,null,null,null,null,null,null,null,"Tipp",null,null,null,"Pkt",null,null,"Tipp",null,null,null,"Pkt",null,null,"Tipp",null,null,null,"Pkt",null,null,"Tipp",null,null,null,"Pkt",null,null,"Tipp",null,null,null,"Pkt",null,null,"Tipp",null,null,null,"Pkt",null,null,"Tipp",null,null,null,"Pkt",null,null,"Tipp",null,null,null,"Pkt",null,null,"Tipp",null,null,null,"Pkt",null,null,"Tipp",null,null,null,"Pkt",null,null,"Tipp",null,null,null,"Pkt",null,null,"Tipp",null,null,null,"Pkt",null,null,"Tipp",null,null,null,"Pkt",null,null,"Tipp",null,null,null,"Pkt",null,null,"Tipp",null,null,null,"Pkt",null,null,"Tipp",null,null,null,"Pkt",null,null,"Tipp",null,null,null,"Pkt",null,null,"Tipp",null,null,null,"Pkt",null,null,"Tipp",null,null,null,"Pkt",null,null,"Tipp",null,null,null,"Pkt"]
[{"$f":"A42","v":"Sa. 29. Jun"},"21:00:00",37,"Deutschland","Dänemark",{"$f":"IF(F42=\"\",\"\",F42)","v":2},0,null,null,"Deutschland",1,0,"Dänemark",{"$f":"IF(OR(J73=\"\",M73=\"\"),0,IF(AND(J73=$D73,M73=$E73),20,IF(J73=$D73,10,IF(M73=$E73,10,IF(AND(J73<>$D73,M73<>$E73),0)))))","v":20},{"$f":"IF(COUNTIF($D$11:$E$18,M73),20,0)+IF(COUNTIF($D$11:$E$18,J73),20,0)","v":40},{"$f":"IF(OR(J73=\"\",M73=\"\"),0,IF(AND(J73=$D73,M73=$E73,K73=$F73,L73=$G73),30,0))","v":0},"Deutschland",3,1,"Dänemark",{"$f":"IF(OR(Q73=\"\",T73=\"\"),0,IF(AND(Q73=$D73,T73=$E73),20,IF(Q73=$D73,10,IF(T73=$E73,10,IF(AND(Q73<>$D73,T73<>$E73),0)))))","v":20},{"$f":"IF(COUNTIF($D$11:$E$18,T73),20,0)+IF(COUNTIF($D$11:$E$18,Q73),20,0)","v":40},{"$f":"IF(OR(Q73=\"\",T73=\"\"),0,IF(AND(Q73=$D73,T73=$E73,R73=$F73,S73=$G73),30,0))","v":0},"Deutschland",2,0,"Dänemark",{"$f":"IF(OR(X73=\"\",AA73=\"\"),0,IF(AND(X73=$D73,AA73=$E73),20,IF(X73=$D73,10,IF(AA73=$E73,10,IF(AND(X73<>$D73,AA73<>$E73),0)))))","v":20},{"$f":"IF(COUNTIF($D$11:$E$18,AA73),20,0)+IF(COUNTIF($D$11:$E$18,X73),20,0)","v":40},{"$f":"IF(OR(X73=\"\",AA73=\"\"),0,IF(AND(X73=$D73,AA73=$E73,Y73=$F73,Z73=$G73),30,0))","v":30},"Deutschland",4,3,"Dänemark",{"$f":"IF(OR(AE73=\"\",AH73=\"\"),0,IF(AND(AE73=$D73,AH73=$E73),20,IF(AE73=$D73,10,IF(AH73=$E73,10,IF(AND(AE73<>$D73,AH73<>$E73),0)))))","v":20},{"$f":"IF(COUNTIF($D$11:$E$18,AH73),20,0)+IF(COUNTIF($D$11:$E$18,AE73),20,0)","v":40},{"$f":"IF(OR(AE73=\"\",AH73=\"\"),0,IF(AND(AE73=$D73,AH73=$E73,AF73=$F73,AG73=$G73),30,0))","v":0},"Deutschland",2,0,"Dänemark",{"$f":"IF(OR(AL73=\"\",AO73=\"\"),0,IF(AND(AL73=$D73,AO73=$E73),20,IF(AL73=$D73,10,IF(AO73=$E73,10,IF(AND(AL73<>$D73,AO73<>$E73),0)))))","v":20},{"$f":"IF(COUNTIF($D$11:$E$18,AO73),20,0)+IF(COUNTIF($D$11:$E$18,AL73),20,0)","v":40},{"$f":"IF(OR(AL73=\"\",AO73=\"\"),0,IF(AND(AL73=$D73,AO73=$E73,AM73=$F73,AN73=$G73),30,0))","v":30},"Deutschland",2,1,"Dänemark",{"$f":"IF(OR(AS73=\"\",AV73=\"\"),0,IF(AND(AS73=$D73,AV73=$E73),20,IF(AS73=$D73,10,IF(AV73=$E73,10,IF(AND(AS73<>$D73,AV73<>$E73),0)))))","v":20},{"$f":"IF(COUNTIF($D$11:$E$18,AV73),20,0)+IF(COUNTIF($D$11:$E$18,AS73),20,0)","v":40},{"$f":"IF(OR(AS73=\"\",AV73=\"\"),0,IF(AND(AS73=$D73,AV73=$E73,AT73=$F73,AU73=$G73),30,0))","v":0},"Schweiz",2,1,"Dänemark",{"$f":"IF(OR(AZ73=\"\",BC73=\"\"),0,IF(AND(AZ73=$D73,BC73=$E73),20,IF(AZ73=$D73,10,IF(BC73=$E73,10,IF(AND(AZ73<>$D73,BC73<>$E73),0)))))","v":10},{"$f":"IF(COUNTIF($D$11:$E$18,BC73),20,0)+IF(COUNTIF($D$11:$E$18,AZ73),20,0)","v":40},{"$f":"IF(OR(AZ73=\"\",BC73=\"\"),0,IF(AND(AZ73=$D73,BC73=$E73,BA73=$F73,BB73=$G73),30,0))","v":0},"Deutschland",2,1,"Dänemark",{"$f":"IF(OR(BG73=\"\",BJ73=\"\"),0,IF(AND(BG73=$D73,BJ73=$E73),20,IF(BG73=$D73,10,IF(BJ73=$E73,10,IF(AND(BG73<>$D73,BJ73<>$E73),0)))))","v":20},{"$f":"IF(COUNTIF($D$11:$E$18,BJ73),20,0)+IF(COUNTIF($D$11:$E$18,BG73),20,0)","v":40},{"$f":"IF(OR(BG73=\"\",BJ73=\"\"),0,IF(AND(BG73=$D73,BJ73=$E73,BH73=$F73,BI73=$G73),30,0))","v":0},"Deutschland",2,0,"Dänemark",{"$f":"IF(OR(BN73=\"\",BQ73=\"\"),0,IF(AND(BN73=$D73,BQ73=$E73),20,IF(BN73=$D73,10,IF(BQ73=$E73,10,IF(AND(BN73<>$D73,BQ73<>$E73),0)))))","v":20},{"$f":"IF(COUNTIF($D$11:$E$18,BQ73),20,0)+IF(COUNTIF($D$11:$E$18,BN73),20,0)","v":40},{"$f":"IF(OR(BN73=\"\",BQ73=\"\"),0,IF(AND(BN73=$D73,BQ73=$E73,BO73=$F73,BP73=$G73),30,0))","v":30},"Schottland",2,1,"Serbien",{"$f":"IF(OR(BU73=\"\",BX73=\"\"),0,IF(AND(BU73=$D73,BX73=$E73),20,IF(BU73=$D73,10,IF(BX73=$E73,10,IF(AND(BU73<>$D73,BX73<>$E73),0)))))","v":0},{"$f":"IF(COUNTIF($D$11:$E$18,BX73),20,0)+IF(COUNTIF($D$11:$E$18,BU73),20,0)","v":0},{"$f":"IF(OR(BU73=\"\",BX73=\"\"),0,IF(AND(BU73=$D73,BX73=$E73,BV73=$F73,BW73=$G73),30,0))","v":0},"Deutschland",3,1,"Dänemark",{"$f":"IF(OR(CB73=\"\",CE73=\"\"),0,IF(AND(CB73=$D73,CE73=$E73),20,IF(CB73=$D73,10,IF(CE73=$E73,10,IF(AND(CB73<>$D73,CE73<>$E73),0)))))","v":20},{"$f":"IF(COUNTIF($D$11:$E$18,CE73),20,0)+IF(COUNTIF($D$11:$E$18,CB73),20,0)","v":40},{"$f":"IF(OR(CB73=\"\",CE73=\"\"),0,IF(AND(CB73=$D73,CE73=$E73,CC73=$F73,CD73=$G73),30,0))","v":0},"Deutschland",3,1,"Dänemark",{"$f":"IF(OR(CI73=\"\",CL73=\"\"),0,IF(AND(CI73=$D73,CL73=$E73),20,IF(CI73=$D73,10,IF(CL73=$E73,10,IF(AND(CI73<>$D73,CL73<>$E73),0)))))","v":20},{"$f":"IF(COUNTIF($D$11:$E$18,CL73),20,0)+IF(COUNTIF($D$11:$E$18,CI73),20,0)","v":40},{"$f":"IF(OR(CI73=\"\",CL73=\"\"),0,IF(AND(CI73=$D73,CL73=$E73,CJ73=$F73,CK73=$G73),30,0))","v":0},"Deutschland",2,1,"Dänemark",{"$f":"IF(OR(CP73=\"\",CS73=\"\"),0,IF(AND(CP73=$D73,CS73=$E73),20,IF(CP73=$D73,10,IF(CS73=$E73,10,IF(AND(CP73<>$D73,CS73<>$E73),0)))))","v":20},{"$f":"IF(COUNTIF($D$11:$E$18,CS73),20,0)+IF(COUNTIF($D$11:$E$18,CP73),20,0)","v":40},{"$f":"IF(OR(CP73=\"\",CS73=\"\"),0,IF(AND(CP73=$D73,CS73=$E73,CQ73=$F73,CR73=$G73),30,0))","v":0},"Deutschland",1,0,"Dänemark",{"$f":"IF(OR(CW73=\"\",CZ73=\"\"),0,IF(AND(CW73=$D73,CZ73=$E73),20,IF(CW73=$D73,10,IF(CZ73=$E73,10,IF(AND(CW73<>$D73,CZ73<>$E73),0)))))","v":20},{"$f":"IF(COUNTIF($D$11:$E$18,CZ73),20,0)+IF(COUNTIF($D$11:$E$18,CW73),20,0)","v":40},{"$f":"IF(OR(CW73=\"\",CZ73=\"\"),0,IF(AND(CW73=$D73,CZ73=$E73,CX73=$F73,CY73=$G73),30,0))","v":0},"Deutschland",4,3,"Serbien",{"$f":"IF(OR(DD73=\"\",DG73=\"\"),0,IF(AND(DD73=$D73,DG73=$E73),20,IF(DD73=$D73,10,IF(DG73=$E73,10,IF(AND(DD73<>$D73,DG73<>$E73),0)))))","v":10},{"$f":"IF(COUNTIF($D$11:$E$18,DG73),20,0)+IF(COUNTIF($D$11:$E$18,DD73),20,0)","v":20},{"$f":"IF(OR(DD73=\"\",DG73=\"\"),0,IF(AND(DD73=$D73,DG73=$E73,DE73=$F73,DF73=$G73),30,0))","v":0},"Deutschland",2,0,"Serbien",{"$f":"IF(OR(DK73=\"\",DN73=\"\"),0,IF(AND(DK73=$D73,DN73=$E73),20,IF(DK73=$D73,10,IF(DN73=$E73,10,IF(AND(DK73<>$D73,DN73<>$E73),0)))))","v":10},{"$f":"IF(COUNTIF($D$11:$E$18,DN73),20,0)+IF(COUNTIF($D$11:$E$18,DK73),20,0)","v":20},{"$f":"IF(OR(DK73=\"\",DN73=\"\"),0,IF(AND(DK73=$D73,DN73=$E73,DL73=$F73,DM73=$G73),30,0))","v":0},"Deutschland",3,1,"Dänemark",{"$f":"IF(OR(DR73=\"\",DU73=\"\"),0,IF(AND(DR73=$D73,DU73=$E73),20,IF(DR73=$D73,10,IF(DU73=$E73,10,IF(AND(DR73<>$D73,DU73<>$E73),0)))))","v":20},{"$f":"IF(COUNTIF($D$11:$E$18,DU73),20,0)+IF(COUNTIF($D$11:$E$18,DR73),20,0)","v":40},{"$f":"IF(OR(DR73=\"\",DU73=\"\"),0,IF(AND(DR73=$D73,DU73=$E73,DS73=$F73,DT73=$G73),30,0))","v":0},"Deutschland",2,1,"Dänemark",{"$f":"IF(OR(DY73=\"\",EB73=\"\"),0,IF(AND(DY73=$D73,EB73=$E73),20,IF(DY73=$D73,10,IF(EB73=$E73,10,IF(AND(DY73<>$D73,EB73<>$E73),0)))))","v":20},{"$f":"IF(COUNTIF($D$11:$E$18,EB73),20,0)+IF(COUNTIF($D$11:$E$18,DY73),20,0)","v":40},{"$f":"IF(OR(DY73=\"\",EB73=\"\"),0,IF(AND(DY73=$D73,EB73=$E73,DZ73=$F73,EA73=$G73),30,0))","v":0},"Deutschland",4,2,"Serbien",{"$f":"IF(OR(EF73=\"\",EI73=\"\"),0,IF(AND(EF73=$D73,EI73=$E73),20,IF(EF73=$D73,10,IF(EI73=$E73,10,IF(AND(EF73<>$D73,EI73<>$E73),0)))))","v":10},{"$f":"IF(COUNTIF($D$11:$E$18,EI73),20,0)+IF(COUNTIF($D$11:$E$18,EF73),20,0)","v":20},{"$f":"IF(OR(EF73=\"\",EI73=\"\"),0,IF(AND(EF73=$D73,EI73=$E73,EG73=$F73,EH73=$G73),30,0))","v":0},"Schweiz",2,1,"Dänemark",{"$f":"IF(OR(EM73=\"\",EP73=\"\"),0,IF(AND(EM73=$D73,EP73=$E73),20,IF(EM73=$D73,10,IF(EP73=$E73,10,IF(AND(EM73<>$D73,EP73<>$E73),0)))))","v":10},{"$f":"IF(COUNTIF($D$11:$E$18,EP73),20,0)+IF(COUNTIF($D$11:$E$18,EM73),20,0)","v":40},{"$f":"IF(OR(EM73=\"\",EP73=\"\"),0,IF(AND(EM73=$D73,EP73=$E73,EN73=$F73,EO73=$G73),30,0))","v":0}]
["Sa. 29. Jun","18:00:00",38,"Schweiz","Italien",2,0,null,null,"Schweiz",0,1,"Italien",20,40,{"$f":"IF(OR(J74=\"\",M74=\"\"),0,IF(AND(J74=$D74,M74=$E74,K74=$F74,L74=$G74),30,0))","v":0},"Schweiz",2,3,"Italien",20,40,{"$f":"IF(OR(Q74=\"\",T74=\"\"),0,IF(AND(Q74=$D74,T74=$E74,R74=$F74,S74=$G74),30,0))","v":0},"Schweiz",3,2,"Italien",20,40,{"$f":"IF(OR(X74=\"\",AA74=\"\"),0,IF(AND(X74=$D74,AA74=$E74,Y74=$F74,Z74=$G74),30,0))","v":0},"Schweiz",0,1,"Kroatien",10,20,{"$f":"IF(OR(AE74=\"\",AH74=\"\"),0,IF(AND(AE74=$D74,AH74=$E74,AF74=$F74,AG74=$G74),30,0))","v":0},"Schweiz",0,2,"Spanien",10,40,{"$f":"IF(OR(AL74=\"\",AO74=\"\"),0,IF(AND(AL74=$D74,AO74=$E74,AM74=$F74,AN74=$G74),30,0))","v":0},"Schweiz",0,2,"Italien",20,40,{"$f":"IF(OR(AS74=\"\",AV74=\"\"),0,IF(AND(AS74=$D74,AV74=$E74,AT74=$F74,AU74=$G74),30,0))","v":0},"Deutschland",2,1,"Kroatien",0,20,{"$f":"IF(OR(AZ74=\"\",BC74=\"\"),0,IF(AND(AZ74=$D74,BC74=$E74,BA74=$F74,BB74=$G74),30,0))","v":0},"Schweiz",3,4,"Italien",20,40,{"$f":"IF(OR(BG74=\"\",BJ74=\"\"),0,IF(AND(BG74=$D74,BJ74=$E74,BH74=$F74,BI74=$G74),30,0))","v":0},"Schweiz",3,2,"Kroatien",10,20,{"$f":"IF(OR(BN74=\"\",BQ74=\"\"),0,IF(AND(BN74=$D74,BQ74=$E74,BO74=$F74,BP74=$G74),30,0))","v":0},"Deutschland",1,2,"Kroatien",0,20,{"$f":"IF(OR(BU74=\"\",BX74=\"\"),0,IF(AND(BU74=$D74,BX74=$E74,BV74=$F74,BW74=$G74),30,0))","v":0},"Schweiz",1,0,"Italien",20,40,{"$f":"IF(OR(CB74=\"\",CE74=\"\"),0,IF(AND(CB74=$D74,CE74=$E74,CC74=$F74,CD74=$G74),30,0))","v":0},"Schweiz",1,0,"Italien",20,40,{"$f":"IF(OR(CI74=\"\",CL74=\"\"),0,IF(AND(CI74=$D74,CL74=$E74,CJ74=$F74,CK74=$G74),30,0))","v":0},"Schweiz",1,2,"Kroatien",10,20,{"$f":"IF(OR(CP74=\"\",CS74=\"\"),0,IF(AND(CP74=$D74,CS74=$E74,CQ74=$F74,CR74=$G74),30,0))","v":0},"Schweiz",2,1,"Kroatien",10,20,{"$f":"IF(OR(CW74=\"\",CZ74=\"\"),0,IF(AND(CW74=$D74,CZ74=$E74,CX74=$F74,CY74=$G74),30,0))","v":0},"Ungarn",2,3,"Kroatien",0,0,{"$f":"IF(OR(DD74=\"\",DG74=\"\"),0,IF(AND(DD74=$D74,DG74=$E74,DE74=$F74,DF74=$G74),30,0))","v":0},"Schweiz",0,1,"Kroatien",10,20,{"$f":"IF(OR(DK74=\"\",DN74=\"\"),0,IF(AND(DK74=$D74,DN74=$E74,DL74=$F74,DM74=$G74),30,0))","v":0},"Schweiz",1,2,"Spanien",10,40,{"$f":"IF(OR(DR74=\"\",DU74=\"\"),0,IF(AND(DR74=$D74,DU74=$E74,DS74=$F74,DT74=$G74),30,0))","v":0},"Schweiz",0,1,"Italien",20,40,{"$f":"IF(OR(DY74=\"\",EB74=\"\"),0,IF(AND(DY74=$D74,EB74=$E74,DZ74=$F74,EA74=$G74),30,0))","v":0},"Schweiz",3,2,"Italien",20,40,{"$f":"IF(OR(EF74=\"\",EI74=\"\"),0,IF(AND(EF74=$D74,EI74=$E74,EG74=$F74,EH74=$G74),30,0))","v":0},"Deutschland",3,1,"Kroatien",0,20,{"$f":"IF(OR(EM74=\"\",EP74=\"\"),0,IF(AND(EM74=$D74,EP74=$E74,EN74=$F74,EO74=$G74),30,0))","v":0}]
["So. 30. Jun","21:00:00",39,"Spanien","Georgien",4,1,null,null,"Spanien",1,0,"Slowakei",10,40,0,"Spanien",3,0,"Rumänien",10,40,0,"Spanien",2,0,"Polen",10,20,0,"Spanien",2,1,"Österreich",10,40,0,"Italien",3,0,"Schottland",0,20,0,"Spanien",2,0,"Schottland",10,20,0,"Italien",1,0,"Türkei",0,40,0,"Spanien",3,0,"Rumänien",10,40,0,"Italien",2,1,"Holland",0,40,0,"Spanien",2,0,"Rumänien",10,40,0,"Spanien",2,0,"Schottland",10,20,0,"Spanien",2,1,"Frankreich",10,40,0,"Spanien",2,0,"Tschechien",10,20,0,"Spanien",2,0,"Holland",10,40,0,"Spanien",2,3,"Schweiz",10,40,0,"Spanien",2,0,"Schottland",10,20,0,"Kroatien",3,1,"Polen",0,0,0,"Spanien",2,0,"Rumänien",10,40,0,"Spanien",3,1,"Türkei",10,40,0,"Spanien",1,0,"Polen",10,20,0]
["So. 30. Jun","18:00:00",40,"England","Slowakei",2,1,null,null,"England",1,0,"Österreich",10,40,0,"England",2,0,"Österreich",10,40,0,"England",3,1,"Türkei",10,40,0,"England",2,0,"Tschechien",10,20,0,"England",2,0,"Rumänien",10,40,0,"England",3,1,"Türkei",10,40,0,"England",2,0,"Ukraine",10,20,0,"England",2,0,"Tschechien",10,20,0,"England",3,0,"Ukraine",10,20,0,"England",3,0,"Polen",10,20,0,"England",3,1,"Tschechien",10,20,0,"England",3,0,"Türkei",10,40,0,"England",3,1,"Holland",10,40,0,"England",3,1,"Türkei",10,40,0,"England",2,1,"Holland",10,40,0,"England",2,0,"Holland",10,40,0,"England",3,1,"Türkei",10,40,0,"England",2,0,"Österreich",10,40,0,"Dänemark",4,0,"Rumänien",0,40,0,"England",1,0,"Georgien",10,40,0]
["Mo. 1. Jul","21:00:00",41,"Portugal","Slowenien",3,0,null,null,"Portugal",1,0,"Slowenien",20,40,0,"Türkei",3,1,"Serbien",0,20,0,"Portugal",5,4,"Kroatien",10,20,0,"Portugal",1,0,"Italien",10,40,0,"Portugal",2,0,"Slowenien",20,40,0,"Portugal",2,1,"Serbien",10,20,0,"Portugal",2,1,"Spanien",10,40,0,"Portugal",3,1,"Schottland",10,20,0,"Portugal",1,0,"Spanien",10,40,0,"Portugal",2,1,"Slowenien",20,40,0,"Portugal",4,1,"Serbien",10,20,0,"Portugal",5,4,"Kroatien",10,20,0,"Portugal",2,1,"Italien",10,40,0,"Portugal",1,0,"Italien",10,40,0,"Portugal",5,4,"Dänemark",10,40,0,"Portugal",2,0,"Dänemark",10,40,0,"Portugal",2,1,"Italien",10,40,0,"Portugal",2,0,"Serbien",10,20,0,"Portugal",4,2,"Kroatien",10,20,0,"Portugal",2,0,"Italien",10,40,0]
["Mo. 1. Jul","18:00:00",42,"Frankreich","Belgien",1,0,null,null,"Holland",1,0,"Ukraine",0,20,0,"Holland",2,1,"Ukraine",0,20,0,"Österreich",2,1,"Belgien",10,40,0,"Holland",2,1,"Ukraine",0,20,0,"Holland",2,1,"Slowakei",0,40,0,"Holland",3,1,"Rumänien",0,40,0,"Österreich",2,1,"Belgien",10,40,0,"Holland",2,0,"Ukraine",0,20,0,"Polen",2,0,"Slowakei",0,20,0,"Holland",3,1,"Ukraine",0,20,0,"Holland",4,3,"Ukraine",0,20,0,"Österreich",2,0,"Ukraine",0,20,0,"Österreich",3,2,"Ukraine",0,20,0,"Österreich",2,0,"Rumänien",0,40,0,"Österreich",3,2,"Slowakei",0,40,0,"Österreich",1,0,"Belgien",10,40,0,"Holland",2,1,"Slowakei",0,40,0,"Holland",2,0,"Ukraine",0,20,0,"Holland",7,1,"Slowakei",0,40,0,"Holland",2,0,"Ukraine",0,20,0]
["Di. 2. Jul","18:00:00",43,"Rumänien","Holland",0,3,null,null,"Belgien",0,1,"Kroatien",0,20,0,"Belgien",1,2,"Kroatien",0,20,0,"Ukraine",0,2,"Schottland",0,0,0,"Belgien",3,2,"Schottland",0,20,0,"Belgien",0,1,"Kroatien",0,20,0,"Belgien",3,2,"Kroatien",0,20,0,"Slowakei",2,1,"Serbien",0,20,0,"Belgien",1,0,"Kroatien",0,20,0,"Belgien",1,0,"Schottland",0,20,0,"Belgien",1,2,"Italien",0,40,0,"Belgien",1,2,"Kroatien",0,20,0,"Belgien",4,3,"Ungarn",0,20,0,"Belgien",2,0,"Serbien",0,20,0,"Belgien",1,0,"Schottland",0,20,0,"Belgien",4,3,"Italien",0,40,0,"Slowakei",0,1,"Italien",0,40,0,"Belgien",2,1,"Schottland",0,20,0,"Belgien",2,1,"Kroatien",0,20,0,"Belgien",2,3,"England",0,40,0,"Belgien",2,1,"Ungarn",0,20,0]
["Di. 2. Jul","21:00:00",44,"Österreich","Türkei",1,2,null,null,"Frankreich",1,0,"Tschechien",0,20,0,"Frankreich",3,1,"Portugal",0,40,0,"Frankreich",3,0,"Tschechien",0,20,0,"Frankreich",2,0,"Türkei",10,40,0,"Frankreich",3,1,"Türkei",10,40,0,"Frankreich",3,1,"Tschechien",0,20,0,"Frankreich",3,0,"Tschechien",0,20,0,"Frankreich",1,0,"Türkei",10,40,0,"Frankreich",3,0,"Türkei",10,40,0,"Frankreich",2,1,"Tschechien",0,20,0,"Frankreich",4,1,"Türkei",10,40,0,"Holland",2,1,"Tschechien",0,20,0,"Frankreich",3,1,"Türkei",10,40,0,"Frankreich",3,0,"Tschechien",0,20,0,"Frankreich",4,2,"Tschechien",0,20,0,"Frankreich",3,1,"Tschechien",0,20,0,"Frankreich",3,1,"Tschechien",0,20,0,"Frankreich",2,1,"Türkei",10,40,0,"Frankreich",6,2,"Tschechien",0,20,0,"Frankreich",2,0,"Türkei",10,40,0]
["Viertelfinale"]
[{"$f":"A51","v":"Fr. 5. Jul"},"18:00:00",45,"Spanien","Deutschland",{"$f":"IF(F51=\"\",\"\",F51)","v":2},1,null,null,"Spanien",1,0,"Deutschland",{"$f":"IF(OR(J82=\"\",M82=\"\"),0,IF(AND(J82=$D82,M82=$E82),40,IF(J82=$D82,20,IF(M82=$E82,20,IF(AND(J82<>$D82,M82<>$E82),0)))))","v":40},{"$f":"IF(COUNTIF($D$20:$E$23,M82),40,0)+IF(COUNTIF($D$20:$E$23,J82),40,0)","v":80},{"$f":"IF(OR(J82=\"\",M82=\"\"),0,IF(AND(J82=$D82,M82=$E82,K82=$F82,L82=$G82),50,0))","v":0},"Spanien",2,1,"Deutschland",{"$f":"IF(OR(Q82=\"\",T82=\"\"),0,IF(AND(Q82=$D82,T82=$E82),40,IF(Q82=$D82,20,IF(T82=$E82,20,IF(AND(Q82<>$D82,T82<>$E82),0)))))","v":40},{"$f":"IF(COUNTIF($D$20:$E$23,T82),40,0)+IF(COUNTIF($D$20:$E$23,Q82),40,0)","v":80},{"$f":"IF(OR(Q82=\"\",T82=\"\"),0,IF(AND(Q82=$D82,T82=$E82,R82=$F82,S82=$G82),50,0))","v":50},"Spanien",4,3,"Deutschland",{"$f":"IF(OR(X82=\"\",AA82=\"\"),0,IF(AND(X82=$D82,AA82=$E82),40,IF(X82=$D82,20,IF(AA82=$E82,20,IF(AND(X82<>$D82,AA82<>$E82),0)))))","v":40},{"$f":"IF(COUNTIF($D$20:$E$23,AA82),40,0)+IF(COUNTIF($D$20:$E$23,X82),40,0)","v":80},{"$f":"IF(OR(X82=\"\",AA82=\"\"),0,IF(AND(X82=$D82,AA82=$E82,Y82=$F82,Z82=$G82),50,0))","v":0},"Spanien",2,0,"Deutschland",{"$f":"IF(OR(AE82=\"\",AH82=\"\"),0,IF(AND(AE82=$D82,AH82=$E82),40,IF(AE82=$D82,20,IF(AH82=$E82,20,IF(AND(AE82<>$D82,AH82<>$E82),0)))))","v":40},{"$f":"IF(COUNTIF($D$20:$E$23,AH82),40,0)+IF(COUNTIF($D$20:$E$23,AE82),40,0)","v":80},{"$f":"IF(OR(AE82=\"\",AH82=\"\"),0,IF(AND(AE82=$D82,AH82=$E82,AF82=$F82,AG82=$G82),50,0))","v":0},"Italien",1,2,"Deutschland",{"$f":"IF(OR(AL82=\"\",AO82=\"\"),0,IF(AND(AL82=$D82,AO82=$E82),40,IF(AL82=$D82,20,IF(AO82=$E82,20,IF(AND(AL82<>$D82,AO82<>$E82),0)))))","v":20},{"$f":"IF(COUNTIF($D$20:$E$23,AO82),40,0)+IF(COUNTIF($D$20:$E$23,AL82),40,0)","v":40},{"$f":"IF(OR(AL82=\"\",AO82=\"\"),0,IF(AND(AL82=$D82,AO82=$E82,AM82=$F82,AN82=$G82),50,0))","v":0},"Spanien",2,1,"Deutschland",{"$f":"IF(OR(AS82=\"\",AV82=\"\"),0,IF(AND(AS82=$D82,AV82=$E82),40,IF(AS82=$D82,20,IF(AV82=$E82,20,IF(AND(AS82<>$D82,AV82<>$E82),0)))))","v":40},{"$f":"IF(COUNTIF($D$20:$E$23,AV82),40,0)+IF(COUNTIF($D$20:$E$23,AS82),40,0)","v":80},{"$f":"IF(OR(AS82=\"\",AV82=\"\"),0,IF(AND(AS82=$D82,AV82=$E82,AT82=$F82,AU82=$G82),50,0))","v":50},"Italien",2,1,"Schweiz",{"$f":"IF(OR(AZ82=\"\",BC82=\"\"),0,IF(AND(AZ82=$D82,BC82=$E82),40,IF(AZ82=$D82,20,IF(BC82=$E82,20,IF(AND(AZ82<>$D82,BC82<>$E82),0)))))","v":0},{"$f":"IF(COUNTIF($D$20:$E$23,BC82),40,0)+IF(COUNTIF($D$20:$E$23,AZ82),40,0)","v":40},{"$f":"IF(OR(AZ82=\"\",BC82=\"\"),0,IF(AND(AZ82=$D82,BC82=$E82,BA82=$F82,BB82=$G82),50,0))","v":0},"Spanien",4,3,"Deutschland",{"$f":"IF(OR(BG82=\"\",BJ82=\"\"),0,IF(AND(BG82=$D82,BJ82=$E82),40,IF(BG82=$D82,20,IF(BJ82=$E82,20,IF(AND(BG82<>$D82,BJ82<>$E82),0)))))","v":40},{"$f":"IF(COUNTIF($D$20:$E$23,BJ82),40,0)+IF(COUNTIF($D$20:$E$23,BG82),40,0)","v":80},{"$f":"IF(OR(BG82=\"\",BJ82=\"\"),0,IF(AND(BG82=$D82,BJ82=$E82,BH82=$F82,BI82=$G82),50,0))","v":0},"Italien",2,3,"Deutschland",{"$f":"IF(OR(BN82=\"\",BQ82=\"\"),0,IF(AND(BN82=$D82,BQ82=$E82),40,IF(BN82=$D82,20,IF(BQ82=$E82,20,IF(AND(BN82<>$D82,BQ82<>$E82),0)))))","v":20},{"$f":"IF(COUNTIF($D$20:$E$23,BQ82),40,0)+IF(COUNTIF($D$20:$E$23,BN82),40,0)","v":40},{"$f":"IF(OR(BN82=\"\",BQ82=\"\"),0,IF(AND(BN82=$D82,BQ82=$E82,BO82=$F82,BP82=$G82),50,0))","v":0},"Spanien",1,0,"Schottland",{"$f":"IF(OR(BU82=\"\",BX82=\"\"),0,IF(AND(BU82=$D82,BX82=$E82),40,IF(BU82=$D82,20,IF(BX82=$E82,20,IF(AND(BU82<>$D82,BX82<>$E82),0)))))","v":20},{"$f":"IF(COUNTIF($D$20:$E$23,BX82),40,0)+IF(COUNTIF($D$20:$E$23,BU82),40,0)","v":40},{"$f":"IF(OR(BU82=\"\",BX82=\"\"),0,IF(AND(BU82=$D82,BX82=$E82,BV82=$F82,BW82=$G82),50,0))","v":0},"Spanien",0,1,"Deutschland",{"$f":"IF(OR(CB82=\"\",CE82=\"\"),0,IF(AND(CB82=$D82,CE82=$E82),40,IF(CB82=$D82,20,IF(CE82=$E82,20,IF(AND(CB82<>$D82,CE82<>$E82),0)))))","v":40},{"$f":"IF(COUNTIF($D$20:$E$23,CE82),40,0)+IF(COUNTIF($D$20:$E$23,CB82),40,0)","v":80},{"$f":"IF(OR(CB82=\"\",CE82=\"\"),0,IF(AND(CB82=$D82,CE82=$E82,CC82=$F82,CD82=$G82),50,0))","v":0},"Spanien",1,0,"Deutschland",{"$f":"IF(OR(CI82=\"\",CL82=\"\"),0,IF(AND(CI82=$D82,CL82=$E82),40,IF(CI82=$D82,20,IF(CL82=$E82,20,IF(AND(CI82<>$D82,CL82<>$E82),0)))))","v":40},{"$f":"IF(COUNTIF($D$20:$E$23,CL82),40,0)+IF(COUNTIF($D$20:$E$23,CI82),40,0)","v":80},{"$f":"IF(OR(CI82=\"\",CL82=\"\"),0,IF(AND(CI82=$D82,CL82=$E82,CJ82=$F82,CK82=$G82),50,0))","v":0},"Spanien",1,2,"Deutschland",{"$f":"IF(OR(CP82=\"\",CS82=\"\"),0,IF(AND(CP82=$D82,CS82=$E82),40,IF(CP82=$D82,20,IF(CS82=$E82,20,IF(AND(CP82<>$D82,CS82<>$E82),0)))))","v":40},{"$f":"IF(COUNTIF($D$20:$E$23,CS82),40,0)+IF(COUNTIF($D$20:$E$23,CP82),40,0)","v":80},{"$f":"IF(OR(CP82=\"\",CS82=\"\"),0,IF(AND(CP82=$D82,CS82=$E82,CQ82=$F82,CR82=$G82),50,0))","v":0},"Spanien",0,2,"Deutschland",{"$f":"IF(OR(CW82=\"\",CZ82=\"\"),0,IF(AND(CW82=$D82,CZ82=$E82),40,IF(CW82=$D82,20,IF(CZ82=$E82,20,IF(AND(CW82<>$D82,CZ82<>$E82),0)))))","v":40},{"$f":"IF(COUNTIF($D$20:$E$23,CZ82),40,0)+IF(COUNTIF($D$20:$E$23,CW82),40,0)","v":80},{"$f":"IF(OR(CW82=\"\",CZ82=\"\"),0,IF(AND(CW82=$D82,CZ82=$E82,CX82=$F82,CY82=$G82),50,0))","v":0},"Schweiz",3,2,"Deutschland",{"$f":"IF(OR(DD82=\"\",DG82=\"\"),0,IF(AND(DD82=$D82,DG82=$E82),40,IF(DD82=$D82,20,IF(DG82=$E82,20,IF(AND(DD82<>$D82,DG82<>$E82),0)))))","v":20},{"$f":"IF(COUNTIF($D$20:$E$23,DG82),40,0)+IF(COUNTIF($D$20:$E$23,DD82),40,0)","v":80},{"$f":"IF(OR(DD82=\"\",DG82=\"\"),0,IF(AND(DD82=$D82,DG82=$E82,DE82=$F82,DF82=$G82),50,0))","v":0},"Spanien",1,2,"Deutschland",{"$f":"IF(OR(DK82=\"\",DN82=\"\"),0,IF(AND(DK82=$D82,DN82=$E82),40,IF(DK82=$D82,20,IF(DN82=$E82,20,IF(AND(DK82<>$D82,DN82<>$E82),0)))))","v":40},{"$f":"IF(COUNTIF($D$20:$E$23,DN82),40,0)+IF(COUNTIF($D$20:$E$23,DK82),40,0)","v":80},{"$f":"IF(OR(DK82=\"\",DN82=\"\"),0,IF(AND(DK82=$D82,DN82=$E82,DL82=$F82,DM82=$G82),50,0))","v":0},"Kroatien",1,3,"Deutschland",{"$f":"IF(OR(DR82=\"\",DU82=\"\"),0,IF(AND(DR82=$D82,DU82=$E82),40,IF(DR82=$D82,20,IF(DU82=$E82,20,IF(AND(DR82<>$D82,DU82<>$E82),0)))))","v":20},{"$f":"IF(COUNTIF($D$20:$E$23,DU82),40,0)+IF(COUNTIF($D$20:$E$23,DR82),40,0)","v":40},{"$f":"IF(OR(DR82=\"\",DU82=\"\"),0,IF(AND(DR82=$D82,DU82=$E82,DS82=$F82,DT82=$G82),50,0))","v":0},"Spanien",1,2,"Deutschland",{"$f":"IF(OR(DY82=\"\",EB82=\"\"),0,IF(AND(DY82=$D82,EB82=$E82),40,IF(DY82=$D82,20,IF(EB82=$E82,20,IF(AND(DY82<>$D82,EB82<>$E82),0)))))","v":40},{"$f":"IF(COUNTIF($D$20:$E$23,EB82),40,0)+IF(COUNTIF($D$20:$E$23,DY82),40,0)","v":80},{"$f":"IF(OR(DY82=\"\",EB82=\"\"),0,IF(AND(DY82=$D82,EB82=$E82,DZ82=$F82,EA82=$G82),50,0))","v":0},"Spanien",2,1,"Deutschland",{"$f":"IF(OR(EF82=\"\",EI82=\"\"),0,IF(AND(EF82=$D82,EI82=$E82),40,IF(EF82=$D82,20,IF(EI82=$E82,20,IF(AND(EF82<>$D82,EI82<>$E82),0)))))","v":40},{"$f":"IF(COUNTIF($D$20:$E$23,EI82),40,0)+IF(COUNTIF($D$20:$E$23,EF82),40,0)","v":80},{"$f":"IF(OR(EF82=\"\",EI82=\"\"),0,IF(AND(EF82=$D82,EI82=$E82,EG82=$F82,EH82=$G82),50,0))","v":50},"Spanien",2,1,"Schweiz",{"$f":"IF(OR(EM82=\"\",EP82=\"\"),0,IF(AND(EM82=$D82,EP82=$E82),40,IF(EM82=$D82,20,IF(EP82=$E82,20,IF(AND(EM82<>$D82,EP82<>$E82),0)))))","v":20},{"$f":"IF(COUNTIF($D$20:$E$23,EP82),40,0)+IF(COUNTIF($D$20:$E$23,EM82),40,0)","v":80},{"$f":"IF(OR(EM82=\"\",EP82=\"\"),0,IF(AND(EM82=$D82,EP82=$E82,EN82=$F82,EO82=$G82),50,0))","v":0}]
["Fr. 5. Jul","21:00:00",46,"Portugal","Frankreich",3,5,null,null,"Portugal",0,1,"Holland",{"$f":"IF(OR(J83=\"\",M83=\"\"),0,IF(AND(J83=$D83,M83=$E83),40,IF(J83=$D83,20,IF(M83=$E83,20,IF(AND(J83<>$D83,M83<>$E83),0)))))","v":20},{"$f":"IF(COUNTIF($D$20:$E$23,M83),40,0)+IF(COUNTIF($D$20:$E$23,J83),40,0)","v":80},{"$f":"IF(OR(J83=\"\",M83=\"\"),0,IF(AND(J83=$D83,M83=$E83,K83=$F83,L83=$G83),50,0))","v":0},"Türkei",4,2,"Holland",{"$f":"IF(OR(Q83=\"\",T83=\"\"),0,IF(AND(Q83=$D83,T83=$E83),40,IF(Q83=$D83,20,IF(T83=$E83,20,IF(AND(Q83<>$D83,T83<>$E83),0)))))","v":0},{"$f":"IF(COUNTIF($D$20:$E$23,T83),40,0)+IF(COUNTIF($D$20:$E$23,Q83),40,0)","v":80},{"$f":"IF(OR(Q83=\"\",T83=\"\"),0,IF(AND(Q83=$D83,T83=$E83,R83=$F83,S83=$G83),50,0))","v":0},"Portugal",3,0,"Österreich",{"$f":"IF(OR(X83=\"\",AA83=\"\"),0,IF(AND(X83=$D83,AA83=$E83),40,IF(X83=$D83,20,IF(AA83=$E83,20,IF(AND(X83<>$D83,AA83<>$E83),0)))))","v":20},{"$f":"IF(COUNTIF($D$20:$E$23,AA83),40,0)+IF(COUNTIF($D$20:$E$23,X83),40,0)","v":40},{"$f":"IF(OR(X83=\"\",AA83=\"\"),0,IF(AND(X83=$D83,AA83=$E83,Y83=$F83,Z83=$G83),50,0))","v":0},"Portugal",2,0,"Holland",{"$f":"IF(OR(AE83=\"\",AH83=\"\"),0,IF(AND(AE83=$D83,AH83=$E83),40,IF(AE83=$D83,20,IF(AH83=$E83,20,IF(AND(AE83<>$D83,AH83<>$E83),0)))))","v":20},{"$f":"IF(COUNTIF($D$20:$E$23,AH83),40,0)+IF(COUNTIF($D$20:$E$23,AE83),40,0)","v":80},{"$f":"IF(OR(AE83=\"\",AH83=\"\"),0,IF(AND(AE83=$D83,AH83=$E83,AF83=$F83,AG83=$G83),50,0))","v":0},"Portugal",1,2,"Holland",{"$f":"IF(OR(AL83=\"\",AO83=\"\"),0,IF(AND(AL83=$D83,AO83=$E83),40,IF(AL83=$D83,20,IF(AO83=$E83,20,IF(AND(AL83<>$D83,AO83<>$E83),0)))))","v":20},{"$f":"IF(COUNTIF($D$20:$E$23,AO83),40,0)+IF(COUNTIF($D$20:$E$23,AL83),40,0)","v":80},{"$f":"IF(OR(AL83=\"\",AO83=\"\"),0,IF(AND(AL83=$D83,AO83=$E83,AM83=$F83,AN83=$G83),50,0))","v":0},"Portugal",0,1,"Holland",{"$f":"IF(OR(AS83=\"\",AV83=\"\"),0,IF(AND(AS83=$D83,AV83=$E83),40,IF(AS83=$D83,20,IF(AV83=$E83,20,IF(AND(AS83<>$D83,AV83<>$E83),0)))))","v":20},{"$f":"IF(COUNTIF($D$20:$E$23,AV83),40,0)+IF(COUNTIF($D$20:$E$23,AS83),40,0)","v":80},{"$f":"IF(OR(AS83=\"\",AV83=\"\"),0,IF(AND(AS83=$D83,AV83=$E83,AT83=$F83,AU83=$G83),50,0))","v":0},"Portugal",2,1,"Österreich",{"$f":"IF(OR(AZ83=\"\",BC83=\"\"),0,IF(AND(AZ83=$D83,BC83=$E83),40,IF(AZ83=$D83,20,IF(BC83=$E83,20,IF(AND(AZ83<>$D83,BC83<>$E83),0)))))","v":20},{"$f":"IF(COUNTIF($D$20:$E$23,BC83),40,0)+IF(COUNTIF($D$20:$E$23,AZ83),40,0)","v":40},{"$f":"IF(OR(AZ83=\"\",BC83=\"\"),0,IF(AND(AZ83=$D83,BC83=$E83,BA83=$F83,BB83=$G83),50,0))","v":0},"Portugal",1,0,"Holland",{"$f":"IF(OR(BG83=\"\",BJ83=\"\"),0,IF(AND(BG83=$D83,BJ83=$E83),40,IF(BG83=$D83,20,IF(BJ83=$E83,20,IF(AND(BG83<>$D83,BJ83<>$E83),0)))))","v":20},{"$f":"IF(COUNTIF($D$20:$E$23,BJ83),40,0)+IF(COUNTIF($D$20:$E$23,BG83),40,0)","v":80},{"$f":"IF(OR(BG83=\"\",BJ83=\"\"),0,IF(AND(BG83=$D83,BJ83=$E83,BH83=$F83,BI83=$G83),50,0))","v":0},"Portugal",2,0,"Polen",{"$f":"IF(OR(BN83=\"\",BQ83=\"\"),0,IF(AND(BN83=$D83,BQ83=$E83),40,IF(BN83=$D83,20,IF(BQ83=$E83,20,IF(AND(BN83<>$D83,BQ83<>$E83),0)))))","v":20},{"$f":"IF(COUNTIF($D$20:$E$23,BQ83),40,0)+IF(COUNTIF($D$20:$E$23,BN83),40,0)","v":40},{"$f":"IF(OR(BN83=\"\",BQ83=\"\"),0,IF(AND(BN83=$D83,BQ83=$E83,BO83=$F83,BP83=$G83),50,0))","v":0},"Portugal",1,2,"Holland",{"$f":"IF(OR(BU83=\"\",BX83=\"\"),0,IF(AND(BU83=$D83,BX83=$E83),40,IF(BU83=$D83,20,IF(BX83=$E83,20,IF(AND(BU83<>$D83,BX83<>$E83),0)))))","v":20},{"$f":"IF(COUNTIF($D$20:$E$23,BX83),40,0)+IF(COUNTIF($D$20:$E$23,BU83),40,0)","v":80},{"$f":"IF(OR(BU83=\"\",BX83=\"\"),0,IF(AND(BU83=$D83,BX83=$E83,BV83=$F83,BW83=$G83),50,0))","v":0},"Portugal",3,2,"Holland",{"$f":"IF(OR(CB83=\"\",CE83=\"\"),0,IF(AND(CB83=$D83,CE83=$E83),40,IF(CB83=$D83,20,IF(CE83=$E83,20,IF(AND(CB83<>$D83,CE83<>$E83),0)))))","v":20},{"$f":"IF(COUNTIF($D$20:$E$23,CE83),40,0)+IF(COUNTIF($D$20:$E$23,CB83),40,0)","v":80},{"$f":"IF(OR(CB83=\"\",CE83=\"\"),0,IF(AND(CB83=$D83,CE83=$E83,CC83=$F83,CD83=$G83),50,0))","v":0},"Portugal",2,1,"Österreich",{"$f":"IF(OR(CI83=\"\",CL83=\"\"),0,IF(AND(CI83=$D83,CL83=$E83),40,IF(CI83=$D83,20,IF(CL83=$E83,20,IF(AND(CI83<>$D83,CL83<>$E83),0)))))","v":20},{"$f":"IF(COUNTIF($D$20:$E$23,CL83),40,0)+IF(COUNTIF($D$20:$E$23,CI83),40,0)","v":40},{"$f":"IF(OR(CI83=\"\",CL83=\"\"),0,IF(AND(CI83=$D83,CL83=$E83,CJ83=$F83,CK83=$G83),50,0))","v":0},"Portugal",2,1,"Österreich",{"$f":"IF(OR(CP83=\"\",CS83=\"\"),0,IF(AND(CP83=$D83,CS83=$E83),40,IF(CP83=$D83,20,IF(CS83=$E83,20,IF(AND(CP83<>$D83,CS83<>$E83),0)))))","v":20},{"$f":"IF(COUNTIF($D$20:$E$23,CS83),40,0)+IF(COUNTIF($D$20:$E$23,CP83),40,0)","v":40},{"$f":"IF(OR(CP83=\"\",CS83=\"\"),0,IF(AND(CP83=$D83,CS83=$E83,CQ83=$F83,CR83=$G83),50,0))","v":0},"Portugal",4,2,"Österreich",{"$f":"IF(OR(CW83=\"\",CZ83=\"\"),0,IF(AND(CW83=$D83,CZ83=$E83),40,IF(CW83=$D83,20,IF(CZ83=$E83,20,IF(AND(CW83<>$D83,CZ83<>$E83),0)))))","v":20},{"$f":"IF(COUNTIF($D$20:$E$23,CZ83),40,0)+IF(COUNTIF($D$20:$E$23,CW83),40,0)","v":40},{"$f":"IF(OR(CW83=\"\",CZ83=\"\"),0,IF(AND(CW83=$D83,CZ83=$E83,CX83=$F83,CY83=$G83),50,0))","v":0},"Portugal",4,3,"Österreich",{"$f":"IF(OR(DD83=\"\",DG83=\"\"),0,IF(AND(DD83=$D83,DG83=$E83),40,IF(DD83=$D83,20,IF(DG83=$E83,20,IF(AND(DD83<>$D83,DG83<>$E83),0)))))","v":20},{"$f":"IF(COUNTIF($D$20:$E$23,DG83),40,0)+IF(COUNTIF($D$20:$E$23,DD83),40,0)","v":40},{"$f":"IF(OR(DD83=\"\",DG83=\"\"),0,IF(AND(DD83=$D83,DG83=$E83,DE83=$F83,DF83=$G83),50,0))","v":0},"Portugal",1,0,"Österreich",{"$f":"IF(OR(DK83=\"\",DN83=\"\"),0,IF(AND(DK83=$D83,DN83=$E83),40,IF(DK83=$D83,20,IF(DN83=$E83,20,IF(AND(DK83<>$D83,DN83<>$E83),0)))))","v":20},{"$f":"IF(COUNTIF($D$20:$E$23,DN83),40,0)+IF(COUNTIF($D$20:$E$23,DK83),40,0)","v":40},{"$f":"IF(OR(DK83=\"\",DN83=\"\"),0,IF(AND(DK83=$D83,DN83=$E83,DL83=$F83,DM83=$G83),50,0))","v":0},"Portugal",2,1,"Holland",{"$f":"IF(OR(DR83=\"\",DU83=\"\"),0,IF(AND(DR83=$D83,DU83=$E83),40,IF(DR83=$D83,20,IF(DU83=$E83,20,IF(AND(DR83<>$D83,DU83<>$E83),0)))))","v":20},{"$f":"IF(COUNTIF($D$20:$E$23,DU83),40,0)+IF(COUNTIF($D$20:$E$23,DR83),40,0)","v":80},{"$f":"IF(OR(DR83=\"\",DU83=\"\"),0,IF(AND(DR83=$D83,DU83=$E83,DS83=$F83,DT83=$G83),50,0))","v":0},"Portugal",0,2,"Holland",{"$f":"IF(OR(DY83=\"\",EB83=\"\"),0,IF(AND(DY83=$D83,EB83=$E83),40,IF(DY83=$D83,20,IF(EB83=$E83,20,IF(AND(DY83<>$D83,EB83<>$E83),0)))))","v":20},{"$f":"IF(COUNTIF($D$20:$E$23,EB83),40,0)+IF(COUNTIF($D$20:$E$23,DY83),40,0)","v":80},{"$f":"IF(OR(DY83=\"\",EB83=\"\"),0,IF(AND(DY83=$D83,EB83=$E83,DZ83=$F83,EA83=$G83),50,0))","v":0},"Portugal",3,2,"Holland",{"$f":"IF(OR(EF83=\"\",EI83=\"\"),0,IF(AND(EF83=$D83,EI83=$E83),40,IF(EF83=$D83,20,IF(EI83=$E83,20,IF(AND(EF83<>$D83,EI83<>$E83),0)))))","v":20},{"$f":"IF(COUNTIF($D$20:$E$23,EI83),40,0)+IF(COUNTIF($D$20:$E$23,EF83),40,0)","v":80},{"$f":"IF(OR(EF83=\"\",EI83=\"\"),0,IF(AND(EF83=$D83,EI83=$E83,EG83=$F83,EH83=$G83),50,0))","v":0},"Portugal",3,2,"Holland",{"$f":"IF(OR(EM83=\"\",EP83=\"\"),0,IF(AND(EM83=$D83,EP83=$E83),40,IF(EM83=$D83,20,IF(EP83=$E83,20,IF(AND(EM83<>$D83,EP83<>$E83),0)))))","v":20},{"$f":"IF(COUNTIF($D$20:$E$23,EP83),40,0)+IF(COUNTIF($D$20:$E$23,EM83),40,0)","v":80},{"$f":"IF(OR(EM83=\"\",EP83=\"\"),0,IF(AND(EM83=$D83,EP83=$E83,EN83=$F83,EO83=$G83),50,0))","v":0}]
["Sa. 6. Jul","21:00:00",47,"Holland","Türkei",2,1,null,null,"Kroatien",0,1,"Frankreich",0,40,0,"Kroatien",1,2,"Frankreich",0,40,0,"Schottland",1,2,"Frankreich",0,40,0,"Belgien",1,2,"Frankreich",0,40,0,"Kroatien",1,2,"Frankreich",0,40,0,"Belgien",1,2,"Frankreich",0,40,0,"Slowakei",1,3,"Frankreich",0,40,0,"Belgien",2,1,"Frankreich",0,40,0,"Belgien",0,2,"Frankreich",0,40,0,"Italien",1,0,"Frankreich",0,40,0,"Kroatien",3,5,"Frankreich",0,40,0,"Belgien",4,3,"Holland",0,40,0,"Belgien",2,3,"Frankreich",0,40,0,"Belgien",1,2,"Frankreich",0,40,0,"Belgien",3,5,"Frankreich",0,40,0,"Italien",1,3,"Frankreich",0,40,0,"Belgien",1,3,"Frankreich",0,40,0,"Belgien",0,1,"Frankreich",0,40,0,"England",0,3,"Frankreich",0,80,0,"Belgien",1,2,"Frankreich",0,40,0]
["Sa. 6. Jul","18:00:00",48,"England","Schweiz",5,3,null,null,"England",1,0,"Italien",20,40,0,"England",1,2,"Italien",20,40,0,"England",2,1,"Schweiz",40,80,0,"England",2,1,"Kroatien",20,40,0,"England",2,1,"Spanien",20,80,0,"England",2,1,"Italien",20,40,0,"England",1,2,"Deutschland",20,80,0,"England",2,0,"Italien",20,40,0,"England",3,2,"Schweiz",40,80,0,"England",2,1,"Kroatien",20,40,0,"England",3,1,"Schweiz",40,80,0,"England",2,0,"Schweiz",40,80,0,"England",2,1,"Kroatien",20,40,0,"England",2,0,"Schweiz",40,80,0,"England",1,0,"Kroatien",20,40,0,"England",2,0,"Kroatien",20,40,0,"England",2,1,"Spanien",20,80,0,"England",1,0,"Italien",20,40,0,"Dänemark",2,4,"Schweiz",20,40,0,"England",1,2,"Deutschland",20,80,0]
["Halbfinale"]
[{"$f":"A56","v":"Di. 9. Jul"},"21:00:00",49,"Spanien","Frankreich",{"$f":"IF(F56=\"\",\"\",F56)","v":2},{"$f":"IF(G56=\"\",\"\",G56)","v":1},null,null,"Spanien",1,0,"Holland",{"$f":"IF(OR(J87=\"\",M87=\"\"),0,IF(AND(J87=$D87,M87=$E87),60,IF(J87=$D87,30,IF(M87=$E87,30,IF(AND(J87<>$D87,M87<>$E87),0)))))","v":30},{"$f":"IF(COUNTIF($D$25:$E$26,M87),80,0)+IF(COUNTIF($D$25:$E$26,J87),80,0)","v":160},{"$f":"IF(OR(J87=\"\",M87=\"\"),0,IF(AND(J87=$D87,M87=$E87,K87=$F87,L87=$G87),100,0))","v":0},"Spanien",2,0,"Türkei",{"$f":"IF(OR(Q87=\"\",T87=\"\"),0,IF(AND(Q87=$D87,T87=$E87),60,IF(Q87=$D87,30,IF(T87=$E87,30,IF(AND(Q87<>$D87,T87<>$E87),0)))))","v":30},{"$f":"IF(COUNTIF($D$25:$E$26,T87),80,0)+IF(COUNTIF($D$25:$E$26,Q87),80,0)","v":80},{"$f":"IF(OR(Q87=\"\",T87=\"\"),0,IF(AND(Q87=$D87,T87=$E87,R87=$F87,S87=$G87),100,0))","v":0},"Spanien",2,1,"Portugal",{"$f":"IF(OR(X87=\"\",AA87=\"\"),0,IF(AND(X87=$D87,AA87=$E87),60,IF(X87=$D87,30,IF(AA87=$E87,30,IF(AND(X87<>$D87,AA87<>$E87),0)))))","v":30},{"$f":"IF(COUNTIF($D$25:$E$26,AA87),80,0)+IF(COUNTIF($D$25:$E$26,X87),80,0)","v":80},{"$f":"IF(OR(X87=\"\",AA87=\"\"),0,IF(AND(X87=$D87,AA87=$E87,Y87=$F87,Z87=$G87),100,0))","v":0},"Spanien",2,4,"Portugal",{"$f":"IF(OR(AE87=\"\",AH87=\"\"),0,IF(AND(AE87=$D87,AH87=$E87),60,IF(AE87=$D87,30,IF(AH87=$E87,30,IF(AND(AE87<>$D87,AH87<>$E87),0)))))","v":30},{"$f":"IF(COUNTIF($D$25:$E$26,AH87),80,0)+IF(COUNTIF($D$25:$E$26,AE87),80,0)","v":80},{"$f":"IF(OR(AE87=\"\",AH87=\"\"),0,IF(AND(AE87=$D87,AH87=$E87,AF87=$F87,AG87=$G87),100,0))","v":0},"Deutschland",0,1,"Holland",{"$f":"IF(OR(AL87=\"\",AO87=\"\"),0,IF(AND(AL87=$D87,AO87=$E87),60,IF(AL87=$D87,30,IF(AO87=$E87,30,IF(AND(AL87<>$D87,AO87<>$E87),0)))))","v":0},{"$f":"IF(COUNTIF($D$25:$E$26,AO87),80,0)+IF(COUNTIF($D$25:$E$26,AL87),80,0)","v":80},{"$f":"IF(OR(AL87=\"\",AO87=\"\"),0,IF(AND(AL87=$D87,AO87=$E87,AM87=$F87,AN87=$G87),100,0))","v":0},"Spanien",2,1,"Holland",{"$f":"IF(OR(AS87=\"\",AV87=\"\"),0,IF(AND(AS87=$D87,AV87=$E87),60,IF(AS87=$D87,30,IF(AV87=$E87,30,IF(AND(AS87<>$D87,AV87<>$E87),0)))))","v":30},{"$f":"IF(COUNTIF($D$25:$E$26,AV87),80,0)+IF(COUNTIF($D$25:$E$26,AS87),80,0)","v":160},{"$f":"IF(OR(AS87=\"\",AV87=\"\"),0,IF(AND(AS87=$D87,AV87=$E87,AT87=$F87,AU87=$G87),100,0))","v":0},"Italien",2,0,"Portugal",{"$f":"IF(OR(AZ87=\"\",BC87=\"\"),0,IF(AND(AZ87=$D87,BC87=$E87),60,IF(AZ87=$D87,30,IF(BC87=$E87,30,IF(AND(AZ87<>$D87,BC87<>$E87),0)))))","v":0},{"$f":"IF(COUNTIF($D$25:$E$26,BC87),80,0)+IF(COUNTIF($D$25:$E$26,AZ87),80,0)","v":0},{"$f":"IF(OR(AZ87=\"\",BC87=\"\"),0,IF(AND(AZ87=$D87,BC87=$E87,BA87=$F87,BB87=$G87),100,0))","v":0},"Spanien",2,0,"Portugal",{"$f":"IF(OR(BG87=\"\",BJ87=\"\"),0,IF(AND(BG87=$D87,BJ87=$E87),60,IF(BG87=$D87,30,IF(BJ87=$E87,30,IF(AND(BG87<>$D87,BJ87<>$E87),0)))))","v":30},{"$f":"IF(COUNTIF($D$25:$E$26,BJ87),80,0)+IF(COUNTIF($D$25:$E$26,BG87),80,0)","v":80},{"$f":"IF(OR(BG87=\"\",BJ87=\"\"),0,IF(AND(BG87=$D87,BJ87=$E87,BH87=$F87,BI87=$G87),100,0))","v":0},"Deutschland",1,2,"Portugal",{"$f":"IF(OR(BN87=\"\",BQ87=\"\"),0,IF(AND(BN87=$D87,BQ87=$E87),60,IF(BN87=$D87,30,IF(BQ87=$E87,30,IF(AND(BN87<>$D87,BQ87<>$E87),0)))))","v":0},{"$f":"IF(COUNTIF($D$25:$E$26,BQ87),80,0)+IF(COUNTIF($D$25:$E$26,BN87),80,0)","v":0},{"$f":"IF(OR(BN87=\"\",BQ87=\"\"),0,IF(AND(BN87=$D87,BQ87=$E87,BO87=$F87,BP87=$G87),100,0))","v":0},"Spanien",1,2,"Holland",{"$f":"IF(OR(BU87=\"\",BX87=\"\"),0,IF(AND(BU87=$D87,BX87=$E87),60,IF(BU87=$D87,30,IF(BX87=$E87,30,IF(AND(BU87<>$D87,BX87<>$E87),0)))))","v":30},{"$f":"IF(COUNTIF($D$25:$E$26,BX87),80,0)+IF(COUNTIF($D$25:$E$26,BU87),80,0)","v":160},{"$f":"IF(OR(BU87=\"\",BX87=\"\"),0,IF(AND(BU87=$D87,BX87=$E87,BV87=$F87,BW87=$G87),100,0))","v":0},"Deutschland",2,1,"Portugal",{"$f":"IF(OR(CB87=\"\",CE87=\"\"),0,IF(AND(CB87=$D87,CE87=$E87),60,IF(CB87=$D87,30,IF(CE87=$E87,30,IF(AND(CB87<>$D87,CE87<>$E87),0)))))","v":0},{"$f":"IF(COUNTIF($D$25:$E$26,CE87),80,0)+IF(COUNTIF($D$25:$E$26,CB87),80,0)","v":0},{"$f":"IF(OR(CB87=\"\",CE87=\"\"),0,IF(AND(CB87=$D87,CE87=$E87,CC87=$F87,CD87=$G87),100,0))","v":0},"Spanien",1,0,"Portugal",{"$f":"IF(OR(CI87=\"\",CL87=\"\"),0,IF(AND(CI87=$D87,CL87=$E87),60,IF(CI87=$D87,30,IF(CL87=$E87,30,IF(AND(CI87<>$D87,CL87<>$E87),0)))))","v":30},{"$f":"IF(COUNTIF($D$25:$E$26,CL87),80,0)+IF(COUNTIF($D$25:$E$26,CI87),80,0)","v":80},{"$f":"IF(OR(CI87=\"\",CL87=\"\"),0,IF(AND(CI87=$D87,CL87=$E87,CJ87=$F87,CK87=$G87),100,0))","v":0},"Deutschland",1,2,"Portugal",{"$f":"IF(OR(CP87=\"\",CS87=\"\"),0,IF(AND(CP87=$D87,CS87=$E87),60,IF(CP87=$D87,30,IF(CS87=$E87,30,IF(AND(CP87<>$D87,CS87<>$E87),0)))))","v":0},{"$f":"IF(COUNTIF($D$25:$E$26,CS87),80,0)+IF(COUNTIF($D$25:$E$26,CP87),80,0)","v":0},{"$f":"IF(OR(CP87=\"\",CS87=\"\"),0,IF(AND(CP87=$D87,CS87=$E87,CQ87=$F87,CR87=$G87),100,0))","v":0},"Deutschland",2,0,"Portugal",{"$f":"IF(OR(CW87=\"\",CZ87=\"\"),0,IF(AND(CW87=$D87,CZ87=$E87),60,IF(CW87=$D87,30,IF(CZ87=$E87,30,IF(AND(CW87<>$D87,CZ87<>$E87),0)))))","v":0},{"$f":"IF(COUNTIF($D$25:$E$26,CZ87),80,0)+IF(COUNTIF($D$25:$E$26,CW87),80,0)","v":0},{"$f":"IF(OR(CW87=\"\",CZ87=\"\"),0,IF(AND(CW87=$D87,CZ87=$E87,CX87=$F87,CY87=$G87),100,0))","v":0},"Schweiz",2,3,"Portugal",{"$f":"IF(OR(DD87=\"\",DG87=\"\"),0,IF(AND(DD87=$D87,DG87=$E87),60,IF(DD87=$D87,30,IF(DG87=$E87,30,IF(AND(DD87<>$D87,DG87<>$E87),0)))))","v":0},{"$f":"IF(COUNTIF($D$25:$E$26,DG87),80,0)+IF(COUNTIF($D$25:$E$26,DD87),80,0)","v":0},{"$f":"IF(OR(DD87=\"\",DG87=\"\"),0,IF(AND(DD87=$D87,DG87=$E87,DE87=$F87,DF87=$G87),100,0))","v":0},"Deutschland",0,1,"Portugal",{"$f":"IF(OR(DK87=\"\",DN87=\"\"),0,IF(AND(DK87=$D87,DN87=$E87),60,IF(DK87=$D87,30,IF(DN87=$E87,30,IF(AND(DK87<>$D87,DN87<>$E87),0)))))","v":0},{"$f":"IF(COUNTIF($D$25:$E$26,DN87),80,0)+IF(COUNTIF($D$25:$E$26,DK87),80,0)","v":0},{"$f":"IF(OR(DK87=\"\",DN87=\"\"),0,IF(AND(DK87=$D87,DN87=$E87,DL87=$F87,DM87=$G87),100,0))","v":0},"Deutschland",1,2,"Portugal",{"$f":"IF(OR(DR87=\"\",DU87=\"\"),0,IF(AND(DR87=$D87,DU87=$E87),60,IF(DR87=$D87,30,IF(DU87=$E87,30,IF(AND(DR87<>$D87,DU87<>$E87),0)))))","v":0},{"$f":"IF(COUNTIF($D$25:$E$26,DU87),80,0)+IF(COUNTIF($D$25:$E$26,DR87),80,0)","v":0},{"$f":"IF(OR(DR87=\"\",DU87=\"\"),0,IF(AND(DR87=$D87,DU87=$E87,DS87=$F87,DT87=$G87),100,0))","v":0},"Deutschland",2,1,"Holland",{"$f":"IF(OR(DY87=\"\",EB87=\"\"),0,IF(AND(DY87=$D87,EB87=$E87),60,IF(DY87=$D87,30,IF(EB87=$E87,30,IF(AND(DY87<>$D87,EB87<>$E87),0)))))","v":0},{"$f":"IF(COUNTIF($D$25:$E$26,EB87),80,0)+IF(COUNTIF($D$25:$E$26,DY87),80,0)","v":80},{"$f":"IF(OR(DY87=\"\",EB87=\"\"),0,IF(AND(DY87=$D87,EB87=$E87,DZ87=$F87,EA87=$G87),100,0))","v":0},"Spanien",1,2,"Portugal",{"$f":"IF(OR(EF87=\"\",EI87=\"\"),0,IF(AND(EF87=$D87,EI87=$E87),60,IF(EF87=$D87,30,IF(EI87=$E87,30,IF(AND(EF87<>$D87,EI87<>$E87),0)))))","v":30},{"$f":"IF(COUNTIF($D$25:$E$26,EI87),80,0)+IF(COUNTIF($D$25:$E$26,EF87),80,0)","v":80},{"$f":"IF(OR(EF87=\"\",EI87=\"\"),0,IF(AND(EF87=$D87,EI87=$E87,EG87=$F87,EH87=$G87),100,0))","v":0},"Spanien",4,5,"Portugal",{"$f":"IF(OR(EM87=\"\",EP87=\"\"),0,IF(AND(EM87=$D87,EP87=$E87),60,IF(EM87=$D87,30,IF(EP87=$E87,30,IF(AND(EM87<>$D87,EP87<>$E87),0)))))","v":30},{"$f":"IF(COUNTIF($D$25:$E$26,EP87),80,0)+IF(COUNTIF($D$25:$E$26,EM87),80,0)","v":80},{"$f":"IF(OR(EM87=\"\",EP87=\"\"),0,IF(AND(EM87=$D87,EP87=$E87,EN87=$F87,EO87=$G87),100,0))","v":0}]
["Mi. 10. Jul","21:00:00",50,"Holland","England",{"$f":"IF(F57=\"\",\"\",F57)","v":1},{"$f":"IF(G57=\"\",\"\",G57)","v":2},null,null,"Frankreich",0,1,"England",{"$f":"IF(OR(J88=\"\",M88=\"\"),0,IF(AND(J88=$D88,M88=$E88),60,IF(J88=$D88,30,IF(M88=$E88,30,IF(AND(J88<>$D88,M88<>$E88),0)))))","v":30},{"$f":"IF(COUNTIF($D$25:$E$26,M88),80,0)+IF(COUNTIF($D$25:$E$26,J88),80,0)","v":160},{"$f":"IF(OR(J88=\"\",M88=\"\"),0,IF(AND(J88=$D88,M88=$E88,K88=$F88,L88=$G88),100,0))","v":0},"Frankreich",2,3,"Italien",{"$f":"IF(OR(Q88=\"\",T88=\"\"),0,IF(AND(Q88=$D88,T88=$E88),60,IF(Q88=$D88,30,IF(T88=$E88,30,IF(AND(Q88<>$D88,T88<>$E88),0)))))","v":0},{"$f":"IF(COUNTIF($D$25:$E$26,T88),80,0)+IF(COUNTIF($D$25:$E$26,Q88),80,0)","v":80},{"$f":"IF(OR(Q88=\"\",T88=\"\"),0,IF(AND(Q88=$D88,T88=$E88,R88=$F88,S88=$G88),100,0))","v":0},"Frankreich",3,2,"England",{"$f":"IF(OR(X88=\"\",AA88=\"\"),0,IF(AND(X88=$D88,AA88=$E88),60,IF(X88=$D88,30,IF(AA88=$E88,30,IF(AND(X88<>$D88,AA88<>$E88),0)))))","v":30},{"$f":"IF(COUNTIF($D$25:$E$26,AA88),80,0)+IF(COUNTIF($D$25:$E$26,X88),80,0)","v":160},{"$f":"IF(OR(X88=\"\",AA88=\"\"),0,IF(AND(X88=$D88,AA88=$E88,Y88=$F88,Z88=$G88),100,0))","v":0},"Frankreich",1,3,"England",{"$f":"IF(OR(AE88=\"\",AH88=\"\"),0,IF(AND(AE88=$D88,AH88=$E88),60,IF(AE88=$D88,30,IF(AH88=$E88,30,IF(AND(AE88<>$D88,AH88<>$E88),0)))))","v":30},{"$f":"IF(COUNTIF($D$25:$E$26,AH88),80,0)+IF(COUNTIF($D$25:$E$26,AE88),80,0)","v":160},{"$f":"IF(OR(AE88=\"\",AH88=\"\"),0,IF(AND(AE88=$D88,AH88=$E88,AF88=$F88,AG88=$G88),100,0))","v":0},"Frankreich",1,0,"England",{"$f":"IF(OR(AL88=\"\",AO88=\"\"),0,IF(AND(AL88=$D88,AO88=$E88),60,IF(AL88=$D88,30,IF(AO88=$E88,30,IF(AND(AL88<>$D88,AO88<>$E88),0)))))","v":30},{"$f":"IF(COUNTIF($D$25:$E$26,AO88),80,0)+IF(COUNTIF($D$25:$E$26,AL88),80,0)","v":160},{"$f":"IF(OR(AL88=\"\",AO88=\"\"),0,IF(AND(AL88=$D88,AO88=$E88,AM88=$F88,AN88=$G88),100,0))","v":0},"Frankreich",1,2,"England",{"$f":"IF(OR(AS88=\"\",AV88=\"\"),0,IF(AND(AS88=$D88,AV88=$E88),60,IF(AS88=$D88,30,IF(AV88=$E88,30,IF(AND(AS88<>$D88,AV88<>$E88),0)))))","v":30},{"$f":"IF(COUNTIF($D$25:$E$26,AV88),80,0)+IF(COUNTIF($D$25:$E$26,AS88),80,0)","v":160},{"$f":"IF(OR(AS88=\"\",AV88=\"\"),0,IF(AND(AS88=$D88,AV88=$E88,AT88=$F88,AU88=$G88),100,0))","v":0},"Frankreich",1,2,"Deutschland",{"$f":"IF(OR(AZ88=\"\",BC88=\"\"),0,IF(AND(AZ88=$D88,BC88=$E88),60,IF(AZ88=$D88,30,IF(BC88=$E88,30,IF(AND(AZ88<>$D88,BC88<>$E88),0)))))","v":0},{"$f":"IF(COUNTIF($D$25:$E$26,BC88),80,0)+IF(COUNTIF($D$25:$E$26,AZ88),80,0)","v":80},{"$f":"IF(OR(AZ88=\"\",BC88=\"\"),0,IF(AND(AZ88=$D88,BC88=$E88,BA88=$F88,BB88=$G88),100,0))","v":0},"Belgien",0,1,"England",{"$f":"IF(OR(BG88=\"\",BJ88=\"\"),0,IF(AND(BG88=$D88,BJ88=$E88),60,IF(BG88=$D88,30,IF(BJ88=$E88,30,IF(AND(BG88<>$D88,BJ88<>$E88),0)))))","v":30},{"$f":"IF(COUNTIF($D$25:$E$26,BJ88),80,0)+IF(COUNTIF($D$25:$E$26,BG88),80,0)","v":80},{"$f":"IF(OR(BG88=\"\",BJ88=\"\"),0,IF(AND(BG88=$D88,BJ88=$E88,BH88=$F88,BI88=$G88),100,0))","v":0},"Frankreich",3,2,"England",{"$f":"IF(OR(BN88=\"\",BQ88=\"\"),0,IF(AND(BN88=$D88,BQ88=$E88),60,IF(BN88=$D88,30,IF(BQ88=$E88,30,IF(AND(BN88<>$D88,BQ88<>$E88),0)))))","v":30},{"$f":"IF(COUNTIF($D$25:$E$26,BQ88),80,0)+IF(COUNTIF($D$25:$E$26,BN88),80,0)","v":160},{"$f":"IF(OR(BN88=\"\",BQ88=\"\"),0,IF(AND(BN88=$D88,BQ88=$E88,BO88=$F88,BP88=$G88),100,0))","v":0},"Italien",1,0,"England",{"$f":"IF(OR(BU88=\"\",BX88=\"\"),0,IF(AND(BU88=$D88,BX88=$E88),60,IF(BU88=$D88,30,IF(BX88=$E88,30,IF(AND(BU88<>$D88,BX88<>$E88),0)))))","v":30},{"$f":"IF(COUNTIF($D$25:$E$26,BX88),80,0)+IF(COUNTIF($D$25:$E$26,BU88),80,0)","v":80},{"$f":"IF(OR(BU88=\"\",BX88=\"\"),0,IF(AND(BU88=$D88,BX88=$E88,BV88=$F88,BW88=$G88),100,0))","v":0},"Frankreich",3,4,"England",{"$f":"IF(OR(CB88=\"\",CE88=\"\"),0,IF(AND(CB88=$D88,CE88=$E88),60,IF(CB88=$D88,30,IF(CE88=$E88,30,IF(AND(CB88<>$D88,CE88<>$E88),0)))))","v":30},{"$f":"IF(COUNTIF($D$25:$E$26,CE88),80,0)+IF(COUNTIF($D$25:$E$26,CB88),80,0)","v":160},{"$f":"IF(OR(CB88=\"\",CE88=\"\"),0,IF(AND(CB88=$D88,CE88=$E88,CC88=$F88,CD88=$G88),100,0))","v":0},"Belgien",2,1,"England",{"$f":"IF(OR(CI88=\"\",CL88=\"\"),0,IF(AND(CI88=$D88,CL88=$E88),60,IF(CI88=$D88,30,IF(CL88=$E88,30,IF(AND(CI88<>$D88,CL88<>$E88),0)))))","v":30},{"$f":"IF(COUNTIF($D$25:$E$26,CL88),80,0)+IF(COUNTIF($D$25:$E$26,CI88),80,0)","v":80},{"$f":"IF(OR(CI88=\"\",CL88=\"\"),0,IF(AND(CI88=$D88,CL88=$E88,CJ88=$F88,CK88=$G88),100,0))","v":0},"Frankreich",2,1,"England",{"$f":"IF(OR(CP88=\"\",CS88=\"\"),0,IF(AND(CP88=$D88,CS88=$E88),60,IF(CP88=$D88,30,IF(CS88=$E88,30,IF(AND(CP88<>$D88,CS88<>$E88),0)))))","v":30},{"$f":"IF(COUNTIF($D$25:$E$26,CS88),80,0)+IF(COUNTIF($D$25:$E$26,CP88),80,0)","v":160},{"$f":"IF(OR(CP88=\"\",CS88=\"\"),0,IF(AND(CP88=$D88,CS88=$E88,CQ88=$F88,CR88=$G88),100,0))","v":0},"Frankreich",1,2,"England",{"$f":"IF(OR(CW88=\"\",CZ88=\"\"),0,IF(AND(CW88=$D88,CZ88=$E88),60,IF(CW88=$D88,30,IF(CZ88=$E88,30,IF(AND(CW88<>$D88,CZ88<>$E88),0)))))","v":30},{"$f":"IF(COUNTIF($D$25:$E$26,CZ88),80,0)+IF(COUNTIF($D$25:$E$26,CW88),80,0)","v":160},{"$f":"IF(OR(CW88=\"\",CZ88=\"\"),0,IF(AND(CW88=$D88,CZ88=$E88,CX88=$F88,CY88=$G88),100,0))","v":0},"Frankreich",2,1,"England",{"$f":"IF(OR(DD88=\"\",DG88=\"\"),0,IF(AND(DD88=$D88,DG88=$E88),60,IF(DD88=$D88,30,IF(DG88=$E88,30,IF(AND(DD88<>$D88,DG88<>$E88),0)))))","v":30},{"$f":"IF(COUNTIF($D$25:$E$26,DG88),80,0)+IF(COUNTIF($D$25:$E$26,DD88),80,0)","v":160},{"$f":"IF(OR(DD88=\"\",DG88=\"\"),0,IF(AND(DD88=$D88,DG88=$E88,DE88=$F88,DF88=$G88),100,0))","v":0},"Frankreich",0,1,"England",{"$f":"IF(OR(DK88=\"\",DN88=\"\"),0,IF(AND(DK88=$D88,DN88=$E88),60,IF(DK88=$D88,30,IF(DN88=$E88,30,IF(AND(DK88<>$D88,DN88<>$E88),0)))))","v":30},{"$f":"IF(COUNTIF($D$25:$E$26,DN88),80,0)+IF(COUNTIF($D$25:$E$26,DK88),80,0)","v":160},{"$f":"IF(OR(DK88=\"\",DN88=\"\"),0,IF(AND(DK88=$D88,DN88=$E88,DL88=$F88,DM88=$G88),100,0))","v":0},"Frankreich",2,1,"England",{"$f":"IF(OR(DR88=\"\",DU88=\"\"),0,IF(AND(DR88=$D88,DU88=$E88),60,IF(DR88=$D88,30,IF(DU88=$E88,30,IF(AND(DR88<>$D88,DU88<>$E88),0)))))","v":30},{"$f":"IF(COUNTIF($D$25:$E$26,DU88),80,0)+IF(COUNTIF($D$25:$E$26,DR88),80,0)","v":160},{"$f":"IF(OR(DR88=\"\",DU88=\"\"),0,IF(AND(DR88=$D88,DU88=$E88,DS88=$F88,DT88=$G88),100,0))","v":0},"Frankreich",1,0,"England",{"$f":"IF(OR(DY88=\"\",EB88=\"\"),0,IF(AND(DY88=$D88,EB88=$E88),60,IF(DY88=$D88,30,IF(EB88=$E88,30,IF(AND(DY88<>$D88,EB88<>$E88),0)))))","v":30},{"$f":"IF(COUNTIF($D$25:$E$26,EB88),80,0)+IF(COUNTIF($D$25:$E$26,DY88),80,0)","v":160},{"$f":"IF(OR(DY88=\"\",EB88=\"\"),0,IF(AND(DY88=$D88,EB88=$E88,DZ88=$F88,EA88=$G88),100,0))","v":0},"Frankreich",3,1,"Schweiz",{"$f":"IF(OR(EF88=\"\",EI88=\"\"),0,IF(AND(EF88=$D88,EI88=$E88),60,IF(EF88=$D88,30,IF(EI88=$E88,30,IF(AND(EF88<>$D88,EI88<>$E88),0)))))","v":0},{"$f":"IF(COUNTIF($D$25:$E$26,EI88),80,0)+IF(COUNTIF($D$25:$E$26,EF88),80,0)","v":80},{"$f":"IF(OR(EF88=\"\",EI88=\"\"),0,IF(AND(EF88=$D88,EI88=$E88,EG88=$F88,EH88=$G88),100,0))","v":0},"Frankreich",0,1,"Deutschland",{"$f":"IF(OR(EM88=\"\",EP88=\"\"),0,IF(AND(EM88=$D88,EP88=$E88),60,IF(EM88=$D88,30,IF(EP88=$E88,30,IF(AND(EM88<>$D88,EP88<>$E88),0)))))","v":0},{"$f":"IF(COUNTIF($D$25:$E$26,EP88),80,0)+IF(COUNTIF($D$25:$E$26,EM88),80,0)","v":80},{"$f":"IF(OR(EM88=\"\",EP88=\"\"),0,IF(AND(EM88=$D88,EP88=$E88,EN88=$F88,EO88=$G88),100,0))","v":0}]
["Endspiel"]
[{"$f":"A59","v":"So. 14. Jul"},{"$f":"B59","v":"21:00:00"},{"$f":"C59","v":51},{"$f":"D59","v":"Spanien"},{"$f":"E59","v":"England"},{"$f":"IF(F59=\"\",\"\",F59)","v":2},{"$f":"IF(G59=\"\",\"\",G59)","v":1},null,null,"Spanien",0,1,"England",{"$f":"IF(OR(J90=\"\",M90=\"\"),0,IF(AND(J90=$D90,M90=$E90),100,IF(J90=$D90,50,IF(M90=$E90,50,IF(AND(J90<>$D90,M90<>$E90),0)))))","v":100},{"$f":"IF(COUNTIF($D$28:$E$28,M90),100,0)+IF(COUNTIF($D$28:$E$28,J90),100,0)","v":200},{"$f":"IF(OR(J90=\"\",M90=\"\"),0,IF(AND(J90=$D90,M90=$E90,K90=$F90,L90=$G90),200,0))","v":0},"Spanien",3,1,"Italien",{"$f":"IF(OR(Q90=\"\",T90=\"\"),0,IF(AND(Q90=$D90,T90=$E90),100,IF(Q90=$D90,50,IF(T90=$E90,50,IF(AND(Q90<>$D90,T90<>$E90),0)))))","v":50},{"$f":"IF(COUNTIF($D$28:$E$28,T90),100,0)+IF(COUNTIF($D$28:$E$28,Q90),100,0)","v":100},{"$f":"IF(OR(Q90=\"\",T90=\"\"),0,IF(AND(Q90=$D90,T90=$E90,R90=$F90,S90=$G90),200,0))","v":0},"Spanien",1,2,"Frankreich",{"$f":"IF(OR(X90=\"\",AA90=\"\"),0,IF(AND(X90=$D90,AA90=$E90),100,IF(X90=$D90,50,IF(AA90=$E90,50,IF(AND(X90<>$D90,AA90<>$E90),0)))))","v":50},{"$f":"IF(COUNTIF($D$28:$E$28,AA90),100,0)+IF(COUNTIF($D$28:$E$28,X90),100,0)","v":100},{"$f":"IF(OR(X90=\"\",AA90=\"\"),0,IF(AND(X90=$D90,AA90=$E90,Y90=$F90,Z90=$G90),200,0))","v":0},"Portugal",1,0,"England",{"$f":"IF(OR(AE90=\"\",AH90=\"\"),0,IF(AND(AE90=$D90,AH90=$E90),100,IF(AE90=$D90,50,IF(AH90=$E90,50,IF(AND(AE90<>$D90,AH90<>$E90),0)))))","v":50},{"$f":"IF(COUNTIF($D$28:$E$28,AH90),100,0)+IF(COUNTIF($D$28:$E$28,AE90),100,0)","v":100},{"$f":"IF(OR(AE90=\"\",AH90=\"\"),0,IF(AND(AE90=$D90,AH90=$E90,AF90=$F90,AG90=$G90),200,0))","v":0},"Holland",0,1,"Frankreich",{"$f":"IF(OR(AL90=\"\",AO90=\"\"),0,IF(AND(AL90=$D90,AO90=$E90),100,IF(AL90=$D90,50,IF(AO90=$E90,50,IF(AND(AL90<>$D90,AO90<>$E90),0)))))","v":0},{"$f":"IF(COUNTIF($D$28:$E$28,AO90),100,0)+IF(COUNTIF($D$28:$E$28,AL90),100,0)","v":0},{"$f":"IF(OR(AL90=\"\",AO90=\"\"),0,IF(AND(AL90=$D90,AO90=$E90,AM90=$F90,AN90=$G90),200,0))","v":0},"Spanien",1,2,"England",{"$f":"IF(OR(AS90=\"\",AV90=\"\"),0,IF(AND(AS90=$D90,AV90=$E90),100,IF(AS90=$D90,50,IF(AV90=$E90,50,IF(AND(AS90<>$D90,AV90<>$E90),0)))))","v":100},{"$f":"IF(COUNTIF($D$28:$E$28,AV90),100,0)+IF(COUNTIF($D$28:$E$28,AS90),100,0)","v":200},{"$f":"IF(OR(AS90=\"\",AV90=\"\"),0,IF(AND(AS90=$D90,AV90=$E90,AT90=$F90,AU90=$G90),200,0))","v":0},"Italien",2,0,"Deutschland",{"$f":"IF(OR(AZ90=\"\",BC90=\"\"),0,IF(AND(AZ90=$D90,BC90=$E90),100,IF(AZ90=$D90,50,IF(BC90=$E90,50,IF(AND(AZ90<>$D90,BC90<>$E90),0)))))","v":0},{"$f":"IF(COUNTIF($D$28:$E$28,BC90),100,0)+IF(COUNTIF($D$28:$E$28,AZ90),100,0)","v":0},{"$f":"IF(OR(AZ90=\"\",BC90=\"\"),0,IF(AND(AZ90=$D90,BC90=$E90,BA90=$F90,BB90=$G90),200,0))","v":0},"Spanien",1,2,"England",{"$f":"IF(OR(BG90=\"\",BJ90=\"\"),0,IF(AND(BG90=$D90,BJ90=$E90),100,IF(BG90=$D90,50,IF(BJ90=$E90,50,IF(AND(BG90<>$D90,BJ90<>$E90),0)))))","v":100},{"$f":"IF(COUNTIF($D$28:$E$28,BJ90),100,0)+IF(COUNTIF($D$28:$E$28,BG90),100,0)","v":200},{"$f":"IF(OR(BG90=\"\",BJ90=\"\"),0,IF(AND(BG90=$D90,BJ90=$E90,BH90=$F90,BI90=$G90),200,0))","v":0},"Portugal",1,0,"Frankreich",{"$f":"IF(OR(BN90=\"\",BQ90=\"\"),0,IF(AND(BN90=$D90,BQ90=$E90),100,IF(BN90=$D90,50,IF(BQ90=$E90,50,IF(AND(BN90<>$D90,BQ90<>$E90),0)))))","v":0},{"$f":"IF(COUNTIF($D$28:$E$28,BQ90),100,0)+IF(COUNTIF($D$28:$E$28,BN90),100,0)","v":0},{"$f":"IF(OR(BN90=\"\",BQ90=\"\"),0,IF(AND(BN90=$D90,BQ90=$E90,BO90=$F90,BP90=$G90),200,0))","v":0},"Holland",1,3,"Italien",{"$f":"IF(OR(BU90=\"\",BX90=\"\"),0,IF(AND(BU90=$D90,BX90=$E90),100,IF(BU90=$D90,50,IF(BX90=$E90,50,IF(AND(BU90<>$D90,BX90<>$E90),0)))))","v":0},{"$f":"IF(COUNTIF($D$28:$E$28,BX90),100,0)+IF(COUNTIF($D$28:$E$28,BU90),100,0)","v":0},{"$f":"IF(OR(BU90=\"\",BX90=\"\"),0,IF(AND(BU90=$D90,BX90=$E90,BV90=$F90,BW90=$G90),200,0))","v":0},"Deutschland",2,0,"England",{"$f":"IF(OR(CB90=\"\",CE90=\"\"),0,IF(AND(CB90=$D90,CE90=$E90),100,IF(CB90=$D90,50,IF(CE90=$E90,50,IF(AND(CB90<>$D90,CE90<>$E90),0)))))","v":50},{"$f":"IF(COUNTIF($D$28:$E$28,CE90),100,0)+IF(COUNTIF($D$28:$E$28,CB90),100,0)","v":100},{"$f":"IF(OR(CB90=\"\",CE90=\"\"),0,IF(AND(CB90=$D90,CE90=$E90,CC90=$F90,CD90=$G90),200,0))","v":0},"Spanien",3,2,"Belgien",{"$f":"IF(OR(CI90=\"\",CL90=\"\"),0,IF(AND(CI90=$D90,CL90=$E90),100,IF(CI90=$D90,50,IF(CL90=$E90,50,IF(AND(CI90<>$D90,CL90<>$E90),0)))))","v":50},{"$f":"IF(COUNTIF($D$28:$E$28,CL90),100,0)+IF(COUNTIF($D$28:$E$28,CI90),100,0)","v":100},{"$f":"IF(OR(CI90=\"\",CL90=\"\"),0,IF(AND(CI90=$D90,CL90=$E90,CJ90=$F90,CK90=$G90),200,0))","v":0},"Portugal",1,2,"Frankreich",{"$f":"IF(OR(CP90=\"\",CS90=\"\"),0,IF(AND(CP90=$D90,CS90=$E90),100,IF(CP90=$D90,50,IF(CS90=$E90,50,IF(AND(CP90<>$D90,CS90<>$E90),0)))))","v":0},{"$f":"IF(COUNTIF($D$28:$E$28,CS90),100,0)+IF(COUNTIF($D$28:$E$28,CP90),100,0)","v":0},{"$f":"IF(OR(CP90=\"\",CS90=\"\"),0,IF(AND(CP90=$D90,CS90=$E90,CQ90=$F90,CR90=$G90),200,0))","v":0},"Deutschland",0,2,"England",{"$f":"IF(OR(CW90=\"\",CZ90=\"\"),0,IF(AND(CW90=$D90,CZ90=$E90),100,IF(CW90=$D90,50,IF(CZ90=$E90,50,IF(AND(CW90<>$D90,CZ90<>$E90),0)))))","v":50},{"$f":"IF(COUNTIF($D$28:$E$28,CZ90),100,0)+IF(COUNTIF($D$28:$E$28,CW90),100,0)","v":100},{"$f":"IF(OR(CW90=\"\",CZ90=\"\"),0,IF(AND(CW90=$D90,CZ90=$E90,CX90=$F90,CY90=$G90),200,0))","v":0},"Portugal",3,1,"Frankreich",{"$f":"IF(OR(DD90=\"\",DG90=\"\"),0,IF(AND(DD90=$D90,DG90=$E90),100,IF(DD90=$D90,50,IF(DG90=$E90,50,IF(AND(DD90<>$D90,DG90<>$E90),0)))))","v":0},{"$f":"IF(COUNTIF($D$28:$E$28,DG90),100,0)+IF(COUNTIF($D$28:$E$28,DD90),100,0)","v":0},{"$f":"IF(OR(DD90=\"\",DG90=\"\"),0,IF(AND(DD90=$D90,DG90=$E90,DE90=$F90,DF90=$G90),200,0))","v":0},"Portugal",0,1,"England",{"$f":"IF(OR(DK90=\"\",DN90=\"\"),0,IF(AND(DK90=$D90,DN90=$E90),100,IF(DK90=$D90,50,IF(DN90=$E90,50,IF(AND(DK90<>$D90,DN90<>$E90),0)))))","v":50},{"$f":"IF(COUNTIF($D$28:$E$28,DN90),100,0)+IF(COUNTIF($D$28:$E$28,DK90),100,0)","v":100},{"$f":"IF(OR(DK90=\"\",DN90=\"\"),0,IF(AND(DK90=$D90,DN90=$E90,DL90=$F90,DM90=$G90),200,0))","v":0},"Portugal",1,2,"Frankreich",{"$f":"IF(OR(DR90=\"\",DU90=\"\"),0,IF(AND(DR90=$D90,DU90=$E90),100,IF(DR90=$D90,50,IF(DU90=$E90,50,IF(AND(DR90<>$D90,DU90<>$E90),0)))))","v":0},{"$f":"IF(COUNTIF($D$28:$E$28,DU90),100,0)+IF(COUNTIF($D$28:$E$28,DR90),100,0)","v":0},{"$f":"IF(OR(DR90=\"\",DU90=\"\"),0,IF(AND(DR90=$D90,DU90=$E90,DS90=$F90,DT90=$G90),200,0))","v":0},"Deutschland",2,1,"Frankreich",{"$f":"IF(OR(DY90=\"\",EB90=\"\"),0,IF(AND(DY90=$D90,EB90=$E90),100,IF(DY90=$D90,50,IF(EB90=$E90,50,IF(AND(DY90<>$D90,EB90<>$E90),0)))))","v":0},{"$f":"IF(COUNTIF($D$28:$E$28,EB90),100,0)+IF(COUNTIF($D$28:$E$28,DY90),100,0)","v":0},{"$f":"IF(OR(DY90=\"\",EB90=\"\"),0,IF(AND(DY90=$D90,EB90=$E90,DZ90=$F90,EA90=$G90),200,0))","v":0},"Portugal",4,3,"Frankreich",{"$f":"IF(OR(EF90=\"\",EI90=\"\"),0,IF(AND(EF90=$D90,EI90=$E90),100,IF(EF90=$D90,50,IF(EI90=$E90,50,IF(AND(EF90<>$D90,EI90<>$E90),0)))))","v":0},{"$f":"IF(COUNTIF($D$28:$E$28,EI90),100,0)+IF(COUNTIF($D$28:$E$28,EF90),100,0)","v":0},{"$f":"IF(OR(EF90=\"\",EI90=\"\"),0,IF(AND(EF90=$D90,EI90=$E90,EG90=$F90,EH90=$G90),200,0))","v":0},"Portugal",1,2,"Deutschland",{"$f":"IF(OR(EM90=\"\",EP90=\"\"),0,IF(AND(EM90=$D90,EP90=$E90),100,IF(EM90=$D90,50,IF(EP90=$E90,50,IF(AND(EM90<>$D90,EP90<>$E90),0)))))","v":0},{"$f":"IF(COUNTIF($D$28:$E$28,EP90),100,0)+IF(COUNTIF($D$28:$E$28,EM90),100,0)","v":0},{"$f":"IF(OR(EM90=\"\",EP90=\"\"),0,IF(AND(EM90=$D90,EP90=$E90,EN90=$F90,EO90=$G90),200,0))","v":0}]
["Europameister"]
[null,null,null,{"$f":"D61","v":"Spanien"},null,null,null,null,null,"Europameister:",null,null,{"$f":"IF(K90=L90,\"\",IF(K90>L90,J90,M90))","v":"England"},null,null,{"$f":"IF(OR(M92=\"\"),0,IF(M92=$D92,300,0))","v":0},"Europameister:",null,null,{"$f":"IF(R90=S90,\"\",IF(R90>S90,Q90,T90))","v":"Spanien"},null,null,{"$f":"IF(OR(T92=\"\"),0,IF(T92=$D92,300,0))","v":300},"Europameister:",null,null,{"$f":"IF(Y90=Z90,\"\",IF(Y90>Z90,X90,AA90))","v":"Frankreich"},null,null,{"$f":"IF(OR(AA92=\"\"),0,IF(AA92=$D92,300,0))","v":0},"Europameister:",null,null,{"$f":"IF(AF90=AG90,\"\",IF(AF90>AG90,AE90,AH90))","v":"Portugal"},null,null,{"$f":"IF(OR(AH92=\"\"),0,IF(AH92=$D92,300,0))","v":0},"Europameister:",null,null,{"$f":"IF(AM90=AN90,\"\",IF(AM90>AN90,AL90,AO90))","v":"Frankreich"},null,null,{"$f":"IF(OR(AO92=\"\"),0,IF(AO92=$D92,300,0))","v":0},"Europameister:",null,null,{"$f":"IF(AT90=AU90,\"\",IF(AT90>AU90,AS90,AV90))","v":"England"},null,null,{"$f":"IF(OR(AV92=\"\"),0,IF(AV92=$D92,300,0))","v":0},"Europameister:",null,null,{"$f":"IF(BA90=BB90,\"\",IF(BA90>BB90,AZ90,BC90))","v":"Italien"},null,null,{"$f":"IF(OR(BC92=\"\"),0,IF(BC92=$D92,300,0))","v":0},"Europameister:",null,null,{"$f":"IF(BH90=BI90,\"\",IF(BH90>BI90,BG90,BJ90))","v":"England"},null,null,{"$f":"IF(OR(BJ92=\"\"),0,IF(BJ92=$D92,300,0))","v":0},"Europameister:",null,null,{"$f":"IF(BO90=BP90,\"\",IF(BO90>BP90,BN90,BQ90))","v":"Portugal"},null,null,{"$f":"IF(OR(BQ92=\"\"),0,IF(BQ92=$D92,300,0))","v":0},"Europameister:",null,null,{"$f":"IF(BV90=BW90,\"\",IF(BV90>BW90,BU90,BX90))","v":"Italien"},null,null,{"$f":"IF(OR(BX92=\"\"),0,IF(BX92=$D92,300,0))","v":0},"Europameister:",null,null,{"$f":"IF(CC90=CD90,\"\",IF(CC90>CD90,CB90,CE90))","v":"Deutschland"},null,null,{"$f":"IF(OR(CE92=\"\"),0,IF(CE92=$D92,300,0))","v":0},"Europameister:",null,null,{"$f":"IF(CJ90=CK90,\"\",IF(CJ90>CK90,CI90,CL90))","v":"Spanien"},null,null,{"$f":"IF(OR(CL92=\"\"),0,IF(CL92=$D92,300,0))","v":300},"Europameister:",null,null,{"$f":"IF(CQ90=CR90,\"\",IF(CQ90>CR90,CP90,CS90))","v":"Frankreich"},null,null,{"$f":"IF(OR(CS92=\"\"),0,IF(CS92=$D92,300,0))","v":0},"Europameister:",null,null,{"$f":"IF(CX90=CY90,\"\",IF(CX90>CY90,CW90,CZ90))","v":"England"},null,null,{"$f":"IF(OR(CZ92=\"\"),0,IF(CZ92=$D92,300,0))","v":0},"Europameister:",null,null,{"$f":"IF(DE90=DF90,\"\",IF(DE90>DF90,DD90,DG90))","v":"Portugal"},null,null,{"$f":"IF(OR(DG92=\"\"),0,IF(DG92=$D92,300,0))","v":0},"Europameister:",null,null,{"$f":"IF(DL90=DM90,\"\",IF(DL90>DM90,DK90,DN90))","v":"England"},null,null,{"$f":"IF(OR(DN92=\"\"),0,IF(DN92=$D92,300,0))","v":0},"Europameister:",null,null,{"$f":"IF(DS90=DT90,\"\",IF(DS90>DT90,DR90,DU90))","v":"Frankreich"},null,null,{"$f":"IF(OR(DU92=\"\"),0,IF(DU92=$D92,300,0))","v":0},"Europameister:",null,null,{"$f":"IF(DZ90=EA90,\"\",IF(DZ90>EA90,DY90,EB90))","v":"Deutschland"},null,null,{"$f":"IF(OR(EB92=\"\"),0,IF(EB92=$D92,300,0))","v":0},"Europameister:",null,null,{"$f":"IF(EG90=EH90,\"\",IF(EG90>EH90,EF90,EI90))","v":"Portugal"},null,null,{"$f":"IF(OR(EI92=\"\"),0,IF(EI92=$D92,300,0))","v":0},"Europameister:",null,null,{"$f":"IF(EN90=EO90,\"\",IF(EN90>EO90,EM90,EP90))","v":"Deutschland"},null,null,{"$f":"IF(OR(EP92=\"\"),0,IF(EP92=$D92,300,0))","v":0}]
[null,null,null,null,null,null,null,null,null,{"$f":"Teilnehmerliste!$C46","v":"Aiden"},null,null,null,{"$f":"SUM(N73:P92)","v":1340},null,null,{"$f":"Teilnehmerliste!$C47","v":"Murat"},null,null,null,{"$f":"SUM(U73:W92)","v":1310},null,null,{"$f":"Teilnehmerliste!$C48","v":"Pascal"},null,null,null,{"$f":"SUM(AB73:AD92)","v":1120},null,null,{"$f":"Teilnehmerliste!$C49","v":"André"},null,null,null,{"$f":"SUM(AI73:AK92)","v":1080},null,null,{"$f":"Teilnehmerliste!$C50","v":"Franz"},null,null,null,{"$f":"SUM(AP73:AR92)","v":950},null,null,{"$f":"Teilnehmerliste!$C51","v":"Marc"},null,null,null,{"$f":"SUM(AW73:AY92)","v":1360},null,null,{"$f":"Teilnehmerliste!$C52","v":"Mauro"},null,null,null,{"$f":"SUM(BD73:BF92)","v":600},null,null,{"$f":"Teilnehmerliste!$C53","v":"Martin"},null,null,null,{"$f":"SUM(BK73:BM92)","v":1160},null,null,{"$f":"Teilnehmerliste!$C54","v":"Telmo"},null,null,null,{"$f":"SUM(BR73:BT92)","v":800},null,null,{"$f":"Teilnehmerliste!$C55","v":"Luigi"},null,null,null,{"$f":"SUM(BY73:CA92)","v":800},null,null,{"$f":"Teilnehmerliste!$C56","v":"Lechena"},null,null,null,{"$f":"SUM(CF73:CH92)","v":1020},null,null,{"$f":"Teilnehmerliste!$C57","v":"Jannis"},null,null,null,{"$f":"SUM(CM73:CO92)","v":1320},null,null,{"$f":"Teilnehmerliste!$C58","v":"Petra"},null,null,null,{"$f":"SUM(CT73:CV92)","v":780},null,null,{"$f":"Teilnehmerliste!$C59","v":"Martin"},null,null,null,{"$f":"SUM(DA73:DC92)","v":1000},null,null,{"$f":"Teilnehmerliste!$C60","v":"Lynn"},null,null,null,{"$f":"SUM(DH73:DJ92)","v":730},null,null,{"$f":"Teilnehmerliste!$C61","v":"Michael"},null,null,null,{"$f":"SUM(DO73:DQ92)","v":920},null,null,{"$f":"Teilnehmerliste!$C62","v":"Sabine"},null,null,null,{"$f":"SUM(DV73:DX92)","v":780},null,null,{"$f":"Teilnehmerliste!$C63","v":"Erich"},null,null,null,{"$f":"SUM(EC73:EE92)","v":930},null,null,{"$f":"Teilnehmerliste!$C64","v":"Ralph"},null,null,null,{"$f":"SUM(EJ73:EL92)","v":910},null,null,{"$f":"Teilnehmerliste!$C65","v":"Corinne"},null,null,null,{"$f":"SUM(EQ73:ES92)","v":820}]
[]
[]
["Finalrunde",null,null,"Spieler 61 - 80"]
[{"$f":"A4","v":"Pro richtige Mannschaft am richtigen Ort: 1/8=10, 1/4=20, 1/2=30, Finale=50"},null,null,null,null,null,null,null,null,{"$f":"Teilnehmerliste!$B66","v":"Silva"},null,null,null,null,null,null,{"$f":"Teilnehmerliste!$B67","v":"Sotelo"},null,null,null,null,null,null,{"$f":"Teilnehmerliste!$B68","v":"Thormann"},null,null,null,null,null,null,{"$f":"Teilnehmerliste!$B69","v":"Thormann"},null,null,null,null,null,null,{"$f":"Teilnehmerliste!$B70","v":"Treichler"},null,null,null,null,null,null,{"$f":"Teilnehmerliste!$B71","v":"Treichler"},null,null,null,null,null,null,{"$f":"Teilnehmerliste!$B72","v":"Wälti"},null,null,null,null,null,null,{"$f":"Teilnehmerliste!$B73","v":"Wagner"},null,null,null,null,null,null,{"$f":"Teilnehmerliste!$B74","v":"Walser"},null,null,null,null,null,null,{"$f":"Teilnehmerliste!$B75","v":"Wang"},null,null,null,null,null,null,{"$f":"Teilnehmerliste!$B76","v":"Wullschleger"},null,null,null,null,null,null,{"$f":"Teilnehmerliste!$B77","v":"Zachmann"},null,null,null,null,null,null,{"$f":"Teilnehmerliste!$B78","v":"Zachmann"},null,null,null,null,null,null,{"$f":"Teilnehmerliste!$B79","v":"Babic"},null,null,null,null,null,null,{"$f":"Teilnehmerliste!$B80","v":"Megdiche"},null,null,null,null,null,null,{"$f":"Teilnehmerliste!$B81","v":"Städelin"},null,null,null,null,null,null,{"$f":"Teilnehmerliste!$B82","v":0},null,null,null,null,null,null,{"$f":"Teilnehmerliste!$B83","v":0},null,null,null,null,null,null,{"$f":"Teilnehmerliste!$B84","v":0},null,null,null,null,null,null,{"$f":"Teilnehmerliste!$B85","v":0}]
[{"$f":"A5","v":"Pro richtige Mannschaft im ... Finale: 1/8=20, 1/4=40, 1/2=80, Finale=100"},null,null,null,null,null,null,null,null,{"$f":"Teilnehmerliste!$C66","v":"Bruno"},null,null,null,null,null,null,{"$f":"Teilnehmerliste!$C67","v":"Yermany"},null,null,null,null,null,null,{"$f":"Teilnehmerliste!$C68","v":"Armando"},null,null,null,null,null,null,{"$f":"Teilnehmerliste!$C69","v":"Julia"},null,null,null,null,null,null,{"$f":"Teilnehmerliste!$C70","v":"Lea"},null,null,null,null,null,null,{"$f":"Teilnehmerliste!$C71","v":"Reto"},null,null,null,null,null,null,{"$f":"Teilnehmerliste!$C72","v":"Christoph"},null,null,null,null,null,null,{"$f":"Teilnehmerliste!$C73","v":"Markus"},null,null,null,null,null,null,{"$f":"Teilnehmerliste!$C74","v":"Stefan"},null,null,null,null,null,null,{"$f":"Teilnehmerliste!$C75","v":"Jingwen"},null,null,null,null,null,null,{"$f":"Teilnehmerliste!$C76","v":"Stefan"},null,null,null,null,null,null,{"$f":"Teilnehmerliste!$C77","v":"Jasmine"},null,null,null,null,null,null,{"$f":"Teilnehmerliste!$C78","v":"Stefan"},null,null,null,null,null,null,{"$f":"Teilnehmerliste!$C79","v":"Mario"},null,null,null,null,null,null,{"$f":"Teilnehmerliste!$C80","v":"Nidhal"},null,null,null,null,null,null,{"$f":"Teilnehmerliste!$C81","v":"Hanspeter"},null,null,null,null,null,null,{"$f":"Teilnehmerliste!$C82","v":0},null,null,null,null,null,null,{"$f":"Teilnehmerliste!$C83","v":0},null,null,null,null,null,null,{"$f":"Teilnehmerliste!$C84","v":0},null,null,null,null,null,null,{"$f":"Teilnehmerliste!$C85","v":0}]
[{"$f":"A6","v":"Richtiges Resultat: 1/8=30, 1/4=50, 1/2=100, Finale=200"},null,null,null,null,null,null,null,null,null,null,null,null,null,null,{"$f":"Teilnehmerliste!$A66","v":61},null,null,null,null,null,null,{"$f":"Teilnehmerliste!$A67","v":62},null,null,null,null,null,null,{"$f":"Teilnehmerliste!$A68","v":63},null,null,null,null,null,null,{"$f":"Teilnehmerliste!$A69","v":64},null,null,null,null,null,null,{"$f":"Teilnehmerliste!$A70","v":65},null,null,null,null,null,null,{"$f":"Teilnehmerliste!$A71","v":66},null,null,null,null,null,null,{"$f":"Teilnehmerliste!$A72","v":67},null,null,null,null,null,null,{"$f":"Teilnehmerliste!$A73","v":68},null,null,null,null,null,null,{"$f":"Teilnehmerliste!$A74","v":69},null,null,null,null,null,null,{"$f":"Teilnehmerliste!$A75","v":70},null,null,null,null,null,null,{"$f":"Teilnehmerliste!$A76","v":71},null,null,null,null,null,null,{"$f":"Teilnehmerliste!$A77","v":72},null,null,null,null,null,null,{"$f":"Teilnehmerliste!$A78","v":73},null,null,null,null,null,null,{"$f":"Teilnehmerliste!$A79","v":74},null,null,null,null,null,null,{"$f":"Teilnehmerliste!$A80","v":75},null,null,null,null,null,null,{"$f":"Teilnehmerliste!$A81","v":76},null,null,null,null,null,null,{"$f":"Teilnehmerliste!$A82","v":77},null,null,null,null,null,null,{"$f":"Teilnehmerliste!$A83","v":78},null,null,null,null,null,null,{"$f":"Teilnehmerliste!$A84","v":79},null,null,null,null,null,null,{"$f":"Teilnehmerliste!$A85","v":80}]
[{"$f":"A7","v":"Richtiger Europameister = 300"}]
[]
["Datum","Zeit","Nr.","Spiel",null,"Resultat"]
["Achtelfinale",null,null,null,null,null,null,null,null,"Tipp",null,null,null,"Pkt",null,null,"Tipp",null,null,null,"Pkt",null,null,"Tipp",null,null,null,"Pkt",null,null,"Tipp",null,null,null,"Pkt",null,null,"Tipp",null,null,null,"Pkt",null,null,"Tipp",null,null,null,"Pkt",null,null,"Tipp",null,null,null,"Pkt",null,null,"Tipp",null,null,null,"Pkt",null,null,"Tipp",null,null,null,"Pkt",null,null,"Tipp",null,null,null,"Pkt",null,null,"Tipp",null,null,null,"Pkt",null,null,"Tipp",null,null,null,"Pkt",null,null,"Tipp",null,null,null,"Pkt",null,null,"Tipp",null,null,null,"Pkt",null,null,"Tipp",null,null,null,"Pkt",null,null,"Tipp",null,null,null,"Pkt",null,null,"Tipp",null,null,null,"Pkt",null,null,"Tipp",null,null,null,"Pkt",null,null,"Tipp",null,null,null,"Pkt",null,null,"Tipp",null,null,null,"Pkt"]
[{"$f":"A73","v":"Sa. 29. Jun"},"21:00:00",37,"Deutschland","Dänemark",{"$f":"IF(F73=\"\",\"\",F73)","v":2},0,null,null,"Deutschland",2,1,"Dänemark",{"$f":"IF(OR(J104=\"\",M104=\"\"),0,IF(AND(J104=$D104,M104=$E104),20,IF(J104=$D104,10,IF(M104=$E104,10,IF(AND(J104<>$D104,M104<>$E104),0)))))","v":20},{"$f":"IF(COUNTIF($D$11:$E$18,M104),20,0)+IF(COUNTIF($D$11:$E$18,J104),20,0)","v":40},{"$f":"IF(OR(J104=\"\",M104=\"\"),0,IF(AND(J104=$D104,M104=$E104,K104=$F104,L104=$G104),30,0))","v":0},"Schweiz",1,0,"Dänemark",{"$f":"IF(OR(Q104=\"\",T104=\"\"),0,IF(AND(Q104=$D104,T104=$E104),20,IF(Q104=$D104,10,IF(T104=$E104,10,IF(AND(Q104<>$D104,T104<>$E104),0)))))","v":10},{"$f":"IF(COUNTIF($D$11:$E$18,T104),20,0)+IF(COUNTIF($D$11:$E$18,Q104),20,0)","v":40},{"$f":"IF(OR(Q104=\"\",T104=\"\"),0,IF(AND(Q104=$D104,T104=$E104,R104=$F104,S104=$G104),30,0))","v":0},"Deutschland",2,0,"Dänemark",{"$f":"IF(OR(X104=\"\",AA104=\"\"),0,IF(AND(X104=$D104,AA104=$E104),20,IF(X104=$D104,10,IF(AA104=$E104,10,IF(AND(X104<>$D104,AA104<>$E104),0)))))","v":20},{"$f":"IF(COUNTIF($D$11:$E$18,AA104),20,0)+IF(COUNTIF($D$11:$E$18,X104),20,0)","v":40},{"$f":"IF(OR(X104=\"\",AA104=\"\"),0,IF(AND(X104=$D104,AA104=$E104,Y104=$F104,Z104=$G104),30,0))","v":30},"Deutschland",2,0,"Slowenien",{"$f":"IF(OR(AE104=\"\",AH104=\"\"),0,IF(AND(AE104=$D104,AH104=$E104),20,IF(AE104=$D104,10,IF(AH104=$E104,10,IF(AND(AE104<>$D104,AH104<>$E104),0)))))","v":10},{"$f":"IF(COUNTIF($D$11:$E$18,AH104),20,0)+IF(COUNTIF($D$11:$E$18,AE104),20,0)","v":40},{"$f":"IF(OR(AE104=\"\",AH104=\"\"),0,IF(AND(AE104=$D104,AH104=$E104,AF104=$F104,AG104=$G104),30,0))","v":0},"Deutschland",4,3,"Dänemark",{"$f":"IF(OR(AL104=\"\",AO104=\"\"),0,IF(AND(AL104=$D104,AO104=$E104),20,IF(AL104=$D104,10,IF(AO104=$E104,10,IF(AND(AL104<>$D104,AO104<>$E104),0)))))","v":20},{"$f":"IF(COUNTIF($D$11:$E$18,AO104),20,0)+IF(COUNTIF($D$11:$E$18,AL104),20,0)","v":40},{"$f":"IF(OR(AL104=\"\",AO104=\"\"),0,IF(AND(AL104=$D104,AO104=$E104,AM104=$F104,AN104=$G104),30,0))","v":0},"Deutschland",2,1,"Dänemark",{"$f":"IF(OR(AS104=\"\",AV104=\"\"),0,IF(AND(AS104=$D104,AV104=$E104),20,IF(AS104=$D104,10,IF(AV104=$E104,10,IF(AND(AS104<>$D104,AV104<>$E104),0)))))","v":20},{"$f":"IF(COUNTIF($D$11:$E$18,AV104),20,0)+IF(COUNTIF($D$11:$E$18,AS104),20,0)","v":40},{"$f":"IF(OR(AS104=\"\",AV104=\"\"),0,IF(AND(AS104=$D104,AV104=$E104,AT104=$F104,AU104=$G104),30,0))","v":0},"Deutschland",5,3,"Dänemark",{"$f":"IF(OR(AZ104=\"\",BC104=\"\"),0,IF(AND(AZ104=$D104,BC104=$E104),20,IF(AZ104=$D104,10,IF(BC104=$E104,10,IF(AND(AZ104<>$D104,BC104<>$E104),0)))))","v":20},{"$f":"IF(COUNTIF($D$11:$E$18,BC104),20,0)+IF(COUNTIF($D$11:$E$18,AZ104),20,0)","v":40},{"$f":"IF(OR(AZ104=\"\",BC104=\"\"),0,IF(AND(AZ104=$D104,BC104=$E104,BA104=$F104,BB104=$G104),30,0))","v":0},"Deutschland",1,0,"Dänemark",{"$f":"IF(OR(BG104=\"\",BJ104=\"\"),0,IF(AND(BG104=$D104,BJ104=$E104),20,IF(BG104=$D104,10,IF(BJ104=$E104,10,IF(AND(BG104<>$D104,BJ104<>$E104),0)))))","v":20},{"$f":"IF(COUNTIF($D$11:$E$18,BJ104),20,0)+IF(COUNTIF($D$11:$E$18,BG104),20,0)","v":40},{"$f":"IF(OR(BG104=\"\",BJ104=\"\"),0,IF(AND(BG104=$D104,BJ104=$E104,BH104=$F104,BI104=$G104),30,0))","v":0},"Deutschland",2,1,"Serbien",{"$f":"IF(OR(BN104=\"\",BQ104=\"\"),0,IF(AND(BN104=$D104,BQ104=$E104),20,IF(BN104=$D104,10,IF(BQ104=$E104,10,IF(AND(BN104<>$D104,BQ104<>$E104),0)))))","v":10},{"$f":"IF(COUNTIF($D$11:$E$18,BQ104),20,0)+IF(COUNTIF($D$11:$E$18,BN104),20,0)","v":20},{"$f":"IF(OR(BN104=\"\",BQ104=\"\"),0,IF(AND(BN104=$D104,BQ104=$E104,BO104=$F104,BP104=$G104),30,0))","v":0},"Deutschland",3,2,"Dänemark",{"$f":"IF(OR(BU104=\"\",BX104=\"\"),0,IF(AND(BU104=$D104,BX104=$E104),20,IF(BU104=$D104,10,IF(BX104=$E104,10,IF(AND(BU104<>$D104,BX104<>$E104),0)))))","v":20},{"$f":"IF(COUNTIF($D$11:$E$18,BX104),20,0)+IF(COUNTIF($D$11:$E$18,BU104),20,0)","v":40},{"$f":"IF(OR(BU104=\"\",BX104=\"\"),0,IF(AND(BU104=$D104,BX104=$E104,BV104=$F104,BW104=$G104),30,0))","v":0},"Deutschland",1,0,"Dänemark",{"$f":"IF(OR(CB104=\"\",CE104=\"\"),0,IF(AND(CB104=$D104,CE104=$E104),20,IF(CB104=$D104,10,IF(CE104=$E104,10,IF(AND(CB104<>$D104,CE104<>$E104),0)))))","v":20},{"$f":"IF(COUNTIF($D$11:$E$18,CE104),20,0)+IF(COUNTIF($D$11:$E$18,CB104),20,0)","v":40},{"$f":"IF(OR(CB104=\"\",CE104=\"\"),0,IF(AND(CB104=$D104,CE104=$E104,CC104=$F104,CD104=$G104),30,0))","v":0},"Deutschland",3,2,"Dänemark",{"$f":"IF(OR(CI104=\"\",CL104=\"\"),0,IF(AND(CI104=$D104,CL104=$E104),20,IF(CI104=$D104,10,IF(CL104=$E104,10,IF(AND(CI104<>$D104,CL104<>$E104),0)))))","v":20},{"$f":"IF(COUNTIF($D$11:$E$18,CL104),20,0)+IF(COUNTIF($D$11:$E$18,CI104),20,0)","v":40},{"$f":"IF(OR(CI104=\"\",CL104=\"\"),0,IF(AND(CI104=$D104,CL104=$E104,CJ104=$F104,CK104=$G104),30,0))","v":0},"Deutschland",4,3,"England",{"$f":"IF(OR(CP104=\"\",CS104=\"\"),0,IF(AND(CP104=$D104,CS104=$E104),20,IF(CP104=$D104,10,IF(CS104=$E104,10,IF(AND(CP104<>$D104,CS104<>$E104),0)))))","v":10},{"$f":"IF(COUNTIF($D$11:$E$18,CS104),20,0)+IF(COUNTIF($D$11:$E$18,CP104),20,0)","v":40},{"$f":"IF(OR(CP104=\"\",CS104=\"\"),0,IF(AND(CP104=$D104,CS104=$E104,CQ104=$F104,CR104=$G104),30,0))","v":0},"Deutschland",3,1,"Serbien",{"$f":"IF(OR(CW104=\"\",CZ104=\"\"),0,IF(AND(CW104=$D104,CZ104=$E104),20,IF(CW104=$D104,10,IF(CZ104=$E104,10,IF(AND(CW104<>$D104,CZ104<>$E104),0)))))","v":10},{"$f":"IF(COUNTIF($D$11:$E$18,CZ104),20,0)+IF(COUNTIF($D$11:$E$18,CW104),20,0)","v":20},{"$f":"IF(OR(CW104=\"\",CZ104=\"\"),0,IF(AND(CW104=$D104,CZ104=$E104,CX104=$F104,CY104=$G104),30,0))","v":0},"Deutschland",1,0,"Dänemark",{"$f":"IF(OR(DD104=\"\",DG104=\"\"),0,IF(AND(DD104=$D104,DG104=$E104),20,IF(DD104=$D104,10,IF(DG104=$E104,10,IF(AND(DD104<>$D104,DG104<>$E104),0)))))","v":20},{"$f":"IF(COUNTIF($D$11:$E$18,DG104),20,0)+IF(COUNTIF($D$11:$E$18,DD104),20,0)","v":40},{"$f":"IF(OR(DD104=\"\",DG104=\"\"),0,IF(AND(DD104=$D104,DG104=$E104,DE104=$F104,DF104=$G104),30,0))","v":0},"Deutschland",2,1,"Dänemark",{"$f":"IF(OR(DK104=\"\",DN104=\"\"),0,IF(AND(DK104=$D104,DN104=$E104),20,IF(DK104=$D104,10,IF(DN104=$E104,10,IF(AND(DK104<>$D104,DN104<>$E104),0)))))","v":20},{"$f":"IF(COUNTIF($D$11:$E$18,DN104),20,0)+IF(COUNTIF($D$11:$E$18,DK104),20,0)","v":40},{"$f":"IF(OR(DK104=\"\",DN104=\"\"),0,IF(AND(DK104=$D104,DN104=$E104,DL104=$F104,DM104=$G104),30,0))","v":0},null,null,null,null,{"$f":"IF(OR(DR104=\"\",DU104=\"\"),0,IF(AND(DR104=$D104,DU104=$E104),20,IF(DR104=$D104,10,IF(DU104=$E104,10,IF(AND(DR104<>$D104,DU104<>$E104),0)))))","v":0},{"$f":"IF(COUNTIF($D$11:$E$18,DU104),20,0)+IF(COUNTIF($D$11:$E$18,DR104),20,0)","v":0},{"$f":"IF(OR(DR104=\"\",DU104=\"\"),0,IF(AND(DR104=$D104,DU104=$E104,DS104=$F104,DT104=$G104),30,0))","v":0},null,null,null,null,{"$f":"IF(OR(DY104=\"\",EB104=\"\"),0,IF(AND(DY104=$D104,EB104=$E104),20,IF(DY104=$D104,10,IF(EB104=$E104,10,IF(AND(DY104<>$D104,EB104<>$E104),0)))))","v":0},{"$f":"IF(COUNTIF($D$11:$E$18,EB104),20,0)+IF(COUNTIF($D$11:$E$18,DY104),20,0)","v":0},{"$f":"IF(OR(DY104=\"\",EB104=\"\"),0,IF(AND(DY104=$D104,EB104=$E104,DZ104=$F104,EA104=$G104),30,0))","v":0},null,null,null,null,{"$f":"IF(OR(EF104=\"\",EI104=\"\"),0,IF(AND(EF104=$D104,EI104=$E104),20,IF(EF104=$D104,10,IF(EI104=$E104,10,IF(AND(EF104<>$D104,EI104<>$E104),0)))))","v":0},{"$f":"IF(COUNTIF($D$11:$E$18,EI104),20,0)+IF(COUNTIF($D$11:$E$18,EF104),20,0)","v":0},{"$f":"IF(OR(EF104=\"\",EI104=\"\"),0,IF(AND(EF104=$D104,EI104=$E104,EG104=$F104,EH104=$G104),30,0))","v":0},null,null,null,null,{"$f":"IF(OR(EM104=\"\",EP104=\"\"),0,IF(AND(EM104=$D104,EP104=$E104),20,IF(EM104=$D104,10,IF(EP104=$E104,10,IF(AND(EM104<>$D104,EP104<>$E104),0)))))","v":0},{"$f":"IF(COUNTIF($D$11:$E$18,EP104),20,0)+IF(COUNTIF($D$11:$E$18,EM104),20,0)","v":0},{"$f":"IF(OR(EM104=\"\",EP104=\"\"),0,IF(AND(EM104=$D104,EP104=$E104,EN104=$F104,EO104=$G104),30,0))","v":0}]
["Sa. 29. Jun","18:00:00",38,"Schweiz","Italien",2,0,null,null,"Schweiz",0,1,"Spanien",10,40,{"$f":"IF(OR(J105=\"\",M105=\"\"),0,IF(AND(J105=$D105,M105=$E105,K105=$F105,L105=$G105),30,0))","v":0},"Ungarn",0,1,"Italien",10,20,{"$f":"IF(OR(Q105=\"\",T105=\"\"),0,IF(AND(Q105=$D105,T105=$E105,R105=$F105,S105=$G105),30,0))","v":0},"Schweiz",1,3,"Spanien",10,40,{"$f":"IF(OR(X105=\"\",AA105=\"\"),0,IF(AND(X105=$D105,AA105=$E105,Y105=$F105,Z105=$G105),30,0))","v":0},"Schweiz",1,2,"Spanien",10,40,{"$f":"IF(OR(AE105=\"\",AH105=\"\"),0,IF(AND(AE105=$D105,AH105=$E105,AF105=$F105,AG105=$G105),30,0))","v":0},"Schweiz",1,2,"Italien",20,40,{"$f":"IF(OR(AL105=\"\",AO105=\"\"),0,IF(AND(AL105=$D105,AO105=$E105,AM105=$F105,AN105=$G105),30,0))","v":0},"Schweiz",1,0,"Kroatien",10,20,{"$f":"IF(OR(AS105=\"\",AV105=\"\"),0,IF(AND(AS105=$D105,AV105=$E105,AT105=$F105,AU105=$G105),30,0))","v":0},"Schweiz",0,4,"Italien",20,40,{"$f":"IF(OR(AZ105=\"\",BC105=\"\"),0,IF(AND(AZ105=$D105,BC105=$E105,BA105=$F105,BB105=$G105),30,0))","v":0},"Schweiz",0,1,"Kroatien",10,20,{"$f":"IF(OR(BG105=\"\",BJ105=\"\"),0,IF(AND(BG105=$D105,BJ105=$E105,BH105=$F105,BI105=$G105),30,0))","v":0},"Schweiz",0,2,"Italien",20,40,{"$f":"IF(OR(BN105=\"\",BQ105=\"\"),0,IF(AND(BN105=$D105,BQ105=$E105,BO105=$F105,BP105=$G105),30,0))","v":0},"Schottland",1,3,"Kroatien",0,0,{"$f":"IF(OR(BU105=\"\",BX105=\"\"),0,IF(AND(BU105=$D105,BX105=$E105,BV105=$F105,BW105=$G105),30,0))","v":0},"Schweiz",1,2,"Italien",20,40,{"$f":"IF(OR(CB105=\"\",CE105=\"\"),0,IF(AND(CB105=$D105,CE105=$E105,CC105=$F105,CD105=$G105),30,0))","v":0},"Schweiz",1,3,"Kroatien",10,20,{"$f":"IF(OR(CI105=\"\",CL105=\"\"),0,IF(AND(CI105=$D105,CL105=$E105,CJ105=$F105,CK105=$G105),30,0))","v":0},"Schweiz",2,1,"Albanien",10,20,{"$f":"IF(OR(CP105=\"\",CS105=\"\"),0,IF(AND(CP105=$D105,CS105=$E105,CQ105=$F105,CR105=$G105),30,0))","v":0},"Schweiz",1,3,"Spanien",10,40,{"$f":"IF(OR(CW105=\"\",CZ105=\"\"),0,IF(AND(CW105=$D105,CZ105=$E105,CX105=$F105,CY105=$G105),30,0))","v":0},"Schweiz",0,1,"Spanien",10,40,{"$f":"IF(OR(DD105=\"\",DG105=\"\"),0,IF(AND(DD105=$D105,DG105=$E105,DE105=$F105,DF105=$G105),30,0))","v":0},"Schweiz",0,1,"Spanien",10,40,{"$f":"IF(OR(DK105=\"\",DN105=\"\"),0,IF(AND(DK105=$D105,DN105=$E105,DL105=$F105,DM105=$G105),30,0))","v":0},null,null,null,null,0,0,{"$f":"IF(OR(DR105=\"\",DU105=\"\"),0,IF(AND(DR105=$D105,DU105=$E105,DS105=$F105,DT105=$G105),30,0))","v":0},null,null,null,null,0,0,{"$f":"IF(OR(DY105=\"\",EB105=\"\"),0,IF(AND(DY105=$D105,EB105=$E105,DZ105=$F105,EA105=$G105),30,0))","v":0},null,null,null,null,0,0,{"$f":"IF(OR(EF105=\"\",EI105=\"\"),0,IF(AND(EF105=$D105,EI105=$E105,EG105=$F105,EH105=$G105),30,0))","v":0},null,null,null,null,0,0,{"$f":"IF(OR(EM105=\"\",EP105=\"\"),0,IF(AND(EM105=$D105,EP105=$E105,EN105=$F105,EO105=$G105),30,0))","v":0}]
["So. 30. Jun","21:00:00",39,"Spanien","Georgien",4,1,null,null,"Kroatien",2,1,"Ungarn",0,0,0,"Kroatien",2,1,"Deutschland",0,20,0,"Kroatien",2,0,"Ungarn",0,0,0,"Kroatien",2,1,"Tschechien",0,0,0,"Spanien",3,0,"Österreich",10,40,0,"Italien",2,0,"Ungarn",0,20,0,"Spanien",2,0,"Türkei",10,40,0,"Spanien",1,0,"Türkei",10,40,0,"Spanien",2,0,"Tschechien",10,20,0,"Spanien",4,1,"Schweiz",10,40,0,"Spanien",3,1,"Österreich",10,40,0,"Spanien",3,1,"Ungarn",10,20,0,"Kroatien",3,1,"Ungarn",0,0,0,"Kroatien",3,0,"Rumänien",0,20,0,"Kroatien",1,0,"Rumänien",0,20,0,"Italien",2,0,"Polen",0,20,0,null,null,null,null,0,0,0,null,null,null,null,0,0,0,null,null,null,null,0,0,0,null,null,null,null,0,0,0]
["So. 30. Jun","18:00:00",40,"England","Slowakei",2,1,null,null,"England",2,0,"Türkei",10,40,0,"England",2,0,"Tschechien",10,20,0,"England",3,1,"Österreich",10,40,0,"England",2,0,"Österreich",10,40,0,"England",2,0,"Türkei",10,40,0,"England",1,0,"Tschechien",10,20,0,"England",3,0,"Rumänien",10,40,0,"England",1,0,"Ukraine",10,20,0,"England",3,1,"Ukraine",10,20,0,"England",2,0,"Rumänien",10,40,0,"England",2,0,"Türkei",10,40,0,"England",1,2,"Österreich",10,40,0,"Dänemark",2,1,"Tschechien",0,20,0,"England",2,0,"Polen",10,20,0,"England",1,0,"Österreich",10,40,0,"England",2,0,"Tschechien",10,20,0,null,null,null,null,0,0,0,null,null,null,null,0,0,0,null,null,null,null,0,0,0,null,null,null,null,0,0,0]
["Mo. 1. Jul","21:00:00",41,"Portugal","Slowenien",3,0,null,null,"Portugal",2,1,"Serbien",10,20,0,"Portugal",3,2,"Serbien",10,20,0,"Portugal",2,0,"Slowenien",20,40,0,"Portugal",2,1,"Italien",10,40,0,"Portugal",3,1,"Kroatien",10,20,0,"Portugal",2,1,"Serbien",10,20,0,"Portugal",6,5,"Kroatien",10,20,0,"Tschechien",0,1,"Italien",0,20,0,"Portugal",2,1,"Kroatien",10,20,0,"Portugal",3,1,"Slowenien",20,40,0,"Portugal",2,1,"Kroatien",10,20,0,"Portugal",3,1,"Slowenien",20,40,0,"Portugal",3,1,"Serbien",10,20,0,"Portugal",2,1,"Dänemark",10,40,0,"Portugal",1,0,"Serbien",10,20,0,"Portugal",0,1,"Kroatien",10,20,0,null,null,null,null,0,0,0,null,null,null,null,0,0,0,null,null,null,null,0,0,0,null,null,null,null,0,0,0]
["Mo. 1. Jul","18:00:00",42,"Frankreich","Belgien",1,0,null,null,"Holland",2,0,"Ukraine",0,20,0,"Holland",2,1,"Slowakei",0,40,0,"Holland",2,0,"Slowakei",0,40,0,"Frankreich",2,0,"Ukraine",10,20,0,"Holland",1,2,"Belgien",10,40,0,"Holland",2,1,"Ukraine",0,20,0,"Holland",3,0,"Ukraine",0,20,0,"Holland",1,0,"Rumänien",0,40,0,"Holland",3,0,"Slowakei",0,40,0,"Holland",2,0,"Slowakei",0,40,0,"Holland",2,1,"Ukraine",0,20,0,"Holland",2,0,"Ukraine",0,20,0,"Frankreich",2,0,"Ukraine",10,20,0,"Holland",2,0,"Slowakei",0,40,0,"Holland",1,0,"Ukraine",0,20,0,"Holland",2,1,"Slowakei",0,40,0,null,null,null,null,0,0,0,null,null,null,null,0,0,0,null,null,null,null,0,0,0,null,null,null,null,0,0,0]
["Di. 2. Jul","18:00:00",43,"Rumänien","Holland",0,3,null,null,"Belgien",0,1,"Italien",0,40,0,"Belgien",3,1,"Albanien",0,20,0,"Belgien",1,2,"Italien",0,40,0,"Belgien",1,0,"Dänemark",0,40,0,"Ukraine",1,0,"Ungarn",0,0,0,"Belgien",2,1,"Spanien",0,40,0,"Belgien",3,1,"Österreich",0,40,0,"Belgien",1,0,"Slowenien",0,40,0,"Belgien",2,1,"Dänemark",0,40,0,"Belgien",1,2,"Italien",0,40,0,"Belgien",2,0,"Ungarn",0,20,0,"Belgien",3,1,"Italien",0,40,0,"Belgien",2,1,"Spanien",0,40,0,"Belgien",1,3,"Italien",0,40,0,"Belgien",1,0,"Italien",0,40,0,"Belgien",2,1,"Ungarn",0,20,0,null,null,null,null,0,0,0,null,null,null,null,0,0,0,null,null,null,null,0,0,0,null,null,null,null,0,0,0]
["Di. 2. Jul","21:00:00",44,"Österreich","Türkei",1,2,null,null,"Frankreich",2,1,"Tschechien",0,20,0,"Frankreich",3,0,"Türkei",10,40,0,"Frankreich",0,1,"Türkei",10,40,0,"Holland",2,1,"Türkei",10,40,0,"Frankreich",2,0,"Tschechien",0,20,0,"Frankreich",3,0,"Türkei",10,40,0,"Frankreich",2,0,"Tschechien",0,20,0,"Frankreich",1,0,"Portugal",0,40,0,"Frankreich",3,1,"Türkei",10,40,0,"Frankreich",2,0,"Tschechien",0,20,0,"Frankreich",3,1,"Tschechien",0,20,0,"Frankreich",3,1,"Tschechien",0,20,0,"Holland",2,1,"Türkei",10,40,0,"Frankreich",3,1,"Türkei",10,40,0,"Frankreich",1,0,"Türkei",10,40,0,"Frankreich",3,1,"Türkei",10,40,0,null,null,null,null,0,0,0,null,null,null,null,0,0,0,null,null,null,null,0,0,0,null,null,null,null,0,0,0]
["Viertelfinale"]
[{"$f":"A82","v":"Fr. 5. Jul"},"18:00:00",45,"Spanien","Deutschland",{"$f":"IF(F82=\"\",\"\",F82)","v":2},1,null,null,"Kroatien",1,0,"Deutschland",{"$f":"IF(OR(J113=\"\",M113=\"\"),0,IF(AND(J113=$D113,M113=$E113),40,IF(J113=$D113,20,IF(M113=$E113,20,IF(AND(J113<>$D113,M113<>$E113),0)))))","v":20},{"$f":"IF(COUNTIF($D$20:$E$23,M113),40,0)+IF(COUNTIF($D$20:$E$23,J113),40,0)","v":40},{"$f":"IF(OR(J113=\"\",M113=\"\"),0,IF(AND(J113=$D113,M113=$E113,K113=$F113,L113=$G113),50,0))","v":0},"Kroatien",2,1,"Schweiz",{"$f":"IF(OR(Q113=\"\",T113=\"\"),0,IF(AND(Q113=$D113,T113=$E113),40,IF(Q113=$D113,20,IF(T113=$E113,20,IF(AND(Q113<>$D113,T113<>$E113),0)))))","v":0},{"$f":"IF(COUNTIF($D$20:$E$23,T113),40,0)+IF(COUNTIF($D$20:$E$23,Q113),40,0)","v":40},{"$f":"IF(OR(Q113=\"\",T113=\"\"),0,IF(AND(Q113=$D113,T113=$E113,R113=$F113,S113=$G113),50,0))","v":0},"Kroatien",1,2,"Deutschland",{"$f":"IF(OR(X113=\"\",AA113=\"\"),0,IF(AND(X113=$D113,AA113=$E113),40,IF(X113=$D113,20,IF(AA113=$E113,20,IF(AND(X113<>$D113,AA113<>$E113),0)))))","v":20},{"$f":"IF(COUNTIF($D$20:$E$23,AA113),40,0)+IF(COUNTIF($D$20:$E$23,X113),40,0)","v":40},{"$f":"IF(OR(X113=\"\",AA113=\"\"),0,IF(AND(X113=$D113,AA113=$E113,Y113=$F113,Z113=$G113),50,0))","v":0},"Kroatien",1,2,"Deutschland",{"$f":"IF(OR(AE113=\"\",AH113=\"\"),0,IF(AND(AE113=$D113,AH113=$E113),40,IF(AE113=$D113,20,IF(AH113=$E113,20,IF(AND(AE113<>$D113,AH113<>$E113),0)))))","v":20},{"$f":"IF(COUNTIF($D$20:$E$23,AH113),40,0)+IF(COUNTIF($D$20:$E$23,AE113),40,0)","v":40},{"$f":"IF(OR(AE113=\"\",AH113=\"\"),0,IF(AND(AE113=$D113,AH113=$E113,AF113=$F113,AG113=$G113),50,0))","v":0},"Spanien",0,1,"Deutschland",{"$f":"IF(OR(AL113=\"\",AO113=\"\"),0,IF(AND(AL113=$D113,AO113=$E113),40,IF(AL113=$D113,20,IF(AO113=$E113,20,IF(AND(AL113<>$D113,AO113<>$E113),0)))))","v":40},{"$f":"IF(COUNTIF($D$20:$E$23,AO113),40,0)+IF(COUNTIF($D$20:$E$23,AL113),40,0)","v":80},{"$f":"IF(OR(AL113=\"\",AO113=\"\"),0,IF(AND(AL113=$D113,AO113=$E113,AM113=$F113,AN113=$G113),50,0))","v":0},"Italien",1,0,"Deutschland",{"$f":"IF(OR(AS113=\"\",AV113=\"\"),0,IF(AND(AS113=$D113,AV113=$E113),40,IF(AS113=$D113,20,IF(AV113=$E113,20,IF(AND(AS113<>$D113,AV113<>$E113),0)))))","v":20},{"$f":"IF(COUNTIF($D$20:$E$23,AV113),40,0)+IF(COUNTIF($D$20:$E$23,AS113),40,0)","v":40},{"$f":"IF(OR(AS113=\"\",AV113=\"\"),0,IF(AND(AS113=$D113,AV113=$E113,AT113=$F113,AU113=$G113),50,0))","v":0},"Spanien",1,0,"Deutschland",{"$f":"IF(OR(AZ113=\"\",BC113=\"\"),0,IF(AND(AZ113=$D113,BC113=$E113),40,IF(AZ113=$D113,20,IF(BC113=$E113,20,IF(AND(AZ113<>$D113,BC113<>$E113),0)))))","v":40},{"$f":"IF(COUNTIF($D$20:$E$23,BC113),40,0)+IF(COUNTIF($D$20:$E$23,AZ113),40,0)","v":80},{"$f":"IF(OR(AZ113=\"\",BC113=\"\"),0,IF(AND(AZ113=$D113,BC113=$E113,BA113=$F113,BB113=$G113),50,0))","v":0},"Spanien",0,1,"Deutschland",{"$f":"IF(OR(BG113=\"\",BJ113=\"\"),0,IF(AND(BG113=$D113,BJ113=$E113),40,IF(BG113=$D113,20,IF(BJ113=$E113,20,IF(AND(BG113<>$D113,BJ113<>$E113),0)))))","v":40},{"$f":"IF(COUNTIF($D$20:$E$23,BJ113),40,0)+IF(COUNTIF($D$20:$E$23,BG113),40,0)","v":80},{"$f":"IF(OR(BG113=\"\",BJ113=\"\"),0,IF(AND(BG113=$D113,BJ113=$E113,BH113=$F113,BI113=$G113),50,0))","v":0},"Spanien",1,2,"Deutschland",{"$f":"IF(OR(BN113=\"\",BQ113=\"\"),0,IF(AND(BN113=$D113,BQ113=$E113),40,IF(BN113=$D113,20,IF(BQ113=$E113,20,IF(AND(BN113<>$D113,BQ113<>$E113),0)))))","v":40},{"$f":"IF(COUNTIF($D$20:$E$23,BQ113),40,0)+IF(COUNTIF($D$20:$E$23,BN113),40,0)","v":80},{"$f":"IF(OR(BN113=\"\",BQ113=\"\"),0,IF(AND(BN113=$D113,BQ113=$E113,BO113=$F113,BP113=$G113),50,0))","v":0},"Spanien",3,2,"Deutschland",{"$f":"IF(OR(BU113=\"\",BX113=\"\"),0,IF(AND(BU113=$D113,BX113=$E113),40,IF(BU113=$D113,20,IF(BX113=$E113,20,IF(AND(BU113<>$D113,BX113<>$E113),0)))))","v":40},{"$f":"IF(COUNTIF($D$20:$E$23,BX113),40,0)+IF(COUNTIF($D$20:$E$23,BU113),40,0)","v":80},{"$f":"IF(OR(BU113=\"\",BX113=\"\"),0,IF(AND(BU113=$D113,BX113=$E113,BV113=$F113,BW113=$G113),50,0))","v":0},"Spanien",1,2,"Deutschland",{"$f":"IF(OR(CB113=\"\",CE113=\"\"),0,IF(AND(CB113=$D113,CE113=$E113),40,IF(CB113=$D113,20,IF(CE113=$E113,20,IF(AND(CB113<>$D113,CE113<>$E113),0)))))","v":40},{"$f":"IF(COUNTIF($D$20:$E$23,CE113),40,0)+IF(COUNTIF($D$20:$E$23,CB113),40,0)","v":80},{"$f":"IF(OR(CB113=\"\",CE113=\"\"),0,IF(AND(CB113=$D113,CE113=$E113,CC113=$F113,CD113=$G113),50,0))","v":0},"Spanien",3,1,"Deutschland",{"$f":"IF(OR(CI113=\"\",CL113=\"\"),0,IF(AND(CI113=$D113,CL113=$E113),40,IF(CI113=$D113,20,IF(CL113=$E113,20,IF(AND(CI113<>$D113,CL113<>$E113),0)))))","v":40},{"$f":"IF(COUNTIF($D$20:$E$23,CL113),40,0)+IF(COUNTIF($D$20:$E$23,CI113),40,0)","v":80},{"$f":"IF(OR(CI113=\"\",CL113=\"\"),0,IF(AND(CI113=$D113,CL113=$E113,CJ113=$F113,CK113=$G113),50,0))","v":0},"Kroatien",1,2,"Deutschland",{"$f":"IF(OR(CP113=\"\",CS113=\"\"),0,IF(AND(CP113=$D113,CS113=$E113),40,IF(CP113=$D113,20,IF(CS113=$E113,20,IF(AND(CP113<>$D113,CS113<>$E113),0)))))","v":20},{"$f":"IF(COUNTIF($D$20:$E$23,CS113),40,0)+IF(COUNTIF($D$20:$E$23,CP113),40,0)","v":40},{"$f":"IF(OR(CP113=\"\",CS113=\"\"),0,IF(AND(CP113=$D113,CS113=$E113,CQ113=$F113,CR113=$G113),50,0))","v":0},"Kroatien",2,1,"Deutschland",{"$f":"IF(OR(CW113=\"\",CZ113=\"\"),0,IF(AND(CW113=$D113,CZ113=$E113),40,IF(CW113=$D113,20,IF(CZ113=$E113,20,IF(AND(CW113<>$D113,CZ113<>$E113),0)))))","v":20},{"$f":"IF(COUNTIF($D$20:$E$23,CZ113),40,0)+IF(COUNTIF($D$20:$E$23,CW113),40,0)","v":40},{"$f":"IF(OR(CW113=\"\",CZ113=\"\"),0,IF(AND(CW113=$D113,CZ113=$E113,CX113=$F113,CY113=$G113),50,0))","v":0},"Kroatien",0,1,"Deutschland",{"$f":"IF(OR(DD113=\"\",DG113=\"\"),0,IF(AND(DD113=$D113,DG113=$E113),40,IF(DD113=$D113,20,IF(DG113=$E113,20,IF(AND(DD113<>$D113,DG113<>$E113),0)))))","v":20},{"$f":"IF(COUNTIF($D$20:$E$23,DG113),40,0)+IF(COUNTIF($D$20:$E$23,DD113),40,0)","v":40},{"$f":"IF(OR(DD113=\"\",DG113=\"\"),0,IF(AND(DD113=$D113,DG113=$E113,DE113=$F113,DF113=$G113),50,0))","v":0},"Italien",0,1,"Deutschland",{"$f":"IF(OR(DK113=\"\",DN113=\"\"),0,IF(AND(DK113=$D113,DN113=$E113),40,IF(DK113=$D113,20,IF(DN113=$E113,20,IF(AND(DK113<>$D113,DN113<>$E113),0)))))","v":20},{"$f":"IF(COUNTIF($D$20:$E$23,DN113),40,0)+IF(COUNTIF($D$20:$E$23,DK113),40,0)","v":40},{"$f":"IF(OR(DK113=\"\",DN113=\"\"),0,IF(AND(DK113=$D113,DN113=$E113,DL113=$F113,DM113=$G113),50,0))","v":0},null,null,null,null,{"$f":"IF(OR(DR113=\"\",DU113=\"\"),0,IF(AND(DR113=$D113,DU113=$E113),40,IF(DR113=$D113,20,IF(DU113=$E113,20,IF(AND(DR113<>$D113,DU113<>$E113),0)))))","v":0},{"$f":"IF(COUNTIF($D$20:$E$23,DU113),40,0)+IF(COUNTIF($D$20:$E$23,DR113),40,0)","v":0},{"$f":"IF(OR(DR113=\"\",DU113=\"\"),0,IF(AND(DR113=$D113,DU113=$E113,DS113=$F113,DT113=$G113),50,0))","v":0},null,null,null,null,{"$f":"IF(OR(DY113=\"\",EB113=\"\"),0,IF(AND(DY113=$D113,EB113=$E113),40,IF(DY113=$D113,20,IF(EB113=$E113,20,IF(AND(DY113<>$D113,EB113<>$E113),0)))))","v":0},{"$f":"IF(COUNTIF($D$20:$E$23,EB113),40,0)+IF(COUNTIF($D$20:$E$23,DY113),40,0)","v":0},{"$f":"IF(OR(DY113=\"\",EB113=\"\"),0,IF(AND(DY113=$D113,EB113=$E113,DZ113=$F113,EA113=$G113),50,0))","v":0},null,null,null,null,{"$f":"IF(OR(EF113=\"\",EI113=\"\"),0,IF(AND(EF113=$D113,EI113=$E113),40,IF(EF113=$D113,20,IF(EI113=$E113,20,IF(AND(EF113<>$D113,EI113<>$E113),0)))))","v":0},{"$f":"IF(COUNTIF($D$20:$E$23,EI113),40,0)+IF(COUNTIF($D$20:$E$23,EF113),40,0)","v":0},{"$f":"IF(OR(EF113=\"\",EI113=\"\"),0,IF(AND(EF113=$D113,EI113=$E113,EG113=$F113,EH113=$G113),50,0))","v":0},null,null,null,null,{"$f":"IF(OR(EM113=\"\",EP113=\"\"),0,IF(AND(EM113=$D113,EP113=$E113),40,IF(EM113=$D113,20,IF(EP113=$E113,20,IF(AND(EM113<>$D113,EP113<>$E113),0)))))","v":0},{"$f":"IF(COUNTIF($D$20:$E$23,EP113),40,0)+IF(COUNTIF($D$20:$E$23,EM113),40,0)","v":0},{"$f":"IF(OR(EM113=\"\",EP113=\"\"),0,IF(AND(EM113=$D113,EP113=$E113,EN113=$F113,EO113=$G113),50,0))","v":0}]
["Fr. 5. Jul","21:00:00",46,"Portugal","Frankreich",3,5,null,null,"Portugal",1,0,"Holland",{"$f":"IF(OR(J114=\"\",M114=\"\"),0,IF(AND(J114=$D114,M114=$E114),40,IF(J114=$D114,20,IF(M114=$E114,20,IF(AND(J114<>$D114,M114<>$E114),0)))))","v":20},{"$f":"IF(COUNTIF($D$20:$E$23,M114),40,0)+IF(COUNTIF($D$20:$E$23,J114),40,0)","v":80},{"$f":"IF(OR(J114=\"\",M114=\"\"),0,IF(AND(J114=$D114,M114=$E114,K114=$F114,L114=$G114),50,0))","v":0},"Portugal",2,1,"Holland",{"$f":"IF(OR(Q114=\"\",T114=\"\"),0,IF(AND(Q114=$D114,T114=$E114),40,IF(Q114=$D114,20,IF(T114=$E114,20,IF(AND(Q114<>$D114,T114<>$E114),0)))))","v":20},{"$f":"IF(COUNTIF($D$20:$E$23,T114),40,0)+IF(COUNTIF($D$20:$E$23,Q114),40,0)","v":80},{"$f":"IF(OR(Q114=\"\",T114=\"\"),0,IF(AND(Q114=$D114,T114=$E114,R114=$F114,S114=$G114),50,0))","v":0},"Portugal",1,2,"Holland",{"$f":"IF(OR(X114=\"\",AA114=\"\"),0,IF(AND(X114=$D114,AA114=$E114),40,IF(X114=$D114,20,IF(AA114=$E114,20,IF(AND(X114<>$D114,AA114<>$E114),0)))))","v":20},{"$f":"IF(COUNTIF($D$20:$E$23,AA114),40,0)+IF(COUNTIF($D$20:$E$23,X114),40,0)","v":80},{"$f":"IF(OR(X114=\"\",AA114=\"\"),0,IF(AND(X114=$D114,AA114=$E114,Y114=$F114,Z114=$G114),50,0))","v":0},"Portugal",1,2,"Frankreich",{"$f":"IF(OR(AE114=\"\",AH114=\"\"),0,IF(AND(AE114=$D114,AH114=$E114),40,IF(AE114=$D114,20,IF(AH114=$E114,20,IF(AND(AE114<>$D114,AH114<>$E114),0)))))","v":40},{"$f":"IF(COUNTIF($D$20:$E$23,AH114),40,0)+IF(COUNTIF($D$20:$E$23,AE114),40,0)","v":80},{"$f":"IF(OR(AE114=\"\",AH114=\"\"),0,IF(AND(AE114=$D114,AH114=$E114,AF114=$F114,AG114=$G114),50,0))","v":0},"Portugal",3,1,"Belgien",{"$f":"IF(OR(AL114=\"\",AO114=\"\"),0,IF(AND(AL114=$D114,AO114=$E114),40,IF(AL114=$D114,20,IF(AO114=$E114,20,IF(AND(AL114<>$D114,AO114<>$E114),0)))))","v":20},{"$f":"IF(COUNTIF($D$20:$E$23,AO114),40,0)+IF(COUNTIF($D$20:$E$23,AL114),40,0)","v":40},{"$f":"IF(OR(AL114=\"\",AO114=\"\"),0,IF(AND(AL114=$D114,AO114=$E114,AM114=$F114,AN114=$G114),50,0))","v":0},"Portugal",0,1,"Holland",{"$f":"IF(OR(AS114=\"\",AV114=\"\"),0,IF(AND(AS114=$D114,AV114=$E114),40,IF(AS114=$D114,20,IF(AV114=$E114,20,IF(AND(AS114<>$D114,AV114<>$E114),0)))))","v":20},{"$f":"IF(COUNTIF($D$20:$E$23,AV114),40,0)+IF(COUNTIF($D$20:$E$23,AS114),40,0)","v":80},{"$f":"IF(OR(AS114=\"\",AV114=\"\"),0,IF(AND(AS114=$D114,AV114=$E114,AT114=$F114,AU114=$G114),50,0))","v":0},"Portugal",1,2,"Holland",{"$f":"IF(OR(AZ114=\"\",BC114=\"\"),0,IF(AND(AZ114=$D114,BC114=$E114),40,IF(AZ114=$D114,20,IF(BC114=$E114,20,IF(AND(AZ114<>$D114,BC114<>$E114),0)))))","v":20},{"$f":"IF(COUNTIF($D$20:$E$23,BC114),40,0)+IF(COUNTIF($D$20:$E$23,AZ114),40,0)","v":80},{"$f":"IF(OR(AZ114=\"\",BC114=\"\"),0,IF(AND(AZ114=$D114,BC114=$E114,BA114=$F114,BB114=$G114),50,0))","v":0},"Italien",1,0,"Holland",{"$f":"IF(OR(BG114=\"\",BJ114=\"\"),0,IF(AND(BG114=$D114,BJ114=$E114),40,IF(BG114=$D114,20,IF(BJ114=$E114,20,IF(AND(BG114<>$D114,BJ114<>$E114),0)))))","v":0},{"$f":"IF(COUNTIF($D$20:$E$23,BJ114),40,0)+IF(COUNTIF($D$20:$E$23,BG114),40,0)","v":40},{"$f":"IF(OR(BG114=\"\",BJ114=\"\"),0,IF(AND(BG114=$D114,BJ114=$E114,BH114=$F114,BI114=$G114),50,0))","v":0},"Portugal",0,2,"Holland",{"$f":"IF(OR(BN114=\"\",BQ114=\"\"),0,IF(AND(BN114=$D114,BQ114=$E114),40,IF(BN114=$D114,20,IF(BQ114=$E114,20,IF(AND(BN114<>$D114,BQ114<>$E114),0)))))","v":20},{"$f":"IF(COUNTIF($D$20:$E$23,BQ114),40,0)+IF(COUNTIF($D$20:$E$23,BN114),40,0)","v":80},{"$f":"IF(OR(BN114=\"\",BQ114=\"\"),0,IF(AND(BN114=$D114,BQ114=$E114,BO114=$F114,BP114=$G114),50,0))","v":0},"Portugal",2,1,"Holland",{"$f":"IF(OR(BU114=\"\",BX114=\"\"),0,IF(AND(BU114=$D114,BX114=$E114),40,IF(BU114=$D114,20,IF(BX114=$E114,20,IF(AND(BU114<>$D114,BX114<>$E114),0)))))","v":20},{"$f":"IF(COUNTIF($D$20:$E$23,BX114),40,0)+IF(COUNTIF($D$20:$E$23,BU114),40,0)","v":80},{"$f":"IF(OR(BU114=\"\",BX114=\"\"),0,IF(AND(BU114=$D114,BX114=$E114,BV114=$F114,BW114=$G114),50,0))","v":0},"Portugal",2,1,"Holland",{"$f":"IF(OR(CB114=\"\",CE114=\"\"),0,IF(AND(CB114=$D114,CE114=$E114),40,IF(CB114=$D114,20,IF(CE114=$E114,20,IF(AND(CB114<>$D114,CE114<>$E114),0)))))","v":20},{"$f":"IF(COUNTIF($D$20:$E$23,CE114),40,0)+IF(COUNTIF($D$20:$E$23,CB114),40,0)","v":80},{"$f":"IF(OR(CB114=\"\",CE114=\"\"),0,IF(AND(CB114=$D114,CE114=$E114,CC114=$F114,CD114=$G114),50,0))","v":0},"Portugal",2,3,"Holland",{"$f":"IF(OR(CI114=\"\",CL114=\"\"),0,IF(AND(CI114=$D114,CL114=$E114),40,IF(CI114=$D114,20,IF(CL114=$E114,20,IF(AND(CI114<>$D114,CL114<>$E114),0)))))","v":20},{"$f":"IF(COUNTIF($D$20:$E$23,CL114),40,0)+IF(COUNTIF($D$20:$E$23,CI114),40,0)","v":80},{"$f":"IF(OR(CI114=\"\",CL114=\"\"),0,IF(AND(CI114=$D114,CL114=$E114,CJ114=$F114,CK114=$G114),50,0))","v":0},"Portugal",2,1,"Frankreich",{"$f":"IF(OR(CP114=\"\",CS114=\"\"),0,IF(AND(CP114=$D114,CS114=$E114),40,IF(CP114=$D114,20,IF(CS114=$E114,20,IF(AND(CP114<>$D114,CS114<>$E114),0)))))","v":40},{"$f":"IF(COUNTIF($D$20:$E$23,CS114),40,0)+IF(COUNTIF($D$20:$E$23,CP114),40,0)","v":80},{"$f":"IF(OR(CP114=\"\",CS114=\"\"),0,IF(AND(CP114=$D114,CS114=$E114,CQ114=$F114,CR114=$G114),50,0))","v":0},"Portugal",0,1,"Holland",{"$f":"IF(OR(CW114=\"\",CZ114=\"\"),0,IF(AND(CW114=$D114,CZ114=$E114),40,IF(CW114=$D114,20,IF(CZ114=$E114,20,IF(AND(CW114<>$D114,CZ114<>$E114),0)))))","v":20},{"$f":"IF(COUNTIF($D$20:$E$23,CZ114),40,0)+IF(COUNTIF($D$20:$E$23,CW114),40,0)","v":80},{"$f":"IF(OR(CW114=\"\",CZ114=\"\"),0,IF(AND(CW114=$D114,CZ114=$E114,CX114=$F114,CY114=$G114),50,0))","v":0},"Portugal",1,0,"Holland",{"$f":"IF(OR(DD114=\"\",DG114=\"\"),0,IF(AND(DD114=$D114,DG114=$E114),40,IF(DD114=$D114,20,IF(DG114=$E114,20,IF(AND(DD114<>$D114,DG114<>$E114),0)))))","v":20},{"$f":"IF(COUNTIF($D$20:$E$23,DG114),40,0)+IF(COUNTIF($D$20:$E$23,DD114),40,0)","v":80},{"$f":"IF(OR(DD114=\"\",DG114=\"\"),0,IF(AND(DD114=$D114,DG114=$E114,DE114=$F114,DF114=$G114),50,0))","v":0},"Kroatien",1,0,"Holland",{"$f":"IF(OR(DK114=\"\",DN114=\"\"),0,IF(AND(DK114=$D114,DN114=$E114),40,IF(DK114=$D114,20,IF(DN114=$E114,20,IF(AND(DK114<>$D114,DN114<>$E114),0)))))","v":0},{"$f":"IF(COUNTIF($D$20:$E$23,DN114),40,0)+IF(COUNTIF($D$20:$E$23,DK114),40,0)","v":40},{"$f":"IF(OR(DK114=\"\",DN114=\"\"),0,IF(AND(DK114=$D114,DN114=$E114,DL114=$F114,DM114=$G114),50,0))","v":0},null,null,null,null,{"$f":"IF(OR(DR114=\"\",DU114=\"\"),0,IF(AND(DR114=$D114,DU114=$E114),40,IF(DR114=$D114,20,IF(DU114=$E114,20,IF(AND(DR114<>$D114,DU114<>$E114),0)))))","v":0},{"$f":"IF(COUNTIF($D$20:$E$23,DU114),40,0)+IF(COUNTIF($D$20:$E$23,DR114),40,0)","v":0},{"$f":"IF(OR(DR114=\"\",DU114=\"\"),0,IF(AND(DR114=$D114,DU114=$E114,DS114=$F114,DT114=$G114),50,0))","v":0},null,null,null,null,{"$f":"IF(OR(DY114=\"\",EB114=\"\"),0,IF(AND(DY114=$D114,EB114=$E114),40,IF(DY114=$D114,20,IF(EB114=$E114,20,IF(AND(DY114<>$D114,EB114<>$E114),0)))))","v":0},{"$f":"IF(COUNTIF($D$20:$E$23,EB114),40,0)+IF(COUNTIF($D$20:$E$23,DY114),40,0)","v":0},{"$f":"IF(OR(DY114=\"\",EB114=\"\"),0,IF(AND(DY114=$D114,EB114=$E114,DZ114=$F114,EA114=$G114),50,0))","v":0},null,null,null,null,{"$f":"IF(OR(EF114=\"\",EI114=\"\"),0,IF(AND(EF114=$D114,EI114=$E114),40,IF(EF114=$D114,20,IF(EI114=$E114,20,IF(AND(EF114<>$D114,EI114<>$E114),0)))))","v":0},{"$f":"IF(COUNTIF($D$20:$E$23,EI114),40,0)+IF(COUNTIF($D$20:$E$23,EF114),40,0)","v":0},{"$f":"IF(OR(EF114=\"\",EI114=\"\"),0,IF(AND(EF114=$D114,EI114=$E114,EG114=$F114,EH114=$G114),50,0))","v":0},null,null,null,null,{"$f":"IF(OR(EM114=\"\",EP114=\"\"),0,IF(AND(EM114=$D114,EP114=$E114),40,IF(EM114=$D114,20,IF(EP114=$E114,20,IF(AND(EM114<>$D114,EP114<>$E114),0)))))","v":0},{"$f":"IF(COUNTIF($D$20:$E$23,EP114),40,0)+IF(COUNTIF($D$20:$E$23,EM114),40,0)","v":0},{"$f":"IF(OR(EM114=\"\",EP114=\"\"),0,IF(AND(EM114=$D114,EP114=$E114,EN114=$F114,EO114=$G114),50,0))","v":0}]
["Sa. 6. Jul","21:00:00",47,"Holland","Türkei",2,1,null,null,"Italien",1,2,"Frankreich",0,40,0,"Belgien",1,2,"Frankreich",0,40,0,"Italien",1,2,"Türkei",20,40,0,"Belgien",1,2,"Holland",0,40,0,"Ukraine",1,4,"Frankreich",0,40,0,"Belgien",2,1,"Frankreich",0,40,0,"Belgien",2,3,"Frankreich",0,40,0,"Belgien",0,1,"Frankreich",0,40,0,"Belgien",1,2,"Frankreich",0,40,0,"Italien",1,2,"Frankreich",0,40,0,"Belgien",1,2,"Frankreich",0,40,0,"Belgien",1,2,"Frankreich",0,40,0,"Belgien",3,2,"Holland",0,40,0,"Italien",1,3,"Frankreich",0,40,0,"Belgien",0,1,"Frankreich",0,40,0,"Belgien",0,2,"Frankreich",0,40,0,null,null,null,null,0,0,0,null,null,null,null,0,0,0,null,null,null,null,0,0,0,null,null,null,null,0,0,0]
["Sa. 6. Jul","18:00:00",48,"England","Schweiz",5,3,null,null,"England",3,2,"Spanien",20,80,0,"England",3,2,"Italien",20,40,0,"England",2,1,"Spanien",20,80,0,"England",2,1,"Spanien",20,80,0,"England",2,0,"Italien",20,40,0,"England",2,1,"Schweiz",40,80,0,"England",2,0,"Italien",20,40,0,"England",1,0,"Kroatien",20,40,0,"England",2,1,"Italien",20,40,0,"England",2,3,"Kroatien",20,40,0,"England",2,1,"Italien",20,40,0,"Österreich",1,2,"Kroatien",0,0,0,"Dänemark",3,1,"Schweiz",20,40,0,"England",1,2,"Spanien",20,80,0,"England",1,0,"Spanien",20,80,0,"England",2,1,"Spanien",20,80,0,null,null,null,null,0,0,0,null,null,null,null,0,0,0,null,null,null,null,0,0,0,null,null,null,null,0,0,0]
["Halbfinale"]
[{"$f":"A87","v":"Di. 9. Jul"},"21:00:00",49,"Spanien","Frankreich",{"$f":"IF(F87=\"\",\"\",F87)","v":2},{"$f":"IF(G87=\"\",\"\",G87)","v":1},null,null,"Kroatien",2,1,"Portugal",{"$f":"IF(OR(J118=\"\",M118=\"\"),0,IF(AND(J118=$D118,M118=$E118),60,IF(J118=$D118,30,IF(M118=$E118,30,IF(AND(J118<>$D118,M118<>$E118),0)))))","v":0},{"$f":"IF(COUNTIF($D$25:$E$26,M118),80,0)+IF(COUNTIF($D$25:$E$26,J118),80,0)","v":0},{"$f":"IF(OR(J118=\"\",M118=\"\"),0,IF(AND(J118=$D118,M118=$E118,K118=$F118,L118=$G118),100,0))","v":0},"Kroatien",1,2,"Portugal",{"$f":"IF(OR(Q118=\"\",T118=\"\"),0,IF(AND(Q118=$D118,T118=$E118),60,IF(Q118=$D118,30,IF(T118=$E118,30,IF(AND(Q118<>$D118,T118<>$E118),0)))))","v":0},{"$f":"IF(COUNTIF($D$25:$E$26,T118),80,0)+IF(COUNTIF($D$25:$E$26,Q118),80,0)","v":0},{"$f":"IF(OR(Q118=\"\",T118=\"\"),0,IF(AND(Q118=$D118,T118=$E118,R118=$F118,S118=$G118),100,0))","v":0},"Deutschland",3,2,"Holland",{"$f":"IF(OR(X118=\"\",AA118=\"\"),0,IF(AND(X118=$D118,AA118=$E118),60,IF(X118=$D118,30,IF(AA118=$E118,30,IF(AND(X118<>$D118,AA118<>$E118),0)))))","v":0},{"$f":"IF(COUNTIF($D$25:$E$26,AA118),80,0)+IF(COUNTIF($D$25:$E$26,X118),80,0)","v":80},{"$f":"IF(OR(X118=\"\",AA118=\"\"),0,IF(AND(X118=$D118,AA118=$E118,Y118=$F118,Z118=$G118),100,0))","v":0},"Deutschland",1,0,"Frankreich",{"$f":"IF(OR(AE118=\"\",AH118=\"\"),0,IF(AND(AE118=$D118,AH118=$E118),60,IF(AE118=$D118,30,IF(AH118=$E118,30,IF(AND(AE118<>$D118,AH118<>$E118),0)))))","v":30},{"$f":"IF(COUNTIF($D$25:$E$26,AH118),80,0)+IF(COUNTIF($D$25:$E$26,AE118),80,0)","v":80},{"$f":"IF(OR(AE118=\"\",AH118=\"\"),0,IF(AND(AE118=$D118,AH118=$E118,AF118=$F118,AG118=$G118),100,0))","v":0},"Deutschland",1,2,"Portugal",{"$f":"IF(OR(AL118=\"\",AO118=\"\"),0,IF(AND(AL118=$D118,AO118=$E118),60,IF(AL118=$D118,30,IF(AO118=$E118,30,IF(AND(AL118<>$D118,AO118<>$E118),0)))))","v":0},{"$f":"IF(COUNTIF($D$25:$E$26,AO118),80,0)+IF(COUNTIF($D$25:$E$26,AL118),80,0)","v":0},{"$f":"IF(OR(AL118=\"\",AO118=\"\"),0,IF(AND(AL118=$D118,AO118=$E118,AM118=$F118,AN118=$G118),100,0))","v":0},"Italien",1,0,"Holland",{"$f":"IF(OR(AS118=\"\",AV118=\"\"),0,IF(AND(AS118=$D118,AV118=$E118),60,IF(AS118=$D118,30,IF(AV118=$E118,30,IF(AND(AS118<>$D118,AV118<>$E118),0)))))","v":0},{"$f":"IF(COUNTIF($D$25:$E$26,AV118),80,0)+IF(COUNTIF($D$25:$E$26,AS118),80,0)","v":80},{"$f":"IF(OR(AS118=\"\",AV118=\"\"),0,IF(AND(AS118=$D118,AV118=$E118,AT118=$F118,AU118=$G118),100,0))","v":0},"Spanien",1,0,"Holland",{"$f":"IF(OR(AZ118=\"\",BC118=\"\"),0,IF(AND(AZ118=$D118,BC118=$E118),60,IF(AZ118=$D118,30,IF(BC118=$E118,30,IF(AND(AZ118<>$D118,BC118<>$E118),0)))))","v":30},{"$f":"IF(COUNTIF($D$25:$E$26,BC118),80,0)+IF(COUNTIF($D$25:$E$26,AZ118),80,0)","v":160},{"$f":"IF(OR(AZ118=\"\",BC118=\"\"),0,IF(AND(AZ118=$D118,BC118=$E118,BA118=$F118,BB118=$G118),100,0))","v":0},"Deutschland",1,0,"Italien",{"$f":"IF(OR(BG118=\"\",BJ118=\"\"),0,IF(AND(BG118=$D118,BJ118=$E118),60,IF(BG118=$D118,30,IF(BJ118=$E118,30,IF(AND(BG118<>$D118,BJ118<>$E118),0)))))","v":0},{"$f":"IF(COUNTIF($D$25:$E$26,BJ118),80,0)+IF(COUNTIF($D$25:$E$26,BG118),80,0)","v":0},{"$f":"IF(OR(BG118=\"\",BJ118=\"\"),0,IF(AND(BG118=$D118,BJ118=$E118,BH118=$F118,BI118=$G118),100,0))","v":0},"Deutschland",2,1,"Holland",{"$f":"IF(OR(BN118=\"\",BQ118=\"\"),0,IF(AND(BN118=$D118,BQ118=$E118),60,IF(BN118=$D118,30,IF(BQ118=$E118,30,IF(AND(BN118<>$D118,BQ118<>$E118),0)))))","v":0},{"$f":"IF(COUNTIF($D$25:$E$26,BQ118),80,0)+IF(COUNTIF($D$25:$E$26,BN118),80,0)","v":80},{"$f":"IF(OR(BN118=\"\",BQ118=\"\"),0,IF(AND(BN118=$D118,BQ118=$E118,BO118=$F118,BP118=$G118),100,0))","v":0},"Spanien",2,1,"Portugal",{"$f":"IF(OR(BU118=\"\",BX118=\"\"),0,IF(AND(BU118=$D118,BX118=$E118),60,IF(BU118=$D118,30,IF(BX118=$E118,30,IF(AND(BU118<>$D118,BX118<>$E118),0)))))","v":30},{"$f":"IF(COUNTIF($D$25:$E$26,BX118),80,0)+IF(COUNTIF($D$25:$E$26,BU118),80,0)","v":80},{"$f":"IF(OR(BU118=\"\",BX118=\"\"),0,IF(AND(BU118=$D118,BX118=$E118,BV118=$F118,BW118=$G118),100,0))","v":0},"Deutschland",2,1,"Portugal",{"$f":"IF(OR(CB118=\"\",CE118=\"\"),0,IF(AND(CB118=$D118,CE118=$E118),60,IF(CB118=$D118,30,IF(CE118=$E118,30,IF(AND(CB118<>$D118,CE118<>$E118),0)))))","v":0},{"$f":"IF(COUNTIF($D$25:$E$26,CE118),80,0)+IF(COUNTIF($D$25:$E$26,CB118),80,0)","v":0},{"$f":"IF(OR(CB118=\"\",CE118=\"\"),0,IF(AND(CB118=$D118,CE118=$E118,CC118=$F118,CD118=$G118),100,0))","v":0},"Spanien",1,3,"Holland",{"$f":"IF(OR(CI118=\"\",CL118=\"\"),0,IF(AND(CI118=$D118,CL118=$E118),60,IF(CI118=$D118,30,IF(CL118=$E118,30,IF(AND(CI118<>$D118,CL118<>$E118),0)))))","v":30},{"$f":"IF(COUNTIF($D$25:$E$26,CL118),80,0)+IF(COUNTIF($D$25:$E$26,CI118),80,0)","v":160},{"$f":"IF(OR(CI118=\"\",CL118=\"\"),0,IF(AND(CI118=$D118,CL118=$E118,CJ118=$F118,CK118=$G118),100,0))","v":0},"Deutschland",5,4,"Portugal",{"$f":"IF(OR(CP118=\"\",CS118=\"\"),0,IF(AND(CP118=$D118,CS118=$E118),60,IF(CP118=$D118,30,IF(CS118=$E118,30,IF(AND(CP118<>$D118,CS118<>$E118),0)))))","v":0},{"$f":"IF(COUNTIF($D$25:$E$26,CS118),80,0)+IF(COUNTIF($D$25:$E$26,CP118),80,0)","v":0},{"$f":"IF(OR(CP118=\"\",CS118=\"\"),0,IF(AND(CP118=$D118,CS118=$E118,CQ118=$F118,CR118=$G118),100,0))","v":0},"Kroatien",2,1,"Holland",{"$f":"IF(OR(CW118=\"\",CZ118=\"\"),0,IF(AND(CW118=$D118,CZ118=$E118),60,IF(CW118=$D118,30,IF(CZ118=$E118,30,IF(AND(CW118<>$D118,CZ118<>$E118),0)))))","v":0},{"$f":"IF(COUNTIF($D$25:$E$26,CZ118),80,0)+IF(COUNTIF($D$25:$E$26,CW118),80,0)","v":80},{"$f":"IF(OR(CW118=\"\",CZ118=\"\"),0,IF(AND(CW118=$D118,CZ118=$E118,CX118=$F118,CY118=$G118),100,0))","v":0},"Deutschland",1,0,"Portugal",{"$f":"IF(OR(DD118=\"\",DG118=\"\"),0,IF(AND(DD118=$D118,DG118=$E118),60,IF(DD118=$D118,30,IF(DG118=$E118,30,IF(AND(DD118<>$D118,DG118<>$E118),0)))))","v":0},{"$f":"IF(COUNTIF($D$25:$E$26,DG118),80,0)+IF(COUNTIF($D$25:$E$26,DD118),80,0)","v":0},{"$f":"IF(OR(DD118=\"\",DG118=\"\"),0,IF(AND(DD118=$D118,DG118=$E118,DE118=$F118,DF118=$G118),100,0))","v":0},"Deutschland",1,0,"Kroatien",{"$f":"IF(OR(DK118=\"\",DN118=\"\"),0,IF(AND(DK118=$D118,DN118=$E118),60,IF(DK118=$D118,30,IF(DN118=$E118,30,IF(AND(DK118<>$D118,DN118<>$E118),0)))))","v":0},{"$f":"IF(COUNTIF($D$25:$E$26,DN118),80,0)+IF(COUNTIF($D$25:$E$26,DK118),80,0)","v":0},{"$f":"IF(OR(DK118=\"\",DN118=\"\"),0,IF(AND(DK118=$D118,DN118=$E118,DL118=$F118,DM118=$G118),100,0))","v":0},null,null,null,null,{"$f":"IF(OR(DR118=\"\",DU118=\"\"),0,IF(AND(DR118=$D118,DU118=$E118),60,IF(DR118=$D118,30,IF(DU118=$E118,30,IF(AND(DR118<>$D118,DU118<>$E118),0)))))","v":0},{"$f":"IF(COUNTIF($D$25:$E$26,DU118),80,0)+IF(COUNTIF($D$25:$E$26,DR118),80,0)","v":0},{"$f":"IF(OR(DR118=\"\",DU118=\"\"),0,IF(AND(DR118=$D118,DU118=$E118,DS118=$F118,DT118=$G118),100,0))","v":0},null,null,null,null,{"$f":"IF(OR(DY118=\"\",EB118=\"\"),0,IF(AND(DY118=$D118,EB118=$E118),60,IF(DY118=$D118,30,IF(EB118=$E118,30,IF(AND(DY118<>$D118,EB118<>$E118),0)))))","v":0},{"$f":"IF(COUNTIF($D$25:$E$26,EB118),80,0)+IF(COUNTIF($D$25:$E$26,DY118),80,0)","v":0},{"$f":"IF(OR(DY118=\"\",EB118=\"\"),0,IF(AND(DY118=$D118,EB118=$E118,DZ118=$F118,EA118=$G118),100,0))","v":0},null,null,null,null,{"$f":"IF(OR(EF118=\"\",EI118=\"\"),0,IF(AND(EF118=$D118,EI118=$E118),60,IF(EF118=$D118,30,IF(EI118=$E118,30,IF(AND(EF118<>$D118,EI118<>$E118),0)))))","v":0},{"$f":"IF(COUNTIF($D$25:$E$26,EI118),80,0)+IF(COUNTIF($D$25:$E$26,EF118),80,0)","v":0},{"$f":"IF(OR(EF118=\"\",EI118=\"\"),0,IF(AND(EF118=$D118,EI118=$E118,EG118=$F118,EH118=$G118),100,0))","v":0},null,null,null,null,{"$f":"IF(OR(EM118=\"\",EP118=\"\"),0,IF(AND(EM118=$D118,EP118=$E118),60,IF(EM118=$D118,30,IF(EP118=$E118,30,IF(AND(EM118<>$D118,EP118<>$E118),0)))))","v":0},{"$f":"IF(COUNTIF($D$25:$E$26,EP118),80,0)+IF(COUNTIF($D$25:$E$26,EM118),80,0)","v":0},{"$f":"IF(OR(EM118=\"\",EP118=\"\"),0,IF(AND(EM118=$D118,EP118=$E118,EN118=$F118,EO118=$G118),100,0))","v":0}]
["Mi. 10. Jul","21:00:00",50,"Holland","England",{"$f":"IF(F88=\"\",\"\",F88)","v":1},{"$f":"IF(G88=\"\",\"\",G88)","v":2},null,null,"Frankreich",0,1,"England",{"$f":"IF(OR(J119=\"\",M119=\"\"),0,IF(AND(J119=$D119,M119=$E119),60,IF(J119=$D119,30,IF(M119=$E119,30,IF(AND(J119<>$D119,M119<>$E119),0)))))","v":30},{"$f":"IF(COUNTIF($D$25:$E$26,M119),80,0)+IF(COUNTIF($D$25:$E$26,J119),80,0)","v":160},{"$f":"IF(OR(J119=\"\",M119=\"\"),0,IF(AND(J119=$D119,M119=$E119,K119=$F119,L119=$G119),100,0))","v":0},"Frankreich",3,1,"England",{"$f":"IF(OR(Q119=\"\",T119=\"\"),0,IF(AND(Q119=$D119,T119=$E119),60,IF(Q119=$D119,30,IF(T119=$E119,30,IF(AND(Q119<>$D119,T119<>$E119),0)))))","v":30},{"$f":"IF(COUNTIF($D$25:$E$26,T119),80,0)+IF(COUNTIF($D$25:$E$26,Q119),80,0)","v":160},{"$f":"IF(OR(Q119=\"\",T119=\"\"),0,IF(AND(Q119=$D119,T119=$E119,R119=$F119,S119=$G119),100,0))","v":0},"Türkei",0,2,"England",{"$f":"IF(OR(X119=\"\",AA119=\"\"),0,IF(AND(X119=$D119,AA119=$E119),60,IF(X119=$D119,30,IF(AA119=$E119,30,IF(AND(X119<>$D119,AA119<>$E119),0)))))","v":30},{"$f":"IF(COUNTIF($D$25:$E$26,AA119),80,0)+IF(COUNTIF($D$25:$E$26,X119),80,0)","v":80},{"$f":"IF(OR(X119=\"\",AA119=\"\"),0,IF(AND(X119=$D119,AA119=$E119,Y119=$F119,Z119=$G119),100,0))","v":0},"Holland",0,2,"England",{"$f":"IF(OR(AE119=\"\",AH119=\"\"),0,IF(AND(AE119=$D119,AH119=$E119),60,IF(AE119=$D119,30,IF(AH119=$E119,30,IF(AND(AE119<>$D119,AH119<>$E119),0)))))","v":60},{"$f":"IF(COUNTIF($D$25:$E$26,AH119),80,0)+IF(COUNTIF($D$25:$E$26,AE119),80,0)","v":160},{"$f":"IF(OR(AE119=\"\",AH119=\"\"),0,IF(AND(AE119=$D119,AH119=$E119,AF119=$F119,AG119=$G119),100,0))","v":0},"Frankreich",1,2,"England",{"$f":"IF(OR(AL119=\"\",AO119=\"\"),0,IF(AND(AL119=$D119,AO119=$E119),60,IF(AL119=$D119,30,IF(AO119=$E119,30,IF(AND(AL119<>$D119,AO119<>$E119),0)))))","v":30},{"$f":"IF(COUNTIF($D$25:$E$26,AO119),80,0)+IF(COUNTIF($D$25:$E$26,AL119),80,0)","v":160},{"$f":"IF(OR(AL119=\"\",AO119=\"\"),0,IF(AND(AL119=$D119,AO119=$E119,AM119=$F119,AN119=$G119),100,0))","v":0},"Belgien",1,2,"England",{"$f":"IF(OR(AS119=\"\",AV119=\"\"),0,IF(AND(AS119=$D119,AV119=$E119),60,IF(AS119=$D119,30,IF(AV119=$E119,30,IF(AND(AS119<>$D119,AV119<>$E119),0)))))","v":30},{"$f":"IF(COUNTIF($D$25:$E$26,AV119),80,0)+IF(COUNTIF($D$25:$E$26,AS119),80,0)","v":80},{"$f":"IF(OR(AS119=\"\",AV119=\"\"),0,IF(AND(AS119=$D119,AV119=$E119,AT119=$F119,AU119=$G119),100,0))","v":0},"Frankreich",3,5,"England",{"$f":"IF(OR(AZ119=\"\",BC119=\"\"),0,IF(AND(AZ119=$D119,BC119=$E119),60,IF(AZ119=$D119,30,IF(BC119=$E119,30,IF(AND(AZ119<>$D119,BC119<>$E119),0)))))","v":30},{"$f":"IF(COUNTIF($D$25:$E$26,BC119),80,0)+IF(COUNTIF($D$25:$E$26,AZ119),80,0)","v":160},{"$f":"IF(OR(AZ119=\"\",BC119=\"\"),0,IF(AND(AZ119=$D119,BC119=$E119,BA119=$F119,BB119=$G119),100,0))","v":0},"Frankreich",1,0,"England",{"$f":"IF(OR(BG119=\"\",BJ119=\"\"),0,IF(AND(BG119=$D119,BJ119=$E119),60,IF(BG119=$D119,30,IF(BJ119=$E119,30,IF(AND(BG119<>$D119,BJ119<>$E119),0)))))","v":30},{"$f":"IF(COUNTIF($D$25:$E$26,BJ119),80,0)+IF(COUNTIF($D$25:$E$26,BG119),80,0)","v":160},{"$f":"IF(OR(BG119=\"\",BJ119=\"\"),0,IF(AND(BG119=$D119,BJ119=$E119,BH119=$F119,BI119=$G119),100,0))","v":0},"Frankreich",1,2,"England",{"$f":"IF(OR(BN119=\"\",BQ119=\"\"),0,IF(AND(BN119=$D119,BQ119=$E119),60,IF(BN119=$D119,30,IF(BQ119=$E119,30,IF(AND(BN119<>$D119,BQ119<>$E119),0)))))","v":30},{"$f":"IF(COUNTIF($D$25:$E$26,BQ119),80,0)+IF(COUNTIF($D$25:$E$26,BN119),80,0)","v":160},{"$f":"IF(OR(BN119=\"\",BQ119=\"\"),0,IF(AND(BN119=$D119,BQ119=$E119,BO119=$F119,BP119=$G119),100,0))","v":0},"Frankreich",5,4,"Kroatien",{"$f":"IF(OR(BU119=\"\",BX119=\"\"),0,IF(AND(BU119=$D119,BX119=$E119),60,IF(BU119=$D119,30,IF(BX119=$E119,30,IF(AND(BU119<>$D119,BX119<>$E119),0)))))","v":0},{"$f":"IF(COUNTIF($D$25:$E$26,BX119),80,0)+IF(COUNTIF($D$25:$E$26,BU119),80,0)","v":80},{"$f":"IF(OR(BU119=\"\",BX119=\"\"),0,IF(AND(BU119=$D119,BX119=$E119,BV119=$F119,BW119=$G119),100,0))","v":0},"Frankreich",2,1,"England",{"$f":"IF(OR(CB119=\"\",CE119=\"\"),0,IF(AND(CB119=$D119,CE119=$E119),60,IF(CB119=$D119,30,IF(CE119=$E119,30,IF(AND(CB119<>$D119,CE119<>$E119),0)))))","v":30},{"$f":"IF(COUNTIF($D$25:$E$26,CE119),80,0)+IF(COUNTIF($D$25:$E$26,CB119),80,0)","v":160},{"$f":"IF(OR(CB119=\"\",CE119=\"\"),0,IF(AND(CB119=$D119,CE119=$E119,CC119=$F119,CD119=$G119),100,0))","v":0},"Frankreich",1,2,"Kroatien",{"$f":"IF(OR(CI119=\"\",CL119=\"\"),0,IF(AND(CI119=$D119,CL119=$E119),60,IF(CI119=$D119,30,IF(CL119=$E119,30,IF(AND(CI119<>$D119,CL119<>$E119),0)))))","v":0},{"$f":"IF(COUNTIF($D$25:$E$26,CL119),80,0)+IF(COUNTIF($D$25:$E$26,CI119),80,0)","v":80},{"$f":"IF(OR(CI119=\"\",CL119=\"\"),0,IF(AND(CI119=$D119,CL119=$E119,CJ119=$F119,CK119=$G119),100,0))","v":0},"Belgien",3,1,"Dänemark",{"$f":"IF(OR(CP119=\"\",CS119=\"\"),0,IF(AND(CP119=$D119,CS119=$E119),60,IF(CP119=$D119,30,IF(CS119=$E119,30,IF(AND(CP119<>$D119,CS119<>$E119),0)))))","v":0},{"$f":"IF(COUNTIF($D$25:$E$26,CS119),80,0)+IF(COUNTIF($D$25:$E$26,CP119),80,0)","v":0},{"$f":"IF(OR(CP119=\"\",CS119=\"\"),0,IF(AND(CP119=$D119,CS119=$E119,CQ119=$F119,CR119=$G119),100,0))","v":0},"Frankreich",2,1,"Spanien",{"$f":"IF(OR(CW119=\"\",CZ119=\"\"),0,IF(AND(CW119=$D119,CZ119=$E119),60,IF(CW119=$D119,30,IF(CZ119=$E119,30,IF(AND(CW119<>$D119,CZ119<>$E119),0)))))","v":0},{"$f":"IF(COUNTIF($D$25:$E$26,CZ119),80,0)+IF(COUNTIF($D$25:$E$26,CW119),80,0)","v":160},{"$f":"IF(OR(CW119=\"\",CZ119=\"\"),0,IF(AND(CW119=$D119,CZ119=$E119,CX119=$F119,CY119=$G119),100,0))","v":0},"Frankreich",1,0,"England",{"$f":"IF(OR(DD119=\"\",DG119=\"\"),0,IF(AND(DD119=$D119,DG119=$E119),60,IF(DD119=$D119,30,IF(DG119=$E119,30,IF(AND(DD119<>$D119,DG119<>$E119),0)))))","v":30},{"$f":"IF(COUNTIF($D$25:$E$26,DG119),80,0)+IF(COUNTIF($D$25:$E$26,DD119),80,0)","v":160},{"$f":"IF(OR(DD119=\"\",DG119=\"\"),0,IF(AND(DD119=$D119,DG119=$E119,DE119=$F119,DF119=$G119),100,0))","v":0},"Frankreich",2,1,"England",{"$f":"IF(OR(DK119=\"\",DN119=\"\"),0,IF(AND(DK119=$D119,DN119=$E119),60,IF(DK119=$D119,30,IF(DN119=$E119,30,IF(AND(DK119<>$D119,DN119<>$E119),0)))))","v":30},{"$f":"IF(COUNTIF($D$25:$E$26,DN119),80,0)+IF(COUNTIF($D$25:$E$26,DK119),80,0)","v":160},{"$f":"IF(OR(DK119=\"\",DN119=\"\"),0,IF(AND(DK119=$D119,DN119=$E119,DL119=$F119,DM119=$G119),100,0))","v":0},null,null,null,null,{"$f":"IF(OR(DR119=\"\",DU119=\"\"),0,IF(AND(DR119=$D119,DU119=$E119),60,IF(DR119=$D119,30,IF(DU119=$E119,30,IF(AND(DR119<>$D119,DU119<>$E119),0)))))","v":0},{"$f":"IF(COUNTIF($D$25:$E$26,DU119),80,0)+IF(COUNTIF($D$25:$E$26,DR119),80,0)","v":0},{"$f":"IF(OR(DR119=\"\",DU119=\"\"),0,IF(AND(DR119=$D119,DU119=$E119,DS119=$F119,DT119=$G119),100,0))","v":0},null,null,null,null,{"$f":"IF(OR(DY119=\"\",EB119=\"\"),0,IF(AND(DY119=$D119,EB119=$E119),60,IF(DY119=$D119,30,IF(EB119=$E119,30,IF(AND(DY119<>$D119,EB119<>$E119),0)))))","v":0},{"$f":"IF(COUNTIF($D$25:$E$26,EB119),80,0)+IF(COUNTIF($D$25:$E$26,DY119),80,0)","v":0},{"$f":"IF(OR(DY119=\"\",EB119=\"\"),0,IF(AND(DY119=$D119,EB119=$E119,DZ119=$F119,EA119=$G119),100,0))","v":0},null,null,null,null,{"$f":"IF(OR(EF119=\"\",EI119=\"\"),0,IF(AND(EF119=$D119,EI119=$E119),60,IF(EF119=$D119,30,IF(EI119=$E119,30,IF(AND(EF119<>$D119,EI119<>$E119),0)))))","v":0},{"$f":"IF(COUNTIF($D$25:$E$26,EI119),80,0)+IF(COUNTIF($D$25:$E$26,EF119),80,0)","v":0},{"$f":"IF(OR(EF119=\"\",EI119=\"\"),0,IF(AND(EF119=$D119,EI119=$E119,EG119=$F119,EH119=$G119),100,0))","v":0},null,null,null,null,{"$f":"IF(OR(EM119=\"\",EP119=\"\"),0,IF(AND(EM119=$D119,EP119=$E119),60,IF(EM119=$D119,30,IF(EP119=$E119,30,IF(AND(EM119<>$D119,EP119<>$E119),0)))))","v":0},{"$f":"IF(COUNTIF($D$25:$E$26,EP119),80,0)+IF(COUNTIF($D$25:$E$26,EM119),80,0)","v":0},{"$f":"IF(OR(EM119=\"\",EP119=\"\"),0,IF(AND(EM119=$D119,EP119=$E119,EN119=$F119,EO119=$G119),100,0))","v":0}]
["Endspiel"]
[{"$f":"A90","v":"So. 14. Jul"},{"$f":"B90","v":"21:00:00"},{"$f":"C90","v":51},{"$f":"D90","v":"Spanien"},{"$f":"E90","v":"England"},{"$f":"IF(F90=\"\",\"\",F90)","v":2},{"$f":"IF(G90=\"\",\"\",G90)","v":1},null,null,"Kroatien",0,1,"England",{"$f":"IF(OR(J121=\"\",M121=\"\"),0,IF(AND(J121=$D121,M121=$E121),100,IF(J121=$D121,50,IF(M121=$E121,50,IF(AND(J121<>$D121,M121<>$E121),0)))))","v":50},{"$f":"IF(COUNTIF($D$28:$E$28,M121),100,0)+IF(COUNTIF($D$28:$E$28,J121),100,0)","v":100},{"$f":"IF(OR(J121=\"\",M121=\"\"),0,IF(AND(J121=$D121,M121=$E121,K121=$F121,L121=$G121),200,0))","v":0},"Portugal",1,0,"Frankreich",{"$f":"IF(OR(Q121=\"\",T121=\"\"),0,IF(AND(Q121=$D121,T121=$E121),100,IF(Q121=$D121,50,IF(T121=$E121,50,IF(AND(Q121<>$D121,T121<>$E121),0)))))","v":0},{"$f":"IF(COUNTIF($D$28:$E$28,T121),100,0)+IF(COUNTIF($D$28:$E$28,Q121),100,0)","v":0},{"$f":"IF(OR(Q121=\"\",T121=\"\"),0,IF(AND(Q121=$D121,T121=$E121,R121=$F121,S121=$G121),200,0))","v":0},"Deutschland",1,0,"England",{"$f":"IF(OR(X121=\"\",AA121=\"\"),0,IF(AND(X121=$D121,AA121=$E121),100,IF(X121=$D121,50,IF(AA121=$E121,50,IF(AND(X121<>$D121,AA121<>$E121),0)))))","v":50},{"$f":"IF(COUNTIF($D$28:$E$28,AA121),100,0)+IF(COUNTIF($D$28:$E$28,X121),100,0)","v":100},{"$f":"IF(OR(X121=\"\",AA121=\"\"),0,IF(AND(X121=$D121,AA121=$E121,Y121=$F121,Z121=$G121),200,0))","v":0},"Deutschland",1,2,"England",{"$f":"IF(OR(AE121=\"\",AH121=\"\"),0,IF(AND(AE121=$D121,AH121=$E121),100,IF(AE121=$D121,50,IF(AH121=$E121,50,IF(AND(AE121<>$D121,AH121<>$E121),0)))))","v":50},{"$f":"IF(COUNTIF($D$28:$E$28,AH121),100,0)+IF(COUNTIF($D$28:$E$28,AE121),100,0)","v":100},{"$f":"IF(OR(AE121=\"\",AH121=\"\"),0,IF(AND(AE121=$D121,AH121=$E121,AF121=$F121,AG121=$G121),200,0))","v":0},"Portugal",2,1,"England",{"$f":"IF(OR(AL121=\"\",AO121=\"\"),0,IF(AND(AL121=$D121,AO121=$E121),100,IF(AL121=$D121,50,IF(AO121=$E121,50,IF(AND(AL121<>$D121,AO121<>$E121),0)))))","v":50},{"$f":"IF(COUNTIF($D$28:$E$28,AO121),100,0)+IF(COUNTIF($D$28:$E$28,AL121),100,0)","v":100},{"$f":"IF(OR(AL121=\"\",AO121=\"\"),0,IF(AND(AL121=$D121,AO121=$E121,AM121=$F121,AN121=$G121),200,0))","v":0},"Italien",1,2,"England",{"$f":"IF(OR(AS121=\"\",AV121=\"\"),0,IF(AND(AS121=$D121,AV121=$E121),100,IF(AS121=$D121,50,IF(AV121=$E121,50,IF(AND(AS121<>$D121,AV121<>$E121),0)))))","v":50},{"$f":"IF(COUNTIF($D$28:$E$28,AV121),100,0)+IF(COUNTIF($D$28:$E$28,AS121),100,0)","v":100},{"$f":"IF(OR(AS121=\"\",AV121=\"\"),0,IF(AND(AS121=$D121,AV121=$E121,AT121=$F121,AU121=$G121),200,0))","v":0},"Spanien",3,1,"England",{"$f":"IF(OR(AZ121=\"\",BC121=\"\"),0,IF(AND(AZ121=$D121,BC121=$E121),100,IF(AZ121=$D121,50,IF(BC121=$E121,50,IF(AND(AZ121<>$D121,BC121<>$E121),0)))))","v":100},{"$f":"IF(COUNTIF($D$28:$E$28,BC121),100,0)+IF(COUNTIF($D$28:$E$28,AZ121),100,0)","v":200},{"$f":"IF(OR(AZ121=\"\",BC121=\"\"),0,IF(AND(AZ121=$D121,BC121=$E121,BA121=$F121,BB121=$G121),200,0))","v":0},"Deutschland",0,1,"Frankreich",{"$f":"IF(OR(BG121=\"\",BJ121=\"\"),0,IF(AND(BG121=$D121,BJ121=$E121),100,IF(BG121=$D121,50,IF(BJ121=$E121,50,IF(AND(BG121<>$D121,BJ121<>$E121),0)))))","v":0},{"$f":"IF(COUNTIF($D$28:$E$28,BJ121),100,0)+IF(COUNTIF($D$28:$E$28,BG121),100,0)","v":0},{"$f":"IF(OR(BG121=\"\",BJ121=\"\"),0,IF(AND(BG121=$D121,BJ121=$E121,BH121=$F121,BI121=$G121),200,0))","v":0},"Deutschland",2,0,"England",{"$f":"IF(OR(BN121=\"\",BQ121=\"\"),0,IF(AND(BN121=$D121,BQ121=$E121),100,IF(BN121=$D121,50,IF(BQ121=$E121,50,IF(AND(BN121<>$D121,BQ121<>$E121),0)))))","v":50},{"$f":"IF(COUNTIF($D$28:$E$28,BQ121),100,0)+IF(COUNTIF($D$28:$E$28,BN121),100,0)","v":100},{"$f":"IF(OR(BN121=\"\",BQ121=\"\"),0,IF(AND(BN121=$D121,BQ121=$E121,BO121=$F121,BP121=$G121),200,0))","v":0},"Spanien",2,3,"Frankreich",{"$f":"IF(OR(BU121=\"\",BX121=\"\"),0,IF(AND(BU121=$D121,BX121=$E121),100,IF(BU121=$D121,50,IF(BX121=$E121,50,IF(AND(BU121<>$D121,BX121<>$E121),0)))))","v":50},{"$f":"IF(COUNTIF($D$28:$E$28,BX121),100,0)+IF(COUNTIF($D$28:$E$28,BU121),100,0)","v":100},{"$f":"IF(OR(BU121=\"\",BX121=\"\"),0,IF(AND(BU121=$D121,BX121=$E121,BV121=$F121,BW121=$G121),200,0))","v":0},"Deutschland",2,3,"Frankreich",{"$f":"IF(OR(CB121=\"\",CE121=\"\"),0,IF(AND(CB121=$D121,CE121=$E121),100,IF(CB121=$D121,50,IF(CE121=$E121,50,IF(AND(CB121<>$D121,CE121<>$E121),0)))))","v":0},{"$f":"IF(COUNTIF($D$28:$E$28,CE121),100,0)+IF(COUNTIF($D$28:$E$28,CB121),100,0)","v":0},{"$f":"IF(OR(CB121=\"\",CE121=\"\"),0,IF(AND(CB121=$D121,CE121=$E121,CC121=$F121,CD121=$G121),200,0))","v":0},"Holland",1,3,"Kroatien",{"$f":"IF(OR(CI121=\"\",CL121=\"\"),0,IF(AND(CI121=$D121,CL121=$E121),100,IF(CI121=$D121,50,IF(CL121=$E121,50,IF(AND(CI121<>$D121,CL121<>$E121),0)))))","v":0},{"$f":"IF(COUNTIF($D$28:$E$28,CL121),100,0)+IF(COUNTIF($D$28:$E$28,CI121),100,0)","v":0},{"$f":"IF(OR(CI121=\"\",CL121=\"\"),0,IF(AND(CI121=$D121,CL121=$E121,CJ121=$F121,CK121=$G121),200,0))","v":0},"Deutschland",3,2,"Belgien",{"$f":"IF(OR(CP121=\"\",CS121=\"\"),0,IF(AND(CP121=$D121,CS121=$E121),100,IF(CP121=$D121,50,IF(CS121=$E121,50,IF(AND(CP121<>$D121,CS121<>$E121),0)))))","v":0},{"$f":"IF(COUNTIF($D$28:$E$28,CS121),100,0)+IF(COUNTIF($D$28:$E$28,CP121),100,0)","v":0},{"$f":"IF(OR(CP121=\"\",CS121=\"\"),0,IF(AND(CP121=$D121,CS121=$E121,CQ121=$F121,CR121=$G121),200,0))","v":0},"Kroatien",1,0,"Frankreich",{"$f":"IF(OR(CW121=\"\",CZ121=\"\"),0,IF(AND(CW121=$D121,CZ121=$E121),100,IF(CW121=$D121,50,IF(CZ121=$E121,50,IF(AND(CW121<>$D121,CZ121<>$E121),0)))))","v":0},{"$f":"IF(COUNTIF($D$28:$E$28,CZ121),100,0)+IF(COUNTIF($D$28:$E$28,CW121),100,0)","v":0},{"$f":"IF(OR(CW121=\"\",CZ121=\"\"),0,IF(AND(CW121=$D121,CZ121=$E121,CX121=$F121,CY121=$G121),200,0))","v":0},"Deutschland",0,1,"Frankreich",{"$f":"IF(OR(DD121=\"\",DG121=\"\"),0,IF(AND(DD121=$D121,DG121=$E121),100,IF(DD121=$D121,50,IF(DG121=$E121,50,IF(AND(DD121<>$D121,DG121<>$E121),0)))))","v":0},{"$f":"IF(COUNTIF($D$28:$E$28,DG121),100,0)+IF(COUNTIF($D$28:$E$28,DD121),100,0)","v":0},{"$f":"IF(OR(DD121=\"\",DG121=\"\"),0,IF(AND(DD121=$D121,DG121=$E121,DE121=$F121,DF121=$G121),200,0))","v":0},"Deutschland",0,1,"Frankreich",{"$f":"IF(OR(DK121=\"\",DN121=\"\"),0,IF(AND(DK121=$D121,DN121=$E121),100,IF(DK121=$D121,50,IF(DN121=$E121,50,IF(AND(DK121<>$D121,DN121<>$E121),0)))))","v":0},{"$f":"IF(COUNTIF($D$28:$E$28,DN121),100,0)+IF(COUNTIF($D$28:$E$28,DK121),100,0)","v":0},{"$f":"IF(OR(DK121=\"\",DN121=\"\"),0,IF(AND(DK121=$D121,DN121=$E121,DL121=$F121,DM121=$G121),200,0))","v":0},null,null,null,null,{"$f":"IF(OR(DR121=\"\",DU121=\"\"),0,IF(AND(DR121=$D121,DU121=$E121),100,IF(DR121=$D121,50,IF(DU121=$E121,50,IF(AND(DR121<>$D121,DU121<>$E121),0)))))","v":0},{"$f":"IF(COUNTIF($D$28:$E$28,DU121),100,0)+IF(COUNTIF($D$28:$E$28,DR121),100,0)","v":0},{"$f":"IF(OR(DR121=\"\",DU121=\"\"),0,IF(AND(DR121=$D121,DU121=$E121,DS121=$F121,DT121=$G121),200,0))","v":0},null,null,null,null,{"$f":"IF(OR(DY121=\"\",EB121=\"\"),0,IF(AND(DY121=$D121,EB121=$E121),100,IF(DY121=$D121,50,IF(EB121=$E121,50,IF(AND(DY121<>$D121,EB121<>$E121),0)))))","v":0},{"$f":"IF(COUNTIF($D$28:$E$28,EB121),100,0)+IF(COUNTIF($D$28:$E$28,DY121),100,0)","v":0},{"$f":"IF(OR(DY121=\"\",EB121=\"\"),0,IF(AND(DY121=$D121,EB121=$E121,DZ121=$F121,EA121=$G121),200,0))","v":0},null,null,null,null,{"$f":"IF(OR(EF121=\"\",EI121=\"\"),0,IF(AND(EF121=$D121,EI121=$E121),100,IF(EF121=$D121,50,IF(EI121=$E121,50,IF(AND(EF121<>$D121,EI121<>$E121),0)))))","v":0},{"$f":"IF(COUNTIF($D$28:$E$28,EI121),100,0)+IF(COUNTIF($D$28:$E$28,EF121),100,0)","v":0},{"$f":"IF(OR(EF121=\"\",EI121=\"\"),0,IF(AND(EF121=$D121,EI121=$E121,EG121=$F121,EH121=$G121),200,0))","v":0},null,null,null,null,{"$f":"IF(OR(EM121=\"\",EP121=\"\"),0,IF(AND(EM121=$D121,EP121=$E121),100,IF(EM121=$D121,50,IF(EP121=$E121,50,IF(AND(EM121<>$D121,EP121<>$E121),0)))))","v":0},{"$f":"IF(COUNTIF($D$28:$E$28,EP121),100,0)+IF(COUNTIF($D$28:$E$28,EM121),100,0)","v":0},{"$f":"IF(OR(EM121=\"\",EP121=\"\"),0,IF(AND(EM121=$D121,EP121=$E121,EN121=$F121,EO121=$G121),200,0))","v":0}]
["Europameister"]
[null,null,null,{"$f":"D92","v":"Spanien"},null,null,null,null,null,"Europameister:",null,null,{"$f":"IF(K121=L121,\"\",IF(K121>L121,J121,M121))","v":"England"},null,null,{"$f":"IF(OR(M123=\"\"),0,IF(M123=$D123,300,0))","v":0},"Europameister:",null,null,{"$f":"IF(R121=S121,\"\",IF(R121>S121,Q121,T121))","v":"Portugal"},null,null,{"$f":"IF(OR(T123=\"\"),0,IF(T123=$D123,300,0))","v":0},"Europameister:",null,null,{"$f":"IF(Y121=Z121,\"\",IF(Y121>Z121,X121,AA121))","v":"Deutschland"},null,null,{"$f":"IF(OR(AA123=\"\"),0,IF(AA123=$D123,300,0))","v":0},"Europameister:",null,null,{"$f":"IF(AF121=AG121,\"\",IF(AF121>AG121,AE121,AH121))","v":"England"},null,null,{"$f":"IF(OR(AH123=\"\"),0,IF(AH123=$D123,300,0))","v":0},"Europameister:",null,null,{"$f":"IF(AM121=AN121,\"\",IF(AM121>AN121,AL121,AO121))","v":"Portugal"},null,null,{"$f":"IF(OR(AO123=\"\"),0,IF(AO123=$D123,300,0))","v":0},"Europameister:",null,null,{"$f":"IF(AT121=AU121,\"\",IF(AT121>AU121,AS121,AV121))","v":"England"},null,null,{"$f":"IF(OR(AV123=\"\"),0,IF(AV123=$D123,300,0))","v":0},"Europameister:",null,null,{"$f":"IF(BA121=BB121,\"\",IF(BA121>BB121,AZ121,BC121))","v":"Spanien"},null,null,{"$f":"IF(OR(BC123=\"\"),0,IF(BC123=$D123,300,0))","v":300},"Europameister:",null,null,{"$f":"IF(BH121=BI121,\"\",IF(BH121>BI121,BG121,BJ121))","v":"Frankreich"},null,null,{"$f":"IF(OR(BJ123=\"\"),0,IF(BJ123=$D123,300,0))","v":0},"Europameister:",null,null,{"$f":"IF(BO121=BP121,\"\",IF(BO121>BP121,BN121,BQ121))","v":"Deutschland"},null,null,{"$f":"IF(OR(BQ123=\"\"),0,IF(BQ123=$D123,300,0))","v":0},"Europameister:",null,null,{"$f":"IF(BV121=BW121,\"\",IF(BV121>BW121,BU121,BX121))","v":"Frankreich"},null,null,{"$f":"IF(OR(BX123=\"\"),0,IF(BX123=$D123,300,0))","v":0},"Europameister:",null,null,{"$f":"IF(CC121=CD121,\"\",IF(CC121>CD121,CB121,CE121))","v":"Frankreich"},null,null,{"$f":"IF(OR(CE123=\"\"),0,IF(CE123=$D123,300,0))","v":0},"Europameister:",null,null,{"$f":"IF(CJ121=CK121,\"\",IF(CJ121>CK121,CI121,CL121))","v":"Kroatien"},null,null,{"$f":"IF(OR(CL123=\"\"),0,IF(CL123=$D123,300,0))","v":0},"Europameister:",null,null,{"$f":"IF(CQ121=CR121,\"\",IF(CQ121>CR121,CP121,CS121))","v":"Deutschland"},null,null,{"$f":"IF(OR(CS123=\"\"),0,IF(CS123=$D123,300,0))","v":0},"Europameister:",null,null,{"$f":"IF(CX121=CY121,\"\",IF(CX121>CY121,CW121,CZ121))","v":"Kroatien"},null,null,{"$f":"IF(OR(CZ123=\"\"),0,IF(CZ123=$D123,300,0))","v":0},"Europameister:",null,null,{"$f":"IF(DE121=DF121,\"\",IF(DE121>DF121,DD121,DG121))","v":"Frankreich"},null,null,{"$f":"IF(OR(DG123=\"\"),0,IF(DG123=$D123,300,0))","v":0},"Europameister:",null,null,{"$f":"IF(DL121=DM121,\"\",IF(DL121>DM121,DK121,DN121))","v":"Frankreich"},null,null,{"$f":"IF(OR(DN123=\"\"),0,IF(DN123=$D123,300,0))","v":0},"Europameister:",null,null,{"$f":"IF(DS121=DT121,\"\",IF(DS121>DT121,DR121,DU121))","v":""},null,null,{"$f":"IF(OR(DU123=\"\"),0,IF(DU123=$D123,300,0))","v":0},"Europameister:",null,null,{"$f":"IF(DZ121=EA121,\"\",IF(DZ121>EA121,DY121,EB121))","v":""},null,null,{"$f":"IF(OR(EB123=\"\"),0,IF(EB123=$D123,300,0))","v":0},"Europameister:",null,null,{"$f":"IF(EG121=EH121,\"\",IF(EG121>EH121,EF121,EI121))","v":""},null,null,{"$f":"IF(OR(EI123=\"\"),0,IF(EI123=$D123,300,0))","v":0},"Europameister:",null,null,{"$f":"IF(EN121=EO121,\"\",IF(EN121>EO121,EM121,EP121))","v":""},null,null,{"$f":"IF(OR(EP123=\"\"),0,IF(EP123=$D123,300,0))","v":0}]
[null,null,null,null,null,null,null,null,null,{"$f":"Teilnehmerliste!$C66","v":"Bruno"},null,null,null,{"$f":"SUM(N104:P123)","v":910},null,null,{"$f":"Teilnehmerliste!$C67","v":"Yermany"},null,null,null,{"$f":"SUM(U104:W123)","v":700},null,null,{"$f":"Teilnehmerliste!$C68","v":"Armando"},null,null,null,{"$f":"SUM(AB104:AD123)","v":1040},null,null,{"$f":"Teilnehmerliste!$C69","v":"Julia"},null,null,null,{"$f":"SUM(AI104:AK123)","v":1120},null,null,{"$f":"Teilnehmerliste!$C70","v":"Lea"},null,null,null,{"$f":"SUM(AP104:AR123)","v":940},null,null,{"$f":"Teilnehmerliste!$C71","v":"Reto"},null,null,null,{"$f":"SUM(AW104:AY123)","v":940},null,null,{"$f":"Teilnehmerliste!$C72","v":"Christoph"},null,null,null,{"$f":"SUM(BD104:BF123)","v":1630},null,null,{"$f":"Teilnehmerliste!$C73","v":"Markus"},null,null,null,{"$f":"SUM(BK104:BM123)","v":760},null,null,{"$f":"Teilnehmerliste!$C74","v":"Stefan"},null,null,null,{"$f":"SUM(BR104:BT123)","v":1050},null,null,{"$f":"Teilnehmerliste!$C75","v":"Jingwen"},null,null,null,{"$f":"SUM(BY104:CA123)","v":980},null,null,{"$f":"Teilnehmerliste!$C76","v":"Stefan"},null,null,null,{"$f":"SUM(CF104:CH123)","v":820},null,null,{"$f":"Teilnehmerliste!$C77","v":"Jasmine"},null,null,null,{"$f":"SUM(CM104:CO123)","v":840},null,null,{"$f":"Teilnehmerliste!$C78","v":"Stefan"},null,null,null,{"$f":"SUM(CT104:CV123)","v":530},null,null,{"$f":"Teilnehmerliste!$C79","v":"Mario"},null,null,null,{"$f":"SUM(DA104:DC123)","v":850},null,null,{"$f":"Teilnehmerliste!$C80","v":"Nidhal"},null,null,null,{"$f":"SUM(DH104:DJ123)","v":810},null,null,{"$f":"Teilnehmerliste!$C81","v":"Hanspeter"},null,null,null,{"$f":"SUM(DO104:DQ123)","v":730},null,null,{"$f":"Teilnehmerliste!$C82","v":0},null,null,null,{"$f":"SUM(DV104:DX123)","v":0},null,null,{"$f":"Teilnehmerliste!$C83","v":0},null,null,null,{"$f":"SUM(EC104:EE123)","v":0},null,null,{"$f":"Teilnehmerliste!$C84","v":0},null,null,null,{"$f":"SUM(EJ104:EL123)","v":0},null,null,{"$f":"Teilnehmerliste!$C85","v":0},null,null,null,{"$f":"SUM(EQ104:ES123)","v":0}]
[]
[]
["Finalrunde",null,null,"Spieler 81 - 100"]
[{"$f":"A4","v":"Pro richtige Mannschaft am richtigen Ort: 1/8=10, 1/4=20, 1/2=30, Finale=50"},null,null,null,null,null,null,null,null,{"$f":"Teilnehmerliste!$B86","v":0},null,null,null,null,null,null,{"$f":"Teilnehmerliste!$B87","v":0},null,null,null,null,null,null,{"$f":"Teilnehmerliste!$B88","v":0},null,null,null,null,null,null,{"$f":"Teilnehmerliste!$B89","v":0},null,null,null,null,null,null,{"$f":"Teilnehmerliste!$B90","v":0},null,null,null,null,null,null,{"$f":"Teilnehmerliste!$B91","v":0},null,null,null,null,null,null,{"$f":"Teilnehmerliste!$B92","v":0},null,null,null,null,null,null,{"$f":"Teilnehmerliste!$B93","v":0},null,null,null,null,null,null,{"$f":"Teilnehmerliste!$B94","v":0},null,null,null,null,null,null,{"$f":"Teilnehmerliste!$B95","v":0},null,null,null,null,null,null,{"$f":"Teilnehmerliste!$B96","v":0},null,null,null,null,null,null,{"$f":"Teilnehmerliste!$B97","v":0},null,null,null,null,null,null,{"$f":"Teilnehmerliste!$B98","v":0},null,null,null,null,null,null,{"$f":"Teilnehmerliste!$B99","v":0},null,null,null,null,null,null,{"$f":"Teilnehmerliste!$B100","v":0},null,null,null,null,null,null,{"$f":"Teilnehmerliste!$B101","v":0},null,null,null,null,null,null,{"$f":"Teilnehmerliste!$B102","v":0},null,null,null,null,null,null,{"$f":"Teilnehmerliste!$B103","v":0},null,null,null,null,null,null,{"$f":"Teilnehmerliste!$B104","v":0},null,null,null,null,null,null,{"$f":"Teilnehmerliste!$B105","v":0}]
[{"$f":"A5","v":"Pro richtige Mannschaft im ... Finale: 1/8=20, 1/4=40, 1/2=80, Finale=100"},null,null,null,null,null,null,null,null,{"$f":"Teilnehmerliste!$C86","v":0},null,null,null,null,null,null,{"$f":"Teilnehmerliste!$C87","v":0},null,null,null,null,null,null,{"$f":"Teilnehmerliste!$C88","v":0},null,null,null,null,null,null,{"$f":"Teilnehmerliste!$C89","v":0},null,null,null,null,null,null,{"$f":"Teilnehmerliste!$C90","v":0},null,null,null,null,null,null,{"$f":"Teilnehmerliste!$C91","v":0},null,null,null,null,null,null,{"$f":"Teilnehmerliste!$C92","v":0},null,null,null,null,null,null,{"$f":"Teilnehmerliste!$C93","v":0},null,null,null,null,null,null,{"$f":"Teilnehmerliste!$C94","v":0},null,null,null,null,null,null,{"$f":"Teilnehmerliste!$C95","v":0},null,null,null,null,null,null,{"$f":"Teilnehmerliste!$C96","v":0},null,null,null,null,null,null,{"$f":"Teilnehmerliste!$C97","v":0},null,null,null,null,null,null,{"$f":"Teilnehmerliste!$C98","v":0},null,null,null,null,null,null,{"$f":"Teilnehmerliste!$C99","v":0},null,null,null,null,null,null,{"$f":"Teilnehmerliste!$C100","v":0},null,null,null,null,null,null,{"$f":"Teilnehmerliste!$C101","v":0},null,null,null,null,null,null,{"$f":"Teilnehmerliste!$C102","v":0},null,null,null,null,null,null,{"$f":"Teilnehmerliste!$C103","v":0},null,null,null,null,null,null,{"$f":"Teilnehmerliste!$C104","v":0},null,null,null,null,null,null,{"$f":"Teilnehmerliste!$C105","v":0}]
[{"$f":"A6","v":"Richtiges Resultat: 1/8=30, 1/4=50, 1/2=100, Finale=200"},null,null,null,null,null,null,null,null,null,null,null,null,null,null,{"$f":"Teilnehmerliste!$A86","v":81},null,null,null,null,null,null,{"$f":"Teilnehmerliste!$A87","v":82},null,null,null,null,null,null,{"$f":"Teilnehmerliste!$A88","v":83},null,null,null,null,null,null,{"$f":"Teilnehmerliste!$A89","v":84},null,null,null,null,null,null,{"$f":"Teilnehmerliste!$A90","v":85},null,null,null,null,null,null,{"$f":"Teilnehmerliste!$A91","v":86},null,null,null,null,null,null,{"$f":"Teilnehmerliste!$A92","v":87},null,null,null,null,null,null,{"$f":"Teilnehmerliste!$A93","v":88},null,null,null,null,null,null,{"$f":"Teilnehmerliste!$A94","v":89},null,null,null,null,null,null,{"$f":"Teilnehmerliste!$A95","v":90},null,null,null,null,null,null,{"$f":"Teilnehmerliste!$A96","v":91},null,null,null,null,null,null,{"$f":"Teilnehmerliste!$A97","v":92},null,null,null,null,null,null,{"$f":"Teilnehmerliste!$A98","v":93},null,null,null,null,null,null,{"$f":"Teilnehmerliste!$A99","v":94},null,null,null,null,null,null,{"$f":"Teilnehmerliste!$A100","v":95},null,null,null,null,null,null,{"$f":"Teilnehmerliste!$A101","v":96},null,null,null,null,null,null,{"$f":"Teilnehmerliste!$A102","v":97},null,null,null,null,null,null,{"$f":"Teilnehmerliste!$A103","v":98},null,null,null,null,null,null,{"$f":"Teilnehmerliste!$A104","v":99},null,null,null,null,null,null,{"$f":"Teilnehmerliste!$A105","v":100}]
[{"$f":"A7","v":"Richtiger Europameister = 300"}]
[]
["Datum","Zeit","Nr.","Spiel",null,"Resultat"]
["Achtelfinale",null,null,null,null,null,null,null,null,"Tipp",null,null,null,"Pkt",null,null,"Tipp",null,null,null,"Pkt",null,null,"Tipp",null,null,null,"Pkt",null,null,"Tipp",null,null,null,"Pkt",null,null,"Tipp",null,null,null,"Pkt",null,null,"Tipp",null,null,null,"Pkt",null,null,"Tipp",null,null,null,"Pkt",null,null,"Tipp",null,null,null,"Pkt",null,null,"Tipp",null,null,null,"Pkt",null,null,"Tipp",null,null,null,"Pkt",null,null,"Tipp",null,null,null,"Pkt",null,null,"Tipp",null,null,null,"Pkt",null,null,"Tipp",null,null,null,"Pkt",null,null,"Tipp",null,null,null,"Pkt",null,null,"Tipp",null,null,null,"Pkt",null,null,"Tipp",null,null,null,"Pkt",null,null,"Tipp",null,null,null,"Pkt",null,null,"Tipp",null,null,null,"Pkt",null,null,"Tipp",null,null,null,"Pkt",null,null,"Tipp",null,null,null,"Pkt"]
[{"$f":"A104","v":"Sa. 29. Jun"},"21:00:00",37,"Deutschland","Dänemark",{"$f":"IF(F104=\"\",\"\",F104)","v":2},0,null,null,null,null,null,null,{"$f":"IF(OR(J135=\"\",M135=\"\"),0,IF(AND(J135=$D135,M135=$E135),20,IF(J135=$D135,10,IF(M135=$E135,10,IF(AND(J135<>$D135,M135<>$E135),0)))))","v":0},{"$f":"IF(COUNTIF($D$11:$E$18,M135),20,0)+IF(COUNTIF($D$11:$E$18,J135),20,0)","v":0},{"$f":"IF(OR(J135=\"\",M135=\"\"),0,IF(AND(J135=$D135,M135=$E135,K135=$F135,L135=$G135),30,0))","v":0},null,null,null,null,{"$f":"IF(OR(Q135=\"\",T135=\"\"),0,IF(AND(Q135=$D135,T135=$E135),20,IF(Q135=$D135,10,IF(T135=$E135,10,IF(AND(Q135<>$D135,T135<>$E135),0)))))","v":0},{"$f":"IF(COUNTIF($D$11:$E$18,T135),20,0)+IF(COUNTIF($D$11:$E$18,Q135),20,0)","v":0},{"$f":"IF(OR(Q135=\"\",T135=\"\"),0,IF(AND(Q135=$D135,T135=$E135,R135=$F135,S135=$G135),30,0))","v":0},null,null,null,null,{"$f":"IF(OR(X135=\"\",AA135=\"\"),0,IF(AND(X135=$D135,AA135=$E135),20,IF(X135=$D135,10,IF(AA135=$E135,10,IF(AND(X135<>$D135,AA135<>$E135),0)))))","v":0},{"$f":"IF(COUNTIF($D$11:$E$18,AA135),20,0)+IF(COUNTIF($D$11:$E$18,X135),20,0)","v":0},{"$f":"IF(OR(X135=\"\",AA135=\"\"),0,IF(AND(X135=$D135,AA135=$E135,Y135=$F135,Z135=$G135),30,0))","v":0},null,null,null,null,{"$f":"IF(OR(AE135=\"\",AH135=\"\"),0,IF(AND(AE135=$D135,AH135=$E135),20,IF(AE135=$D135,10,IF(AH135=$E135,10,IF(AND(AE135<>$D135,AH135<>$E135),0)))))","v":0},{"$f":"IF(COUNTIF($D$11:$E$18,AH135),20,0)+IF(COUNTIF($D$11:$E$18,AE135),20,0)","v":0},{"$f":"IF(OR(AE135=\"\",AH135=\"\"),0,IF(AND(AE135=$D135,AH135=$E135,AF135=$F135,AG135=$G135),30,0))","v":0},null,null,null,null,{"$f":"IF(OR(AL135=\"\",AO135=\"\"),0,IF(AND(AL135=$D135,AO135=$E135),20,IF(AL135=$D135,10,IF(AO135=$E135,10,IF(AND(AL135<>$D135,AO135<>$E135),0)))))","v":0},{"$f":"IF(COUNTIF($D$11:$E$18,AO135),20,0)+IF(COUNTIF($D$11:$E$18,AL135),20,0)","v":0},{"$f":"IF(OR(AL135=\"\",AO135=\"\"),0,IF(AND(AL135=$D135,AO135=$E135,AM135=$F135,AN135=$G135),30,0))","v":0},null,null,null,null,{"$f":"IF(OR(AS135=\"\",AV135=\"\"),0,IF(AND(AS135=$D135,AV135=$E135),20,IF(AS135=$D135,10,IF(AV135=$E135,10,IF(AND(AS135<>$D135,AV135<>$E135),0)))))","v":0},{"$f":"IF(COUNTIF($D$11:$E$18,AV135),20,0)+IF(COUNTIF($D$11:$E$18,AS135),20,0)","v":0},{"$f":"IF(OR(AS135=\"\",AV135=\"\"),0,IF(AND(AS135=$D135,AV135=$E135,AT135=$F135,AU135=$G135),30,0))","v":0},null,null,null,null,{"$f":"IF(OR(AZ135=\"\",BC135=\"\"),0,IF(AND(AZ135=$D135,BC135=$E135),20,IF(AZ135=$D135,10,IF(BC135=$E135,10,IF(AND(AZ135<>$D135,BC135<>$E135),0)))))","v":0},{"$f":"IF(COUNTIF($D$11:$E$18,BC135),20,0)+IF(COUNTIF($D$11:$E$18,AZ135),20,0)","v":0},{"$f":"IF(OR(AZ135=\"\",BC135=\"\"),0,IF(AND(AZ135=$D135,BC135=$E135,BA135=$F135,BB135=$G135),30,0))","v":0},null,null,null,null,{"$f":"IF(OR(BG135=\"\",BJ135=\"\"),0,IF(AND(BG135=$D135,BJ135=$E135),20,IF(BG135=$D135,10,IF(BJ135=$E135,10,IF(AND(BG135<>$D135,BJ135<>$E135),0)))))","v":0},{"$f":"IF(COUNTIF($D$11:$E$18,BJ135),20,0)+IF(COUNTIF($D$11:$E$18,BG135),20,0)","v":0},{"$f":"IF(OR(BG135=\"\",BJ135=\"\"),0,IF(AND(BG135=$D135,BJ135=$E135,BH135=$F135,BI135=$G135),30,0))","v":0},null,null,null,null,{"$f":"IF(OR(BN135=\"\",BQ135=\"\"),0,IF(AND(BN135=$D135,BQ135=$E135),20,IF(BN135=$D135,10,IF(BQ135=$E135,10,IF(AND(BN135<>$D135,BQ135<>$E135),0)))))","v":0},{"$f":"IF(COUNTIF($D$11:$E$18,BQ135),20,0)+IF(COUNTIF($D$11:$E$18,BN135),20,0)","v":0},{"$f":"IF(OR(BN135=\"\",BQ135=\"\"),0,IF(AND(BN135=$D135,BQ135=$E135,BO135=$F135,BP135=$G135),30,0))","v":0},null,null,null,null,{"$f":"IF(OR(BU135=\"\",BX135=\"\"),0,IF(AND(BU135=$D135,BX135=$E135),20,IF(BU135=$D135,10,IF(BX135=$E135,10,IF(AND(BU135<>$D135,BX135<>$E135),0)))))","v":0},{"$f":"IF(COUNTIF($D$11:$E$18,BX135),20,0)+IF(COUNTIF($D$11:$E$18,BU135),20,0)","v":0},{"$f":"IF(OR(BU135=\"\",BX135=\"\"),0,IF(AND(BU135=$D135,BX135=$E135,BV135=$F135,BW135=$G135),30,0))","v":0},null,null,null,null,{"$f":"IF(OR(CB135=\"\",CE135=\"\"),0,IF(AND(CB135=$D135,CE135=$E135),20,IF(CB135=$D135,10,IF(CE135=$E135,10,IF(AND(CB135<>$D135,CE135<>$E135),0)))))","v":0},{"$f":"IF(COUNTIF($D$11:$E$18,CE135),20,0)+IF(COUNTIF($D$11:$E$18,CB135),20,0)","v":0},{"$f":"IF(OR(CB135=\"\",CE135=\"\"),0,IF(AND(CB135=$D135,CE135=$E135,CC135=$F135,CD135=$G135),30,0))","v":0},null,null,null,null,{"$f":"IF(OR(CI135=\"\",CL135=\"\"),0,IF(AND(CI135=$D135,CL135=$E135),20,IF(CI135=$D135,10,IF(CL135=$E135,10,IF(AND(CI135<>$D135,CL135<>$E135),0)))))","v":0},{"$f":"IF(COUNTIF($D$11:$E$18,CL135),20,0)+IF(COUNTIF($D$11:$E$18,CI135),20,0)","v":0},{"$f":"IF(OR(CI135=\"\",CL135=\"\"),0,IF(AND(CI135=$D135,CL135=$E135,CJ135=$F135,CK135=$G135),30,0))","v":0},null,null,null,null,{"$f":"IF(OR(CP135=\"\",CS135=\"\"),0,IF(AND(CP135=$D135,CS135=$E135),20,IF(CP135=$D135,10,IF(CS135=$E135,10,IF(AND(CP135<>$D135,CS135<>$E135),0)))))","v":0},{"$f":"IF(COUNTIF($D$11:$E$18,CS135),20,0)+IF(COUNTIF($D$11:$E$18,CP135),20,0)","v":0},{"$f":"IF(OR(CP135=\"\",CS135=\"\"),0,IF(AND(CP135=$D135,CS135=$E135,CQ135=$F135,CR135=$G135),30,0))","v":0},null,null,null,null,{"$f":"IF(OR(CW135=\"\",CZ135=\"\"),0,IF(AND(CW135=$D135,CZ135=$E135),20,IF(CW135=$D135,10,IF(CZ135=$E135,10,IF(AND(CW135<>$D135,CZ135<>$E135),0)))))","v":0},{"$f":"IF(COUNTIF($D$11:$E$18,CZ135),20,0)+IF(COUNTIF($D$11:$E$18,CW135),20,0)","v":0},{"$f":"IF(OR(CW135=\"\",CZ135=\"\"),0,IF(AND(CW135=$D135,CZ135=$E135,CX135=$F135,CY135=$G135),30,0))","v":0},null,null,null,null,{"$f":"IF(OR(DD135=\"\",DG135=\"\"),0,IF(AND(DD135=$D135,DG135=$E135),20,IF(DD135=$D135,10,IF(DG135=$E135,10,IF(AND(DD135<>$D135,DG135<>$E135),0)))))","v":0},{"$f":"IF(COUNTIF($D$11:$E$18,DG135),20,0)+IF(COUNTIF($D$11:$E$18,DD135),20,0)","v":0},{"$f":"IF(OR(DD135=\"\",DG135=\"\"),0,IF(AND(DD135=$D135,DG135=$E135,DE135=$F135,DF135=$G135),30,0))","v":0},null,null,null,null,{"$f":"IF(OR(DK135=\"\",DN135=\"\"),0,IF(AND(DK135=$D135,DN135=$E135),20,IF(DK135=$D135,10,IF(DN135=$E135,10,IF(AND(DK135<>$D135,DN135<>$E135),0)))))","v":0},{"$f":"IF(COUNTIF($D$11:$E$18,DN135),20,0)+IF(COUNTIF($D$11:$E$18,DK135),20,0)","v":0},{"$f":"IF(OR(DK135=\"\",DN135=\"\"),0,IF(AND(DK135=$D135,DN135=$E135,DL135=$F135,DM135=$G135),30,0))","v":0},null,null,null,null,{"$f":"IF(OR(DR135=\"\",DU135=\"\"),0,IF(AND(DR135=$D135,DU135=$E135),20,IF(DR135=$D135,10,IF(DU135=$E135,10,IF(AND(DR135<>$D135,DU135<>$E135),0)))))","v":0},{"$f":"IF(COUNTIF($D$11:$E$18,DU135),20,0)+IF(COUNTIF($D$11:$E$18,DR135),20,0)","v":0},{"$f":"IF(OR(DR135=\"\",DU135=\"\"),0,IF(AND(DR135=$D135,DU135=$E135,DS135=$F135,DT135=$G135),30,0))","v":0},null,null,null,null,{"$f":"IF(OR(DY135=\"\",EB135=\"\"),0,IF(AND(DY135=$D135,EB135=$E135),20,IF(DY135=$D135,10,IF(EB135=$E135,10,IF(AND(DY135<>$D135,EB135<>$E135),0)))))","v":0},{"$f":"IF(COUNTIF($D$11:$E$18,EB135),20,0)+IF(COUNTIF($D$11:$E$18,DY135),20,0)","v":0},{"$f":"IF(OR(DY135=\"\",EB135=\"\"),0,IF(AND(DY135=$D135,EB135=$E135,DZ135=$F135,EA135=$G135),30,0))","v":0},null,null,null,null,{"$f":"IF(OR(EF135=\"\",EI135=\"\"),0,IF(AND(EF135=$D135,EI135=$E135),20,IF(EF135=$D135,10,IF(EI135=$E135,10,IF(AND(EF135<>$D135,EI135<>$E135),0)))))","v":0},{"$f":"IF(COUNTIF($D$11:$E$18,EI135),20,0)+IF(COUNTIF($D$11:$E$18,EF135),20,0)","v":0},{"$f":"IF(OR(EF135=\"\",EI135=\"\"),0,IF(AND(EF135=$D135,EI135=$E135,EG135=$F135,EH135=$G135),30,0))","v":0},null,null,null,null,{"$f":"IF(OR(EM135=\"\",EP135=\"\"),0,IF(AND(EM135=$D135,EP135=$E135),20,IF(EM135=$D135,10,IF(EP135=$E135,10,IF(AND(EM135<>$D135,EP135<>$E135),0)))))","v":0},{"$f":"IF(COUNTIF($D$11:$E$18,EP135),20,0)+IF(COUNTIF($D$11:$E$18,EM135),20,0)","v":0},{"$f":"IF(OR(EM135=\"\",EP135=\"\"),0,IF(AND(EM135=$D135,EP135=$E135,EN135=$F135,EO135=$G135),30,0))","v":0}]
["Sa. 29. Jun","18:00:00",38,"Schweiz","Italien",2,0,null,null,null,null,null,null,0,0,{"$f":"IF(OR(J136=\"\",M136=\"\"),0,IF(AND(J136=$D136,M136=$E136,K136=$F136,L136=$G136),30,0))","v":0},null,null,null,null,0,0,{"$f":"IF(OR(Q136=\"\",T136=\"\"),0,IF(AND(Q136=$D136,T136=$E136,R136=$F136,S136=$G136),30,0))","v":0},null,null,null,null,0,0,{"$f":"IF(OR(X136=\"\",AA136=\"\"),0,IF(AND(X136=$D136,AA136=$E136,Y136=$F136,Z136=$G136),30,0))","v":0},null,null,null,null,0,0,{"$f":"IF(OR(AE136=\"\",AH136=\"\"),0,IF(AND(AE136=$D136,AH136=$E136,AF136=$F136,AG136=$G136),30,0))","v":0},null,null,null,null,0,0,{"$f":"IF(OR(AL136=\"\",AO136=\"\"),0,IF(AND(AL136=$D136,AO136=$E136,AM136=$F136,AN136=$G136),30,0))","v":0},null,null,null,null,0,0,{"$f":"IF(OR(AS136=\"\",AV136=\"\"),0,IF(AND(AS136=$D136,AV136=$E136,AT136=$F136,AU136=$G136),30,0))","v":0},null,null,null,null,0,0,{"$f":"IF(OR(AZ136=\"\",BC136=\"\"),0,IF(AND(AZ136=$D136,BC136=$E136,BA136=$F136,BB136=$G136),30,0))","v":0},null,null,null,null,0,0,{"$f":"IF(OR(BG136=\"\",BJ136=\"\"),0,IF(AND(BG136=$D136,BJ136=$E136,BH136=$F136,BI136=$G136),30,0))","v":0},null,null,null,null,0,0,{"$f":"IF(OR(BN136=\"\",BQ136=\"\"),0,IF(AND(BN136=$D136,BQ136=$E136,BO136=$F136,BP136=$G136),30,0))","v":0},null,null,null,null,0,0,{"$f":"IF(OR(BU136=\"\",BX136=\"\"),0,IF(AND(BU136=$D136,BX136=$E136,BV136=$F136,BW136=$G136),30,0))","v":0},null,null,null,null,0,0,{"$f":"IF(OR(CB136=\"\",CE136=\"\"),0,IF(AND(CB136=$D136,CE136=$E136,CC136=$F136,CD136=$G136),30,0))","v":0},null,null,null,null,0,0,{"$f":"IF(OR(CI136=\"\",CL136=\"\"),0,IF(AND(CI136=$D136,CL136=$E136,CJ136=$F136,CK136=$G136),30,0))","v":0},null,null,null,null,0,0,{"$f":"IF(OR(CP136=\"\",CS136=\"\"),0,IF(AND(CP136=$D136,CS136=$E136,CQ136=$F136,CR136=$G136),30,0))","v":0},null,null,null,null,0,0,{"$f":"IF(OR(CW136=\"\",CZ136=\"\"),0,IF(AND(CW136=$D136,CZ136=$E136,CX136=$F136,CY136=$G136),30,0))","v":0},null,null,null,null,0,0,{"$f":"IF(OR(DD136=\"\",DG136=\"\"),0,IF(AND(DD136=$D136,DG136=$E136,DE136=$F136,DF136=$G136),30,0))","v":0},null,null,null,null,0,0,{"$f":"IF(OR(DK136=\"\",DN136=\"\"),0,IF(AND(DK136=$D136,DN136=$E136,DL136=$F136,DM136=$G136),30,0))","v":0},null,null,null,null,0,0,{"$f":"IF(OR(DR136=\"\",DU136=\"\"),0,IF(AND(DR136=$D136,DU136=$E136,DS136=$F136,DT136=$G136),30,0))","v":0},null,null,null,null,0,0,{"$f":"IF(OR(DY136=\"\",EB136=\"\"),0,IF(AND(DY136=$D136,EB136=$E136,DZ136=$F136,EA136=$G136),30,0))","v":0},null,null,null,null,0,0,{"$f":"IF(OR(EF136=\"\",EI136=\"\"),0,IF(AND(EF136=$D136,EI136=$E136,EG136=$F136,EH136=$G136),30,0))","v":0},null,null,null,null,0,0,{"$f":"IF(OR(EM136=\"\",EP136=\"\"),0,IF(AND(EM136=$D136,EP136=$E136,EN136=$F136,EO136=$G136),30,0))","v":0}]
["So. 30. Jun","21:00:00",39,"Spanien","Georgien",4,1,null,null,null,null,null,null,0,0,0,null,null,null,null,0,0,0,null,null,null,null,0,0,0,null,null,null,null,0,0,0,null,null,null,null,0,0,0,null,null,null,null,0,0,0,null,null,null,null,0,0,0,null,null,null,null,0,0,0,null,null,null,null,0,0,0,null,null,null,null,0,0,0,null,null,null,null,0,0,0,null,null,null,null,0,0,0,null,null,null,null,0,0,0,null,null,null,null,0,0,0,null,null,null,null,0,0,0,null,null,null,null,0,0,0,null,null,null,null,0,0,0,null,null,null,null,0,0,0,null,null,null,null,0,0,0,null,null,null,null,0,0,0]
["So. 30. Jun","18:00:00",40,"England","Slowakei",2,1,null,null,null,null,null,null,0,0,0,null,null,null,null,0,0,0,null,null,null,null,0,0,0,null,null,null,null,0,0,0,null,null,null,null,0,0,0,null,null,null,null,0,0,0,null,null,null,null,0,0,0,null,null,null,null,0,0,0,null,null,null,null,0,0,0,null,null,null,null,0,0,0,null,null,null,null,0,0,0,null,null,null,null,0,0,0,null,null,null,null,0,0,0,null,null,null,null,0,0,0,null,null,null,null,0,0,0,null,null,null,null,0,0,0,null,null,null,null,0,0,0,null,null,null,null,0,0,0,null,null,null,null,0,0,0,null,null,null,null,0,0,0]
["Mo. 1. Jul","21:00:00",41,"Portugal","Slowenien",3,0,null,null,null,null,null,null,0,0,0,null,null,null,null,0,0,0,null,null,null,null,0,0,0,null,null,null,null,0,0,0,null,null,null,null,0,0,0,null,null,null,null,0,0,0,null,null,null,null,0,0,0,null,null,null,null,0,0,0,null,null,null,null,0,0,0,null,null,null,null,0,0,0,null,null,null,null,0,0,0,null,null,null,null,0,0,0,null,null,null,null,0,0,0,null,null,null,null,0,0,0,null,null,null,null,0,0,0,null,null,null,null,0,0,0,null,null,null,null,0,0,0,null,null,null,null,0,0,0,null,null,null,null,0,0,0,null,null,null,null,0,0,0]
["Mo. 1. Jul","18:00:00",42,"Frankreich","Belgien",1,0,null,null,null,null,null,null,0,0,0,null,null,null,null,0,0,0,null,null,null,null,0,0,0,null,null,null,null,0,0,0,null,null,null,null,0,0,0,null,null,null,null,0,0,0,null,null,null,null,0,0,0,null,null,null,null,0,0,0,null,null,null,null,0,0,0,null,null,null,null,0,0,0,null,null,null,null,0,0,0,null,null,null,null,0,0,0,null,null,null,null,0,0,0,null,null,null,null,0,0,0,null,null,null,null,0,0,0,null,null,null,null,0,0,0,null,null,null,null,0,0,0,null,null,null,null,0,0,0,null,null,null,null,0,0,0,null,null,null,null,0,0,0]
["Di. 2. Jul","18:00:00",43,"Rumänien","Holland",0,3,null,null,null,null,null,null,0,0,0,null,null,null,null,0,0,0,null,null,null,null,0,0,0,null,null,null,null,0,0,0,null,null,null,null,0,0,0,null,null,null,null,0,0,0,null,null,null,null,0,0,0,null,null,null,null,0,0,0,null,null,null,null,0,0,0,null,null,null,null,0,0,0,null,null,null,null,0,0,0,null,null,null,null,0,0,0,null,null,null,null,0,0,0,null,null,null,null,0,0,0,null,null,null,null,0,0,0,null,null,null,null,0,0,0,null,null,null,null,0,0,0,null,null,null,null,0,0,0,null,null,null,null,0,0,0,null,null,null,null,0,0,0]
["Di. 2. Jul","21:00:00",44,"Österreich","Türkei",1,2,null,null,null,null,null,null,0,0,0,null,null,null,null,0,0,0,null,null,null,null,0,0,0,null,null,null,null,0,0,0,null,null,null,null,0,0,0,null,null,null,null,0,0,0,null,null,null,null,0,0,0,null,null,null,null,0,0,0,null,null,null,null,0,0,0,null,null,null,null,0,0,0,null,null,null,null,0,0,0,null,null,null,null,0,0,0,null,null,null,null,0,0,0,null,null,null,null,0,0,0,null,null,null,null,0,0,0,null,null,null,null,0,0,0,null,null,null,null,0,0,0,null,null,null,null,0,0,0,null,null,null,null,0,0,0,null,null,null,null,0,0,0]
["Viertelfinale"]
[{"$f":"A113","v":"Fr. 5. Jul"},"18:00:00",45,"Spanien","Deutschland",{"$f":"IF(F113=\"\",\"\",F113)","v":2},1,null,null,null,null,null,null,{"$f":"IF(OR(J144=\"\",M144=\"\"),0,IF(AND(J144=$D144,M144=$E144),40,IF(J144=$D144,20,IF(M144=$E144,20,IF(AND(J144<>$D144,M144<>$E144),0)))))","v":0},{"$f":"IF(COUNTIF($D$20:$E$23,M144),40,0)+IF(COUNTIF($D$20:$E$23,J144),40,0)","v":0},{"$f":"IF(OR(J144=\"\",M144=\"\"),0,IF(AND(J144=$D144,M144=$E144,K144=$F144,L144=$G144),50,0))","v":0},null,null,null,null,{"$f":"IF(OR(Q144=\"\",T144=\"\"),0,IF(AND(Q144=$D144,T144=$E144),40,IF(Q144=$D144,20,IF(T144=$E144,20,IF(AND(Q144<>$D144,T144<>$E144),0)))))","v":0},{"$f":"IF(COUNTIF($D$20:$E$23,T144),40,0)+IF(COUNTIF($D$20:$E$23,Q144),40,0)","v":0},{"$f":"IF(OR(Q144=\"\",T144=\"\"),0,IF(AND(Q144=$D144,T144=$E144,R144=$F144,S144=$G144),50,0))","v":0},null,null,null,null,{"$f":"IF(OR(X144=\"\",AA144=\"\"),0,IF(AND(X144=$D144,AA144=$E144),40,IF(X144=$D144,20,IF(AA144=$E144,20,IF(AND(X144<>$D144,AA144<>$E144),0)))))","v":0},{"$f":"IF(COUNTIF($D$20:$E$23,AA144),40,0)+IF(COUNTIF($D$20:$E$23,X144),40,0)","v":0},{"$f":"IF(OR(X144=\"\",AA144=\"\"),0,IF(AND(X144=$D144,AA144=$E144,Y144=$F144,Z144=$G144),50,0))","v":0},null,null,null,null,{"$f":"IF(OR(AE144=\"\",AH144=\"\"),0,IF(AND(AE144=$D144,AH144=$E144),40,IF(AE144=$D144,20,IF(AH144=$E144,20,IF(AND(AE144<>$D144,AH144<>$E144),0)))))","v":0},{"$f":"IF(COUNTIF($D$20:$E$23,AH144),40,0)+IF(COUNTIF($D$20:$E$23,AE144),40,0)","v":0},{"$f":"IF(OR(AE144=\"\",AH144=\"\"),0,IF(AND(AE144=$D144,AH144=$E144,AF144=$F144,AG144=$G144),50,0))","v":0},null,null,null,null,{"$f":"IF(OR(AL144=\"\",AO144=\"\"),0,IF(AND(AL144=$D144,AO144=$E144),40,IF(AL144=$D144,20,IF(AO144=$E144,20,IF(AND(AL144<>$D144,AO144<>$E144),0)))))","v":0},{"$f":"IF(COUNTIF($D$20:$E$23,AO144),40,0)+IF(COUNTIF($D$20:$E$23,AL144),40,0)","v":0},{"$f":"IF(OR(AL144=\"\",AO144=\"\"),0,IF(AND(AL144=$D144,AO144=$E144,AM144=$F144,AN144=$G144),50,0))","v":0},null,null,null,null,{"$f":"IF(OR(AS144=\"\",AV144=\"\"),0,IF(AND(AS144=$D144,AV144=$E144),40,IF(AS144=$D144,20,IF(AV144=$E144,20,IF(AND(AS144<>$D144,AV144<>$E144),0)))))","v":0},{"$f":"IF(COUNTIF($D$20:$E$23,AV144),40,0)+IF(COUNTIF($D$20:$E$23,AS144),40,0)","v":0},{"$f":"IF(OR(AS144=\"\",AV144=\"\"),0,IF(AND(AS144=$D144,AV144=$E144,AT144=$F144,AU144=$G144),50,0))","v":0},null,null,null,null,{"$f":"IF(OR(AZ144=\"\",BC144=\"\"),0,IF(AND(AZ144=$D144,BC144=$E144),40,IF(AZ144=$D144,20,IF(BC144=$E144,20,IF(AND(AZ144<>$D144,BC144<>$E144),0)))))","v":0},{"$f":"IF(COUNTIF($D$20:$E$23,BC144),40,0)+IF(COUNTIF($D$20:$E$23,AZ144),40,0)","v":0},{"$f":"IF(OR(AZ144=\"\",BC144=\"\"),0,IF(AND(AZ144=$D144,BC144=$E144,BA144=$F144,BB144=$G144),50,0))","v":0},null,null,null,null,{"$f":"IF(OR(BG144=\"\",BJ144=\"\"),0,IF(AND(BG144=$D144,BJ144=$E144),40,IF(BG144=$D144,20,IF(BJ144=$E144,20,IF(AND(BG144<>$D144,BJ144<>$E144),0)))))","v":0},{"$f":"IF(COUNTIF($D$20:$E$23,BJ144),40,0)+IF(COUNTIF($D$20:$E$23,BG144),40,0)","v":0},{"$f":"IF(OR(BG144=\"\",BJ144=\"\"),0,IF(AND(BG144=$D144,BJ144=$E144,BH144=$F144,BI144=$G144),50,0))","v":0},null,null,null,null,{"$f":"IF(OR(BN144=\"\",BQ144=\"\"),0,IF(AND(BN144=$D144,BQ144=$E144),40,IF(BN144=$D144,20,IF(BQ144=$E144,20,IF(AND(BN144<>$D144,BQ144<>$E144),0)))))","v":0},{"$f":"IF(COUNTIF($D$20:$E$23,BQ144),40,0)+IF(COUNTIF($D$20:$E$23,BN144),40,0)","v":0},{"$f":"IF(OR(BN144=\"\",BQ144=\"\"),0,IF(AND(BN144=$D144,BQ144=$E144,BO144=$F144,BP144=$G144),50,0))","v":0},null,null,null,null,{"$f":"IF(OR(BU144=\"\",BX144=\"\"),0,IF(AND(BU144=$D144,BX144=$E144),40,IF(BU144=$D144,20,IF(BX144=$E144,20,IF(AND(BU144<>$D144,BX144<>$E144),0)))))","v":0},{"$f":"IF(COUNTIF($D$20:$E$23,BX144),40,0)+IF(COUNTIF($D$20:$E$23,BU144),40,0)","v":0},{"$f":"IF(OR(BU144=\"\",BX144=\"\"),0,IF(AND(BU144=$D144,BX144=$E144,BV144=$F144,BW144=$G144),50,0))","v":0},null,null,null,null,{"$f":"IF(OR(CB144=\"\",CE144=\"\"),0,IF(AND(CB144=$D144,CE144=$E144),40,IF(CB144=$D144,20,IF(CE144=$E144,20,IF(AND(CB144<>$D144,CE144<>$E144),0)))))","v":0},{"$f":"IF(COUNTIF($D$20:$E$23,CE144),40,0)+IF(COUNTIF($D$20:$E$23,CB144),40,0)","v":0},{"$f":"IF(OR(CB144=\"\",CE144=\"\"),0,IF(AND(CB144=$D144,CE144=$E144,CC144=$F144,CD144=$G144),50,0))","v":0},null,null,null,null,{"$f":"IF(OR(CI144=\"\",CL144=\"\"),0,IF(AND(CI144=$D144,CL144=$E144),40,IF(CI144=$D144,20,IF(CL144=$E144,20,IF(AND(CI144<>$D144,CL144<>$E144),0)))))","v":0},{"$f":"IF(COUNTIF($D$20:$E$23,CL144),40,0)+IF(COUNTIF($D$20:$E$23,CI144),40,0)","v":0},{"$f":"IF(OR(CI144=\"\",CL144=\"\"),0,IF(AND(CI144=$D144,CL144=$E144,CJ144=$F144,CK144=$G144),50,0))","v":0},null,null,null,null,{"$f":"IF(OR(CP144=\"\",CS144=\"\"),0,IF(AND(CP144=$D144,CS144=$E144),40,IF(CP144=$D144,20,IF(CS144=$E144,20,IF(AND(CP144<>$D144,CS144<>$E144),0)))))","v":0},{"$f":"IF(COUNTIF($D$20:$E$23,CS144),40,0)+IF(COUNTIF($D$20:$E$23,CP144),40,0)","v":0},{"$f":"IF(OR(CP144=\"\",CS144=\"\"),0,IF(AND(CP144=$D144,CS144=$E144,CQ144=$F144,CR144=$G144),50,0))","v":0},null,null,null,null,{"$f":"IF(OR(CW144=\"\",CZ144=\"\"),0,IF(AND(CW144=$D144,CZ144=$E144),40,IF(CW144=$D144,20,IF(CZ144=$E144,20,IF(AND(CW144<>$D144,CZ144<>$E144),0)))))","v":0},{"$f":"IF(COUNTIF($D$20:$E$23,CZ144),40,0)+IF(COUNTIF($D$20:$E$23,CW144),40,0)","v":0},{"$f":"IF(OR(CW144=\"\",CZ144=\"\"),0,IF(AND(CW144=$D144,CZ144=$E144,CX144=$F144,CY144=$G144),50,0))","v":0},null,null,null,null,{"$f":"IF(OR(DD144=\"\",DG144=\"\"),0,IF(AND(DD144=$D144,DG144=$E144),40,IF(DD144=$D144,20,IF(DG144=$E144,20,IF(AND(DD144<>$D144,DG144<>$E144),0)))))","v":0},{"$f":"IF(COUNTIF($D$20:$E$23,DG144),40,0)+IF(COUNTIF($D$20:$E$23,DD144),40,0)","v":0},{"$f":"IF(OR(DD144=\"\",DG144=\"\"),0,IF(AND(DD144=$D144,DG144=$E144,DE144=$F144,DF144=$G144),50,0))","v":0},null,null,null,null,{"$f":"IF(OR(DK144=\"\",DN144=\"\"),0,IF(AND(DK144=$D144,DN144=$E144),40,IF(DK144=$D144,20,IF(DN144=$E144,20,IF(AND(DK144<>$D144,DN144<>$E144),0)))))","v":0},{"$f":"IF(COUNTIF($D$20:$E$23,DN144),40,0)+IF(COUNTIF($D$20:$E$23,DK144),40,0)","v":0},{"$f":"IF(OR(DK144=\"\",DN144=\"\"),0,IF(AND(DK144=$D144,DN144=$E144,DL144=$F144,DM144=$G144),50,0))","v":0},null,null,null,null,{"$f":"IF(OR(DR144=\"\",DU144=\"\"),0,IF(AND(DR144=$D144,DU144=$E144),40,IF(DR144=$D144,20,IF(DU144=$E144,20,IF(AND(DR144<>$D144,DU144<>$E144),0)))))","v":0},{"$f":"IF(COUNTIF($D$20:$E$23,DU144),40,0)+IF(COUNTIF($D$20:$E$23,DR144),40,0)","v":0},{"$f":"IF(OR(DR144=\"\",DU144=\"\"),0,IF(AND(DR144=$D144,DU144=$E144,DS144=$F144,DT144=$G144),50,0))","v":0},null,null,null,null,{"$f":"IF(OR(DY144=\"\",EB144=\"\"),0,IF(AND(DY144=$D144,EB144=$E144),40,IF(DY144=$D144,20,IF(EB144=$E144,20,IF(AND(DY144<>$D144,EB144<>$E144),0)))))","v":0},{"$f":"IF(COUNTIF($D$20:$E$23,EB144),40,0)+IF(COUNTIF($D$20:$E$23,DY144),40,0)","v":0},{"$f":"IF(OR(DY144=\"\",EB144=\"\"),0,IF(AND(DY144=$D144,EB144=$E144,DZ144=$F144,EA144=$G144),50,0))","v":0},null,null,null,null,{"$f":"IF(OR(EF144=\"\",EI144=\"\"),0,IF(AND(EF144=$D144,EI144=$E144),40,IF(EF144=$D144,20,IF(EI144=$E144,20,IF(AND(EF144<>$D144,EI144<>$E144),0)))))","v":0},{"$f":"IF(COUNTIF($D$20:$E$23,EI144),40,0)+IF(COUNTIF($D$20:$E$23,EF144),40,0)","v":0},{"$f":"IF(OR(EF144=\"\",EI144=\"\"),0,IF(AND(EF144=$D144,EI144=$E144,EG144=$F144,EH144=$G144),50,0))","v":0},null,null,null,null,{"$f":"IF(OR(EM144=\"\",EP144=\"\"),0,IF(AND(EM144=$D144,EP144=$E144),40,IF(EM144=$D144,20,IF(EP144=$E144,20,IF(AND(EM144<>$D144,EP144<>$E144),0)))))","v":0},{"$f":"IF(COUNTIF($D$20:$E$23,EP144),40,0)+IF(COUNTIF($D$20:$E$23,EM144),40,0)","v":0},{"$f":"IF(OR(EM144=\"\",EP144=\"\"),0,IF(AND(EM144=$D144,EP144=$E144,EN144=$F144,EO144=$G144),50,0))","v":0}]
["Fr. 5. Jul","21:00:00",46,"Portugal","Frankreich",3,5,null,null,null,null,null,null,{"$f":"IF(OR(J145=\"\",M145=\"\"),0,IF(AND(J145=$D145,M145=$E145),40,IF(J145=$D145,20,IF(M145=$E145,20,IF(AND(J145<>$D145,M145<>$E145),0)))))","v":0},{"$f":"IF(COUNTIF($D$20:$E$23,M145),40,0)+IF(COUNTIF($D$20:$E$23,J145),40,0)","v":0},{"$f":"IF(OR(J145=\"\",M145=\"\"),0,IF(AND(J145=$D145,M145=$E145,K145=$F145,L145=$G145),50,0))","v":0},null,null,null,null,{"$f":"IF(OR(Q145=\"\",T145=\"\"),0,IF(AND(Q145=$D145,T145=$E145),40,IF(Q145=$D145,20,IF(T145=$E145,20,IF(AND(Q145<>$D145,T145<>$E145),0)))))","v":0},{"$f":"IF(COUNTIF($D$20:$E$23,T145),40,0)+IF(COUNTIF($D$20:$E$23,Q145),40,0)","v":0},{"$f":"IF(OR(Q145=\"\",T145=\"\"),0,IF(AND(Q145=$D145,T145=$E145,R145=$F145,S145=$G145),50,0))","v":0},null,null,null,null,{"$f":"IF(OR(X145=\"\",AA145=\"\"),0,IF(AND(X145=$D145,AA145=$E145),40,IF(X145=$D145,20,IF(AA145=$E145,20,IF(AND(X145<>$D145,AA145<>$E145),0)))))","v":0},{"$f":"IF(COUNTIF($D$20:$E$23,AA145),40,0)+IF(COUNTIF($D$20:$E$23,X145),40,0)","v":0},{"$f":"IF(OR(X145=\"\",AA145=\"\"),0,IF(AND(X145=$D145,AA145=$E145,Y145=$F145,Z145=$G145),50,0))","v":0},null,null,null,null,{"$f":"IF(OR(AE145=\"\",AH145=\"\"),0,IF(AND(AE145=$D145,AH145=$E145),40,IF(AE145=$D145,20,IF(AH145=$E145,20,IF(AND(AE145<>$D145,AH145<>$E145),0)))))","v":0},{"$f":"IF(COUNTIF($D$20:$E$23,AH145),40,0)+IF(COUNTIF($D$20:$E$23,AE145),40,0)","v":0},{"$f":"IF(OR(AE145=\"\",AH145=\"\"),0,IF(AND(AE145=$D145,AH145=$E145,AF145=$F145,AG145=$G145),50,0))","v":0},null,null,null,null,{"$f":"IF(OR(AL145=\"\",AO145=\"\"),0,IF(AND(AL145=$D145,AO145=$E145),40,IF(AL145=$D145,20,IF(AO145=$E145,20,IF(AND(AL145<>$D145,AO145<>$E145),0)))))","v":0},{"$f":"IF(COUNTIF($D$20:$E$23,AO145),40,0)+IF(COUNTIF($D$20:$E$23,AL145),40,0)","v":0},{"$f":"IF(OR(AL145=\"\",AO145=\"\"),0,IF(AND(AL145=$D145,AO145=$E145,AM145=$F145,AN145=$G145),50,0))","v":0},null,null,null,null,{"$f":"IF(OR(AS145=\"\",AV145=\"\"),0,IF(AND(AS145=$D145,AV145=$E145),40,IF(AS145=$D145,20,IF(AV145=$E145,20,IF(AND(AS145<>$D145,AV145<>$E145),0)))))","v":0},{"$f":"IF(COUNTIF($D$20:$E$23,AV145),40,0)+IF(COUNTIF($D$20:$E$23,AS145),40,0)","v":0},{"$f":"IF(OR(AS145=\"\",AV145=\"\"),0,IF(AND(AS145=$D145,AV145=$E145,AT145=$F145,AU145=$G145),50,0))","v":0},null,null,null,null,{"$f":"IF(OR(AZ145=\"\",BC145=\"\"),0,IF(AND(AZ145=$D145,BC145=$E145),40,IF(AZ145=$D145,20,IF(BC145=$E145,20,IF(AND(AZ145<>$D145,BC145<>$E145),0)))))","v":0},{"$f":"IF(COUNTIF($D$20:$E$23,BC145),40,0)+IF(COUNTIF($D$20:$E$23,AZ145),40,0)","v":0},{"$f":"IF(OR(AZ145=\"\",BC145=\"\"),0,IF(AND(AZ145=$D145,BC145=$E145,BA145=$F145,BB145=$G145),50,0))","v":0},null,null,null,null,{"$f":"IF(OR(BG145=\"\",BJ145=\"\"),0,IF(AND(BG145=$D145,BJ145=$E145),40,IF(BG145=$D145,20,IF(BJ145=$E145,20,IF(AND(BG145<>$D145,BJ145<>$E145),0)))))","v":0},{"$f":"IF(COUNTIF($D$20:$E$23,BJ145),40,0)+IF(COUNTIF($D$20:$E$23,BG145),40,0)","v":0},{"$f":"IF(OR(BG145=\"\",BJ145=\"\"),0,IF(AND(BG145=$D145,BJ145=$E145,BH145=$F145,BI145=$G145),50,0))","v":0},null,null,null,null,{"$f":"IF(OR(BN145=\"\",BQ145=\"\"),0,IF(AND(BN145=$D145,BQ145=$E145),40,IF(BN145=$D145,20,IF(BQ145=$E145,20,IF(AND(BN145<>$D145,BQ145<>$E145),0)))))","v":0},{"$f":"IF(COUNTIF($D$20:$E$23,BQ145),40,0)+IF(COUNTIF($D$20:$E$23,BN145),40,0)","v":0},{"$f":"IF(OR(BN145=\"\",BQ145=\"\"),0,IF(AND(BN145=$D145,BQ145=$E145,BO145=$F145,BP145=$G145),50,0))","v":0},null,null,null,null,{"$f":"IF(OR(BU145=\"\",BX145=\"\"),0,IF(AND(BU145=$D145,BX145=$E145),40,IF(BU145=$D145,20,IF(BX145=$E145,20,IF(AND(BU145<>$D145,BX145<>$E145),0)))))","v":0},{"$f":"IF(COUNTIF($D$20:$E$23,BX145),40,0)+IF(COUNTIF($D$20:$E$23,BU145),40,0)","v":0},{"$f":"IF(OR(BU145=\"\",BX145=\"\"),0,IF(AND(BU145=$D145,BX145=$E145,BV145=$F145,BW145=$G145),50,0))","v":0},null,null,null,null,{"$f":"IF(OR(CB145=\"\",CE145=\"\"),0,IF(AND(CB145=$D145,CE145=$E145),40,IF(CB145=$D145,20,IF(CE145=$E145,20,IF(AND(CB145<>$D145,CE145<>$E145),0)))))","v":0},{"$f":"IF(COUNTIF($D$20:$E$23,CE145),40,0)+IF(COUNTIF($D$20:$E$23,CB145),40,0)","v":0},{"$f":"IF(OR(CB145=\"\",CE145=\"\"),0,IF(AND(CB145=$D145,CE145=$E145,CC145=$F145,CD145=$G145),50,0))","v":0},null,null,null,null,{"$f":"IF(OR(CI145=\"\",CL145=\"\"),0,IF(AND(CI145=$D145,CL145=$E145),40,IF(CI145=$D145,20,IF(CL145=$E145,20,IF(AND(CI145<>$D145,CL145<>$E145),0)))))","v":0},{"$f":"IF(COUNTIF($D$20:$E$23,CL145),40,0)+IF(COUNTIF($D$20:$E$23,CI145),40,0)","v":0},{"$f":"IF(OR(CI145=\"\",CL145=\"\"),0,IF(AND(CI145=$D145,CL145=$E145,CJ145=$F145,CK145=$G145),50,0))","v":0},null,null,null,null,{"$f":"IF(OR(CP145=\"\",CS145=\"\"),0,IF(AND(CP145=$D145,CS145=$E145),40,IF(CP145=$D145,20,IF(CS145=$E145,20,IF(AND(CP145<>$D145,CS145<>$E145),0)))))","v":0},{"$f":"IF(COUNTIF($D$20:$E$23,CS145),40,0)+IF(COUNTIF($D$20:$E$23,CP145),40,0)","v":0},{"$f":"IF(OR(CP145=\"\",CS145=\"\"),0,IF(AND(CP145=$D145,CS145=$E145,CQ145=$F145,CR145=$G145),50,0))","v":0},null,null,null,null,{"$f":"IF(OR(CW145=\"\",CZ145=\"\"),0,IF(AND(CW145=$D145,CZ145=$E145),40,IF(CW145=$D145,20,IF(CZ145=$E145,20,IF(AND(CW145<>$D145,CZ145<>$E145),0)))))","v":0},{"$f":"IF(COUNTIF($D$20:$E$23,CZ145),40,0)+IF(COUNTIF($D$20:$E$23,CW145),40,0)","v":0},{"$f":"IF(OR(CW145=\"\",CZ145=\"\"),0,IF(AND(CW145=$D145,CZ145=$E145,CX145=$F145,CY145=$G145),50,0))","v":0},null,null,null,null,{"$f":"IF(OR(DD145=\"\",DG145=\"\"),0,IF(AND(DD145=$D145,DG145=$E145),40,IF(DD145=$D145,20,IF(DG145=$E145,20,IF(AND(DD145<>$D145,DG145<>$E145),0)))))","v":0},{"$f":"IF(COUNTIF($D$20:$E$23,DG145),40,0)+IF(COUNTIF($D$20:$E$23,DD145),40,0)","v":0},{"$f":"IF(OR(DD145=\"\",DG145=\"\"),0,IF(AND(DD145=$D145,DG145=$E145,DE145=$F145,DF145=$G145),50,0))","v":0},null,null,null,null,{"$f":"IF(OR(DK145=\"\",DN145=\"\"),0,IF(AND(DK145=$D145,DN145=$E145),40,IF(DK145=$D145,20,IF(DN145=$E145,20,IF(AND(DK145<>$D145,DN145<>$E145),0)))))","v":0},{"$f":"IF(COUNTIF($D$20:$E$23,DN145),40,0)+IF(COUNTIF($D$20:$E$23,DK145),40,0)","v":0},{"$f":"IF(OR(DK145=\"\",DN145=\"\"),0,IF(AND(DK145=$D145,DN145=$E145,DL145=$F145,DM145=$G145),50,0))","v":0},null,null,null,null,{"$f":"IF(OR(DR145=\"\",DU145=\"\"),0,IF(AND(DR145=$D145,DU145=$E145),40,IF(DR145=$D145,20,IF(DU145=$E145,20,IF(AND(DR145<>$D145,DU145<>$E145),0)))))","v":0},{"$f":"IF(COUNTIF($D$20:$E$23,DU145),40,0)+IF(COUNTIF($D$20:$E$23,DR145),40,0)","v":0},{"$f":"IF(OR(DR145=\"\",DU145=\"\"),0,IF(AND(DR145=$D145,DU145=$E145,DS145=$F145,DT145=$G145),50,0))","v":0},null,null,null,null,{"$f":"IF(OR(DY145=\"\",EB145=\"\"),0,IF(AND(DY145=$D145,EB145=$E145),40,IF(DY145=$D145,20,IF(EB145=$E145,20,IF(AND(DY145<>$D145,EB145<>$E145),0)))))","v":0},{"$f":"IF(COUNTIF($D$20:$E$23,EB145),40,0)+IF(COUNTIF($D$20:$E$23,DY145),40,0)","v":0},{"$f":"IF(OR(DY145=\"\",EB145=\"\"),0,IF(AND(DY145=$D145,EB145=$E145,DZ145=$F145,EA145=$G145),50,0))","v":0},null,null,null,null,{"$f":"IF(OR(EF145=\"\",EI145=\"\"),0,IF(AND(EF145=$D145,EI145=$E145),40,IF(EF145=$D145,20,IF(EI145=$E145,20,IF(AND(EF145<>$D145,EI145<>$E145),0)))))","v":0},{"$f":"IF(COUNTIF($D$20:$E$23,EI145),40,0)+IF(COUNTIF($D$20:$E$23,EF145),40,0)","v":0},{"$f":"IF(OR(EF145=\"\",EI145=\"\"),0,IF(AND(EF145=$D145,EI145=$E145,EG145=$F145,EH145=$G145),50,0))","v":0},null,null,null,null,{"$f":"IF(OR(EM145=\"\",EP145=\"\"),0,IF(AND(EM145=$D145,EP145=$E145),40,IF(EM145=$D145,20,IF(EP145=$E145,20,IF(AND(EM145<>$D145,EP145<>$E145),0)))))","v":0},{"$f":"IF(COUNTIF($D$20:$E$23,EP145),40,0)+IF(COUNTIF($D$20:$E$23,EM145),40,0)","v":0},{"$f":"IF(OR(EM145=\"\",EP145=\"\"),0,IF(AND(EM145=$D145,EP145=$E145,EN145=$F145,EO145=$G145),50,0))","v":0}]
["Sa. 6. Jul","21:00:00",47,"Holland","Türkei",2,1,null,null,null,null,null,null,0,0,0,null,null,null,null,0,0,0,null,null,null,null,0,0,0,null,null,null,null,0,0,0,null,null,null,null,0,0,0,null,null,null,null,0,0,0,null,null,null,null,0,0,0,null,null,null,null,0,0,0,null,null,null,null,0,0,0,null,null,null,null,0,0,0,null,null,null,null,0,0,0,null,null,null,null,0,0,0,null,null,null,null,0,0,0,null,null,null,null,0,0,0,null,null,null,null,0,0,0,null,null,null,null,0,0,0,null,null,null,null,0,0,0,null,null,null,null,0,0,0,null,null,null,null,0,0,0,null,null,null,null,0,0,0]
["Sa. 6. Jul","18:00:00",48,"England","Schweiz",5,3,null,null,null,null,null,null,0,0,0,null,null,null,null,0,0,0,null,null,null,null,0,0,0,null,null,null,null,0,0,0,null,null,null,null,0,0,0,null,null,null,null,0,0,0,null,null,null,null,0,0,0,null,null,null,null,0,0,0,null,null,null,null,0,0,0,null,null,null,null,0,0,0,null,null,null,null,0,0,0,null,null,null,null,0,0,0,null,null,null,null,0,0,0,null,null,null,null,0,0,0,null,null,null,null,0,0,0,null,null,null,null,0,0,0,null,null,null,null,0,0,0,null,null,null,null,0,0,0,null,null,null,null,0,0,0,null,null,null,null,0,0,0]
["Halbfinale"]
[{"$f":"A118","v":"Di. 9. Jul"},"21:00:00",49,{"$f":"D118","v":"Spanien"},{"$f":"E118","v":"Frankreich"},{"$f":"IF(F118=\"\",\"\",F118)","v":2},1,null,null,null,null,null,null,{"$f":"IF(OR(J149=\"\",M149=\"\"),0,IF(AND(J149=$D149,M149=$E149),60,IF(J149=$D149,30,IF(M149=$E149,30,IF(AND(J149<>$D149,M149<>$E149),0)))))","v":0},{"$f":"IF(COUNTIF($D$25:$E$26,M149),80,0)+IF(COUNTIF($D$25:$E$26,J149),80,0)","v":0},{"$f":"IF(OR(J149=\"\",M149=\"\"),0,IF(AND(J149=$D149,M149=$E149,K149=$F149,L149=$G149),100,0))","v":0},null,null,null,null,{"$f":"IF(OR(Q149=\"\",T149=\"\"),0,IF(AND(Q149=$D149,T149=$E149),60,IF(Q149=$D149,30,IF(T149=$E149,30,IF(AND(Q149<>$D149,T149<>$E149),0)))))","v":0},{"$f":"IF(COUNTIF($D$25:$E$26,T149),80,0)+IF(COUNTIF($D$25:$E$26,Q149),80,0)","v":0},{"$f":"IF(OR(Q149=\"\",T149=\"\"),0,IF(AND(Q149=$D149,T149=$E149,R149=$F149,S149=$G149),100,0))","v":0},null,null,null,null,{"$f":"IF(OR(X149=\"\",AA149=\"\"),0,IF(AND(X149=$D149,AA149=$E149),60,IF(X149=$D149,30,IF(AA149=$E149,30,IF(AND(X149<>$D149,AA149<>$E149),0)))))","v":0},{"$f":"IF(COUNTIF($D$25:$E$26,AA149),80,0)+IF(COUNTIF($D$25:$E$26,X149),80,0)","v":0},{"$f":"IF(OR(X149=\"\",AA149=\"\"),0,IF(AND(X149=$D149,AA149=$E149,Y149=$F149,Z149=$G149),100,0))","v":0},null,null,null,null,{"$f":"IF(OR(AE149=\"\",AH149=\"\"),0,IF(AND(AE149=$D149,AH149=$E149),60,IF(AE149=$D149,30,IF(AH149=$E149,30,IF(AND(AE149<>$D149,AH149<>$E149),0)))))","v":0},{"$f":"IF(COUNTIF($D$25:$E$26,AH149),80,0)+IF(COUNTIF($D$25:$E$26,AE149),80,0)","v":0},{"$f":"IF(OR(AE149=\"\",AH149=\"\"),0,IF(AND(AE149=$D149,AH149=$E149,AF149=$F149,AG149=$G149),100,0))","v":0},null,null,null,null,{"$f":"IF(OR(AL149=\"\",AO149=\"\"),0,IF(AND(AL149=$D149,AO149=$E149),60,IF(AL149=$D149,30,IF(AO149=$E149,30,IF(AND(AL149<>$D149,AO149<>$E149),0)))))","v":0},{"$f":"IF(COUNTIF($D$25:$E$26,AO149),80,0)+IF(COUNTIF($D$25:$E$26,AL149),80,0)","v":0},{"$f":"IF(OR(AL149=\"\",AO149=\"\"),0,IF(AND(AL149=$D149,AO149=$E149,AM149=$F149,AN149=$G149),100,0))","v":0},null,null,null,null,{"$f":"IF(OR(AS149=\"\",AV149=\"\"),0,IF(AND(AS149=$D149,AV149=$E149),60,IF(AS149=$D149,30,IF(AV149=$E149,30,IF(AND(AS149<>$D149,AV149<>$E149),0)))))","v":0},{"$f":"IF(COUNTIF($D$25:$E$26,AV149),80,0)+IF(COUNTIF($D$25:$E$26,AS149),80,0)","v":0},{"$f":"IF(OR(AS149=\"\",AV149=\"\"),0,IF(AND(AS149=$D149,AV149=$E149,AT149=$F149,AU149=$G149),100,0))","v":0},null,null,null,null,{"$f":"IF(OR(AZ149=\"\",BC149=\"\"),0,IF(AND(AZ149=$D149,BC149=$E149),60,IF(AZ149=$D149,30,IF(BC149=$E149,30,IF(AND(AZ149<>$D149,BC149<>$E149),0)))))","v":0},{"$f":"IF(COUNTIF($D$25:$E$26,BC149),80,0)+IF(COUNTIF($D$25:$E$26,AZ149),80,0)","v":0},{"$f":"IF(OR(AZ149=\"\",BC149=\"\"),0,IF(AND(AZ149=$D149,BC149=$E149,BA149=$F149,BB149=$G149),100,0))","v":0},null,null,null,null,{"$f":"IF(OR(BG149=\"\",BJ149=\"\"),0,IF(AND(BG149=$D149,BJ149=$E149),60,IF(BG149=$D149,30,IF(BJ149=$E149,30,IF(AND(BG149<>$D149,BJ149<>$E149),0)))))","v":0},{"$f":"IF(COUNTIF($D$25:$E$26,BJ149),80,0)+IF(COUNTIF($D$25:$E$26,BG149),80,0)","v":0},{"$f":"IF(OR(BG149=\"\",BJ149=\"\"),0,IF(AND(BG149=$D149,BJ149=$E149,BH149=$F149,BI149=$G149),100,0))","v":0},null,null,null,null,{"$f":"IF(OR(BN149=\"\",BQ149=\"\"),0,IF(AND(BN149=$D149,BQ149=$E149),60,IF(BN149=$D149,30,IF(BQ149=$E149,30,IF(AND(BN149<>$D149,BQ149<>$E149),0)))))","v":0},{"$f":"IF(COUNTIF($D$25:$E$26,BQ149),80,0)+IF(COUNTIF($D$25:$E$26,BN149),80,0)","v":0},{"$f":"IF(OR(BN149=\"\",BQ149=\"\"),0,IF(AND(BN149=$D149,BQ149=$E149,BO149=$F149,BP149=$G149),100,0))","v":0},null,null,null,null,{"$f":"IF(OR(BU149=\"\",BX149=\"\"),0,IF(AND(BU149=$D149,BX149=$E149),60,IF(BU149=$D149,30,IF(BX149=$E149,30,IF(AND(BU149<>$D149,BX149<>$E149),0)))))","v":0},{"$f":"IF(COUNTIF($D$25:$E$26,BX149),80,0)+IF(COUNTIF($D$25:$E$26,BU149),80,0)","v":0},{"$f":"IF(OR(BU149=\"\",BX149=\"\"),0,IF(AND(BU149=$D149,BX149=$E149,BV149=$F149,BW149=$G149),100,0))","v":0},null,null,null,null,{"$f":"IF(OR(CB149=\"\",CE149=\"\"),0,IF(AND(CB149=$D149,CE149=$E149),60,IF(CB149=$D149,30,IF(CE149=$E149,30,IF(AND(CB149<>$D149,CE149<>$E149),0)))))","v":0},{"$f":"IF(COUNTIF($D$25:$E$26,CE149),80,0)+IF(COUNTIF($D$25:$E$26,CB149),80,0)","v":0},{"$f":"IF(OR(CB149=\"\",CE149=\"\"),0,IF(AND(CB149=$D149,CE149=$E149,CC149=$F149,CD149=$G149),100,0))","v":0},null,null,null,null,{"$f":"IF(OR(CI149=\"\",CL149=\"\"),0,IF(AND(CI149=$D149,CL149=$E149),60,IF(CI149=$D149,30,IF(CL149=$E149,30,IF(AND(CI149<>$D149,CL149<>$E149),0)))))","v":0},{"$f":"IF(COUNTIF($D$25:$E$26,CL149),80,0)+IF(COUNTIF($D$25:$E$26,CI149),80,0)","v":0},{"$f":"IF(OR(CI149=\"\",CL149=\"\"),0,IF(AND(CI149=$D149,CL149=$E149,CJ149=$F149,CK149=$G149),100,0))","v":0},null,null,null,null,{"$f":"IF(OR(CP149=\"\",CS149=\"\"),0,IF(AND(CP149=$D149,CS149=$E149),60,IF(CP149=$D149,30,IF(CS149=$E149,30,IF(AND(CP149<>$D149,CS149<>$E149),0)))))","v":0},{"$f":"IF(COUNTIF($D$25:$E$26,CS149),80,0)+IF(COUNTIF($D$25:$E$26,CP149),80,0)","v":0},{"$f":"IF(OR(CP149=\"\",CS149=\"\"),0,IF(AND(CP149=$D149,CS149=$E149,CQ149=$F149,CR149=$G149),100,0))","v":0},null,null,null,null,{"$f":"IF(OR(CW149=\"\",CZ149=\"\"),0,IF(AND(CW149=$D149,CZ149=$E149),60,IF(CW149=$D149,30,IF(CZ149=$E149,30,IF(AND(CW149<>$D149,CZ149<>$E149),0)))))","v":0},{"$f":"IF(COUNTIF($D$25:$E$26,CZ149),80,0)+IF(COUNTIF($D$25:$E$26,CW149),80,0)","v":0},{"$f":"IF(OR(CW149=\"\",CZ149=\"\"),0,IF(AND(CW149=$D149,CZ149=$E149,CX149=$F149,CY149=$G149),100,0))","v":0},null,null,null,null,{"$f":"IF(OR(DD149=\"\",DG149=\"\"),0,IF(AND(DD149=$D149,DG149=$E149),60,IF(DD149=$D149,30,IF(DG149=$E149,30,IF(AND(DD149<>$D149,DG149<>$E149),0)))))","v":0},{"$f":"IF(COUNTIF($D$25:$E$26,DG149),80,0)+IF(COUNTIF($D$25:$E$26,DD149),80,0)","v":0},{"$f":"IF(OR(DD149=\"\",DG149=\"\"),0,IF(AND(DD149=$D149,DG149=$E149,DE149=$F149,DF149=$G149),100,0))","v":0},null,null,null,null,{"$f":"IF(OR(DK149=\"\",DN149=\"\"),0,IF(AND(DK149=$D149,DN149=$E149),60,IF(DK149=$D149,30,IF(DN149=$E149,30,IF(AND(DK149<>$D149,DN149<>$E149),0)))))","v":0},{"$f":"IF(COUNTIF($D$25:$E$26,DN149),80,0)+IF(COUNTIF($D$25:$E$26,DK149),80,0)","v":0},{"$f":"IF(OR(DK149=\"\",DN149=\"\"),0,IF(AND(DK149=$D149,DN149=$E149,DL149=$F149,DM149=$G149),100,0))","v":0},null,null,null,null,{"$f":"IF(OR(DR149=\"\",DU149=\"\"),0,IF(AND(DR149=$D149,DU149=$E149),60,IF(DR149=$D149,30,IF(DU149=$E149,30,IF(AND(DR149<>$D149,DU149<>$E149),0)))))","v":0},{"$f":"IF(COUNTIF($D$25:$E$26,DU149),80,0)+IF(COUNTIF($D$25:$E$26,DR149),80,0)","v":0},{"$f":"IF(OR(DR149=\"\",DU149=\"\"),0,IF(AND(DR149=$D149,DU149=$E149,DS149=$F149,DT149=$G149),100,0))","v":0},null,null,null,null,{"$f":"IF(OR(DY149=\"\",EB149=\"\"),0,IF(AND(DY149=$D149,EB149=$E149),60,IF(DY149=$D149,30,IF(EB149=$E149,30,IF(AND(DY149<>$D149,EB149<>$E149),0)))))","v":0},{"$f":"IF(COUNTIF($D$25:$E$26,EB149),80,0)+IF(COUNTIF($D$25:$E$26,DY149),80,0)","v":0},{"$f":"IF(OR(DY149=\"\",EB149=\"\"),0,IF(AND(DY149=$D149,EB149=$E149,DZ149=$F149,EA149=$G149),100,0))","v":0},null,null,null,null,{"$f":"IF(OR(EF149=\"\",EI149=\"\"),0,IF(AND(EF149=$D149,EI149=$E149),60,IF(EF149=$D149,30,IF(EI149=$E149,30,IF(AND(EF149<>$D149,EI149<>$E149),0)))))","v":0},{"$f":"IF(COUNTIF($D$25:$E$26,EI149),80,0)+IF(COUNTIF($D$25:$E$26,EF149),80,0)","v":0},{"$f":"IF(OR(EF149=\"\",EI149=\"\"),0,IF(AND(EF149=$D149,EI149=$E149,EG149=$F149,EH149=$G149),100,0))","v":0},null,null,null,null,{"$f":"IF(OR(EM149=\"\",EP149=\"\"),0,IF(AND(EM149=$D149,EP149=$E149),60,IF(EM149=$D149,30,IF(EP149=$E149,30,IF(AND(EM149<>$D149,EP149<>$E149),0)))))","v":0},{"$f":"IF(COUNTIF($D$25:$E$26,EP149),80,0)+IF(COUNTIF($D$25:$E$26,EM149),80,0)","v":0},{"$f":"IF(OR(EM149=\"\",EP149=\"\"),0,IF(AND(EM149=$D149,EP149=$E149,EN149=$F149,EO149=$G149),100,0))","v":0}]
["Mi. 10. Jul","21:00:00",50,{"$f":"D119","v":"Holland"},{"$f":"E119","v":"England"},1,2,null,null,null,null,null,null,{"$f":"IF(OR(J150=\"\",M150=\"\"),0,IF(AND(J150=$D150,M150=$E150),60,IF(J150=$D150,30,IF(M150=$E150,30,IF(AND(J150<>$D150,M150<>$E150),0)))))","v":0},{"$f":"IF(COUNTIF($D$25:$E$26,M150),80,0)+IF(COUNTIF($D$25:$E$26,J150),80,0)","v":0},{"$f":"IF(OR(J150=\"\",M150=\"\"),0,IF(AND(J150=$D150,M150=$E150,K150=$F150,L150=$G150),100,0))","v":0},null,null,null,null,{"$f":"IF(OR(Q150=\"\",T150=\"\"),0,IF(AND(Q150=$D150,T150=$E150),60,IF(Q150=$D150,30,IF(T150=$E150,30,IF(AND(Q150<>$D150,T150<>$E150),0)))))","v":0},{"$f":"IF(COUNTIF($D$25:$E$26,T150),80,0)+IF(COUNTIF($D$25:$E$26,Q150),80,0)","v":0},{"$f":"IF(OR(Q150=\"\",T150=\"\"),0,IF(AND(Q150=$D150,T150=$E150,R150=$F150,S150=$G150),100,0))","v":0},null,null,null,null,{"$f":"IF(OR(X150=\"\",AA150=\"\"),0,IF(AND(X150=$D150,AA150=$E150),60,IF(X150=$D150,30,IF(AA150=$E150,30,IF(AND(X150<>$D150,AA150<>$E150),0)))))","v":0},{"$f":"IF(COUNTIF($D$25:$E$26,AA150),80,0)+IF(COUNTIF($D$25:$E$26,X150),80,0)","v":0},{"$f":"IF(OR(X150=\"\",AA150=\"\"),0,IF(AND(X150=$D150,AA150=$E150,Y150=$F150,Z150=$G150),100,0))","v":0},null,null,null,null,{"$f":"IF(OR(AE150=\"\",AH150=\"\"),0,IF(AND(AE150=$D150,AH150=$E150),60,IF(AE150=$D150,30,IF(AH150=$E150,30,IF(AND(AE150<>$D150,AH150<>$E150),0)))))","v":0},{"$f":"IF(COUNTIF($D$25:$E$26,AH150),80,0)+IF(COUNTIF($D$25:$E$26,AE150),80,0)","v":0},{"$f":"IF(OR(AE150=\"\",AH150=\"\"),0,IF(AND(AE150=$D150,AH150=$E150,AF150=$F150,AG150=$G150),100,0))","v":0},null,null,null,null,{"$f":"IF(OR(AL150=\"\",AO150=\"\"),0,IF(AND(AL150=$D150,AO150=$E150),60,IF(AL150=$D150,30,IF(AO150=$E150,30,IF(AND(AL150<>$D150,AO150<>$E150),0)))))","v":0},{"$f":"IF(COUNTIF($D$25:$E$26,AO150),80,0)+IF(COUNTIF($D$25:$E$26,AL150),80,0)","v":0},{"$f":"IF(OR(AL150=\"\",AO150=\"\"),0,IF(AND(AL150=$D150,AO150=$E150,AM150=$F150,AN150=$G150),100,0))","v":0},null,null,null,null,{"$f":"IF(OR(AS150=\"\",AV150=\"\"),0,IF(AND(AS150=$D150,AV150=$E150),60,IF(AS150=$D150,30,IF(AV150=$E150,30,IF(AND(AS150<>$D150,AV150<>$E150),0)))))","v":0},{"$f":"IF(COUNTIF($D$25:$E$26,AV150),80,0)+IF(COUNTIF($D$25:$E$26,AS150),80,0)","v":0},{"$f":"IF(OR(AS150=\"\",AV150=\"\"),0,IF(AND(AS150=$D150,AV150=$E150,AT150=$F150,AU150=$G150),100,0))","v":0},null,null,null,null,{"$f":"IF(OR(AZ150=\"\",BC150=\"\"),0,IF(AND(AZ150=$D150,BC150=$E150),60,IF(AZ150=$D150,30,IF(BC150=$E150,30,IF(AND(AZ150<>$D150,BC150<>$E150),0)))))","v":0},{"$f":"IF(COUNTIF($D$25:$E$26,BC150),80,0)+IF(COUNTIF($D$25:$E$26,AZ150),80,0)","v":0},{"$f":"IF(OR(AZ150=\"\",BC150=\"\"),0,IF(AND(AZ150=$D150,BC150=$E150,BA150=$F150,BB150=$G150),100,0))","v":0},null,null,null,null,{"$f":"IF(OR(BG150=\"\",BJ150=\"\"),0,IF(AND(BG150=$D150,BJ150=$E150),60,IF(BG150=$D150,30,IF(BJ150=$E150,30,IF(AND(BG150<>$D150,BJ150<>$E150),0)))))","v":0},{"$f":"IF(COUNTIF($D$25:$E$26,BJ150),80,0)+IF(COUNTIF($D$25:$E$26,BG150),80,0)","v":0},{"$f":"IF(OR(BG150=\"\",BJ150=\"\"),0,IF(AND(BG150=$D150,BJ150=$E150,BH150=$F150,BI150=$G150),100,0))","v":0},null,null,null,null,{"$f":"IF(OR(BN150=\"\",BQ150=\"\"),0,IF(AND(BN150=$D150,BQ150=$E150),60,IF(BN150=$D150,30,IF(BQ150=$E150,30,IF(AND(BN150<>$D150,BQ150<>$E150),0)))))","v":0},{"$f":"IF(COUNTIF($D$25:$E$26,BQ150),80,0)+IF(COUNTIF($D$25:$E$26,BN150),80,0)","v":0},{"$f":"IF(OR(BN150=\"\",BQ150=\"\"),0,IF(AND(BN150=$D150,BQ150=$E150,BO150=$F150,BP150=$G150),100,0))","v":0},null,null,null,null,{"$f":"IF(OR(BU150=\"\",BX150=\"\"),0,IF(AND(BU150=$D150,BX150=$E150),60,IF(BU150=$D150,30,IF(BX150=$E150,30,IF(AND(BU150<>$D150,BX150<>$E150),0)))))","v":0},{"$f":"IF(COUNTIF($D$25:$E$26,BX150),80,0)+IF(COUNTIF($D$25:$E$26,BU150),80,0)","v":0},{"$f":"IF(OR(BU150=\"\",BX150=\"\"),0,IF(AND(BU150=$D150,BX150=$E150,BV150=$F150,BW150=$G150),100,0))","v":0},null,null,null,null,{"$f":"IF(OR(CB150=\"\",CE150=\"\"),0,IF(AND(CB150=$D150,CE150=$E150),60,IF(CB150=$D150,30,IF(CE150=$E150,30,IF(AND(CB150<>$D150,CE150<>$E150),0)))))","v":0},{"$f":"IF(COUNTIF($D$25:$E$26,CE150),80,0)+IF(COUNTIF($D$25:$E$26,CB150),80,0)","v":0},{"$f":"IF(OR(CB150=\"\",CE150=\"\"),0,IF(AND(CB150=$D150,CE150=$E150,CC150=$F150,CD150=$G150),100,0))","v":0},null,null,null,null,{"$f":"IF(OR(CI150=\"\",CL150=\"\"),0,IF(AND(CI150=$D150,CL150=$E150),60,IF(CI150=$D150,30,IF(CL150=$E150,30,IF(AND(CI150<>$D150,CL150<>$E150),0)))))","v":0},{"$f":"IF(COUNTIF($D$25:$E$26,CL150),80,0)+IF(COUNTIF($D$25:$E$26,CI150),80,0)","v":0},{"$f":"IF(OR(CI150=\"\",CL150=\"\"),0,IF(AND(CI150=$D150,CL150=$E150,CJ150=$F150,CK150=$G150),100,0))","v":0},null,null,null,null,{"$f":"IF(OR(CP150=\"\",CS150=\"\"),0,IF(AND(CP150=$D150,CS150=$E150),60,IF(CP150=$D150,30,IF(CS150=$E150,30,IF(AND(CP150<>$D150,CS150<>$E150),0)))))","v":0},{"$f":"IF(COUNTIF($D$25:$E$26,CS150),80,0)+IF(COUNTIF($D$25:$E$26,CP150),80,0)","v":0},{"$f":"IF(OR(CP150=\"\",CS150=\"\"),0,IF(AND(CP150=$D150,CS150=$E150,CQ150=$F150,CR150=$G150),100,0))","v":0},null,null,null,null,{"$f":"IF(OR(CW150=\"\",CZ150=\"\"),0,IF(AND(CW150=$D150,CZ150=$E150),60,IF(CW150=$D150,30,IF(CZ150=$E150,30,IF(AND(CW150<>$D150,CZ150<>$E150),0)))))","v":0},{"$f":"IF(COUNTIF($D$25:$E$26,CZ150),80,0)+IF(COUNTIF($D$25:$E$26,CW150),80,0)","v":0},{"$f":"IF(OR(CW150=\"\",CZ150=\"\"),0,IF(AND(CW150=$D150,CZ150=$E150,CX150=$F150,CY150=$G150),100,0))","v":0},null,null,null,null,{"$f":"IF(OR(DD150=\"\",DG150=\"\"),0,IF(AND(DD150=$D150,DG150=$E150),60,IF(DD150=$D150,30,IF(DG150=$E150,30,IF(AND(DD150<>$D150,DG150<>$E150),0)))))","v":0},{"$f":"IF(COUNTIF($D$25:$E$26,DG150),80,0)+IF(COUNTIF($D$25:$E$26,DD150),80,0)","v":0},{"$f":"IF(OR(DD150=\"\",DG150=\"\"),0,IF(AND(DD150=$D150,DG150=$E150,DE150=$F150,DF150=$G150),100,0))","v":0},null,null,null,null,{"$f":"IF(OR(DK150=\"\",DN150=\"\"),0,IF(AND(DK150=$D150,DN150=$E150),60,IF(DK150=$D150,30,IF(DN150=$E150,30,IF(AND(DK150<>$D150,DN150<>$E150),0)))))","v":0},{"$f":"IF(COUNTIF($D$25:$E$26,DN150),80,0)+IF(COUNTIF($D$25:$E$26,DK150),80,0)","v":0},{"$f":"IF(OR(DK150=\"\",DN150=\"\"),0,IF(AND(DK150=$D150,DN150=$E150,DL150=$F150,DM150=$G150),100,0))","v":0},null,null,null,null,{"$f":"IF(OR(DR150=\"\",DU150=\"\"),0,IF(AND(DR150=$D150,DU150=$E150),60,IF(DR150=$D150,30,IF(DU150=$E150,30,IF(AND(DR150<>$D150,DU150<>$E150),0)))))","v":0},{"$f":"IF(COUNTIF($D$25:$E$26,DU150),80,0)+IF(COUNTIF($D$25:$E$26,DR150),80,0)","v":0},{"$f":"IF(OR(DR150=\"\",DU150=\"\"),0,IF(AND(DR150=$D150,DU150=$E150,DS150=$F150,DT150=$G150),100,0))","v":0},null,null,null,null,{"$f":"IF(OR(DY150=\"\",EB150=\"\"),0,IF(AND(DY150=$D150,EB150=$E150),60,IF(DY150=$D150,30,IF(EB150=$E150,30,IF(AND(DY150<>$D150,EB150<>$E150),0)))))","v":0},{"$f":"IF(COUNTIF($D$25:$E$26,EB150),80,0)+IF(COUNTIF($D$25:$E$26,DY150),80,0)","v":0},{"$f":"IF(OR(DY150=\"\",EB150=\"\"),0,IF(AND(DY150=$D150,EB150=$E150,DZ150=$F150,EA150=$G150),100,0))","v":0},null,null,null,null,{"$f":"IF(OR(EF150=\"\",EI150=\"\"),0,IF(AND(EF150=$D150,EI150=$E150),60,IF(EF150=$D150,30,IF(EI150=$E150,30,IF(AND(EF150<>$D150,EI150<>$E150),0)))))","v":0},{"$f":"IF(COUNTIF($D$25:$E$26,EI150),80,0)+IF(COUNTIF($D$25:$E$26,EF150),80,0)","v":0},{"$f":"IF(OR(EF150=\"\",EI150=\"\"),0,IF(AND(EF150=$D150,EI150=$E150,EG150=$F150,EH150=$G150),100,0))","v":0},null,null,null,null,{"$f":"IF(OR(EM150=\"\",EP150=\"\"),0,IF(AND(EM150=$D150,EP150=$E150),60,IF(EM150=$D150,30,IF(EP150=$E150,30,IF(AND(EM150<>$D150,EP150<>$E150),0)))))","v":0},{"$f":"IF(COUNTIF($D$25:$E$26,EP150),80,0)+IF(COUNTIF($D$25:$E$26,EM150),80,0)","v":0},{"$f":"IF(OR(EM150=\"\",EP150=\"\"),0,IF(AND(EM150=$D150,EP150=$E150,EN150=$F150,EO150=$G150),100,0))","v":0}]
["Endspiel"]
[{"$f":"A121","v":"So. 14. Jul"},{"$f":"B121","v":"21:00:00"},{"$f":"C121","v":51},{"$f":"D121","v":"Spanien"},{"$f":"E121","v":"England"},{"$f":"IF(F121=\"\",\"\",F121)","v":2},{"$f":"IF(G121=\"\",\"\",G121)","v":1},null,null,null,null,null,null,{"$f":"IF(OR(J152=\"\",M152=\"\"),0,IF(AND(J152=$D152,M152=$E152),100,IF(J152=$D152,50,IF(M152=$E152,50,IF(AND(J152<>$D152,M152<>$E152),0)))))","v":0},{"$f":"IF(COUNTIF($D$28:$E$28,M152),100,0)+IF(COUNTIF($D$28:$E$28,J152),100,0)","v":0},{"$f":"IF(OR(J152=\"\",M152=\"\"),0,IF(AND(J152=$D152,M152=$E152,K152=$F152,L152=$G152),200,0))","v":0},null,null,null,null,{"$f":"IF(OR(Q152=\"\",T152=\"\"),0,IF(AND(Q152=$D152,T152=$E152),100,IF(Q152=$D152,50,IF(T152=$E152,50,IF(AND(Q152<>$D152,T152<>$E152),0)))))","v":0},{"$f":"IF(COUNTIF($D$28:$E$28,T152),100,0)+IF(COUNTIF($D$28:$E$28,Q152),100,0)","v":0},{"$f":"IF(OR(Q152=\"\",T152=\"\"),0,IF(AND(Q152=$D152,T152=$E152,R152=$F152,S152=$G152),200,0))","v":0},null,null,null,null,{"$f":"IF(OR(X152=\"\",AA152=\"\"),0,IF(AND(X152=$D152,AA152=$E152),100,IF(X152=$D152,50,IF(AA152=$E152,50,IF(AND(X152<>$D152,AA152<>$E152),0)))))","v":0},{"$f":"IF(COUNTIF($D$28:$E$28,AA152),100,0)+IF(COUNTIF($D$28:$E$28,X152),100,0)","v":0},{"$f":"IF(OR(X152=\"\",AA152=\"\"),0,IF(AND(X152=$D152,AA152=$E152,Y152=$F152,Z152=$G152),200,0))","v":0},null,null,null,null,{"$f":"IF(OR(AE152=\"\",AH152=\"\"),0,IF(AND(AE152=$D152,AH152=$E152),100,IF(AE152=$D152,50,IF(AH152=$E152,50,IF(AND(AE152<>$D152,AH152<>$E152),0)))))","v":0},{"$f":"IF(COUNTIF($D$28:$E$28,AH152),100,0)+IF(COUNTIF($D$28:$E$28,AE152),100,0)","v":0},{"$f":"IF(OR(AE152=\"\",AH152=\"\"),0,IF(AND(AE152=$D152,AH152=$E152,AF152=$F152,AG152=$G152),200,0))","v":0},null,null,null,null,{"$f":"IF(OR(AL152=\"\",AO152=\"\"),0,IF(AND(AL152=$D152,AO152=$E152),100,IF(AL152=$D152,50,IF(AO152=$E152,50,IF(AND(AL152<>$D152,AO152<>$E152),0)))))","v":0},{"$f":"IF(COUNTIF($D$28:$E$28,AO152),100,0)+IF(COUNTIF($D$28:$E$28,AL152),100,0)","v":0},{"$f":"IF(OR(AL152=\"\",AO152=\"\"),0,IF(AND(AL152=$D152,AO152=$E152,AM152=$F152,AN152=$G152),200,0))","v":0},null,null,null,null,{"$f":"IF(OR(AS152=\"\",AV152=\"\"),0,IF(AND(AS152=$D152,AV152=$E152),100,IF(AS152=$D152,50,IF(AV152=$E152,50,IF(AND(AS152<>$D152,AV152<>$E152),0)))))","v":0},{"$f":"IF(COUNTIF($D$28:$E$28,AV152),100,0)+IF(COUNTIF($D$28:$E$28,AS152),100,0)","v":0},{"$f":"IF(OR(AS152=\"\",AV152=\"\"),0,IF(AND(AS152=$D152,AV152=$E152,AT152=$F152,AU152=$G152),200,0))","v":0},null,null,null,null,{"$f":"IF(OR(AZ152=\"\",BC152=\"\"),0,IF(AND(AZ152=$D152,BC152=$E152),100,IF(AZ152=$D152,50,IF(BC152=$E152,50,IF(AND(AZ152<>$D152,BC152<>$E152),0)))))","v":0},{"$f":"IF(COUNTIF($D$28:$E$28,BC152),100,0)+IF(COUNTIF($D$28:$E$28,AZ152),100,0)","v":0},{"$f":"IF(OR(AZ152=\"\",BC152=\"\"),0,IF(AND(AZ152=$D152,BC152=$E152,BA152=$F152,BB152=$G152),200,0))","v":0},null,null,null,null,{"$f":"IF(OR(BG152=\"\",BJ152=\"\"),0,IF(AND(BG152=$D152,BJ152=$E152),100,IF(BG152=$D152,50,IF(BJ152=$E152,50,IF(AND(BG152<>$D152,BJ152<>$E152),0)))))","v":0},{"$f":"IF(COUNTIF($D$28:$E$28,BJ152),100,0)+IF(COUNTIF($D$28:$E$28,BG152),100,0)","v":0},{"$f":"IF(OR(BG152=\"\",BJ152=\"\"),0,IF(AND(BG152=$D152,BJ152=$E152,BH152=$F152,BI152=$G152),200,0))","v":0},null,null,null,null,{"$f":"IF(OR(BN152=\"\",BQ152=\"\"),0,IF(AND(BN152=$D152,BQ152=$E152),100,IF(BN152=$D152,50,IF(BQ152=$E152,50,IF(AND(BN152<>$D152,BQ152<>$E152),0)))))","v":0},{"$f":"IF(COUNTIF($D$28:$E$28,BQ152),100,0)+IF(COUNTIF($D$28:$E$28,BN152),100,0)","v":0},{"$f":"IF(OR(BN152=\"\",BQ152=\"\"),0,IF(AND(BN152=$D152,BQ152=$E152,BO152=$F152,BP152=$G152),200,0))","v":0},null,null,null,null,{"$f":"IF(OR(BU152=\"\",BX152=\"\"),0,IF(AND(BU152=$D152,BX152=$E152),100,IF(BU152=$D152,50,IF(BX152=$E152,50,IF(AND(BU152<>$D152,BX152<>$E152),0)))))","v":0},{"$f":"IF(COUNTIF($D$28:$E$28,BX152),100,0)+IF(COUNTIF($D$28:$E$28,BU152),100,0)","v":0},{"$f":"IF(OR(BU152=\"\",BX152=\"\"),0,IF(AND(BU152=$D152,BX152=$E152,BV152=$F152,BW152=$G152),200,0))","v":0},null,null,null,null,{"$f":"IF(OR(CB152=\"\",CE152=\"\"),0,IF(AND(CB152=$D152,CE152=$E152),100,IF(CB152=$D152,50,IF(CE152=$E152,50,IF(AND(CB152<>$D152,CE152<>$E152),0)))))","v":0},{"$f":"IF(COUNTIF($D$28:$E$28,CE152),100,0)+IF(COUNTIF($D$28:$E$28,CB152),100,0)","v":0},{"$f":"IF(OR(CB152=\"\",CE152=\"\"),0,IF(AND(CB152=$D152,CE152=$E152,CC152=$F152,CD152=$G152),200,0))","v":0},null,null,null,null,{"$f":"IF(OR(CI152=\"\",CL152=\"\"),0,IF(AND(CI152=$D152,CL152=$E152),100,IF(CI152=$D152,50,IF(CL152=$E152,50,IF(AND(CI152<>$D152,CL152<>$E152),0)))))","v":0},{"$f":"IF(COUNTIF($D$28:$E$28,CL152),100,0)+IF(COUNTIF($D$28:$E$28,CI152),100,0)","v":0},{"$f":"IF(OR(CI152=\"\",CL152=\"\"),0,IF(AND(CI152=$D152,CL152=$E152,CJ152=$F152,CK152=$G152),200,0))","v":0},null,null,null,null,{"$f":"IF(OR(CP152=\"\",CS152=\"\"),0,IF(AND(CP152=$D152,CS152=$E152),100,IF(CP152=$D152,50,IF(CS152=$E152,50,IF(AND(CP152<>$D152,CS152<>$E152),0)))))","v":0},{"$f":"IF(COUNTIF($D$28:$E$28,CS152),100,0)+IF(COUNTIF($D$28:$E$28,CP152),100,0)","v":0},{"$f":"IF(OR(CP152=\"\",CS152=\"\"),0,IF(AND(CP152=$D152,CS152=$E152,CQ152=$F152,CR152=$G152),200,0))","v":0},null,null,null,null,{"$f":"IF(OR(CW152=\"\",CZ152=\"\"),0,IF(AND(CW152=$D152,CZ152=$E152),100,IF(CW152=$D152,50,IF(CZ152=$E152,50,IF(AND(CW152<>$D152,CZ152<>$E152),0)))))","v":0},{"$f":"IF(COUNTIF($D$28:$E$28,CZ152),100,0)+IF(COUNTIF($D$28:$E$28,CW152),100,0)","v":0},{"$f":"IF(OR(CW152=\"\",CZ152=\"\"),0,IF(AND(CW152=$D152,CZ152=$E152,CX152=$F152,CY152=$G152),200,0))","v":0},null,null,null,null,{"$f":"IF(OR(DD152=\"\",DG152=\"\"),0,IF(AND(DD152=$D152,DG152=$E152),100,IF(DD152=$D152,50,IF(DG152=$E152,50,IF(AND(DD152<>$D152,DG152<>$E152),0)))))","v":0},{"$f":"IF(COUNTIF($D$28:$E$28,DG152),100,0)+IF(COUNTIF($D$28:$E$28,DD152),100,0)","v":0},{"$f":"IF(OR(DD152=\"\",DG152=\"\"),0,IF(AND(DD152=$D152,DG152=$E152,DE152=$F152,DF152=$G152),200,0))","v":0},null,null,null,null,{"$f":"IF(OR(DK152=\"\",DN152=\"\"),0,IF(AND(DK152=$D152,DN152=$E152),100,IF(DK152=$D152,50,IF(DN152=$E152,50,IF(AND(DK152<>$D152,DN152<>$E152),0)))))","v":0},{"$f":"IF(COUNTIF($D$28:$E$28,DN152),100,0)+IF(COUNTIF($D$28:$E$28,DK152),100,0)","v":0},{"$f":"IF(OR(DK152=\"\",DN152=\"\"),0,IF(AND(DK152=$D152,DN152=$E152,DL152=$F152,DM152=$G152),200,0))","v":0},null,null,null,null,{"$f":"IF(OR(DR152=\"\",DU152=\"\"),0,IF(AND(DR152=$D152,DU152=$E152),100,IF(DR152=$D152,50,IF(DU152=$E152,50,IF(AND(DR152<>$D152,DU152<>$E152),0)))))","v":0},{"$f":"IF(COUNTIF($D$28:$E$28,DU152),100,0)+IF(COUNTIF($D$28:$E$28,DR152),100,0)","v":0},{"$f":"IF(OR(DR152=\"\",DU152=\"\"),0,IF(AND(DR152=$D152,DU152=$E152,DS152=$F152,DT152=$G152),200,0))","v":0},null,null,null,null,{"$f":"IF(OR(DY152=\"\",EB152=\"\"),0,IF(AND(DY152=$D152,EB152=$E152),100,IF(DY152=$D152,50,IF(EB152=$E152,50,IF(AND(DY152<>$D152,EB152<>$E152),0)))))","v":0},{"$f":"IF(COUNTIF($D$28:$E$28,EB152),100,0)+IF(COUNTIF($D$28:$E$28,DY152),100,0)","v":0},{"$f":"IF(OR(DY152=\"\",EB152=\"\"),0,IF(AND(DY152=$D152,EB152=$E152,DZ152=$F152,EA152=$G152),200,0))","v":0},null,null,null,null,{"$f":"IF(OR(EF152=\"\",EI152=\"\"),0,IF(AND(EF152=$D152,EI152=$E152),100,IF(EF152=$D152,50,IF(EI152=$E152,50,IF(AND(EF152<>$D152,EI152<>$E152),0)))))","v":0},{"$f":"IF(COUNTIF($D$28:$E$28,EI152),100,0)+IF(COUNTIF($D$28:$E$28,EF152),100,0)","v":0},{"$f":"IF(OR(EF152=\"\",EI152=\"\"),0,IF(AND(EF152=$D152,EI152=$E152,EG152=$F152,EH152=$G152),200,0))","v":0},null,null,null,null,{"$f":"IF(OR(EM152=\"\",EP152=\"\"),0,IF(AND(EM152=$D152,EP152=$E152),100,IF(EM152=$D152,50,IF(EP152=$E152,50,IF(AND(EM152<>$D152,EP152<>$E152),0)))))","v":0},{"$f":"IF(COUNTIF($D$28:$E$28,EP152),100,0)+IF(COUNTIF($D$28:$E$28,EM152),100,0)","v":0},{"$f":"IF(OR(EM152=\"\",EP152=\"\"),0,IF(AND(EM152=$D152,EP152=$E152,EN152=$F152,EO152=$G152),200,0))","v":0}]
["Europameister"]
[null,null,null,{"$f":"D123","v":"Spanien"},null,null,null,null,null,"Europameister:",null,null,{"$f":"IF(K152=L152,\"\",IF(K152>L152,J152,M152))","v":""},null,null,{"$f":"IF(OR(M154=\"\"),0,IF(M154=$D154,300,0))","v":0},"Europameister:",null,null,{"$f":"IF(R152=S152,\"\",IF(R152>S152,Q152,T152))","v":""},null,null,{"$f":"IF(OR(T154=\"\"),0,IF(T154=$D154,300,0))","v":0},"Europameister:",null,null,{"$f":"IF(Y152=Z152,\"\",IF(Y152>Z152,X152,AA152))","v":""},null,null,{"$f":"IF(OR(AA154=\"\"),0,IF(AA154=$D154,300,0))","v":0},"Europameister:",null,null,{"$f":"IF(AF152=AG152,\"\",IF(AF152>AG152,AE152,AH152))","v":""},null,null,{"$f":"IF(OR(AH154=\"\"),0,IF(AH154=$D154,300,0))","v":0},"Europameister:",null,null,{"$f":"IF(AM152=AN152,\"\",IF(AM152>AN152,AL152,AO152))","v":""},null,null,{"$f":"IF(OR(AO154=\"\"),0,IF(AO154=$D154,300,0))","v":0},"Europameister:",null,null,{"$f":"IF(AT152=AU152,\"\",IF(AT152>AU152,AS152,AV152))","v":""},null,null,{"$f":"IF(OR(AV154=\"\"),0,IF(AV154=$D154,300,0))","v":0},"Europameister:",null,null,{"$f":"IF(BA152=BB152,\"\",IF(BA152>BB152,AZ152,BC152))","v":""},null,null,{"$f":"IF(OR(BC154=\"\"),0,IF(BC154=$D154,300,0))","v":0},"Europameister:",null,null,{"$f":"IF(BH152=BI152,\"\",IF(BH152>BI152,BG152,BJ152))","v":""},null,null,{"$f":"IF(OR(BJ154=\"\"),0,IF(BJ154=$D154,300,0))","v":0},"Europameister:",null,null,{"$f":"IF(BO152=BP152,\"\",IF(BO152>BP152,BN152,BQ152))","v":""},null,null,{"$f":"IF(OR(BQ154=\"\"),0,IF(BQ154=$D154,300,0))","v":0},"Europameister:",null,null,{"$f":"IF(BV152=BW152,\"\",IF(BV152>BW152,BU152,BX152))","v":""},null,null,{"$f":"IF(OR(BX154=\"\"),0,IF(BX154=$D154,300,0))","v":0},"Europameister:",null,null,{"$f":"IF(CC152=CD152,\"\",IF(CC152>CD152,CB152,CE152))","v":""},null,null,{"$f":"IF(OR(CE154=\"\"),0,IF(CE154=$D154,300,0))","v":0},"Europameister:",null,null,{"$f":"IF(CJ152=CK152,\"\",IF(CJ152>CK152,CI152,CL152))","v":""},null,null,{"$f":"IF(OR(CL154=\"\"),0,IF(CL154=$D154,300,0))","v":0},"Europameister:",null,null,{"$f":"IF(CQ152=CR152,\"\",IF(CQ152>CR152,CP152,CS152))","v":""},null,null,{"$f":"IF(OR(CS154=\"\"),0,IF(CS154=$D154,300,0))","v":0},"Europameister:",null,null,{"$f":"IF(CX152=CY152,\"\",IF(CX152>CY152,CW152,CZ152))","v":""},null,null,{"$f":"IF(OR(CZ154=\"\"),0,IF(CZ154=$D154,300,0))","v":0},"Europameister:",null,null,{"$f":"IF(DE152=DF152,\"\",IF(DE152>DF152,DD152,DG152))","v":""},null,null,{"$f":"IF(OR(DG154=\"\"),0,IF(DG154=$D154,300,0))","v":0},"Europameister:",null,null,{"$f":"IF(DL152=DM152,\"\",IF(DL152>DM152,DK152,DN152))","v":""},null,null,{"$f":"IF(OR(DN154=\"\"),0,IF(DN154=$D154,300,0))","v":0},"Europameister:",null,null,{"$f":"IF(DS152=DT152,\"\",IF(DS152>DT152,DR152,DU152))","v":""},null,null,{"$f":"IF(OR(DU154=\"\"),0,IF(DU154=$D154,300,0))","v":0},"Europameister:",null,null,{"$f":"IF(DZ152=EA152,\"\",IF(DZ152>EA152,DY152,EB152))","v":""},null,null,{"$f":"IF(OR(EB154=\"\"),0,IF(EB154=$D154,300,0))","v":0},"Europameister:",null,null,{"$f":"IF(EG152=EH152,\"\",IF(EG152>EH152,EF152,EI152))","v":""},null,null,{"$f":"IF(OR(EI154=\"\"),0,IF(EI154=$D154,300,0))","v":0},"Europameister:",null,null,{"$f":"IF(EN152=EO152,\"\",IF(EN152>EO152,EM152,EP152))","v":""},null,null,{"$f":"IF(OR(EP154=\"\"),0,IF(EP154=$D154,300,0))","v":0}]
[null,null,null,null,null,null,null,null,null,{"$f":"Teilnehmerliste!$C86","v":0},null,null,null,{"$f":"SUM(N135:P154)","v":0},null,null,{"$f":"Teilnehmerliste!$C87","v":0},null,null,null,{"$f":"SUM(U135:W154)","v":0},null,null,{"$f":"Teilnehmerliste!$C88","v":0},null,null,null,{"$f":"SUM(AB135:AD154)","v":0},null,null,{"$f":"Teilnehmerliste!$C89","v":0},null,null,null,{"$f":"SUM(AI135:AK154)","v":0},null,null,{"$f":"Teilnehmerliste!$C90","v":0},null,null,null,{"$f":"SUM(AP135:AR154)","v":0},null,null,{"$f":"Teilnehmerliste!$C91","v":0},null,null,null,{"$f":"SUM(AW135:AY154)","v":0},null,null,{"$f":"Teilnehmerliste!$C92","v":0},null,null,null,{"$f":"SUM(BD135:BF154)","v":0},null,null,{"$f":"Teilnehmerliste!$C93","v":0},null,null,null,{"$f":"SUM(BK135:BM154)","v":0},null,null,{"$f":"Teilnehmerliste!$C94","v":0},null,null,null,{"$f":"SUM(BR135:BT154)","v":0},null,null,{"$f":"Teilnehmerliste!$C95","v":0},null,null,null,{"$f":"SUM(BY135:CA154)","v":0},null,null,{"$f":"Teilnehmerliste!$C96","v":0},null,null,null,{"$f":"SUM(CF135:CH154)","v":0},null,null,{"$f":"Teilnehmerliste!$C97","v":0},null,null,null,{"$f":"SUM(CM135:CO154)","v":0},null,null,{"$f":"Teilnehmerliste!$C98","v":0},null,null,null,{"$f":"SUM(CT135:CV154)","v":0},null,null,{"$f":"Teilnehmerliste!$C99","v":0},null,null,null,{"$f":"SUM(DA135:DC154)","v":0},null,null,{"$f":"Teilnehmerliste!$C100","v":0},null,null,null,{"$f":"SUM(DH135:DJ154)","v":0},null,null,{"$f":"Teilnehmerliste!$C101","v":0},null,null,null,{"$f":"SUM(DO135:DQ154)","v":0},null,null,{"$f":"Teilnehmerliste!$C102","v":0},null,null,null,{"$f":"SUM(DV135:DX154)","v":0},null,null,{"$f":"Teilnehmerliste!$C103","v":0},null,null,null,{"$f":"SUM(EC135:EE154)","v":0},null,null,{"$f":"Teilnehmerliste!$C104","v":0},null,null,null,{"$f":"SUM(EJ135:EL154)","v":0},null,null,{"$f":"Teilnehmerliste!$C105","v":0},null,null,null,{"$f":"SUM(EQ135:ES154)","v":0}]

{"sheet":"Teilnehmerliste","index":5,"n_rows":105,"n_cols":3,"rows_kept":105,"cut":false,"hidden":false,"merged":[[2,0,2,1]]}
[{"$f":"Teams!$B$30","v":"EM 2024 by Rogerinho (www.fcbouncer.ch)"}]
[]
["Teilnehmerliste",null,"Spieler 1 - 100"]
[]
["Nr.","Name","Vorname"]
[1,"Agorastos","Panos"]
[2,"Antonelli","Marco"]
[3,"Antonelli","Ruben"]
[4,"Bartholet","Andi"]
[5,"Bartholet","Nott"]
[6,"Bartholet","Philippe"]
[7,"Bartholet","Roger"]
[8,"Beck","Mara"]
[9,"Blöchlinger/Edri","Lara/Yaniv"]
[10,"Bosshart","Michael"]
[11,"Brunner","Manuel"]
[12,"Brunner","Nicolas"]
[13,"Brunner","Philip"]
[14,"Burkart","André"]
[15,"Burkart","Louis"]
[16,"Cadonau","Daniel"]
[17,"Cadonau","Deliz"]
[18,"Cadonau","Florian"]
[19,"Christiansen","Olo"]
[20,"Da Costa","Leonardo"]
[21,"D'Acunto","Lisa"]
[22,"D'Acunto","Niva"]
[23,"D'Acunto","Vinci"]
[24,"Dukic","Goran"]
[25,"Duvnjak","Dino"]
[26,"Figaro","Marlon"]
[27,"Foscaldi","Maurizio"]
[28,"Giuralarocca","Roberto"]
[29,"Gomes","Rui"]
[30,"Grosse","Laurent"]
[31,"Gygli","Gregory"]
[32,"Gygli","Reto"]
[33,"Gygli","Sarina"]
[34,"Gygli","Stefan"]
[35,"Gygli","Timothy"]
[36,"Haab","Florian"]
[37,"Handanagic","Djuma"]
[38,"Isenschmid","Agnes"]
[39,"Isenschmid","Andreas"]
[40,"Isenschmid","Michi"]
[41,"Jones","Aiden"]
[42,"Kalinci","Murat"]
[43,"Keller","Pascal"]
[44,"Lanz","André"]
[45,"Lischer","Franz"]
[46,"Lütolf","Marc"]
[47,"Marini","Mauro"]
[48,"Marthaler","Martin"]
[49,"Oliveira","Telmo"]
[50,"Palma","Luigi"]
[51,"Pek","Lechena"]
[52,"Pietzke","Jannis"]
[53,"Rauscher","Petra"]
[54,"Rohner","Martin"]
[55,"Rüegg","Lynn"]
[56,"Rüegg","Michael"]
[57,"Rüegg","Sabine"]
[58,"Schommarz","Erich"]
[59,"Schuster","Ralph"]
[60,"Schwitter","Corinne"]
[61,"Silva","Bruno"]
[62,"Sotelo","Yermany"]
[63,"Thormann","Armando"]
[64,"Thormann","Julia"]
[65,"Treichler","Lea"]
[66,"Treichler","Reto"]
[67,"Wälti","Christoph"]
[68,"Wagner","Markus"]
[69,"Walser","Stefan"]
[70,"Wang","Jingwen"]
[71,"Wullschleger","Stefan"]
[72,"Zachmann","Jasmine"]
[73,"Zachmann","Stefan"]
[74,"Babic","Mario"]
[75,"Megdiche","Nidhal"]
[76,"Städelin","Hanspeter"]
[77]
[78]
[79]
[80]
[81]
[82]
[83]
[84]
[85]
[86]
[87]
[88]
[89]
[90]
[91]
[92]
[93]
[94]
[95]
[96]
[97]
[98]
[99]
[100]

{"sheet":"Teams","index":6,"n_rows":30,"n_cols":2,"rows_kept":30,"cut":false,"hidden":false,"merged":[[0,0,0,3],[15,0,18,0],[19,0,22,0],[23,0,26,0],[3,0,6,0],[7,0,10,0],[11,0,14,0]]}
["EM 2024 by Rogerinho (www.fcbouncer.ch)"]
[]
[null,"Teams"]
["Gruppe A","Deutschland"]
[null,"Schottland"]
[null,"Ungarn"]
[null,"Schweiz"]
["Gruppe B","Spanien"]
[null,"Kroatien"]
[null,"Italien"]
[null,"Albanien"]
["Gruppe C","Slowenien"]
[null,"Dänemark"]
[null,"Serbien"]
[null,"England"]
["Gruppe D","Polen"]
[null,"Holland"]
[null,"Österreich"]
[null,"Frankreich"]
["Gruppe E","Belgien"]
[null,"Slowakei"]
[null,"Rumänien"]
[null,"Ukraine"]
["Gruppe F","Türkei"]
[null,"Georgien"]
[null,"Portugal"]
[null,"Tschechien"]
[]
[]
["Turnier:","EM 2024 by Rogerinho (www.fcbouncer.ch)"]

{"sheet":"Stat_Final","index":7,"n_rows":104,"n_cols":5,"rows_kept":104,"cut":false,"hidden":false,"merged":[[2,2,2,3],[0,0,0,4]]}
[{"$f":"Teams!$B$30","v":"EM 2024 by Rogerinho (www.fcbouncer.ch)"}]
[]
[null,null,"Team",null,"Europameister"]
[null,null,1,2]
[{"$f":"Teilnehmerliste!A6","v":1},{"$f":"Teilnehmerliste!B6 &\" \"&Teilnehmerliste!C6","v":"Agorastos Panos"},{"$f":"Finalrunde!J$28","v":"Deutschland"},{"$f":"Finalrunde!M$28","v":"England"},{"$f":"Finalrunde!M$30","v":"England"}]
[{"$f":"Teilnehmerliste!A7","v":2},{"$f":"Teilnehmerliste!B7 &\" \"&Teilnehmerliste!C7","v":"Antonelli Marco"},{"$f":"Finalrunde!Q$28","v":"Portugal"},{"$f":"Finalrunde!T$28","v":"Italien"},{"$f":"Finalrunde!T$30","v":"Italien"}]
[{"$f":"Teilnehmerliste!A8","v":3},{"$f":"Teilnehmerliste!B8 &\" \"&Teilnehmerliste!C8","v":"Antonelli Ruben"},{"$f":"Finalrunde!X$28","v":"Italien"},{"$f":"Finalrunde!AA$28","v":"Frankreich"},{"$f":"Finalrunde!AA$30","v":"Italien"}]
[{"$f":"Teilnehmerliste!A9","v":4},{"$f":"Teilnehmerliste!B9 &\" \"&Teilnehmerliste!C9","v":"Bartholet Andi"},{"$f":"Finalrunde!AE$28","v":"Spanien"},{"$f":"Finalrunde!AH$28","v":"England"},{"$f":"Finalrunde!AH$30","v":"Spanien"}]
[{"$f":"Teilnehmerliste!A10","v":5},{"$f":"Teilnehmerliste!B10 &\" \"&Teilnehmerliste!C10","v":"Bartholet Nott"},{"$f":"Finalrunde!AL$28","v":"Frankreich"},{"$f":"Finalrunde!AO$28","v":"England"},{"$f":"Finalrunde!AO$30","v":"Frankreich"}]
[{"$f":"Teilnehmerliste!A11","v":6},{"$f":"Teilnehmerliste!B11 &\" \"&Teilnehmerliste!C11","v":"Bartholet Philippe"},{"$f":"Finalrunde!AS$28","v":"Portugal"},{"$f":"Finalrunde!AV$28","v":"Frankreich"},{"$f":"Finalrunde!AV$30","v":"Frankreich"}]
[{"$f":"Teilnehmerliste!A12","v":7},{"$f":"Teilnehmerliste!B12 &\" \"&Teilnehmerliste!C12","v":"Bartholet Roger"},{"$f":"Finalrunde!AZ$28","v":"Portugal"},{"$f":"Finalrunde!BC$28","v":"Schweiz"},{"$f":"Finalrunde!BC$30","v":"Schweiz"}]
[{"$f":"Teilnehmerliste!A13","v":8},{"$f":"Teilnehmerliste!B13 &\" \"&Teilnehmerliste!C13","v":"Beck Mara"},{"$f":"Finalrunde!BG$28","v":"Portugal"},{"$f":"Finalrunde!BJ$28","v":"Frankreich"},{"$f":"Finalrunde!BJ$30","v":"Frankreich"}]
[{"$f":"Teilnehmerliste!A14","v":9},{"$f":"Teilnehmerliste!B14 &\" \"&Teilnehmerliste!C14","v":"Blöchlinger/Edri Lara/Yaniv"},{"$f":"Finalrunde!BN$28","v":"Deutschland"},{"$f":"Finalrunde!BQ$28","v":"Frankreich"},{"$f":"Finalrunde!BQ$30","v":"Frankreich"}]
[{"$f":"Teilnehmerliste!A15","v":10},{"$f":"Teilnehmerliste!B15 &\" \"&Teilnehmerliste!C15","v":"Bosshart Michael"},{"$f":"Finalrunde!BU$28","v":"Deutschland"},{"$f":"Finalrunde!BX$28","v":"England"},{"$f":"Finalrunde!BX$30","v":"England"}]
[{"$f":"Teilnehmerliste!A16","v":11},{"$f":"Teilnehmerliste!B16 &\" \"&Teilnehmerliste!C16","v":"Brunner Manuel"},{"$f":"Finalrunde!CB$28","v":"Holland"},{"$f":"Finalrunde!CE$28","v":"Frankreich"},{"$f":"Finalrunde!CE$30","v":"Frankreich"}]
[{"$f":"Teilnehmerliste!A17","v":12},{"$f":"Teilnehmerliste!B17 &\" \"&Teilnehmerliste!C17","v":"Brunner Nicolas"},{"$f":"Finalrunde!CI$28","v":"Spanien"},{"$f":"Finalrunde!CL$28","v":"Frankreich"},{"$f":"Finalrunde!CL$30","v":"Frankreich"}]
[{"$f":"Teilnehmerliste!A18","v":13},{"$f":"Teilnehmerliste!B18 &\" \"&Teilnehmerliste!C18","v":"Brunner Philip"},{"$f":"Finalrunde!CP$28","v":"Holland"},{"$f":"Finalrunde!CS$28","v":"Belgien"},{"$f":"Finalrunde!CS$30","v":"Belgien"}]
[{"$f":"Teilnehmerliste!A19","v":14},{"$f":"Teilnehmerliste!B19 &\" \"&Teilnehmerliste!C19","v":"Burkart André"},{"$f":"Finalrunde!CW$28","v":"Deutschland"},{"$f":"Finalrunde!CZ$28","v":"Frankreich"},{"$f":"Finalrunde!CZ$30","v":"Deutschland"}]
[{"$f":"Teilnehmerliste!A20","v":15},{"$f":"Teilnehmerliste!B20 &\" \"&Teilnehmerliste!C20","v":"Burkart Louis"},{"$f":"Finalrunde!DD$28","v":"Frankreich"},{"$f":"Finalrunde!DG$28","v":"England"},{"$f":"Finalrunde!DG$30","v":"Frankreich"}]
[{"$f":"Teilnehmerliste!A21","v":16},{"$f":"Teilnehmerliste!B21 &\" \"&Teilnehmerliste!C21","v":"Cadonau Daniel"},{"$f":"Finalrunde!DK$28","v":"Deutschland"},{"$f":"Finalrunde!DN$28","v":"England"},{"$f":"Finalrunde!DN$30","v":"Deutschland"}]
[{"$f":"Teilnehmerliste!A22","v":17},{"$f":"Teilnehmerliste!B22 &\" \"&Teilnehmerliste!C22","v":"Cadonau Deliz"},{"$f":"Finalrunde!DR$28","v":"Deutschland"},{"$f":"Finalrunde!DU$28","v":"Frankreich"},{"$f":"Finalrunde!DU$30","v":"Frankreich"}]
[{"$f":"Teilnehmerliste!A23","v":18},{"$f":"Teilnehmerliste!B23 &\" \"&Teilnehmerliste!C23","v":"Cadonau Florian"},{"$f":"Finalrunde!DY$28","v":"Deutschland"},{"$f":"Finalrunde!EB$28","v":"England"},{"$f":"Finalrunde!EB$30","v":"England"}]
[{"$f":"Teilnehmerliste!A24","v":19},{"$f":"Teilnehmerliste!B24 &\" \"&Teilnehmerliste!C24","v":"Christiansen Olo"},{"$f":"Finalrunde!EF$28","v":"Kroatien"},{"$f":"Finalrunde!EI$28","v":"Frankreich"},{"$f":"Finalrunde!EI$30","v":"Frankreich"}]
[{"$f":"Teilnehmerliste!A25","v":20},{"$f":"Teilnehmerliste!B25 &\" \"&Teilnehmerliste!C25","v":"Da Costa Leonardo"},{"$f":"Finalrunde!EM$28","v":"Portugal"},{"$f":"Finalrunde!EP$28","v":"Frankreich"},{"$f":"Finalrunde!EP$30","v":"Portugal"}]
[{"$f":"Teilnehmerliste!A26","v":21},{"$f":"Teilnehmerliste!B26 &\" \"&Teilnehmerliste!C26","v":"D'Acunto Lisa"},{"$f":"Finalrunde!J$59","v":"Spanien"},{"$f":"Finalrunde!M$59","v":"Frankreich"},{"$f":"Finalrunde!M$61","v":"Frankreich"}]
[{"$f":"Teilnehmerliste!A27","v":22},{"$f":"Teilnehmerliste!B27 &\" \"&Teilnehmerliste!C27","v":"D'Acunto Niva"},{"$f":"Finalrunde!Q$59","v":"Deutschland"},{"$f":"Finalrunde!T$59","v":"Italien"},{"$f":"Finalrunde!T$61","v":"Italien"}]
[{"$f":"Teilnehmerliste!A28","v":23},{"$f":"Teilnehmerliste!B28 &\" \"&Teilnehmerliste!C28","v":"D'Acunto Vinci"},{"$f":"Finalrunde!X$59","v":"Italien"},{"$f":"Finalrunde!AA$59","v":"England"},{"$f":"Finalrunde!AA$61","v":"Italien"}]
[{"$f":"Teilnehmerliste!A29","v":24},{"$f":"Teilnehmerliste!B29 &\" \"&Teilnehmerliste!C29","v":"Dukic Goran"},{"$f":"Finalrunde!AE$59","v":"Portugal"},{"$f":"Finalrunde!AH$59","v":"Frankreich"},{"$f":"Finalrunde!AH$61","v":"Frankreich"}]
[{"$f":"Teilnehmerliste!A30","v":25},{"$f":"Teilnehmerliste!B30 &\" \"&Teilnehmerliste!C30","v":"Duvnjak Dino"},{"$f":"Finalrunde!AL$59","v":"Deutschland"},{"$f":"Finalrunde!AO$59","v":"England"},{"$f":"Finalrunde!AO$61","v":"England"}]
[{"$f":"Teilnehmerliste!A31","v":26},{"$f":"Teilnehmerliste!B31 &\" \"&Teilnehmerliste!C31","v":"Figaro Marlon"},{"$f":"Finalrunde!AS$59","v":"Portugal"},{"$f":"Finalrunde!AV$59","v":"Frankreich"},{"$f":"Finalrunde!AV$61","v":"Portugal"}]
[{"$f":"Teilnehmerliste!A32","v":27},{"$f":"Teilnehmerliste!B32 &\" \"&Teilnehmerliste!C32","v":"Foscaldi Maurizio"},{"$f":"Finalrunde!AZ$59","v":"Deutschland"},{"$f":"Finalrunde!BC$59","v":"Italien"},{"$f":"Finalrunde!BC$61","v":"Italien"}]
[{"$f":"Teilnehmerliste!A33","v":28},{"$f":"Teilnehmerliste!B33 &\" \"&Teilnehmerliste!C33","v":"Giuralarocca Roberto"},{"$f":"Finalrunde!BG$59","v":"Italien"},{"$f":"Finalrunde!BJ$59","v":"Spanien"},{"$f":"Finalrunde!BJ$61","v":"Italien"}]
[{"$f":"Teilnehmerliste!A34","v":29},{"$f":"Teilnehmerliste!B34 &\" \"&Teilnehmerliste!C34","v":"Gomes Rui"},{"$f":"Finalrunde!BN$59","v":"Portugal"},{"$f":"Finalrunde!BQ$59","v":"England"},{"$f":"Finalrunde!BQ$61","v":"Portugal"}]
[{"$f":"Teilnehmerliste!A35","v":30},{"$f":"Teilnehmerliste!B35 &\" \"&Teilnehmerliste!C35","v":"Grosse Laurent"},{"$f":"Finalrunde!BU$59","v":"Deutschland"},{"$f":"Finalrunde!BX$59","v":"England"},{"$f":"Finalrunde!BX$61","v":"Deutschland"}]
[{"$f":"Teilnehmerliste!A36","v":31},{"$f":"Teilnehmerliste!B36 &\" \"&Teilnehmerliste!C36","v":"Gygli Gregory"},{"$f":"Finalrunde!CB$59","v":"Schweiz"},{"$f":"Finalrunde!CE$59","v":"Frankreich"},{"$f":"Finalrunde!CE$61","v":"Frankreich"}]
[{"$f":"Teilnehmerliste!A37","v":32},{"$f":"Teilnehmerliste!B37 &\" \"&Teilnehmerliste!C37","v":"Gygli Reto"},{"$f":"Finalrunde!CI$59","v":"Deutschland"},{"$f":"Finalrunde!CL$59","v":"England"},{"$f":"Finalrunde!CL$61","v":"Deutschland"}]
[{"$f":"Teilnehmerliste!A38","v":33},{"$f":"Teilnehmerliste!B38 &\" \"&Teilnehmerliste!C38","v":"Gygli Sarina"},{"$f":"Finalrunde!CP$59","v":"Deutschland"},{"$f":"Finalrunde!CS$59","v":"Frankreich"},{"$f":"Finalrunde!CS$61","v":"Frankreich"}]
[{"$f":"Teilnehmerliste!A39","v":34},{"$f":"Teilnehmerliste!B39 &\" \"&Teilnehmerliste!C39","v":"Gygli Stefan"},{"$f":"Finalrunde!CW$59","v":"Frankreich"},{"$f":"Finalrunde!CZ$59","v":"England"},{"$f":"Finalrunde!CZ$61","v":"England"}]
[{"$f":"Teilnehmerliste!A40","v":35},{"$f":"Teilnehmerliste!B40 &\" \"&Teilnehmerliste!C40","v":"Gygli Timothy"},{"$f":"Finalrunde!DD$59","v":"Spanien"},{"$f":"Finalrunde!DG$59","v":"Frankreich"},{"$f":"Finalrunde!DG$61","v":"Frankreich"}]
[{"$f":"Teilnehmerliste!A41","v":36},{"$f":"Teilnehmerliste!B41 &\" \"&Teilnehmerliste!C41","v":"Haab Florian"},{"$f":"Finalrunde!DK$59","v":"Deutschland"},{"$f":"Finalrunde!DN$59","v":"Frankreich"},{"$f":"Finalrunde!DN$61","v":"Deutschland"}]
[{"$f":"Teilnehmerliste!A42","v":37},{"$f":"Teilnehmerliste!B42 &\" \"&Teilnehmerliste!C42","v":"Handanagic Djuma"},{"$f":"Finalrunde!DR$59","v":"Portugal"},{"$f":"Finalrunde!DU$59","v":"England"},{"$f":"Finalrunde!DU$61","v":"Portugal"}]
[{"$f":"Teilnehmerliste!A43","v":38},{"$f":"Teilnehmerliste!B43 &\" \"&Teilnehmerliste!C43","v":"Isenschmid Agnes"},{"$f":"Finalrunde!DY$59","v":"Spanien"},{"$f":"Finalrunde!EB$59","v":"Frankreich"},{"$f":"Finalrunde!EB$61","v":"Spanien"}]
[{"$f":"Teilnehmerliste!A44","v":39},{"$f":"Teilnehmerliste!B44 &\" \"&Teilnehmerliste!C44","v":"Isenschmid Andreas"},{"$f":"Finalrunde!EF$59","v":"Spanien"},{"$f":"Finalrunde!EI$59","v":"Frankreich"},{"$f":"Finalrunde!EI$61","v":"Frankreich"}]
[{"$f":"Teilnehmerliste!A45","v":40},{"$f":"Teilnehmerliste!B45 &\" \"&Teilnehmerliste!C45","v":"Isenschmid Michi"},{"$f":"Finalrunde!EM$59","v":"Deutschland"},{"$f":"Finalrunde!EP$59","v":"Frankreich"},{"$f":"Finalrunde!EP$61","v":"Frankreich"}]
[{"$f":"Teilnehmerliste!A46","v":41},{"$f":"Teilnehmerliste!B46 &\" \"&Teilnehmerliste!C46","v":"Jones Aiden"},{"$f":"Finalrunde!J$90","v":"Spanien"},{"$f":"Finalrunde!M$90","v":"England"},{"$f":"Finalrunde!M$92","v":"England"}]
[{"$f":"Teilnehmerliste!A47","v":42},{"$f":"Teilnehmerliste!B47 &\" \"&Teilnehmerliste!C47","v":"Kalinci Murat"},{"$f":"Finalrunde!Q$90","v":"Spanien"},{"$f":"Finalrunde!T$90","v":"Italien"},{"$f":"Finalrunde!T$92","v":"Spanien"}]
[{"$f":"Teilnehmerliste!A48","v":43},{"$f":"Teilnehmerliste!B48 &\" \"&Teilnehmerliste!C48","v":"Keller Pascal"},{"$f":"Finalrunde!X$90","v":"Spanien"},{"$f":"Finalrunde!AA$90","v":"Frankreich"},{"$f":"Finalrunde!AA$92","v":"Frankreich"}]
[{"$f":"Teilnehmerliste!A49","v":44},{"$f":"Teilnehmerliste!B49 &\" \"&Teilnehmerliste!C49","v":"Lanz André"},{"$f":"Finalrunde!AE$90","v":"Portugal"},{"$f":"Finalrunde!AH$90","v":"England"},{"$f":"Finalrunde!AH$92","v":"Portugal"}]
[{"$f":"Teilnehmerliste!A50","v":45},{"$f":"Teilnehmerliste!B50 &\" \"&Teilnehmerliste!C50","v":"Lischer Franz"},{"$f":"Finalrunde!AL$90","v":"Holland"},{"$f":"Finalrunde!AO$90","v":"Frankreich"},{"$f":"Finalrunde!AO$92","v":"Frankreich"}]
[{"$f":"Teilnehmerliste!A51","v":46},{"$f":"Teilnehmerliste!B51 &\" \"&Teilnehmerliste!C51","v":"Lütolf Marc"},{"$f":"Finalrunde!AS$90","v":"Spanien"},{"$f":"Finalrunde!AV$90","v":"England"},{"$f":"Finalrunde!AV$92","v":"England"}]
[{"$f":"Teilnehmerliste!A52","v":47},{"$f":"Teilnehmerliste!B52 &\" \"&Teilnehmerliste!C52","v":"Marini Mauro"},{"$f":"Finalrunde!AZ$90","v":"Italien"},{"$f":"Finalrunde!BC$90","v":"Deutschland"},{"$f":"Finalrunde!BC$92","v":"Italien"}]
[{"$f":"Teilnehmerliste!A53","v":48},{"$f":"Teilnehmerliste!B53 &\" \"&Teilnehmerliste!C53","v":"Marthaler Martin"},{"$f":"Finalrunde!BG$90","v":"Spanien"},{"$f":"Finalrunde!BJ$90","v":"England"},{"$f":"Finalrunde!BJ$92","v":"England"}]
[{"$f":"Teilnehmerliste!A54","v":49},{"$f":"Teilnehmerliste!B54 &\" \"&Teilnehmerliste!C54","v":"Oliveira Telmo"},{"$f":"Finalrunde!BN$90","v":"Portugal"},{"$f":"Finalrunde!BQ$90","v":"Frankreich"},{"$f":"Finalrunde!BQ$92","v":"Portugal"}]
[{"$f":"Teilnehmerliste!A55","v":50},{"$f":"Teilnehmerliste!B55 &\" \"&Teilnehmerliste!C55","v":"Palma Luigi"},{"$f":"Finalrunde!BU$90","v":"Holland"},{"$f":"Finalrunde!BX$90","v":"Italien"},{"$f":"Finalrunde!BX$92","v":"Italien"}]
[{"$f":"Teilnehmerliste!A56","v":51},{"$f":"Teilnehmerliste!B56 &\" \"&Teilnehmerliste!C56","v":"Pek Lechena"},{"$f":"Finalrunde!CB$90","v":"Deutschland"},{"$f":"Finalrunde!CE$90","v":"England"},{"$f":"Finalrunde!CE$92","v":"Deutschland"}]
[{"$f":"Teilnehmerliste!A57","v":52},{"$f":"Teilnehmerliste!B57 &\" \"&Teilnehmerliste!C57","v":"Pietzke Jannis"},{"$f":"Finalrunde!CI$90","v":"Spanien"},{"$f":"Finalrunde!CL$90","v":"Belgien"},{"$f":"Finalrunde!CL$92","v":"Spanien"}]
[{"$f":"Teilnehmerliste!A58","v":53},{"$f":"Teilnehmerliste!B58 &\" \"&Teilnehmerliste!C58","v":"Rauscher Petra"},{"$f":"Finalrunde!CP$90","v":"Portugal"},{"$f":"Finalrunde!CS$90","v":"Frankreich"},{"$f":"Finalrunde!CS$92","v":"Frankreich"}]
[{"$f":"Teilnehmerliste!A59","v":54},{"$f":"Teilnehmerliste!B59 &\" \"&Teilnehmerliste!C59","v":"Rohner Martin"},{"$f":"Finalrunde!CW$90","v":"Deutschland"},{"$f":"Finalrunde!CZ$90","v":"England"},{"$f":"Finalrunde!CZ$92","v":"England"}]
[{"$f":"Teilnehmerliste!A60","v":55},{"$f":"Teilnehmerliste!B60 &\" \"&Teilnehmerliste!C60","v":"Rüegg Lynn"},{"$f":"Finalrunde!DD$90","v":"Portugal"},{"$f":"Finalrunde!DG$90","v":"Frankreich"},{"$f":"Finalrunde!DG$92","v":"Portugal"}]
[{"$f":"Teilnehmerliste!A61","v":56},{"$f":"Teilnehmerliste!B61 &\" \"&Teilnehmerliste!C61","v":"Rüegg Michael"},{"$f":"Finalrunde!DK$90","v":"Portugal"},{"$f":"Finalrunde!DN$90","v":"England"},{"$f":"Finalrunde!DN$92","v":"England"}]
[{"$f":"Teilnehmerliste!A62","v":57},{"$f":"Teilnehmerliste!B62 &\" \"&Teilnehmerliste!C62","v":"Rüegg Sabine"},{"$f":"Finalrunde!DR$90","v":"Portugal"},{"$f":"Finalrunde!DU$90","v":"Frankreich"},{"$f":"Finalrunde!DU$92","v":"Frankreich"}]
[{"$f":"Teilnehmerliste!A63","v":58},{"$f":"Teilnehmerliste!B63 &\" \"&Teilnehmerliste!C63","v":"Schommarz Erich"},{"$f":"Finalrunde!DY$90","v":"Deutschland"},{"$f":"Finalrunde!EB$90","v":"Frankreich"},{"$f":"Finalrunde!EB$92","v":"Deutschland"}]
[{"$f":"Teilnehmerliste!A64","v":59},{"$f":"Teilnehmerliste!B64 &\" \"&Teilnehmerliste!C64","v":"Schuster Ralph"},{"$f":"Finalrunde!EF$90","v":"Portugal"},{"$f":"Finalrunde!EI$90","v":"Frankreich"},{"$f":"Finalrunde!EI$92","v":"Portugal"}]
[{"$f":"Teilnehmerliste!A65","v":60},{"$f":"Teilnehmerliste!B65 &\" \"&Teilnehmerliste!C65","v":"Schwitter Corinne"},{"$f":"Finalrunde!EM$90","v":"Portugal"},{"$f":"Finalrunde!EP$90","v":"Deutschland"},{"$f":"Finalrunde!EP$92","v":"Deutschland"}]
[{"$f":"Teilnehmerliste!A66","v":61},{"$f":"Teilnehmerliste!B66 &\" \"&Teilnehmerliste!C66","v":"Silva Bruno"},{"$f":"Finalrunde!J$121","v":"Kroatien"},{"$f":"Finalrunde!M$121","v":"England"},{"$f":"Finalrunde!M$123","v":"England"}]
[{"$f":"Teilnehmerliste!A67","v":62},{"$f":"Teilnehmerliste!B67 &\" \"&Teilnehmerliste!C67","v":"Sotelo Yermany"},{"$f":"Finalrunde!Q$121","v":"Portugal"},{"$f":"Finalrunde!T$121","v":"Frankreich"},{"$f":"Finalrunde!T$123","v":"Portugal"}]
[{"$f":"Teilnehmerliste!A68","v":63},{"$f":"Teilnehmerliste!B68 &\" \"&Teilnehmerliste!C68","v":"Thormann Armando"},{"$f":"Finalrunde!X$121","v":"Deutschland"},{"$f":"Finalrunde!AA$121","v":"England"},{"$f":"Finalrunde!AA$123","v":"Deutschland"}]
[{"$f":"Teilnehmerliste!A69","v":64},{"$f":"Teilnehmerliste!B69 &\" \"&Teilnehmerliste!C69","v":"Thormann Julia"},{"$f":"Finalrunde!AE$121","v":"Deutschland"},{"$f":"Finalrunde!AH$121","v":"England"},{"$f":"Finalrunde!AH$123","v":"England"}]
[{"$f":"Teilnehmerliste!A70","v":65},{"$f":"Teilnehmerliste!B70 &\" \"&Teilnehmerliste!C70","v":"Treichler Lea"},{"$f":"Finalrunde!AL$121","v":"Portugal"},{"$f":"Finalrunde!AO$121","v":"England"},{"$f":"Finalrunde!AO$123","v":"Portugal"}]
[{"$f":"Teilnehmerliste!A71","v":66},{"$f":"Teilnehmerliste!B71 &\" \"&Teilnehmerliste!C71","v":"Treichler Reto"},{"$f":"Finalrunde!AS$121","v":"Italien"},{"$f":"Finalrunde!AV$121","v":"England"},{"$f":"Finalrunde!AV$123","v":"England"}]
[{"$f":"Teilnehmerliste!A72","v":67},{"$f":"Teilnehmerliste!B72 &\" \"&Teilnehmerliste!C72","v":"Wälti Christoph"},{"$f":"Finalrunde!AZ$121","v":"Spanien"},{"$f":"Finalrunde!BC$121","v":"England"},{"$f":"Finalrunde!BC$123","v":"Spanien"}]
[{"$f":"Teilnehmerliste!A73","v":68},{"$f":"Teilnehmerliste!B73 &\" \"&Teilnehmerliste!C73","v":"Wagner Markus"},{"$f":"Finalrunde!BG$121","v":"Deutschland"},{"$f":"Finalrunde!BJ$121","v":"Frankreich"},{"$f":"Finalrunde!BJ$123","v":"Frankreich"}]
[{"$f":"Teilnehmerliste!A74","v":69},{"$f":"Teilnehmerliste!B74 &\" \"&Teilnehmerliste!C74","v":"Walser Stefan"},{"$f":"Finalrunde!BN$121","v":"Deutschland"},{"$f":"Finalrunde!BQ$121","v":"England"},{"$f":"Finalrunde!BQ$123","v":"Deutschland"}]
[{"$f":"Teilnehmerliste!A75","v":70},{"$f":"Teilnehmerliste!B75 &\" \"&Teilnehmerliste!C75","v":"Wang Jingwen"},{"$f":"Finalrunde!BU$121","v":"Spanien"},{"$f":"Finalrunde!BX$121","v":"Frankreich"},{"$f":"Finalrunde!BX$123","v":"Frankreich"}]
[{"$f":"Teilnehmerliste!A76","v":71},{"$f":"Teilnehmerliste!B76 &\" \"&Teilnehmerliste!C76","v":"Wullschleger Stefan"},{"$f":"Finalrunde!CB$121","v":"Deutschland"},{"$f":"Finalrunde!CE$121","v":"Frankreich"},{"$f":"Finalrunde!CE$123","v":"Frankreich"}]
[{"$f":"Teilnehmerliste!A77","v":72},{"$f":"Teilnehmerliste!B77 &\" \"&Teilnehmerliste!C77","v":"Zachmann Jasmine"},{"$f":"Finalrunde!CI$121","v":"Holland"},{"$f":"Finalrunde!CL$121","v":"Kroatien"},{"$f":"Finalrunde!CL$123","v":"Kroatien"}]
[{"$f":"Teilnehmerliste!A78","v":73},{"$f":"Teilnehmerliste!B78 &\" \"&Teilnehmerliste!C78","v":"Zachmann Stefan"},{"$f":"Finalrunde!CP$121","v":"Deutschland"},{"$f":"Finalrunde!CS$121","v":"Belgien"},{"$f":"Finalrunde!CS$123","v":"Deutschland"}]
[{"$f":"Teilnehmerliste!A79","v":74},{"$f":"Teilnehmerliste!B79 &\" \"&Teilnehmerliste!C79","v":"Babic Mario"},{"$f":"Finalrunde!CW$121","v":"Kroatien"},{"$f":"Finalrunde!CZ$121","v":"Frankreich"},{"$f":"Finalrunde!CZ$123","v":"Kroatien"}]
[{"$f":"Teilnehmerliste!A80","v":75},{"$f":"Teilnehmerliste!B80 &\" \"&Teilnehmerliste!C80","v":"Megdiche Nidhal"},{"$f":"Finalrunde!DD$121","v":"Deutschland"},{"$f":"Finalrunde!DG$121","v":"Frankreich"},{"$f":"Finalrunde!DG$123","v":"Frankreich"}]
[{"$f":"Teilnehmerliste!A81","v":76},{"$f":"Teilnehmerliste!B81 &\" \"&Teilnehmerliste!C81","v":"Städelin Hanspeter"},{"$f":"Finalrunde!DK$121","v":"Deutschland"},{"$f":"Finalrunde!DN$121","v":"Frankreich"},{"$f":"Finalrunde!DN$123","v":"Frankreich"}]
[{"$f":"Teilnehmerliste!A82","v":77},{"$f":"Teilnehmerliste!B82 &\" \"&Teilnehmerliste!C82","v":" "},{"$f":"Finalrunde!DR$121","v":0},{"$f":"Finalrunde!DU$121","v":0},{"$f":"Finalrunde!DU$123","v":""}]
[{"$f":"Teilnehmerliste!A83","v":78},{"$f":"Teilnehmerliste!B83 &\" \"&Teilnehmerliste!C83","v":" "},{"$f":"Finalrunde!DY$121","v":0},{"$f":"Finalrunde!EB$121","v":0},{"$f":"Finalrunde!EB$123","v":""}]
[{"$f":"Teilnehmerliste!A84","v":79},{"$f":"Teilnehmerliste!B84 &\" \"&Teilnehmerliste!C84","v":" "},{"$f":"Finalrunde!EF$121","v":0},{"$f":"Finalrunde!EI$121","v":0},{"$f":"Finalrunde!EI$123","v":""}]
[{"$f":"Teilnehmerliste!A85","v":80},{"$f":"Teilnehmerliste!B85 &\" \"&Teilnehmerliste!C85","v":" "},{"$f":"Finalrunde!EM$121","v":0},{"$f":"Finalrunde!EP$121","v":0},{"$f":"Finalrunde!EP$123","v":""}]
[{"$f":"Teilnehmerliste!A86","v":81},{"$f":"Teilnehmerliste!B86 &\" \"&Teilnehmerliste!C86","v":" "},{"$f":"Finalrunde!J$152","v":0},{"$f":"Finalrunde!M$152","v":0},{"$f":"Finalrunde!M$154","v":""}]
[{"$f":"Teilnehmerliste!A87","v":82},{"$f":"Teilnehmerliste!B87 &\" \"&Teilnehmerliste!C87","v":" "},{"$f":"Finalrunde!Q$152","v":0},{"$f":"Finalrunde!T$152","v":0},{"$f":"Finalrunde!T$154","v":""}]
[{"$f":"Teilnehmerliste!A88","v":83},{"$f":"Teilnehmerliste!B88 &\" \"&Teilnehmerliste!C88","v":" "},{"$f":"Finalrunde!X$152","v":0},{"$f":"Finalrunde!AA$152","v":0},{"$f":"Finalrunde!AA$154","v":""}]
[{"$f":"Teilnehmerliste!A89","v":84},{"$f":"Teilnehmerliste!B89 &\" \"&Teilnehmerliste!C89","v":" "},{"$f":"Finalrunde!AE$152","v":0},{"$f":"Finalrunde!AH$152","v":0},{"$f":"Finalrunde!AH$154","v":""}]
[{"$f":"Teilnehmerliste!A90","v":85},{"$f":"Teilnehmerliste!B90 &\" \"&Teilnehmerliste!C90","v":" "},{"$f":"Finalrunde!AL$152","v":0},{"$f":"Finalrunde!AO$152","v":0},{"$f":"Finalrunde!AO$154","v":""}]
[{"$f":"Teilnehmerliste!A91","v":86},{"$f":"Teilnehmerliste!B91 &\" \"&Teilnehmerliste!C91","v":" "},{"$f":"Finalrunde!AS$152","v":0},{"$f":"Finalrunde!AV$152","v":0},{"$f":"Finalrunde!AV$154","v":""}]
[{"$f":"Teilnehmerliste!A92","v":87},{"$f":"Teilnehmerliste!B92 &\" \"&Teilnehmerliste!C92","v":" "},{"$f":"Finalrunde!AZ$152","v":0},{"$f":"Finalrunde!BC$152","v":0},{"$f":"Finalrunde!BC$154","v":""}]
[{"$f":"Teilnehmerliste!A93","v":88},{"$f":"Teilnehmerliste!B93 &\" \"&Teilnehmerliste!C93","v":" "},{"$f":"Finalrunde!BG$152","v":0},{"$f":"Finalrunde!BJ$152","v":0},{"$f":"Finalrunde!BJ$154","v":""}]
[{"$f":"Teilnehmerliste!A94","v":89},{"$f":"Teilnehmerliste!B94 &\" \"&Teilnehmerliste!C94","v":" "},{"$f":"Finalrunde!BN$152","v":0},{"$f":"Finalrunde!BQ$152","v":0},{"$f":"Finalrunde!BQ$154","v":""}]
[{"$f":"Teilnehmerliste!A95","v":90},{"$f":"Teilnehmerliste!B95 &\" \"&Teilnehmerliste!C95","v":" "},{"$f":"Finalrunde!BU$152","v":0},{"$f":"Finalrunde!BX$152","v":0},{"$f":"Finalrunde!BX$154","v":""}]
[{"$f":"Teilnehmerliste!A96","v":91},{"$f":"Teilnehmerliste!B96 &\" \"&Teilnehmerliste!C96","v":" "},{"$f":"Finalrunde!CB$152","v":0},{"$f":"Finalrunde!CE$152","v":0},{"$f":"Finalrunde!CE$154","v":""}]
[{"$f":"Teilnehmerliste!A97","v":92},{"$f":"Teilnehmerliste!B97 &\" \"&Teilnehmerliste!C97","v":" "},{"$f":"Finalrunde!CI$152","v":0},{"$f":"Finalrunde!CL$152","v":0},{"$f":"Finalrunde!CL$154","v":""}]
[{"$f":"Teilnehmerliste!A98","v":93},{"$f":"Teilnehmerliste!B98 &\" \"&Teilnehmerliste!C98","v":" "},{"$f":"Finalrunde!CP$152","v":0},{"$f":"Finalrunde!CS$152","v":0},{"$f":"Finalrunde!CS$154","v":""}]
[{"$f":"Teilnehmerliste!A99","v":94},{"$f":"Teilnehmerliste!B99 &\" \"&Teilnehmerliste!C99","v":" "},{"$f":"Finalrunde!CW$152","v":0},{"$f":"Finalrunde!CZ$152","v":0},{"$f":"Finalrunde!CZ$154","v":""}]
[{"$f":"Teilnehmerliste!A100","v":95},{"$f":"Teilnehmerliste!B100 &\" \"&Teilnehmerliste!C100","v":" "},{"$f":"Finalrunde!DD$152","v":0},{"$f":"Finalrunde!DG$152","v":0},{"$f":"Finalrunde!DG$154","v":""}]
[{"$f":"Teilnehmerliste!A101","v":96},{"$f":"Teilnehmerliste!B101 &\" \"&Teilnehmerliste!C101","v":" "},{"$f":"Finalrunde!DK$152","v":0},{"$f":"Finalrunde!DN$152","v":0},{"$f":"Finalrunde!DN$154","v":""}]
[{"$f":"Teilnehmerliste!A102","v":97},{"$f":"Teilnehmerliste!B102 &\" \"&Teilnehmerliste!C102","v":" "},{"$f":"Finalrunde!DR$152","v":0},{"$f":"Finalrunde!DU$152","v":0},{"$f":"Finalrunde!DU$154","v":""}]
[{"$f":"Teilnehmerliste!A103","v":98},{"$f":"Teilnehmerliste!B103 &\" \"&Teilnehmerliste!C103","v":" "},{"$f":"Finalrunde!DY$152","v":0},{"$f":"Finalrunde!EB$152","v":0},{"$f":"Finalrunde!EB$154","v":""}]
[{"$f":"Teilnehmerliste!A104","v":99},{"$f":"Teilnehmerliste!B104 &\" \"&Teilnehmerliste!C104","v":" "},{"$f":"Finalrunde!EF$152","v":0},{"$f":"Finalrunde!EI$152","v":0},{"$f":"Finalrunde!EI$154","v":""}]
[{"$f":"Teilnehmerliste!A105","v":100},{"$f":"Teilnehmerliste!B105 &\" \"&Teilnehmerliste!C105","v":" "},{"$f":"Finalrunde!EM$152","v":0},{"$f":"Finalrunde!EP$152","v":0},{"$f":"Finalrunde!EP$154","v":""}]

{"sheet":"Stat_05710","index":8,"n_rows":106,"n_cols":6,"rows_kept":106,"cut":false,"hidden":false,"merged":[[2,2,2,5],[0,0,0,5]]}
[{"$f":"IF($B$5=\" \",\" \",Teams!$B$30)","v":"EM 2024 by Rogerinho (www.fcbouncer.ch)"}]
[]
["Wie gut wurde getippt? (alle Teilnehmer)",null,"Punkte"]
[null,null,0,5,7,10]
[{"$f":"IF($B$5=\" \",\" \",Teilnehmerliste!A6)","v":1},{"$f":"Teilnehmerliste!B6 &\" \"&Teilnehmerliste!C6","v":"Agorastos Panos"},{"$f":"IF($B$5=\" \",\" \",(COUNTIF(Vorrunde!$K$9:$K$44,0)))","v":19},{"$f":"IF($B$5=\" \",\" \",(COUNTIF(Vorrunde!$K$9:$K$44,5)))","v":6},{"$f":"IF($B$5=\" \",\" \",(COUNTIF(Vorrunde!$K$9:$K$44,7)))","v":4},{"$f":"IF($B$5=\" \",\" \",(COUNTIF(Vorrunde!$K$9:$K$44,10)))","v":7}]
[{"$f":"Teilnehmerliste!A7","v":2},{"$f":"Teilnehmerliste!B7 &\" \"&Teilnehmerliste!C7","v":"Antonelli Marco"},{"$f":"IF($B$6=\" \",\" \",(COUNTIF(Vorrunde!$O$9:$O$44,0)))","v":17},{"$f":"IF($B$6=\" \",\" \",(COUNTIF(Vorrunde!$O$9:$O$44,5)))","v":9},{"$f":"IF($B$6=\" \",\" \",(COUNTIF(Vorrunde!$O$9:$O$44,7)))","v":4},{"$f":"IF($B$6=\" \",\" \",(COUNTIF(Vorrunde!$O$9:$O$44,10)))","v":6}]
[{"$f":"Teilnehmerliste!A8","v":3},{"$f":"Teilnehmerliste!B8 &\" \"&Teilnehmerliste!C8","v":"Antonelli Ruben"},{"$f":"IF($B$7=\" \",\" \",(COUNTIF(Vorrunde!$S$9:$S$44,0)))","v":19},{"$f":"IF($B$7=\" \",\" \",(COUNTIF(Vorrunde!$S$9:$S$44,5)))","v":13},{"$f":"IF($B$7=\" \",\" \",(COUNTIF(Vorrunde!$S$9:$S$44,7)))","v":4},{"$f":"IF($B$7=\" \",\" \",(COUNTIF(Vorrunde!$S$9:$S$44,10)))","v":0}]
[{"$f":"Teilnehmerliste!A9","v":4},{"$f":"Teilnehmerliste!B9 &\" \"&Teilnehmerliste!C9","v":"Bartholet Andi"},{"$f":"IF($B$8=\" \",\" \",(COUNTIF(Vorrunde!$W$9:$W$44,0)))","v":17},{"$f":"IF($B$8=\" \",\" \",(COUNTIF(Vorrunde!$W$9:$W$44,5)))","v":11},{"$f":"IF($B$8=\" \",\" \",(COUNTIF(Vorrunde!$W$9:$W$44,7)))","v":3},{"$f":"IF($B$8=\" \",\" \",(COUNTIF(Vorrunde!$W$9:$W$44,10)))","v":5}]
[{"$f":"Teilnehmerliste!A10","v":5},{"$f":"Teilnehmerliste!B10 &\" \"&Teilnehmerliste!C10","v":"Bartholet Nott"},{"$f":"IF($B$9=\" \",\" \",(COUNTIF(Vorrunde!$AA$9:$AA$44,0)))","v":19},{"$f":"IF($B$9=\" \",\" \",(COUNTIF(Vorrunde!$AA$9:$AA$44,5)))","v":10},{"$f":"IF($B$9=\" \",\" \",(COUNTIF(Vorrunde!$AA$9:$AA$44,7)))","v":0},{"$f":"IF($B$9=\" \",\" \",(COUNTIF(Vorrunde!$AA$9:$AA$44,10)))","v":7}]
[{"$f":"Teilnehmerliste!A11","v":6},{"$f":"Teilnehmerliste!B11 &\" \"&Teilnehmerliste!C11","v":"Bartholet Philippe"},{"$f":"IF($B$10=\" \",\" \",(COUNTIF(Vorrunde!$AE$9:$AE$44,0)))","v":16},{"$f":"IF($B$10=\" \",\" \",(COUNTIF(Vorrunde!$AE$9:$AE$44,5)))","v":8},{"$f":"IF($B$10=\" \",\" \",(COUNTIF(Vorrunde!$AE$9:$AE$44,7)))","v":6},{"$f":"IF($B$10=\" \",\" \",(COUNTIF(Vorrunde!$AE$9:$AE$44,10)))","v":6}]
[{"$f":"Teilnehmerliste!A12","v":7},{"$f":"Teilnehmerliste!B12 &\" \"&Teilnehmerliste!C12","v":"Bartholet Roger"},{"$f":"IF($B$11=\" \",\" \",(COUNTIF(Vorrunde!$AI$9:$AI$44,0)))","v":16},{"$f":"IF($B$11=\" \",\" \",(COUNTIF(Vorrunde!$AI$9:$AI$44,5)))","v":10},{"$f":"IF($B$11=\" \",\" \",(COUNTIF(Vorrunde!$AI$9:$AI$44,7)))","v":6},{"$f":"IF($B$11=\" \",\" \",(COUNTIF(Vorrunde!$AI$9:$AI$44,10)))","v":4}]
[{"$f":"Teilnehmerliste!A13","v":8},{"$f":"Teilnehmerliste!B13 &\" \"&Teilnehmerliste!C13","v":"Beck Mara"},{"$f":"IF($B$12=\" \",\" \",(COUNTIF(Vorrunde!$AM$9:$AM$44,0)))","v":22},{"$f":"IF($B$12=\" \",\" \",(COUNTIF(Vorrunde!$AM$9:$AM$44,5)))","v":10},{"$f":"IF($B$12=\" \",\" \",(COUNTIF(Vorrunde!$AM$9:$AM$44,7)))","v":2},{"$f":"IF($B$12=\" \",\" \",(COUNTIF(Vorrunde!$AM$9:$AM$44,10)))","v":2}]
[{"$f":"Teilnehmerliste!A14","v":9},{"$f":"Teilnehmerliste!B14 &\" \"&Teilnehmerliste!C14","v":"Blöchlinger/Edri Lara/Yaniv"},{"$f":"IF($B$13=\" \",\" \",(COUNTIF(Vorrunde!$AQ$9:$AQ$44,0)))","v":20},{"$f":"IF($B$13=\" \",\" \",(COUNTIF(Vorrunde!$AQ$9:$AQ$44,5)))","v":8},{"$f":"IF($B$13=\" \",\" \",(COUNTIF(Vorrunde!$AQ$9:$AQ$44,7)))","v":2},{"$f":"IF($B$13=\" \",\" \",(COUNTIF(Vorrunde!$AQ$9:$AQ$44,10)))","v":6}]
[{"$f":"Teilnehmerliste!A15","v":10},{"$f":"Teilnehmerliste!B15 &\" \"&Teilnehmerliste!C15","v":"Bosshart Michael"},{"$f":"IF($B$14=\" \",\" \",(COUNTIF(Vorrunde!$AU$9:$AU$44,0)))","v":20},{"$f":"IF($B$14=\" \",\" \",(COUNTIF(Vorrunde!$AU$9:$AU$44,5)))","v":9},{"$f":"IF($B$14=\" \",\" \",(COUNTIF(Vorrunde!$AU$9:$AU$44,7)))","v":3},{"$f":"IF($B$14=\" \",\" \",(COUNTIF(Vorrunde!$AU$9:$AU$44,10)))","v":4}]
[{"$f":"Teilnehmerliste!A16","v":11},{"$f":"Teilnehmerliste!B16 &\" \"&Teilnehmerliste!C16","v":"Brunner Manuel"},{"$f":"IF($B$15=\" \",\" \",(COUNTIF(Vorrunde!$AY$9:$AY$44,0)))","v":20},{"$f":"IF($B$15=\" \",\" \",(COUNTIF(Vorrunde!$AY$9:$AY$44,5)))","v":9},{"$f":"IF($B$15=\" \",\" \",(COUNTIF(Vorrunde!$AY$9:$AY$44,7)))","v":3},{"$f":"IF($B$15=\" \",\" \",(COUNTIF(Vorrunde!$AY$9:$AY$44,10)))","v":4}]
[{"$f":"Teilnehmerliste!A17","v":12},{"$f":"Teilnehmerliste!B17 &\" \"&Teilnehmerliste!C17","v":"Brunner Nicolas"},{"$f":"IF($B$16=\" \",\" \",(COUNTIF(Vorrunde!$BC$9:$BC$44,0)))","v":20},{"$f":"IF($B$16=\" \",\" \",(COUNTIF(Vorrunde!$BC$9:$BC$44,5)))","v":8},{"$f":"IF($B$16=\" \",\" \",(COUNTIF(Vorrunde!$BC$9:$BC$44,7)))","v":4},{"$f":"IF($B$16=\" \",\" \",(COUNTIF(Vorrunde!$BC$9:$BC$44,10)))","v":4}]
[{"$f":"Teilnehmerliste!A18","v":13},{"$f":"Teilnehmerliste!B18 &\" \"&Teilnehmerliste!C18","v":"Brunner Philip"},{"$f":"IF($B$17=\" \",\" \",(COUNTIF(Vorrunde!$BG$9:$BG$44,0)))","v":17},{"$f":"IF($B$17=\" \",\" \",(COUNTIF(Vorrunde!$BG$9:$BG$44,5)))","v":7},{"$f":"IF($B$17=\" \",\" \",(COUNTIF(Vorrunde!$BG$9:$BG$44,7)))","v":3},{"$f":"IF($B$17=\" \",\" \",(COUNTIF(Vorrunde!$BG$9:$BG$44,10)))","v":9}]
[{"$f":"Teilnehmerliste!A19","v":14},{"$f":"Teilnehmerliste!B19 &\" \"&Teilnehmerliste!C19","v":"Burkart André"},{"$f":"IF($B$18=\" \",\" \",(COUNTIF(Vorrunde!$BK$9:$BK$44,0)))","v":21},{"$f":"IF($B$18=\" \",\" \",(COUNTIF(Vorrunde!$BK$9:$BK$44,5)))","v":9},{"$f":"IF($B$18=\" \",\" \",(COUNTIF(Vorrunde!$BK$9:$BK$44,7)))","v":1},{"$f":"IF($B$18=\" \",\" \",(COUNTIF(Vorrunde!$BK$9:$BK$44,10)))","v":5}]
[{"$f":"Teilnehmerliste!A20","v":15},{"$f":"Teilnehmerliste!B20 &\" \"&Teilnehmerliste!C20","v":"Burkart Louis"},{"$f":"IF($B$19=\" \",\" \",(COUNTIF(Vorrunde!$BO$9:$BO$44,0)))","v":19},{"$f":"IF($B$19=\" \",\" \",(COUNTIF(Vorrunde!$BO$9:$BO$44,5)))","v":6},{"$f":"IF($B$19=\" \",\" \",(COUNTIF(Vorrunde!$BO$9:$BO$44,7)))","v":6},{"$f":"IF($B$19=\" \",\" \",(COUNTIF(Vorrunde!$BO$9:$BO$44,10)))","v":5}]
[{"$f":"Teilnehmerliste!A21","v":16},{"$f":"Teilnehmerliste!B21 &\" \"&Teilnehmerliste!C21","v":"Cadonau Daniel"},{"$f":"IF($B$20=\" \",\" \",(COUNTIF(Vorrunde!$BS$9:$BS$44,0)))","v":19},{"$f":"IF($B$20=\" \",\" \",(COUNTIF(Vorrunde!$BS$9:$BS$44,5)))","v":7},{"$f":"IF($B$20=\" \",\" \",(COUNTIF(Vorrunde!$BS$9:$BS$44,7)))","v":6},{"$f":"IF($B$20=\" \",\" \",(COUNTIF(Vorrunde!$BS$9:$BS$44,10)))","v":4}]
[{"$f":"Teilnehmerliste!A22","v":17},{"$f":"Teilnehmerliste!B22 &\" \"&Teilnehmerliste!C22","v":"Cadonau Deliz"},{"$f":"IF($B$21=\" \",\" \",(COUNTIF(Vorrunde!$BW$9:$BW$44,0)))","v":21},{"$f":"IF($B$21=\" \",\" \",(COUNTIF(Vorrunde!$BW$9:$BW$44,5)))","v":8},{"$f":"IF($B$21=\" \",\" \",(COUNTIF(Vorrunde!$BW$9:$BW$44,7)))","v":3},{"$f":"IF($B$21=\" \",\" \",(COUNTIF(Vorrunde!$BW$9:$BW$44,10)))","v":4}]
[{"$f":"Teilnehmerliste!A23","v":18},{"$f":"Teilnehmerliste!B23 &\" \"&Teilnehmerliste!C23","v":"Cadonau Florian"},{"$f":"IF($B$22=\" \",\" \",(COUNTIF(Vorrunde!$CA$9:$CA$44,0)))","v":17},{"$f":"IF($B$22=\" \",\" \",(COUNTIF(Vorrunde!$CA$9:$CA$44,5)))","v":10},{"$f":"IF($B$22=\" \",\" \",(COUNTIF(Vorrunde!$CA$9:$CA$44,7)))","v":5},{"$f":"IF($B$22=\" \",\" \",(COUNTIF(Vorrunde!$CA$9:$CA$44,10)))","v":4}]
[{"$f":"Teilnehmerliste!A24","v":19},{"$f":"Teilnehmerliste!B24 &\" \"&Teilnehmerliste!C24","v":"Christiansen Olo"},{"$f":"IF($B$23=\" \",\" \",(COUNTIF(Vorrunde!$CE$9:$CE$44,0)))","v":21},{"$f":"IF($B$23=\" \",\" \",(COUNTIF(Vorrunde!$CE$9:$CE$44,5)))","v":4},{"$f":"IF($B$23=\" \",\" \",(COUNTIF(Vorrunde!$CE$9:$CE$44,7)))","v":7},{"$f":"IF($B$23=\" \",\" \",(COUNTIF(Vorrunde!$CE$9:$CE$44,10)))","v":4}]
[{"$f":"Teilnehmerliste!A25","v":20},{"$f":"Teilnehmerliste!B25 &\" \"&Teilnehmerliste!C25","v":"Da Costa Leonardo"},{"$f":"IF($B$24=\" \",\" \",(COUNTIF(Vorrunde!$CI$9:$CI$44,0)))","v":19},{"$f":"IF($B$24=\" \",\" \",(COUNTIF(Vorrunde!$CI$9:$CI$44,5)))","v":9},{"$f":"IF($B$24=\" \",\" \",(COUNTIF(Vorrunde!$CI$9:$CI$44,7)))","v":4},{"$f":"IF($B$24=\" \",\" \",(COUNTIF(Vorrunde!$CI$9:$CI$44,10)))","v":4}]
[{"$f":"Teilnehmerliste!A26","v":21},{"$f":"Teilnehmerliste!B26 &\" \"&Teilnehmerliste!C26","v":"D'Acunto Lisa"},{"$f":"IF($B$25=\" \",\" \",(COUNTIF(Vorrunde!$CM$9:$CM$44,0)))","v":13},{"$f":"IF($B$25=\" \",\" \",(COUNTIF(Vorrunde!$CM$9:$CM$44,5)))","v":10},{"$f":"IF($B$25=\" \",\" \",(COUNTIF(Vorrunde!$CM$9:$CM$44,7)))","v":5},{"$f":"IF($B$25=\" \",\" \",(COUNTIF(Vorrunde!$CM$9:$CM$44,10)))","v":8}]
[{"$f":"Teilnehmerliste!A27","v":22},{"$f":"Teilnehmerliste!B27 &\" \"&Teilnehmerliste!C27","v":"D'Acunto Niva"},{"$f":"IF($B$26=\" \",\" \",(COUNTIF(Vorrunde!$CQ$9:$CQ$44,0)))","v":20},{"$f":"IF($B$26=\" \",\" \",(COUNTIF(Vorrunde!$CQ$9:$CQ$44,5)))","v":8},{"$f":"IF($B$26=\" \",\" \",(COUNTIF(Vorrunde!$CQ$9:$CQ$44,7)))","v":4},{"$f":"IF($B$26=\" \",\" \",(COUNTIF(Vorrunde!$CQ$9:$CQ$44,10)))","v":4}]
[{"$f":"Teilnehmerliste!A28","v":23},{"$f":"Teilnehmerliste!B28 &\" \"&Teilnehmerliste!C28","v":"D'Acunto Vinci"},{"$f":"IF($B$27=\" \",\" \",(COUNTIF(Vorrunde!$CU$9:$CU$44,0)))","v":19},{"$f":"IF($B$27=\" \",\" \",(COUNTIF(Vorrunde!$CU$9:$CU$44,5)))","v":7},{"$f":"IF($B$27=\" \",\" \",(COUNTIF(Vorrunde!$CU$9:$CU$44,7)))","v":6},{"$f":"IF($B$27=\" \",\" \",(COUNTIF(Vorrunde!$CU$9:$CU$44,10)))","v":4}]
[{"$f":"Teilnehmerliste!A29","v":24},{"$f":"Teilnehmerliste!B29 &\" \"&Teilnehmerliste!C29","v":"Dukic Goran"},{"$f":"IF($B$28=\" \",\" \",(COUNTIF(Vorrunde!$CY$9:$CY$44,0)))","v":20},{"$f":"IF($B$28=\" \",\" \",(COUNTIF(Vorrunde!$CY$9:$CY$44,5)))","v":11},{"$f":"IF($B$28=\" \",\" \",(COUNTIF(Vorrunde!$CY$9:$CY$44,7)))","v":2},{"$f":"IF($B$28=\" \",\" \",(COUNTIF(Vorrunde!$CY$9:$CY$44,10)))","v":3}]
[{"$f":"Teilnehmerliste!A30","v":25},{"$f":"Teilnehmerliste!B30 &\" \"&Teilnehmerliste!C30","v":"Duvnjak Dino"},{"$f":"IF($B$29=\" \",\" \",(COUNTIF(Vorrunde!$DC$9:$DC$44,0)))","v":17},{"$f":"IF($B$29=\" \",\" \",(COUNTIF(Vorrunde!$DC$9:$DC$44,5)))","v":5},{"$f":"IF($B$29=\" \",\" \",(COUNTIF(Vorrunde!$DC$9:$DC$44,7)))","v":8},{"$f":"IF($B$29=\" \",\" \",(COUNTIF(Vorrunde!$DC$9:$DC$44,10)))","v":6}]
[{"$f":"Teilnehmerliste!A31","v":26},{"$f":"Teilnehmerliste!B31 &\" \"&Teilnehmerliste!C31","v":"Figaro Marlon"},{"$f":"IF($B$30=\" \",\" \",(COUNTIF(Vorrunde!$DG$9:$DG$44,0)))","v":24},{"$f":"IF($B$30=\" \",\" \",(COUNTIF(Vorrunde!$DG$9:$DG$44,5)))","v":9},{"$f":"IF($B$30=\" \",\" \",(COUNTIF(Vorrunde!$DG$9:$DG$44,7)))","v":0},{"$f":"IF($B$30=\" \",\" \",(COUNTIF(Vorrunde!$DG$9:$DG$44,10)))","v":3}]
[{"$f":"Teilnehmerliste!A32","v":27},{"$f":"Teilnehmerliste!B32 &\" \"&Teilnehmerliste!C32","v":"Foscaldi Maurizio"},{"$f":"IF($B$31=\" \",\" \",(COUNTIF(Vorrunde!$DK$9:$DK$44,0)))","v":18},{"$f":"IF($B$31=\" \",\" \",(COUNTIF(Vorrunde!$DK$9:$DK$44,5)))","v":8},{"$f":"IF($B$31=\" \",\" \",(COUNTIF(Vorrunde!$DK$9:$DK$44,7)))","v":4},{"$f":"IF($B$31=\" \",\" \",(COUNTIF(Vorrunde!$DK$9:$DK$44,10)))","v":6}]
[{"$f":"Teilnehmerliste!A33","v":28},{"$f":"Teilnehmerliste!B33 &\" \"&Teilnehmerliste!C33","v":"Giuralarocca Roberto"},{"$f":"IF($B$32=\" \",\" \",(COUNTIF(Vorrunde!$DO$9:$DO$44,0)))","v":19},{"$f":"IF($B$32=\" \",\" \",(COUNTIF(Vorrunde!$DO$9:$DO$44,5)))","v":8},{"$f":"IF($B$32=\" \",\" \",(COUNTIF(Vorrunde!$DO$9:$DO$44,7)))","v":7},{"$f":"IF($B$32=\" \",\" \",(COUNTIF(Vorrunde!$DO$9:$DO$44,10)))","v":2}]
[{"$f":"Teilnehmerliste!A34","v":29},{"$f":"Teilnehmerliste!B34 &\" \"&Teilnehmerliste!C34","v":"Gomes Rui"},{"$f":"IF($B$33=\" \",\" \",(COUNTIF(Vorrunde!$DS$9:$DS$44,0)))","v":22},{"$f":"IF($B$33=\" \",\" \",(COUNTIF(Vorrunde!$DS$9:$DS$44,5)))","v":5},{"$f":"IF($B$33=\" \",\" \",(COUNTIF(Vorrunde!$DS$9:$DS$44,7)))","v":4},{"$f":"IF($B$33=\" \",\" \",(COUNTIF(Vorrunde!$DS$9:$DS$44,10)))","v":5}]
[{"$f":"Teilnehmerliste!A35","v":30},{"$f":"Teilnehmerliste!B35 &\" \"&Teilnehmerliste!C35","v":"Grosse Laurent"},{"$f":"IF($B$34=\" \",\" \",(COUNTIF(Vorrunde!$DW$9:$DW$44,0)))","v":18},{"$f":"IF($B$34=\" \",\" \",(COUNTIF(Vorrunde!$DW$9:$DW$44,5)))","v":8},{"$f":"IF($B$34=\" \",\" \",(COUNTIF(Vorrunde!$DW$9:$DW$44,7)))","v":5},{"$f":"IF($B$34=\" \",\" \",(COUNTIF(Vorrunde!$DW$9:$DW$44,10)))","v":5}]
[{"$f":"Teilnehmerliste!A36","v":31},{"$f":"Teilnehmerliste!B36 &\" \"&Teilnehmerliste!C36","v":"Gygli Gregory"},{"$f":"IF($B$35=\" \",\" \",(COUNTIF(Vorrunde!$EA$9:$EA$44,0)))","v":20},{"$f":"IF($B$35=\" \",\" \",(COUNTIF(Vorrunde!$EA$9:$EA$44,5)))","v":10},{"$f":"IF($B$35=\" \",\" \",(COUNTIF(Vorrunde!$EA$9:$EA$44,7)))","v":5},{"$f":"IF($B$35=\" \",\" \",(COUNTIF(Vorrunde!$EA$9:$EA$44,10)))","v":1}]
[{"$f":"Teilnehmerliste!A37","v":32},{"$f":"Teilnehmerliste!B37 &\" \"&Teilnehmerliste!C37","v":"Gygli Reto"},{"$f":"IF($B$36=\" \",\" \",(COUNTIF(Vorrunde!$EE$9:$EE$44,0)))","v":19},{"$f":"IF($B$36=\" \",\" \",(COUNTIF(Vorrunde!$EE$9:$EE$44,5)))","v":7},{"$f":"IF($B$36=\" \",\" \",(COUNTIF(Vorrunde!$EE$9:$EE$44,7)))","v":6},{"$f":"IF($B$36=\" \",\" \",(COUNTIF(Vorrunde!$EE$9:$EE$44,10)))","v":4}]
[{"$f":"Teilnehmerliste!A38","v":33},{"$f":"Teilnehmerliste!B38 &\" \"&Teilnehmerliste!C38","v":"Gygli Sarina"},{"$f":"IF($B$37=\" \",\" \",(COUNTIF(Vorrunde!$EI$9:$EI$44,0)))","v":19},{"$f":"IF($B$37=\" \",\" \",(COUNTIF(Vorrunde!$EI$9:$EI$44,5)))","v":9},{"$f":"IF($B$37=\" \",\" \",(COUNTIF(Vorrunde!$EI$9:$EI$44,7)))","v":3},{"$f":"IF($B$37=\" \",\" \",(COUNTIF(Vorrunde!$EI$9:$EI$44,10)))","v":5}]
[{"$f":"Teilnehmerliste!A39","v":34},{"$f":"Teilnehmerliste!B39 &\" \"&Teilnehmerliste!C39","v":"Gygli Stefan"},{"$f":"IF($B$38=\" \",\" \",(COUNTIF(Vorrunde!$EM$9:$EM$44,0)))","v":16},{"$f":"IF($B$38=\" \",\" \",(COUNTIF(Vorrunde!$EM$9:$EM$44,5)))","v":10},{"$f":"IF($B$38=\" \",\" \",(COUNTIF(Vorrunde!$EM$9:$EM$44,7)))","v":6},{"$f":"IF($B$38=\" \",\" \",(COUNTIF(Vorrunde!$EM$9:$EM$44,10)))","v":4}]
[{"$f":"Teilnehmerliste!A40","v":35},{"$f":"Teilnehmerliste!B40 &\" \"&Teilnehmerliste!C40","v":"Gygli Timothy"},{"$f":"IF($B$39=\" \",\" \",(COUNTIF(Vorrunde!$EQ$9:$EQ$44,0)))","v":16},{"$f":"IF($B$39=\" \",\" \",(COUNTIF(Vorrunde!$EQ$9:$EQ$44,5)))","v":12},{"$f":"IF($B$39=\" \",\" \",(COUNTIF(Vorrunde!$EQ$9:$EQ$44,7)))","v":1},{"$f":"IF($B$39=\" \",\" \",(COUNTIF(Vorrunde!$EQ$9:$EQ$44,10)))","v":7}]
[{"$f":"Teilnehmerliste!A41","v":36},{"$f":"Teilnehmerliste!B41 &\" \"&Teilnehmerliste!C41","v":"Haab Florian"},{"$f":"IF($B$40=\" \",\" \",(COUNTIF(Vorrunde!$EU$9:$EU$44,0)))","v":18},{"$f":"IF($B$40=\" \",\" \",(COUNTIF(Vorrunde!$EU$9:$EU$44,5)))","v":8},{"$f":"IF($B$40=\" \",\" \",(COUNTIF(Vorrunde!$EU$9:$EU$44,7)))","v":4},{"$f":"IF($B$40=\" \",\" \",(COUNTIF(Vorrunde!$EU$9:$EU$44,10)))","v":6}]
[{"$f":"Teilnehmerliste!A42","v":37},{"$f":"Teilnehmerliste!B42 &\" \"&Teilnehmerliste!C42","v":"Handanagic Djuma"},{"$f":"IF($B$41=\" \",\" \",(COUNTIF(Vorrunde!$EY$9:$EY$44,0)))","v":19},{"$f":"IF($B$41=\" \",\" \",(COUNTIF(Vorrunde!$EY$9:$EY$44,5)))","v":8},{"$f":"IF($B$41=\" \",\" \",(COUNTIF(Vorrunde!$EY$9:$EY$44,7)))","v":6},{"$f":"IF($B$41=\" \",\" \",(COUNTIF(Vorrunde!$EY$9:$EY$44,10)))","v":3}]
[{"$f":"Teilnehmerliste!A43","v":38},{"$f":"Teilnehmerliste!B43 &\" \"&Teilnehmerliste!C43","v":"Isenschmid Agnes"},{"$f":"IF($B$42=\" \",\" \",(COUNTIF(Vorrunde!$FC$9:$FC$44,0)))","v":18},{"$f":"IF($B$42=\" \",\" \",(COUNTIF(Vorrunde!$FC$9:$FC$44,5)))","v":7},{"$f":"IF($B$42=\" \",\" \",(COUNTIF(Vorrunde!$FC$9:$FC$44,7)))","v":3},{"$f":"IF($B$42=\" \",\" \",(COUNTIF(Vorrunde!$FC$9:$FC$44,10)))","v":8}]
[{"$f":"Teilnehmerliste!A44","v":39},{"$f":"Teilnehmerliste!B44 &\" \"&Teilnehmerliste!C44","v":"Isenschmid Andreas"},{"$f":"IF($B$43=\" \",\" \",(COUNTIF(Vorrunde!$FG$9:$FG$44,0)))","v":17},{"$f":"IF($B$43=\" \",\" \",(COUNTIF(Vorrunde!$FG$9:$FG$44,5)))","v":10},{"$f":"IF($B$43=\" \",\" \",(COUNTIF(Vorrunde!$FG$9:$FG$44,7)))","v":3},{"$f":"IF($B$43=\" \",\" \",(COUNTIF(Vorrunde!$FG$9:$FG$44,10)))","v":6}]
[{"$f":"Teilnehmerliste!A45","v":40},{"$f":"Teilnehmerliste!B45 &\" \"&Teilnehmerliste!C45","v":"Isenschmid Michi"},{"$f":"IF($B$44=\" \",\" \",(COUNTIF(Vorrunde!$FK$9:$FK$44,0)))","v":18},{"$f":"IF($B$44=\" \",\" \",(COUNTIF(Vorrunde!$FK$9:$FK$44,5)))","v":8},{"$f":"IF($B$44=\" \",\" \",(COUNTIF(Vorrunde!$FK$9:$FK$44,7)))","v":5},{"$f":"IF($B$44=\" \",\" \",(COUNTIF(Vorrunde!$FK$9:$FK$44,10)))","v":5}]
[{"$f":"Teilnehmerliste!A46","v":41},{"$f":"Teilnehmerliste!B46 &\" \"&Teilnehmerliste!C46","v":"Jones Aiden"},{"$f":"IF($B$45=\" \",\" \",(COUNTIF(Vorrunde!$FO$9:$FO$44,0)))","v":20},{"$f":"IF($B$45=\" \",\" \",(COUNTIF(Vorrunde!$FO$9:$FO$44,5)))","v":8},{"$f":"IF($B$45=\" \",\" \",(COUNTIF(Vorrunde!$FO$9:$FO$44,7)))","v":4},{"$f":"IF($B$45=\" \",\" \",(COUNTIF(Vorrunde!$FO$9:$FO$44,10)))","v":4}]
[{"$f":"Teilnehmerliste!A47","v":42},{"$f":"Teilnehmerliste!B47 &\" \"&Teilnehmerliste!C47","v":"Kalinci Murat"},{"$f":"IF($B$46=\" \",\" \",(COUNTIF(Vorrunde!$FS$9:$FS$44,0)))","v":19},{"$f":"IF($B$46=\" \",\" \",(COUNTIF(Vorrunde!$FS$9:$FS$44,5)))","v":8},{"$f":"IF($B$46=\" \",\" \",(COUNTIF(Vorrunde!$FS$9:$FS$44,7)))","v":5},{"$f":"IF($B$46=\" \",\" \",(COUNTIF(Vorrunde!$FS$9:$FS$44,10)))","v":4}]
[{"$f":"Teilnehmerliste!A48","v":43},{"$f":"Teilnehmerliste!B48 &\" \"&Teilnehmerliste!C48","v":"Keller Pascal"},{"$f":"IF($B$47=\" \",\" \",(COUNTIF(Vorrunde!$FW$9:$FW$44,0)))","v":15},{"$f":"IF($B$47=\" \",\" \",(COUNTIF(Vorrunde!$FW$9:$FW$44,5)))","v":10},{"$f":"IF($B$47=\" \",\" \",(COUNTIF(Vorrunde!$FW$9:$FW$44,7)))","v":7},{"$f":"IF($B$47=\" \",\" \",(COUNTIF(Vorrunde!$FW$9:$FW$44,10)))","v":4}]
[{"$f":"Teilnehmerliste!A49","v":44},{"$f":"Teilnehmerliste!B49 &\" \"&Teilnehmerliste!C49","v":"Lanz André"},{"$f":"IF($B$48=\" \",\" \",(COUNTIF(Vorrunde!$GA$9:$GA$44,0)))","v":23},{"$f":"IF($B$48=\" \",\" \",(COUNTIF(Vorrunde!$GA$9:$GA$44,5)))","v":6},{"$f":"IF($B$48=\" \",\" \",(COUNTIF(Vorrunde!$GA$9:$GA$44,7)))","v":4},{"$f":"IF($B$48=\" \",\" \",(COUNTIF(Vorrunde!$GA$9:$GA$44,10)))","v":3}]
[{"$f":"Teilnehmerliste!A50","v":45},{"$f":"Teilnehmerliste!B50 &\" \"&Teilnehmerliste!C50","v":"Lischer Franz"},{"$f":"IF($B$49=\" \",\" \",(COUNTIF(Vorrunde!$GE$9:$GE$44,0)))","v":18},{"$f":"IF($B$49=\" \",\" \",(COUNTIF(Vorrunde!$GE$9:$GE$44,5)))","v":13},{"$f":"IF($B$49=\" \",\" \",(COUNTIF(Vorrunde!$GE$9:$GE$44,7)))","v":3},{"$f":"IF($B$49=\" \",\" \",(COUNTIF(Vorrunde!$GE$9:$GE$44,10)))","v":2}]
[{"$f":"Teilnehmerliste!A51","v":46},{"$f":"Teilnehmerliste!B51 &\" \"&Teilnehmerliste!C51","v":"Lütolf Marc"},{"$f":"IF($B$50=\" \",\" \",(COUNTIF(Vorrunde!$GI$9:$GI$44,0)))","v":21},{"$f":"IF($B$50=\" \",\" \",(COUNTIF(Vorrunde!$GI$9:$GI$44,5)))","v":8},{"$f":"IF($B$50=\" \",\" \",(COUNTIF(Vorrunde!$GI$9:$GI$44,7)))","v":2},{"$f":"IF($B$50=\" \",\" \",(COUNTIF(Vorrunde!$GI$9:$GI$44,10)))","v":5}]
[{"$f":"Teilnehmerliste!A52","v":47},{"$f":"Teilnehmerliste!B52 &\" \"&Teilnehmerliste!C52","v":"Marini Mauro"},{"$f":"IF($B$51=\" \",\" \",(COUNTIF(Vorrunde!$GM$9:$GM$44,0)))","v":21},{"$f":"IF($B$51=\" \",\" \",(COUNTIF(Vorrunde!$GM$9:$GM$44,5)))","v":6},{"$f":"IF($B$51=\" \",\" \",(COUNTIF(Vorrunde!$GM$9:$GM$44,7)))","v":6},{"$f":"IF($B$51=\" \",\" \",(COUNTIF(Vorrunde!$GM$9:$GM$44,10)))","v":3}]
[{"$f":"Teilnehmerliste!A53","v":48},{"$f":"Teilnehmerliste!B53 &\" \"&Teilnehmerliste!C53","v":"Marthaler Martin"},{"$f":"IF($B$52=\" \",\" \",(COUNTIF(Vorrunde!$GQ$9:$GQ$44,0)))","v":19},{"$f":"IF($B$52=\" \",\" \",(COUNTIF(Vorrunde!$GQ$9:$GQ$44,5)))","v":11},{"$f":"IF($B$52=\" \",\" \",(COUNTIF(Vorrunde!$GQ$9:$GQ$44,7)))","v":1},{"$f":"IF($B$52=\" \",\" \",(COUNTIF(Vorrunde!$GQ$9:$GQ$44,10)))","v":5}]
[{"$f":"Teilnehmerliste!A54","v":49},{"$f":"Teilnehmerliste!B54 &\" \"&Teilnehmerliste!C54","v":"Oliveira Telmo"},{"$f":"IF($B$53=\" \",\" \",(COUNTIF(Vorrunde!$GU$9:$GU$44,0)))","v":20},{"$f":"IF($B$53=\" \",\" \",(COUNTIF(Vorrunde!$GU$9:$GU$44,5)))","v":11},{"$f":"IF($B$53=\" \",\" \",(COUNTIF(Vorrunde!$GU$9:$GU$44,7)))","v":2},{"$f":"IF($B$53=\" \",\" \",(COUNTIF(Vorrunde!$GU$9:$GU$44,10)))","v":3}]
[{"$f":"Teilnehmerliste!A55","v":50},{"$f":"Teilnehmerliste!B55 &\" \"&Teilnehmerliste!C55","v":"Palma Luigi"},{"$f":"IF($B$54=\" \",\" \",(COUNTIF(Vorrunde!$GY$9:$GY$44,0)))","v":26},{"$f":"IF($B$54=\" \",\" \",(COUNTIF(Vorrunde!$GY$9:$GY$44,5)))","v":5},{"$f":"IF($B$54=\" \",\" \",(COUNTIF(Vorrunde!$GY$9:$GY$44,7)))","v":2},{"$f":"IF($B$54=\" \",\" \",(COUNTIF(Vorrunde!$GY$9:$GY$44,10)))","v":3}]
[{"$f":"Teilnehmerliste!A56","v":51},{"$f":"Teilnehmerliste!B56 &\" \"&Teilnehmerliste!C56","v":"Pek Lechena"},{"$f":"IF($B$55=\" \",\" \",(COUNTIF(Vorrunde!$K$54:$K$89,0)))","v":20},{"$f":"IF($B$55=\" \",\" \",(COUNTIF(Vorrunde!$K$54:$K$89,5)))","v":10},{"$f":"IF($B$55=\" \",\" \",(COUNTIF(Vorrunde!$K$54:$K$89,7)))","v":5},{"$f":"IF($B$55=\" \",\" \",(COUNTIF(Vorrunde!$K$54:$K$89,10)))","v":1}]
[{"$f":"Teilnehmerliste!A57","v":52},{"$f":"Teilnehmerliste!B57 &\" \"&Teilnehmerliste!C57","v":"Pietzke Jannis"},{"$f":"IF($B$56=\" \",\" \",(COUNTIF(Vorrunde!$O$54:$O$89,0)))","v":19},{"$f":"IF($B$56=\" \",\" \",(COUNTIF(Vorrunde!$O$54:$O$89,5)))","v":11},{"$f":"IF($B$56=\" \",\" \",(COUNTIF(Vorrunde!$O$54:$O$89,7)))","v":2},{"$f":"IF($B$56=\" \",\" \",(COUNTIF(Vorrunde!$O$54:$O$89,10)))","v":4}]
[{"$f":"Teilnehmerliste!A58","v":53},{"$f":"Teilnehmerliste!B58 &\" \"&Teilnehmerliste!C58","v":"Rauscher Petra"},{"$f":"IF($B$57=\" \",\" \",(COUNTIF(Vorrunde!$S$54:$S$89,0)))","v":19},{"$f":"IF($B$57=\" \",\" \",(COUNTIF(Vorrunde!$S$54:$S$89,5)))","v":6},{"$f":"IF($B$57=\" \",\" \",(COUNTIF(Vorrunde!$S$54:$S$89,7)))","v":5},{"$f":"IF($B$57=\" \",\" \",(COUNTIF(Vorrunde!$S$54:$S$89,10)))","v":6}]
[{"$f":"Teilnehmerliste!A59","v":54},{"$f":"Teilnehmerliste!B59 &\" \"&Teilnehmerliste!C59","v":"Rohner Martin"},{"$f":"IF($B$58=\" \",\" \",(COUNTIF(Vorrunde!$W$54:$W$89,0)))","v":18},{"$f":"IF($B$58=\" \",\" \",(COUNTIF(Vorrunde!$W$54:$W$89,5)))","v":8},{"$f":"IF($B$58=\" \",\" \",(COUNTIF(Vorrunde!$W$54:$W$89,7)))","v":4},{"$f":"IF($B$58=\" \",\" \",(COUNTIF(Vorrunde!$W$54:$W$89,10)))","v":6}]
[{"$f":"Teilnehmerliste!A60","v":55},{"$f":"Teilnehmerliste!B60 &\" \"&Teilnehmerliste!C60","v":"Rüegg Lynn"},{"$f":"IF($B$59=\" \",\" \",(COUNTIF(Vorrunde!$AA$54:$AA$89,0)))","v":18},{"$f":"IF($B$59=\" \",\" \",(COUNTIF(Vorrunde!$AA$54:$AA$89,5)))","v":6},{"$f":"IF($B$59=\" \",\" \",(COUNTIF(Vorrunde!$AA$54:$AA$89,7)))","v":11},{"$f":"IF($B$59=\" \",\" \",(COUNTIF(Vorrunde!$AA$54:$AA$89,10)))","v":1}]
[{"$f":"Teilnehmerliste!A61","v":56},{"$f":"Teilnehmerliste!B61 &\" \"&Teilnehmerliste!C61","v":"Rüegg Michael"},{"$f":"IF($B$60=\" \",\" \",(COUNTIF(Vorrunde!$AE$54:$AE$89,0)))","v":20},{"$f":"IF($B$60=\" \",\" \",(COUNTIF(Vorrunde!$AE$54:$AE$89,5)))","v":7},{"$f":"IF($B$60=\" \",\" \",(COUNTIF(Vorrunde!$AE$54:$AE$89,7)))","v":7},{"$f":"IF($B$60=\" \",\" \",(COUNTIF(Vorrunde!$AE$54:$AE$89,10)))","v":2}]
[{"$f":"Teilnehmerliste!A62","v":57},{"$f":"Teilnehmerliste!B62 &\" \"&Teilnehmerliste!C62","v":"Rüegg Sabine"},{"$f":"IF($B$61=\" \",\" \",(COUNTIF(Vorrunde!$AI$54:$AI$89,0)))","v":22},{"$f":"IF($B$61=\" \",\" \",(COUNTIF(Vorrunde!$AI$54:$AI$89,5)))","v":10},{"$f":"IF($B$61=\" \",\" \",(COUNTIF(Vorrunde!$AI$54:$AI$89,7)))","v":1},{"$f":"IF($B$61=\" \",\" \",(COUNTIF(Vorrunde!$AI$54:$AI$89,10)))","v":3}]
[{"$f":"Teilnehmerliste!A63","v":58},{"$f":"Teilnehmerliste!B63 &\" \"&Teilnehmerliste!C63","v":"Schommarz Erich"},{"$f":"IF($B$62=\" \",\" \",(COUNTIF(Vorrunde!$AM$54:$AM$89,0)))","v":19},{"$f":"IF($B$62=\" \",\" \",(COUNTIF(Vorrunde!$AM$54:$AM$89,5)))","v":11},{"$f":"IF($B$62=\" \",\" \",(COUNTIF(Vorrunde!$AM$54:$AM$89,7)))","v":3},{"$f":"IF($B$62=\" \",\" \",(COUNTIF(Vorrunde!$AM$54:$AM$89,10)))","v":3}]
[{"$f":"Teilnehmerliste!A64","v":59},{"$f":"Teilnehmerliste!B64 &\" \"&Teilnehmerliste!C64","v":"Schuster Ralph"},{"$f":"IF($B$63=\" \",\" \",(COUNTIF(Vorrunde!$AQ$54:$AQ$89,0)))","v":20},{"$f":"IF($B$63=\" \",\" \",(COUNTIF(Vorrunde!$AQ$54:$AQ$89,5)))","v":11},{"$f":"IF($B$63=\" \",\" \",(COUNTIF(Vorrunde!$AQ$54:$AQ$89,7)))","v":4},{"$f":"IF($B$63=\" \",\" \",(COUNTIF(Vorrunde!$AQ$54:$AQ$89,10)))","v":1}]
[{"$f":"Teilnehmerliste!A65","v":60},{"$f":"Teilnehmerliste!B65 &\" \"&Teilnehmerliste!C65","v":"Schwitter Corinne"},{"$f":"IF($B$64=\" \",\" \",(COUNTIF(Vorrunde!$AU$54:$AU$89,0)))","v":21},{"$f":"IF($B$64=\" \",\" \",(COUNTIF(Vorrunde!$AU$54:$AU$89,5)))","v":9},{"$f":"IF($B$64=\" \",\" \",(COUNTIF(Vorrunde!$AU$54:$AU$89,7)))","v":6},{"$f":"IF($B$64=\" \",\" \",(COUNTIF(Vorrunde!$AU$54:$AU$89,10)))","v":0}]
[{"$f":"Teilnehmerliste!A66","v":61},{"$f":"Teilnehmerliste!B66 &\" \"&Teilnehmerliste!C66","v":"Silva Bruno"},{"$f":"IF($B$65=\" \",\" \",(COUNTIF(Vorrunde!$AY$54:$AY$89,0)))","v":16},{"$f":"IF($B$65=\" \",\" \",(COUNTIF(Vorrunde!$AY$54:$AY$89,5)))","v":8},{"$f":"IF($B$65=\" \",\" \",(COUNTIF(Vorrunde!$AY$54:$AY$89,7)))","v":6},{"$f":"IF($B$65=\" \",\" \",(COUNTIF(Vorrunde!$AY$54:$AY$89,10)))","v":6}]
[{"$f":"Teilnehmerliste!A67","v":62},{"$f":"Teilnehmerliste!B67 &\" \"&Teilnehmerliste!C67","v":"Sotelo Yermany"},{"$f":"IF($B$66=\" \",\" \",(COUNTIF(Vorrunde!$BC$54:$BC$89,0)))","v":23},{"$f":"IF($B$66=\" \",\" \",(COUNTIF(Vorrunde!$BC$54:$BC$89,5)))","v":5},{"$f":"IF($B$66=\" \",\" \",(COUNTIF(Vorrunde!$BC$54:$BC$89,7)))","v":2},{"$f":"IF($B$66=\" \",\" \",(COUNTIF(Vorrunde!$BC$54:$BC$89,10)))","v":6}]
[{"$f":"Teilnehmerliste!A68","v":63},{"$f":"Teilnehmerliste!B68 &\" \"&Teilnehmerliste!C68","v":"Thormann Armando"},{"$f":"IF($B$67=\" \",\" \",(COUNTIF(Vorrunde!$BG$54:$BG$89,0)))","v":20},{"$f":"IF($B$67=\" \",\" \",(COUNTIF(Vorrunde!$BG$54:$BG$89,5)))","v":6},{"$f":"IF($B$67=\" \",\" \",(COUNTIF(Vorrunde!$BG$54:$BG$89,7)))","v":3},{"$f":"IF($B$67=\" \",\" \",(COUNTIF(Vorrunde!$BG$54:$BG$89,10)))","v":7}]
[{"$f":"Teilnehmerliste!A69","v":64},{"$f":"Teilnehmerliste!B69 &\" \"&Teilnehmerliste!C69","v":"Thormann Julia"},{"$f":"IF($B$68=\" \",\" \",(COUNTIF(Vorrunde!$BK$54:$BK$89,0)))","v":16},{"$f":"IF($B$68=\" \",\" \",(COUNTIF(Vorrunde!$BK$54:$BK$89,5)))","v":6},{"$f":"IF($B$68=\" \",\" \",(COUNTIF(Vorrunde!$BK$54:$BK$89,7)))","v":5},{"$f":"IF($B$68=\" \",\" \",(COUNTIF(Vorrunde!$BK$54:$BK$89,10)))","v":9}]
[{"$f":"Teilnehmerliste!A70","v":65},{"$f":"Teilnehmerliste!B70 &\" \"&Teilnehmerliste!C70","v":"Treichler Lea"},{"$f":"IF($B$69=\" \",\" \",(COUNTIF(Vorrunde!$BO$54:$BO$89,0)))","v":17},{"$f":"IF($B$69=\" \",\" \",(COUNTIF(Vorrunde!$BO$54:$BO$89,5)))","v":8},{"$f":"IF($B$69=\" \",\" \",(COUNTIF(Vorrunde!$BO$54:$BO$89,7)))","v":4},{"$f":"IF($B$69=\" \",\" \",(COUNTIF(Vorrunde!$BO$54:$BO$89,10)))","v":7}]
[{"$f":"Teilnehmerliste!A71","v":66},{"$f":"Teilnehmerliste!B71 &\" \"&Teilnehmerliste!C71","v":"Treichler Reto"},{"$f":"IF($B$70=\" \",\" \",(COUNTIF(Vorrunde!$BS$54:$BS$89,0)))","v":19},{"$f":"IF($B$70=\" \",\" \",(COUNTIF(Vorrunde!$BS$54:$BS$89,5)))","v":8},{"$f":"IF($B$70=\" \",\" \",(COUNTIF(Vorrunde!$BS$54:$BS$89,7)))","v":4},{"$f":"IF($B$70=\" \",\" \",(COUNTIF(Vorrunde!$BS$54:$BS$89,10)))","v":5}]
[{"$f":"Teilnehmerliste!A72","v":67},{"$f":"Teilnehmerliste!B72 &\" \"&Teilnehmerliste!C72","v":"Wälti Christoph"},{"$f":"IF($B$71=\" \",\" \",(COUNTIF(Vorrunde!$BW$54:$BW$89,0)))","v":19},{"$f":"IF($B$71=\" \",\" \",(COUNTIF(Vorrunde!$BW$54:$BW$89,5)))","v":11},{"$f":"IF($B$71=\" \",\" \",(COUNTIF(Vorrunde!$BW$54:$BW$89,7)))","v":3},{"$f":"IF($B$71=\" \",\" \",(COUNTIF(Vorrunde!$BW$54:$BW$89,10)))","v":3}]
[{"$f":"Teilnehmerliste!A73","v":68},{"$f":"Teilnehmerliste!B73 &\" \"&Teilnehmerliste!C73","v":"Wagner Markus"},{"$f":"IF($B$72=\" \",\" \",(COUNTIF(Vorrunde!$CA$54:$CA$89,0)))","v":21},{"$f":"IF($B$72=\" \",\" \",(COUNTIF(Vorrunde!$CA$54:$CA$89,5)))","v":7},{"$f":"IF($B$72=\" \",\" \",(COUNTIF(Vorrunde!$CA$54:$CA$89,7)))","v":3},{"$f":"IF($B$72=\" \",\" \",(COUNTIF(Vorrunde!$CA$54:$CA$89,10)))","v":5}]
[{"$f":"Teilnehmerliste!A74","v":69},{"$f":"Teilnehmerliste!B74 &\" \"&Teilnehmerliste!C74","v":"Walser Stefan"},{"$f":"IF($B$73=\" \",\" \",(COUNTIF(Vorrunde!$CE$54:$CE$89,0)))","v":21},{"$f":"IF($B$73=\" \",\" \",(COUNTIF(Vorrunde!$CE$54:$CE$89,5)))","v":9},{"$f":"IF($B$73=\" \",\" \",(COUNTIF(Vorrunde!$CE$54:$CE$89,7)))","v":3},{"$f":"IF($B$73=\" \",\" \",(COUNTIF(Vorrunde!$CE$54:$CE$89,10)))","v":3}]
[{"$f":"Teilnehmerliste!A75","v":70},{"$f":"Teilnehmerliste!B75 &\" \"&Teilnehmerliste!C75","v":"Wang Jingwen"},{"$f":"IF($B$74=\" \",\" \",(COUNTIF(Vorrunde!$CI$54:$CI$89,0)))","v":21},{"$f":"IF($B$74=\" \",\" \",(COUNTIF(Vorrunde!$CI$54:$CI$89,5)))","v":9},{"$f":"IF($B$74=\" \",\" \",(COUNTIF(Vorrunde!$CI$54:$CI$89,7)))","v":2},{"$f":"IF($B$74=\" \",\" \",(COUNTIF(Vorrunde!$CI$54:$CI$89,10)))","v":4}]
[{"$f":"Teilnehmerliste!A76","v":71},{"$f":"Teilnehmerliste!B76 &\" \"&Teilnehmerliste!C76","v":"Wullschleger Stefan"},{"$f":"IF($B$75=\" \",\" \",(COUNTIF(Vorrunde!$CM$54:$CM$89,0)))","v":15},{"$f":"IF($B$75=\" \",\" \",(COUNTIF(Vorrunde!$CM$54:$CM$89,5)))","v":9},{"$f":"IF($B$75=\" \",\" \",(COUNTIF(Vorrunde!$CM$54:$CM$89,7)))","v":7},{"$f":"IF($B$75=\" \",\" \",(COUNTIF(Vorrunde!$CM$54:$CM$89,10)))","v":5}]
[{"$f":"Teilnehmerliste!A77","v":72},{"$f":"Teilnehmerliste!B77 &\" \"&Teilnehmerliste!C77","v":"Zachmann Jasmine"},{"$f":"IF($B$76=\" \",\" \",(COUNTIF(Vorrunde!$CQ$54:$CQ$89,0)))","v":18},{"$f":"IF($B$76=\" \",\" \",(COUNTIF(Vorrunde!$CQ$54:$CQ$89,5)))","v":9},{"$f":"IF($B$76=\" \",\" \",(COUNTIF(Vorrunde!$CQ$54:$CQ$89,7)))","v":7},{"$f":"IF($B$76=\" \",\" \",(COUNTIF(Vorrunde!$CQ$54:$CQ$89,10)))","v":2}]
[{"$f":"Teilnehmerliste!A78","v":73},{"$f":"Teilnehmerliste!B78 &\" \"&Teilnehmerliste!C78","v":"Zachmann Stefan"},{"$f":"IF($B$77=\" \",\" \",(COUNTIF(Vorrunde!$CU$54:$CU$89,0)))","v":24},{"$f":"IF($B$77=\" \",\" \",(COUNTIF(Vorrunde!$CU$54:$CU$89,5)))","v":5},{"$f":"IF($B$77=\" \",\" \",(COUNTIF(Vorrunde!$CU$54:$CU$89,7)))","v":5},{"$f":"IF($B$77=\" \",\" \",(COUNTIF(Vorrunde!$CU$54:$CU$89,10)))","v":2}]
[{"$f":"Teilnehmerliste!A79","v":74},{"$f":"Teilnehmerliste!B79 &\" \"&Teilnehmerliste!C79","v":"Babic Mario"},{"$f":"IF($B$78=\" \",\" \",(COUNTIF(Vorrunde!$CY$54:$CY$89,0)))","v":19},{"$f":"IF($B$78=\" \",\" \",(COUNTIF(Vorrunde!$CY$54:$CY$89,5)))","v":9},{"$f":"IF($B$78=\" \",\" \",(COUNTIF(Vorrunde!$CY$54:$CY$89,7)))","v":4},{"$f":"IF($B$78=\" \",\" \",(COUNTIF(Vorrunde!$CY$54:$CY$89,10)))","v":4}]
[{"$f":"Teilnehmerliste!A80","v":75},{"$f":"Teilnehmerliste!B80 &\" \"&Teilnehmerliste!C80","v":"Megdiche Nidhal"},{"$f":"IF($B$79=\" \",\" \",(COUNTIF(Vorrunde!$DC$54:$DC$89,0)))","v":21},{"$f":"IF($B$79=\" \",\" \",(COUNTIF(Vorrunde!$DC$54:$DC$89,5)))","v":6},{"$f":"IF($B$79=\" \",\" \",(COUNTIF(Vorrunde!$DC$54:$DC$89,7)))","v":4},{"$f":"IF($B$79=\" \",\" \",(COUNTIF(Vorrunde!$DC$54:$DC$89,10)))","v":5}]
[{"$f":"Teilnehmerliste!A81","v":76},{"$f":"Teilnehmerliste!B81 &\" \"&Teilnehmerliste!C81","v":"Städelin Hanspeter"},{"$f":"IF($B$80=\" \",\" \",(COUNTIF(Vorrunde!$DG$54:$DG$89,0)))","v":20},{"$f":"IF($B$80=\" \",\" \",(COUNTIF(Vorrunde!$DG$54:$DG$89,5)))","v":11},{"$f":"IF($B$80=\" \",\" \",(COUNTIF(Vorrunde!$DG$54:$DG$89,7)))","v":4},{"$f":"IF($B$80=\" \",\" \",(COUNTIF(Vorrunde!$DG$54:$DG$89,10)))","v":1}]
[{"$f":"Teilnehmerliste!A82","v":77},{"$f":"Teilnehmerliste!B82 &\" \"&Teilnehmerliste!C82","v":" "},{"$f":"IF($B$81=\" \",\" \",(COUNTIF(Vorrunde!$DK$54:$DK$89,0)))","v":" "},{"$f":"IF($B$81=\" \",\" \",(COUNTIF(Vorrunde!$DK$54:$DK$89,5)))","v":" "},{"$f":"IF($B$81=\" \",\" \",(COUNTIF(Vorrunde!$DK$54:$DK$89,7)))","v":" "},{"$f":"IF($B$81=\" \",\" \",(COUNTIF(Vorrunde!$DK$54:$DK$89,10)))","v":" "}]
[{"$f":"Teilnehmerliste!A83","v":78},{"$f":"Teilnehmerliste!B83 &\" \"&Teilnehmerliste!C83","v":" "},{"$f":"IF($B$82=\" \",\" \",(COUNTIF(Vorrunde!$DO$54:$DO$89,0)))","v":" "},{"$f":"IF($B$82=\" \",\" \",(COUNTIF(Vorrunde!$DO$54:$DO$89,5)))","v":" "},{"$f":"IF($B$82=\" \",\" \",(COUNTIF(Vorrunde!$DO$54:$DO$89,7)))","v":" "},{"$f":"IF($B$82=\" \",\" \",(COUNTIF(Vorrunde!$DO$54:$DO$89,10)))","v":" "}]
[{"$f":"Teilnehmerliste!A84","v":79},{"$f":"Teilnehmerliste!B84 &\" \"&Teilnehmerliste!C84","v":" "},{"$f":"IF($B$83=\" \",\" \",(COUNTIF(Vorrunde!$DS$54:$DS$89,0)))","v":" "},{"$f":"IF($B$83=\" \",\" \",(COUNTIF(Vorrunde!$DS$54:$DS$89,5)))","v":" "},{"$f":"IF($B$83=\" \",\" \",(COUNTIF(Vorrunde!$DS$54:$DS$89,7)))","v":" "},{"$f":"IF($B$83=\" \",\" \",(COUNTIF(Vorrunde!$DS$54:$DS$89,10)))","v":" "}]
[{"$f":"Teilnehmerliste!A85","v":80},{"$f":"Teilnehmerliste!B85 &\" \"&Teilnehmerliste!C85","v":" "},{"$f":"IF($B$84=\" \",\" \",(COUNTIF(Vorrunde!$DW$54:$DW$89,0)))","v":" "},{"$f":"IF($B$84=\" \",\" \",(COUNTIF(Vorrunde!$DW$54:$DW$89,5)))","v":" "},{"$f":"IF($B$84=\" \",\" \",(COUNTIF(Vorrunde!$DW$54:$DW$89,7)))","v":" "},{"$f":"IF($B$84=\" \",\" \",(COUNTIF(Vorrunde!$DW$54:$DW$89,10)))","v":" "}]
[{"$f":"Teilnehmerliste!A86","v":81},{"$f":"Teilnehmerliste!B86 &\" \"&Teilnehmerliste!C86","v":" "},{"$f":"IF($B$85=\" \",\" \",(COUNTIF(Vorrunde!$EA$54:$EA$89,0)))","v":" "},{"$f":"IF($B$85=\" \",\" \",(COUNTIF(Vorrunde!$EA$54:$EA$89,5)))","v":" "},{"$f":"IF($B$85=\" \",\" \",(COUNTIF(Vorrunde!$EA$54:$EA$89,7)))","v":" "},{"$f":"IF($B$85=\" \",\" \",(COUNTIF(Vorrunde!$EA$54:$EA$89,10)))","v":" "}]
[{"$f":"Teilnehmerliste!A87","v":82},{"$f":"Teilnehmerliste!B87 &\" \"&Teilnehmerliste!C87","v":" "},{"$f":"IF($B$86=\" \",\" \",(COUNTIF(Vorrunde!$EE$54:$EE$89,0)))","v":" "},{"$f":"IF($B$86=\" \",\" \",(COUNTIF(Vorrunde!$EE$54:$EE$89,5)))","v":" "},{"$f":"IF($B$86=\" \",\" \",(COUNTIF(Vorrunde!$EE$54:$EE$89,7)))","v":" "},{"$f":"IF($B$86=\" \",\" \",(COUNTIF(Vorrunde!$EE$54:$EE$89,10)))","v":" "}]
[{"$f":"Teilnehmerliste!A88","v":83},{"$f":"Teilnehmerliste!B88 &\" \"&Teilnehmerliste!C88","v":" "},{"$f":"IF($B$87=\" \",\" \",(COUNTIF(Vorrunde!$EI$54:$EI$89,0)))","v":" "},{"$f":"IF($B$87=\" \",\" \",(COUNTIF(Vorrunde!$EI$54:$EI$89,5)))","v":" "},{"$f":"IF($B$87=\" \",\" \",(COUNTIF(Vorrunde!$EI$54:$EI$89,7)))","v":" "},{"$f":"IF($B$87=\" \",\" \",(COUNTIF(Vorrunde!$EI$54:$EI$89,10)))","v":" "}]
[{"$f":"Teilnehmerliste!A89","v":84},{"$f":"Teilnehmerliste!B89 &\" \"&Teilnehmerliste!C89","v":" "},{"$f":"IF($B$88=\" \",\" \",(COUNTIF(Vorrunde!$EM$54:$EM$89,0)))","v":" "},{"$f":"IF($B$88=\" \",\" \",(COUNTIF(Vorrunde!$EM$54:$EM$89,5)))","v":" "},{"$f":"IF($B$88=\" \",\" \",(COUNTIF(Vorrunde!$EM$54:$EM$89,7)))","v":" "},{"$f":"IF($B$88=\" \",\" \",(COUNTIF(Vorrunde!$EM$54:$EM$89,10)))","v":" "}]
[{"$f":"Teilnehmerliste!A90","v":85},{"$f":"Teilnehmerliste!B90 &\" \"&Teilnehmerliste!C90","v":" "},{"$f":"IF($B$89=\" \",\" \",(COUNTIF(Vorrunde!$EQ$54:$EQ$89,0)))","v":" "},{"$f":"IF($B$89=\" \",\" \",(COUNTIF(Vorrunde!$EQ$54:$EQ$89,5)))","v":" "},{"$f":"IF($B$89=\" \",\" \",(COUNTIF(Vorrunde!$EQ$54:$EQ$89,7)))","v":" "},{"$f":"IF($B$89=\" \",\" \",(COUNTIF(Vorrunde!$EQ$54:$EQ$89,10)))","v":" "}]
[{"$f":"Teilnehmerliste!A91","v":86},{"$f":"Teilnehmerliste!B91 &\" \"&Teilnehmerliste!C91","v":" "},{"$f":"IF($B$90=\" \",\" \",(COUNTIF(Vorrunde!$EU$54:$EU$89,0)))","v":" "},{"$f":"IF($B$90=\" \",\" \",(COUNTIF(Vorrunde!$EU$54:$EU$89,5)))","v":" "},{"$f":"IF($B$90=\" \",\" \",(COUNTIF(Vorrunde!$EU$54:$EU$89,7)))","v":" "},{"$f":"IF($B$90=\" \",\" \",(COUNTIF(Vorrunde!$EU$54:$EU$89,10)))","v":" "}]
[{"$f":"Teilnehmerliste!A92","v":87},{"$f":"Teilnehmerliste!B92 &\" \"&Teilnehmerliste!C92","v":" "},{"$f":"IF($B$91=\" \",\" \",(COUNTIF(Vorrunde!$EY$54:$EY$89,0)))","v":" "},{"$f":"IF($B$91=\" \",\" \",(COUNTIF(Vorrunde!$EY$54:$EY$89,5)))","v":" "},{"$f":"IF($B$91=\" \",\" \",(COUNTIF(Vorrunde!$EY$54:$EY$89,7)))","v":" "},{"$f":"IF($B$91=\" \",\" \",(COUNTIF(Vorrunde!$EY$54:$EY$89,10)))","v":" "}]
[{"$f":"Teilnehmerliste!A93","v":88},{"$f":"Teilnehmerliste!B93 &\" \"&Teilnehmerliste!C93","v":" "},{"$f":"IF($B$92=\" \",\" \",(COUNTIF(Vorrunde!$FC$54:$FC$89,0)))","v":" "},{"$f":"IF($B$92=\" \",\" \",(COUNTIF(Vorrunde!$FC$54:$FC$89,5)))","v":" "},{"$f":"IF($B$92=\" \",\" \",(COUNTIF(Vorrunde!$FC$54:$FC$89,7)))","v":" "},{"$f":"IF($B$92=\" \",\" \",(COUNTIF(Vorrunde!$FC$54:$FC$89,10)))","v":" "}]
[{"$f":"Teilnehmerliste!A94","v":89},{"$f":"Teilnehmerliste!B94 &\" \"&Teilnehmerliste!C94","v":" "},{"$f":"IF($B$93=\" \",\" \",(COUNTIF(Vorrunde!$FG$54:$FG$89,0)))","v":" "},{"$f":"IF($B$93=\" \",\" \",(COUNTIF(Vorrunde!$FG$54:$FG$89,5)))","v":" "},{"$f":"IF($B$93=\" \",\" \",(COUNTIF(Vorrunde!$FG$54:$FG$89,7)))","v":" "},{"$f":"IF($B$93=\" \",\" \",(COUNTIF(Vorrunde!$FG$54:$FG$89,10)))","v":" "}]
[{"$f":"Teilnehmerliste!A95","v":90},{"$f":"Teilnehmerliste!B95 &\" \"&Teilnehmerliste!C95","v":" "},{"$f":"IF($B$94=\" \",\" \",(COUNTIF(Vorrunde!$FK$54:$FK$89,0)))","v":" "},{"$f":"IF($B$94=\" \",\" \",(COUNTIF(Vorrunde!$FK$54:$FK$89,5)))","v":" "},{"$f":"IF($B$94=\" \",\" \",(COUNTIF(Vorrunde!$FK$54:$FK$89,7)))","v":" "},{"$f":"IF($B$94=\" \",\" \",(COUNTIF(Vorrunde!$FK$54:$FK$89,10)))","v":" "}]
[{"$f":"Teilnehmerliste!A96","v":91},{"$f":"Teilnehmerliste!B96 &\" \"&Teilnehmerliste!C96","v":" "},{"$f":"IF($B$95=\" \",\" \",(COUNTIF(Vorrunde!$FO$54:$FO$89,0)))","v":" "},{"$f":"IF($B$95=\" \",\" \",(COUNTIF(Vorrunde!$FO$54:$FO$89,5)))","v":" "},{"$f":"IF($B$95=\" \",\" \",(COUNTIF(Vorrunde!$FO$54:$FO$89,7)))","v":" "},{"$f":"IF($B$95=\" \",\" \",(COUNTIF(Vorrunde!$FO$54:$FO$89,10)))","v":" "}]
[{"$f":"Teilnehmerliste!A97","v":92},{"$f":"Teilnehmerliste!B97 &\" \"&Teilnehmerliste!C97","v":" "},{"$f":"IF($B$96=\" \",\" \",(COUNTIF(Vorrunde!$FS$54:$FS$89,0)))","v":" "},{"$f":"IF($B$96=\" \",\" \",(COUNTIF(Vorrunde!$FS$54:$FS$89,5)))","v":" "},{"$f":"IF($B$96=\" \",\" \",(COUNTIF(Vorrunde!$FS$54:$FS$89,7)))","v":" "},{"$f":"IF($B$96=\" \",\" \",(COUNTIF(Vorrunde!$FS$54:$FS$89,10)))","v":" "}]
[{"$f":"Teilnehmerliste!A98","v":93},{"$f":"Teilnehmerliste!B98 &\" \"&Teilnehmerliste!C98","v":" "},{"$f":"IF($B$97=\" \",\" \",(COUNTIF(Vorrunde!$FW$54:$FW$89,0)))","v":" "},{"$f":"IF($B$97=\" \",\" \",(COUNTIF(Vorrunde!$FW$54:$FW$89,5)))","v":" "},{"$f":"IF($B$97=\" \",\" \",(COUNTIF(Vorrunde!$FW$54:$FW$89,7)))","v":" "},{"$f":"IF($B$97=\" \",\" \",(COUNTIF(Vorrunde!$FW$54:$FW$89,10)))","v":" "}]
[{"$f":"Teilnehmerliste!A99","v":94},{"$f":"Teilnehmerliste!B99 &\" \"&Teilnehmerliste!C99","v":" "},{"$f":"IF($B$98=\" \",\" \",(COUNTIF(Vorrunde!$GA$54:$GA$89,0)))","v":" "},{"$f":"IF($B$98=\" \",\" \",(COUNTIF(Vorrunde!$GA$54:$GA$89,5)))","v":" "},{"$f":"IF($B$98=\" \",\" \",(COUNTIF(Vorrunde!$GA$54:$GA$89,7)))","v":" "},{"$f":"IF($B$98=\" \",\" \",(COUNTIF(Vorrunde!$GA$54:$GA$89,10)))","v":" "}]
[{"$f":"Teilnehmerliste!A100","v":95},{"$f":"Teilnehmerliste!B100 &\" \"&Teilnehmerliste!C100","v":" "},{"$f":"IF($B$99=\" \",\" \",(COUNTIF(Vorrunde!$GE$54:$GE$89,0)))","v":" "},{"$f":"IF($B$99=\" \",\" \",(COUNTIF(Vorrunde!$GE$54:$GE$89,5)))","v":" "},{"$f":"IF($B$99=\" \",\" \",(COUNTIF(Vorrunde!$GE$54:$GE$89,7)))","v":" "},{"$f":"IF($B$99=\" \",\" \",(COUNTIF(Vorrunde!$GE$54:$GE$89,10)))","v":" "}]
[{"$f":"Teilnehmerliste!A101","v":96},{"$f":"Teilnehmerliste!B101 &\" \"&Teilnehmerliste!C101","v":" "},{"$f":"IF($B$100=\" \",\" \",(COUNTIF(Vorrunde!$GI$54:$GI$89,0)))","v":" "},{"$f":"IF($B$100=\" \",\" \",(COUNTIF(Vorrunde!$GI$54:$GI$89,5)))","v":" "},{"$f":"IF($B$100=\" \",\" \",(COUNTIF(Vorrunde!$GI$54:$GI$89,7)))","v":" "},{"$f":"IF($B$100=\" \",\" \",(COUNTIF(Vorrunde!$GI$54:$GI$89,10)))","v":" "}]
[{"$f":"Teilnehmerliste!A102","v":97},{"$f":"Teilnehmerliste!B102 &\" \"&Teilnehmerliste!C102","v":" "},{"$f":"IF($B$101=\" \",\" \",(COUNTIF(Vorrunde!$GM$54:$GM$89,0)))","v":" "},{"$f":"IF($B$101=\" \",\" \",(COUNTIF(Vorrunde!$GM$54:$GM$89,5)))","v":" "},{"$f":"IF($B$101=\" \",\" \",(COUNTIF(Vorrunde!$GM$54:$GM$89,7)))","v":" "},{"$f":"IF($B$101=\" \",\" \",(COUNTIF(Vorrunde!$GM$54:$GM$89,10)))","v":" "}]
[{"$f":"Teilnehmerliste!A103","v":98},{"$f":"Teilnehmerliste!B103 &\" \"&Teilnehmerliste!C103","v":" "},{"$f":"IF($B$102=\" \",\" \",(COUNTIF(Vorrunde!$GQ$54:$GQ$89,0)))","v":" "},{"$f":"IF($B$102=\" \",\" \",(COUNTIF(Vorrunde!$GQ$54:$GQ$89,5)))","v":" "},{"$f":"IF($B$102=\" \",\" \",(COUNTIF(Vorrunde!$GQ$54:$GQ$89,7)))","v":" "},{"$f":"IF($B$102=\" \",\" \",(COUNTIF(Vorrunde!$GQ$54:$GQ$89,10)))","v":" "}]
[{"$f":"Teilnehmerliste!A104","v":99},{"$f":"Teilnehmerliste!B104 &\" \"&Teilnehmerliste!C104","v":" "},{"$f":"IF(B103=\" \",\" \",(COUNTIF(Vorrunde!$GU$54:$GU$89,0)))","v":" "},{"$f":"IF(C103=\" \",\" \",(COUNTIF(Vorrunde!$GU$54:$GU$89,5)))","v":" "},{"$f":"IF(D103=\" \",\" \",(COUNTIF(Vorrunde!$GU$54:$GU$89,7)))","v":" "},{"$f":"IF(E103=\" \",\" \",(COUNTIF(Vorrunde!$GU$54:$GU$89,10)))","v":" "}]
[{"$f":"Teilnehmerliste!A105","v":100},{"$f":"Teilnehmerliste!B105 &\" \"&Teilnehmerliste!C105","v":" "},{"$f":"IF(B104=\" \",\" \",(COUNTIF(Vorrunde!$GY$54:$GY$89,0)))","v":" "},{"$f":"IF(C104=\" \",\" \",(COUNTIF(Vorrunde!$GY$54:$GY$89,5)))","v":" "},{"$f":"IF(D104=\" \",\" \",(COUNTIF(Vorrunde!$GY$54:$GY$89,7)))","v":" "},{"$f":"IF(E104=\" \",\" \",(COUNTIF(Vorrunde!$GY$54:$GY$89,10)))","v":" "}]
[null,"Summe:",{"$f":"SUM(C5:C104)","v":1457},{"$f":"SUM(D5:D104)","v":640},{"$f":"SUM(E5:E104)","v":313},{"$f":"SUM(F5:F104)","v":326}]
[null,null,"0 Punkte","5 Punkte","7 Punkte","10 Punkte"]

{"sheet":"Stat_Final_Teams","index":9,"n_rows":28,"n_cols":10,"rows_kept":28,"cut":false,"hidden":false,"merged":[[0,0,0,2]]}
[{"$f":"Teams!$B$30","v":"EM 2024 by Rogerinho (www.fcbouncer.ch)"}]
[null,null,null,null,"Statistik (Rangfolge Berechnet)",null,null,"Statistik (Rangfolge Berechnet)",null,"Sverweis"]
["Mannschaften","Anzahl ins Finale getippt","Anzahl getippt als Europameister",null,"Team ins Finale getippt",null,null,"Team als Europameister getippt",null,"Formel"]
[{"$f":"Teams!B4","v":"Deutschland"},{"$f":"COUNTIF(Stat_Final!$C$5:$D$104,A4)","v":28},{"$f":"COUNTIF(Stat_Final!$E$5:$E$104,A4)","v":11},null,{"$f":"LARGE($B$4:$B$27,1)","v":38},{"$f":"INDEX(A:A,_xlfn.AGGREGATE(15,6,ROW($B$4:$B$27)/($B$4:$B$27=E4),COUNTIF($E$4:E4,E4)),1)","v":"Frankreich"},null,{"$f":"LARGE($C$4:$C$27,1)","v":25},{"$f":"INDEX(A:A,_xlfn.AGGREGATE(15,6,ROW($C$4:$C$27)/($C$4:$C$27=H4),COUNTIF($H$4:H4,H4)),1)","v":"Frankreich"},{"$f":"VLOOKUP(I4,$A$4:$C$27,2,FALSE)","v":38}]
[{"$f":"Teams!B5","v":"Schottland"},{"$f":"COUNTIF(Stat_Final!$C$5:$D$104,A5)","v":0},{"$f":"COUNTIF(Stat_Final!$E$5:$E$104,A5)","v":0},null,{"$f":"LARGE($B$4:$B$27,2)","v":28},{"$f":"INDEX(A:A,_xlfn.AGGREGATE(15,6,ROW($B$4:$B$27)/($B$4:$B$27=E5),COUNTIF($E$4:E5,E5)),1)","v":"Deutschland"},null,{"$f":"LARGE($C$4:$C$27,2)","v":13},{"$f":"INDEX(A:A,_xlfn.AGGREGATE(15,6,ROW($C$4:$C$27)/($C$4:$C$27=H5),COUNTIF($H$4:H5,H5)),1)","v":"England"},28]
[{"$f":"Teams!B6","v":"Ungarn"},{"$f":"COUNTIF(Stat_Final!$C$5:$D$104,A6)","v":0},{"$f":"COUNTIF(Stat_Final!$E$5:$E$104,A6)","v":0},null,{"$f":"LARGE($B$4:$B$27,3)","v":28},{"$f":"INDEX(A:A,_xlfn.AGGREGATE(15,6,ROW($B$4:$B$27)/($B$4:$B$27=E6),COUNTIF($E$4:E6,E6)),1)","v":"England"},null,{"$f":"LARGE($C$4:$C$27,3)","v":11},{"$f":"INDEX(A:A,_xlfn.AGGREGATE(15,6,ROW($C$4:$C$27)/($C$4:$C$27=H6),COUNTIF($H$4:H6,H6)),1)","v":"Deutschland"},28]
[{"$f":"Teams!B7","v":"Schweiz"},{"$f":"COUNTIF(Stat_Final!$C$5:$D$104,A7)","v":2},{"$f":"COUNTIF(Stat_Final!$E$5:$E$104,A7)","v":1},null,{"$f":"LARGE($B$4:$B$27,4)","v":19},{"$f":"INDEX(A:A,_xlfn.AGGREGATE(15,6,ROW($B$4:$B$27)/($B$4:$B$27=E7),COUNTIF($E$4:E7,E7)),1)","v":"Portugal"},null,{"$f":"LARGE($C$4:$C$27,4)","v":10},{"$f":"INDEX(A:A,_xlfn.AGGREGATE(15,6,ROW($C$4:$C$27)/($C$4:$C$27=H7),COUNTIF($H$4:H7,H7)),1)","v":"Portugal"},19]
[{"$f":"Teams!B8","v":"Spanien"},{"$f":"COUNTIF(Stat_Final!$C$5:$D$104,A8)","v":15},{"$f":"COUNTIF(Stat_Final!$E$5:$E$104,A8)","v":5},null,{"$f":"LARGE($B$4:$B$27,5)","v":15},{"$f":"INDEX(A:A,_xlfn.AGGREGATE(15,6,ROW($B$4:$B$27)/($B$4:$B$27=E8),COUNTIF($E$4:E8,E8)),1)","v":"Spanien"},null,{"$f":"LARGE($C$4:$C$27,5)","v":8},{"$f":"INDEX(A:A,_xlfn.AGGREGATE(15,6,ROW($C$4:$C$27)/($C$4:$C$27=H8),COUNTIF($H$4:H8,H8)),1)","v":"Italien"},10]
[{"$f":"Teams!B9","v":"Kroatien"},{"$f":"COUNTIF(Stat_Final!$C$5:$D$104,A9)","v":4},{"$f":"COUNTIF(Stat_Final!$E$5:$E$104,A9)","v":2},null,{"$f":"LARGE($B$4:$B$27,6)","v":10},{"$f":"INDEX(A:A,_xlfn.AGGREGATE(15,6,ROW($B$4:$B$27)/($B$4:$B$27=E9),COUNTIF($E$4:E9,E9)),1)","v":"Italien"},null,{"$f":"LARGE($C$4:$C$27,6)","v":5},{"$f":"INDEX(A:A,_xlfn.AGGREGATE(15,6,ROW($C$4:$C$27)/($C$4:$C$27=H9),COUNTIF($H$4:H9,H9)),1)","v":"Spanien"},15]
[{"$f":"Teams!B10","v":"Italien"},{"$f":"COUNTIF(Stat_Final!$C$5:$D$104,A10)","v":10},{"$f":"COUNTIF(Stat_Final!$E$5:$E$104,A10)","v":8},null,{"$f":"LARGE($B$4:$B$27,7)","v":5},{"$f":"INDEX(A:A,_xlfn.AGGREGATE(15,6,ROW($B$4:$B$27)/($B$4:$B$27=E10),COUNTIF($E$4:E10,E10)),1)","v":"Holland"},null,{"$f":"LARGE($C$4:$C$27,7)","v":2},{"$f":"INDEX(A:A,_xlfn.AGGREGATE(15,6,ROW($C$4:$C$27)/($C$4:$C$27=H10),COUNTIF($H$4:H10,H10)),1)","v":"Kroatien"},4]
[{"$f":"Teams!B11","v":"Albanien"},{"$f":"COUNTIF(Stat_Final!$C$5:$D$104,A11)","v":0},{"$f":"COUNTIF(Stat_Final!$E$5:$E$104,A11)","v":0},null,{"$f":"LARGE($B$4:$B$27,8)","v":4},{"$f":"INDEX(A:A,_xlfn.AGGREGATE(15,6,ROW($B$4:$B$27)/($B$4:$B$27=E11),COUNTIF($E$4:E11,E11)),1)","v":"Kroatien"},null,{"$f":"LARGE($C$4:$C$27,8)","v":1},{"$f":"INDEX(A:A,_xlfn.AGGREGATE(15,6,ROW($C$4:$C$27)/($C$4:$C$27=H11),COUNTIF($H$4:H11,H11)),1)","v":"Schweiz"},2]
[{"$f":"Teams!B12","v":"Slowenien"},{"$f":"COUNTIF(Stat_Final!$C$5:$D$104,A12)","v":0},{"$f":"COUNTIF(Stat_Final!$E$5:$E$104,A12)","v":0},null,{"$f":"LARGE($B$4:$B$27,9)","v":3},{"$f":"INDEX(A:A,_xlfn.AGGREGATE(15,6,ROW($B$4:$B$27)/($B$4:$B$27=E12),COUNTIF($E$4:E12,E12)),1)","v":"Belgien"},null,{"$f":"LARGE($C$4:$C$27,9)","v":1},{"$f":"INDEX(A:A,_xlfn.AGGREGATE(15,6,ROW($C$4:$C$27)/($C$4:$C$27=H12),COUNTIF($H$4:H12,H12)),1)","v":"Belgien"},3]
[{"$f":"Teams!B13","v":"Dänemark"},{"$f":"COUNTIF(Stat_Final!$C$5:$D$104,A13)","v":0},{"$f":"COUNTIF(Stat_Final!$E$5:$E$104,A13)","v":0},null,{"$f":"LARGE($B$4:$B$27,10)","v":2},{"$f":"INDEX(A:A,_xlfn.AGGREGATE(15,6,ROW($B$4:$B$27)/($B$4:$B$27=E13),COUNTIF($E$4:E13,E13)),1)","v":"Schweiz"},null,{"$f":"LARGE($C$4:$C$27,10)","v":0},{"$f":"INDEX(A:A,_xlfn.AGGREGATE(15,6,ROW($C$4:$C$27)/($C$4:$C$27=H13),COUNTIF($H$4:H13,H13)),1)","v":"Schottland"},0]
[{"$f":"Teams!B14","v":"Serbien"},{"$f":"COUNTIF(Stat_Final!$C$5:$D$104,A14)","v":0},{"$f":"COUNTIF(Stat_Final!$E$5:$E$104,A14)","v":0},null,{"$f":"LARGE($B$4:$B$27,11)","v":0},{"$f":"INDEX(A:A,_xlfn.AGGREGATE(15,6,ROW($B$4:$B$27)/($B$4:$B$27=E14),COUNTIF($E$4:E14,E14)),1)","v":"Schottland"},null,{"$f":"LARGE($C$4:$C$27,11)","v":0},{"$f":"INDEX(A:A,_xlfn.AGGREGATE(15,6,ROW($C$4:$C$27)/($C$4:$C$27=H14),COUNTIF($H$4:H14,H14)),1)","v":"Ungarn"},0]
[{"$f":"Teams!B15","v":"England"},{"$f":"COUNTIF(Stat_Final!$C$5:$D$104,A15)","v":28},{"$f":"COUNTIF(Stat_Final!$E$5:$E$104,A15)","v":13},null,{"$f":"LARGE($B$4:$B$27,12)","v":0},{"$f":"INDEX(A:A,_xlfn.AGGREGATE(15,6,ROW($B$4:$B$27)/($B$4:$B$27=E15),COUNTIF($E$4:E15,E15)),1)","v":"Ungarn"},null,{"$f":"LARGE($C$4:$C$27,12)","v":0},{"$f":"INDEX(A:A,_xlfn.AGGREGATE(15,6,ROW($C$4:$C$27)/($C$4:$C$27=H15),COUNTIF($H$4:H15,H15)),1)","v":"Albanien"},0]
[{"$f":"Teams!B16","v":"Polen"},{"$f":"COUNTIF(Stat_Final!$C$5:$D$104,A16)","v":0},{"$f":"COUNTIF(Stat_Final!$E$5:$E$104,A16)","v":0},null,{"$f":"LARGE($B$4:$B$27,13)","v":0},{"$f":"INDEX(A:A,_xlfn.AGGREGATE(15,6,ROW($B$4:$B$27)/($B$4:$B$27=E16),COUNTIF($E$4:E16,E16)),1)","v":"Albanien"},null,{"$f":"LARGE($C$4:$C$27,13)","v":0},{"$f":"INDEX(A:A,_xlfn.AGGREGATE(15,6,ROW($C$4:$C$27)/($C$4:$C$27=H16),COUNTIF($H$4:H16,H16)),1)","v":"Slowenien"},0]
[{"$f":"Teams!B17","v":"Holland"},{"$f":"COUNTIF(Stat_Final!$C$5:$D$104,A17)","v":5},{"$f":"COUNTIF(Stat_Final!$E$5:$E$104,A17)","v":0},null,{"$f":"LARGE($B$4:$B$27,14)","v":0},{"$f":"INDEX(A:A,_xlfn.AGGREGATE(15,6,ROW($B$4:$B$27)/($B$4:$B$27=E17),COUNTIF($E$4:E17,E17)),1)","v":"Slowenien"},null,{"$f":"LARGE($C$4:$C$27,14)","v":0},{"$f":"INDEX(A:A,_xlfn.AGGREGATE(15,6,ROW($C$4:$C$27)/($C$4:$C$27=H17),COUNTIF($H$4:H17,H17)),1)","v":"Dänemark"},0]
[{"$f":"Teams!B18","v":"Österreich"},{"$f":"COUNTIF(Stat_Final!$C$5:$D$104,A18)","v":0},{"$f":"COUNTIF(Stat_Final!$E$5:$E$104,A18)","v":0},null,{"$f":"LARGE($B$4:$B$27,15)","v":0},{"$f":"INDEX(A:A,_xlfn.AGGREGATE(15,6,ROW($B$4:$B$27)/($B$4:$B$27=E18),COUNTIF($E$4:E18,E18)),1)","v":"Dänemark"},null,{"$f":"LARGE($C$4:$C$27,15)","v":0},{"$f":"INDEX(A:A,_xlfn.AGGREGATE(15,6,ROW($C$4:$C$27)/($C$4:$C$27=H18),COUNTIF($H$4:H18,H18)),1)","v":"Serbien"},0]
[{"$f":"Teams!B19","v":"Frankreich"},{"$f":"COUNTIF(Stat_Final!$C$5:$D$104,A19)","v":38},{"$f":"COUNTIF(Stat_Final!$E$5:$E$104,A19)","v":25},null,{"$f":"LARGE($B$4:$B$27,16)","v":0},{"$f":"INDEX(A:A,_xlfn.AGGREGATE(15,6,ROW($B$4:$B$27)/($B$4:$B$27=E19),COUNTIF($E$4:E19,E19)),1)","v":"Serbien"},null,{"$f":"LARGE($C$4:$C$27,16)","v":0},{"$f":"INDEX(A:A,_xlfn.AGGREGATE(15,6,ROW($C$4:$C$27)/($C$4:$C$27=H19),COUNTIF($H$4:H19,H19)),1)","v":"Polen"},0]
[{"$f":"Teams!B20","v":"Belgien"},{"$f":"COUNTIF(Stat_Final!$C$5:$D$104,A20)","v":3},{"$f":"COUNTIF(Stat_Final!$E$5:$E$104,A20)","v":1},null,{"$f":"LARGE($B$4:$B$27,17)","v":0},{"$f":"INDEX(A:A,_xlfn.AGGREGATE(15,6,ROW($B$4:$B$27)/($B$4:$B$27=E20),COUNTIF($E$4:E20,E20)),1)","v":"Polen"},null,{"$f":"LARGE($C$4:$C$27,17)","v":0},{"$f":"INDEX(A:A,_xlfn.AGGREGATE(15,6,ROW($C$4:$C$27)/($C$4:$C$27=H20),COUNTIF($H$4:H20,H20)),1)","v":"Holland"},5]
[{"$f":"Teams!B21","v":"Slowakei"},{"$f":"COUNTIF(Stat_Final!$C$5:$D$104,A21)","v":0},{"$f":"COUNTIF(Stat_Final!$E$5:$E$104,A21)","v":0},null,{"$f":"LARGE($B$4:$B$27,18)","v":0},{"$f":"INDEX(A:A,_xlfn.AGGREGATE(15,6,ROW($B$4:$B$27)/($B$4:$B$27=E21),COUNTIF($E$4:E21,E21)),1)","v":"Österreich"},null,{"$f":"LARGE($C$4:$C$27,18)","v":0},{"$f":"INDEX(A:A,_xlfn.AGGREGATE(15,6,ROW($C$4:$C$27)/($C$4:$C$27=H21),COUNTIF($H$4:H21,H21)),1)","v":"Österreich"},0]
[{"$f":"Teams!B22","v":"Rumänien"},{"$f":"COUNTIF(Stat_Final!$C$5:$D$104,A22)","v":0},{"$f":"COUNTIF(Stat_Final!$E$5:$E$104,A22)","v":0},null,{"$f":"LARGE($B$4:$B$27,19)","v":0},{"$f":"INDEX(A:A,_xlfn.AGGREGATE(15,6,ROW($B$4:$B$27)/($B$4:$B$27=E22),COUNTIF($E$4:E22,E22)),1)","v":"Slowakei"},null,{"$f":"LARGE($C$4:$C$27,19)","v":0},{"$f":"INDEX(A:A,_xlfn.AGGREGATE(15,6,ROW($C$4:$C$27)/($C$4:$C$27=H22),COUNTIF($H$4:H22,H22)),1)","v":"Slowakei"},0]
[{"$f":"Teams!B23","v":"Ukraine"},{"$f":"COUNTIF(Stat_Final!$C$5:$D$104,A23)","v":0},{"$f":"COUNTIF(Stat_Final!$E$5:$E$104,A23)","v":0},null,{"$f":"LARGE($B$4:$B$27,20)","v":0},{"$f":"INDEX(A:A,_xlfn.AGGREGATE(15,6,ROW($B$4:$B$27)/($B$4:$B$27=E23),COUNTIF($E$4:E23,E23)),1)","v":"Rumänien"},null,{"$f":"LARGE($C$4:$C$27,20)","v":0},{"$f":"INDEX(A:A,_xlfn.AGGREGATE(15,6,ROW($C$4:$C$27)/($C$4:$C$27=H23),COUNTIF($H$4:H23,H23)),1)","v":"Rumänien"},0]
[{"$f":"Teams!B24","v":"Türkei"},{"$f":"COUNTIF(Stat_Final!$C$5:$D$104,A24)","v":0},{"$f":"COUNTIF(Stat_Final!$E$5:$E$104,A24)","v":0},null,{"$f":"LARGE($B$4:$B$27,21)","v":0},{"$f":"INDEX(A:A,_xlfn.AGGREGATE(15,6,ROW($B$4:$B$27)/($B$4:$B$27=E24),COUNTIF($E$4:E24,E24)),1)","v":"Ukraine"},null,{"$f":"LARGE($C$4:$C$27,21)","v":0},{"$f":"INDEX(A:A,_xlfn.AGGREGATE(15,6,ROW($C$4:$C$27)/($C$4:$C$27=H24),COUNTIF($H$4:H24,H24)),1)","v":"Ukraine"},0]
[{"$f":"Teams!B25","v":"Georgien"},{"$f":"COUNTIF(Stat_Final!$C$5:$D$104,A25)","v":0},{"$f":"COUNTIF(Stat_Final!$E$5:$E$104,A25)","v":0},null,{"$f":"LARGE($B$4:$B$27,22)","v":0},{"$f":"INDEX(A:A,_xlfn.AGGREGATE(15,6,ROW($B$4:$B$27)/($B$4:$B$27=E25),COUNTIF($E$4:E25,E25)),1)","v":"Türkei"},null,{"$f":"LARGE($C$4:$C$27,22)","v":0},{"$f":"INDEX(A:A,_xlfn.AGGREGATE(15,6,ROW($C$4:$C$27)/($C$4:$C$27=H25),COUNTIF($H$4:H25,H25)),1)","v":"Türkei"},0]
[{"$f":"Teams!B26","v":"Portugal"},{"$f":"COUNTIF(Stat_Final!$C$5:$D$104,A26)","v":19},{"$f":"COUNTIF(Stat_Final!$E$5:$E$104,A26)","v":10},null,{"$f":"LARGE($B$4:$B$27,23)","v":0},{"$f":"INDEX(A:A,_xlfn.AGGREGATE(15,6,ROW($B$4:$B$27)/($B$4:$B$27=E26),COUNTIF($E$4:E26,E26)),1)","v":"Georgien"},null,{"$f":"LARGE($C$4:$C$27,23)","v":0},{"$f":"INDEX(A:A,_xlfn.AGGREGATE(15,6,ROW($C$4:$C$27)/($C$4:$C$27=H26),COUNTIF($H$4:H26,H26)),1)","v":"Georgien"},0]
[{"$f":"Teams!B27","v":"Tschechien"},{"$f":"COUNTIF(Stat_Final!$C$5:$D$104,A27)","v":0},{"$f":"COUNTIF(Stat_Final!$E$5:$E$104,A27)","v":0},null,{"$f":"LARGE($B$4:$B$27,24)","v":0},{"$f":"INDEX(A:A,_xlfn.AGGREGATE(15,6,ROW($B$4:$B$27)/($B$4:$B$27=E27),COUNTIF($E$4:E27,E27)),1)","v":"Tschechien"},null,{"$f":"LARGE($C$4:$C$27,24)","v":0},{"$f":"INDEX(A:A,_xlfn.AGGREGATE(15,6,ROW($C$4:$C$27)/($C$4:$C$27=H27),COUNTIF($H$4:H27,H27)),1)","v":"Tschechien"},0]
["Summe",{"$f":"SUM(B4:B27)","v":152},{"$f":"SUM(C4:C27)","v":76}]

{"sheet":"Stat_Platzierung","index":10,"n_rows":27,"n_cols":13,"rows_kept":27,"cut":false,"hidden":false,"merged":[[19,3,22,3],[23,3,26,3],[3,3,6,3],[7,3,10,3],[11,3,14,3],[15,3,18,3],[19,0,22,0],[23,0,26,0],[3,0,6,0],[7,0,10,0],[11,0,14,0],[15,0,18,0]]}
[{"$f":"Teams!$B$30","v":"EM 2024 by Rogerinho (www.fcbouncer.ch)"}]
[]
[null,"Teams",null,"Statistik Teams nach Vorrunde"]
["Gruppe A",{"$f":"Teams!B4","v":"Deutschland"},null,"Gruppe A","Rang 1",{"$f":"$B$4","v":"Deutschland"},{"$f":"COUNTIF(Endplatzierung!E10:CZ10,$B$4)+COUNTIF(Endplatzierung!E44:CZ44,$B$4)","v":66},{"$f":"$B$5","v":"Schottland"},{"$f":"COUNTIF(Endplatzierung!E10:CZ10,$B$5)+COUNTIF(Endplatzierung!E44:CZ44,$B$5)","v":1},{"$f":"$B$6","v":"Ungarn"},{"$f":"COUNTIF(Endplatzierung!E10:CZ10,$B$6)+COUNTIF(Endplatzierung!E44:CZ44,$B$6)","v":0},{"$f":"$B$7","v":"Schweiz"},{"$f":"COUNTIF(Endplatzierung!E10:CZ10,$B$7)+COUNTIF(Endplatzierung!E44:CZ44,$B$7)","v":9}]
[null,{"$f":"Teams!B5","v":"Schottland"},null,null,"Rang 2",{"$f":"$B$4","v":"Deutschland"},{"$f":"COUNTIF(Endplatzierung!E11:CZ11,$B$4)+COUNTIF(Endplatzierung!E45:CZ45,$B$4)","v":8},{"$f":"$B$5","v":"Schottland"},{"$f":"COUNTIF(Endplatzierung!E11:CZ11,$B$5)+COUNTIF(Endplatzierung!E45:CZ45,$B$5)","v":1},{"$f":"$B$6","v":"Ungarn"},{"$f":"COUNTIF(Endplatzierung!E11:CZ11,$B$6)+COUNTIF(Endplatzierung!E45:CZ45,$B$6)","v":4},{"$f":"$B$7","v":"Schweiz"},{"$f":"COUNTIF(Endplatzierung!E11:CZ11,$B$7)+COUNTIF(Endplatzierung!E45:CZ45,$B$7)","v":63}]
[null,{"$f":"Teams!B6","v":"Ungarn"},null,null,"Rang 3","Deutschland",{"$f":"COUNTIF(Endplatzierung!E12:CZ12,$B$4)+COUNTIF(Endplatzierung!E46:CZ46,$B$4)","v":2},"Schottland",{"$f":"COUNTIF(Endplatzierung!E12:CZ12,$B$5)+COUNTIF(Endplatzierung!E46:CZ46,$B$5)","v":27},"Ungarn",{"$f":"COUNTIF(Endplatzierung!E12:CZ12,$B$6)+COUNTIF(Endplatzierung!E46:CZ46,$B$6)","v":44},"Schweiz",{"$f":"COUNTIF(Endplatzierung!E12:CZ12,$B$7)+COUNTIF(Endplatzierung!E46:CZ46,$B$7)","v":3}]
[null,{"$f":"Teams!B7","v":"Schweiz"},null,null,"Rang 4","Deutschland",{"$f":"COUNTIF(Endplatzierung!E13:CZ13,$B$4)+COUNTIF(Endplatzierung!E47:CZ47,$B$4)","v":0},"Schottland",{"$f":"COUNTIF(Endplatzierung!E13:CZ13,$B$5)+COUNTIF(Endplatzierung!E47:CZ47,$B$5)","v":47},"Ungarn",{"$f":"COUNTIF(Endplatzierung!E13:CZ13,$B$6)+COUNTIF(Endplatzierung!E47:CZ47,$B$6)","v":28},"Schweiz",{"$f":"COUNTIF(Endplatzierung!E13:CZ13,$B$7)+COUNTIF(Endplatzierung!E47:CZ47,$B$7)","v":1}]
["Gruppe B",{"$f":"Teams!B8","v":"Spanien"},null,"Gruppe B","Rang 1",{"$f":"$B$8","v":"Spanien"},{"$f":"COUNTIF(Endplatzierung!E14:CZ14,$B$8)+COUNTIF(Endplatzierung!E48:CZ48,$B$8)","v":49},{"$f":"$B$9","v":"Kroatien"},{"$f":"COUNTIF(Endplatzierung!E14:CZ14,$B$9)+COUNTIF(Endplatzierung!E48:CZ48,$B$9)","v":14},{"$f":"$B$10","v":"Italien"},{"$f":"COUNTIF(Endplatzierung!E14:CZ14,$B$10)+COUNTIF(Endplatzierung!E48:CZ48,$B$10)","v":13},{"$f":"$B$11","v":"Albanien"},{"$f":"COUNTIF(Endplatzierung!E14:CZ14,$B$11)+COUNTIF(Endplatzierung!E48:CZ48,$B$11)","v":0}]
[null,{"$f":"Teams!B9","v":"Kroatien"},null,null,"Rang 2",{"$f":"$B$8","v":"Spanien"},{"$f":"COUNTIF(Endplatzierung!E15:CZ15,$B$8)+COUNTIF(Endplatzierung!E49:CZ49,$B$8)","v":18},{"$f":"$B$9","v":"Kroatien"},{"$f":"COUNTIF(Endplatzierung!E15:CZ15,$B$9)+COUNTIF(Endplatzierung!E49:CZ49,$B$9)","v":24},{"$f":"$B$10","v":"Italien"},{"$f":"COUNTIF(Endplatzierung!E15:CZ15,$B$10)+COUNTIF(Endplatzierung!E49:CZ49,$B$10)","v":33},{"$f":"$B$11","v":"Albanien"},{"$f":"COUNTIF(Endplatzierung!E15:CZ15,$B$11)+COUNTIF(Endplatzierung!E49:CZ49,$B$11)","v":1}]
[null,{"$f":"Teams!B10","v":"Italien"},null,null,"Rang 3","Spanien",{"$f":"COUNTIF(Endplatzierung!E16:CZ16,$B$8)+COUNTIF(Endplatzierung!E50:CZ50,$B$8)","v":8},"Kroatien",{"$f":"COUNTIF(Endplatzierung!E16:CZ16,$B$9)+COUNTIF(Endplatzierung!E50:CZ50,$B$9)","v":37},"Italien",{"$f":"COUNTIF(Endplatzierung!E16:CZ16,$B$10)+COUNTIF(Endplatzierung!E50:CZ50,$B$10)","v":28},"Albanien",{"$f":"COUNTIF(Endplatzierung!E16:CZ16,$B$11)+COUNTIF(Endplatzierung!E50:CZ50,$B$11)","v":3}]
[null,{"$f":"Teams!B11","v":"Albanien"},null,null,"Rang 4","Spanien",{"$f":"COUNTIF(Endplatzierung!E17:CZ17,$B$8)+COUNTIF(Endplatzierung!E51:CZ51,$B$8)","v":1},"Kroatien",{"$f":"COUNTIF(Endplatzierung!E17:CZ17,$B$9)+COUNTIF(Endplatzierung!E51:CZ51,$B$9)","v":1},"Italien",{"$f":"COUNTIF(Endplatzierung!E17:CZ17,$B$10)+COUNTIF(Endplatzierung!E51:CZ51,$B$10)","v":2},"Albanien",{"$f":"COUNTIF(Endplatzierung!E17:CZ17,$B$11)+COUNTIF(Endplatzierung!E51:CZ51,$B$11)","v":72}]
["Gruppe C",{"$f":"Teams!B12","v":"Slowenien"},null,"Gruppe C","Rang 1",{"$f":"$B$12","v":"Slowenien"},{"$f":"COUNTIF(Endplatzierung!E18:CZ18,$B$12)+COUNTIF(Endplatzierung!E52:CZ52,$B$12)","v":0},{"$f":"$B$13","v":"Dänemark"},{"$f":"COUNTIF(Endplatzierung!E18:CZ18,$B$13)+COUNTIF(Endplatzierung!E52:CZ52,$B$13)","v":5},{"$f":"$B$14","v":"Serbien"},{"$f":"COUNTIF(Endplatzierung!E18:CZ18,$B$14)+COUNTIF(Endplatzierung!E52:CZ52,$B$14)","v":0},{"$f":"$B$15","v":"England"},{"$f":"COUNTIF(Endplatzierung!E18:CZ18,$B$15)+COUNTIF(Endplatzierung!E52:CZ52,$B$15)","v":71}]
[null,{"$f":"Teams!B13","v":"Dänemark"},null,null,"Rang 2",{"$f":"$B$12","v":"Slowenien"},{"$f":"COUNTIF(Endplatzierung!E19:CZ19,$B$12)+COUNTIF(Endplatzierung!E53:CZ53,$B$12)","v":1},{"$f":"$B$13","v":"Dänemark"},{"$f":"COUNTIF(Endplatzierung!E19:CZ19,$B$13)+COUNTIF(Endplatzierung!E53:CZ53,$B$13)","v":57},{"$f":"$B$14","v":"Serbien"},{"$f":"COUNTIF(Endplatzierung!E19:CZ19,$B$14)+COUNTIF(Endplatzierung!E53:CZ53,$B$14)","v":14},{"$f":"$B$15","v":"England"},{"$f":"COUNTIF(Endplatzierung!E19:CZ19,$B$15)+COUNTIF(Endplatzierung!E53:CZ53,$B$15)","v":4}]
[null,{"$f":"Teams!B14","v":"Serbien"},null,null,"Rang 3","Slowenien",{"$f":"COUNTIF(Endplatzierung!E20:CZ20,$B$12)+COUNTIF(Endplatzierung!E54:CZ54,$B$12)","v":22},"Dänemark",{"$f":"COUNTIF(Endplatzierung!E20:CZ20,$B$13)+COUNTIF(Endplatzierung!E54:CZ54,$B$13)","v":12},"Serbien",{"$f":"COUNTIF(Endplatzierung!E20:CZ20,$B$14)+COUNTIF(Endplatzierung!E54:CZ54,$B$14)","v":41},"England",{"$f":"COUNTIF(Endplatzierung!E20:CZ20,$B$15)+COUNTIF(Endplatzierung!E54:CZ54,$B$15)","v":1}]
[null,{"$f":"Teams!B15","v":"England"},null,null,"Rang 4","Slowenien",{"$f":"COUNTIF(Endplatzierung!E21:CZ21,$B$12)+COUNTIF(Endplatzierung!E55:CZ55,$B$12)","v":53},"Dänemark",{"$f":"COUNTIF(Endplatzierung!E21:CZ21,$B$13)+COUNTIF(Endplatzierung!E55:CZ55,$B$13)","v":2},"Serbien",{"$f":"COUNTIF(Endplatzierung!E21:CZ21,$B$14)+COUNTIF(Endplatzierung!E55:CZ55,$B$14)","v":21},"England",{"$f":"COUNTIF(Endplatzierung!E21:CZ21,$B$15)+COUNTIF(Endplatzierung!E55:CZ55,$B$15)","v":0}]
["Gruppe D",{"$f":"Teams!B16","v":"Polen"},null,"Gruppe D","Rang 1",{"$f":"$B$16","v":"Polen"},{"$f":"COUNTIF(Endplatzierung!E22:CZ22,$B$16)+COUNTIF(Endplatzierung!E56:CZ56,$B$16)","v":0},{"$f":"$B$17","v":"Holland"},{"$f":"COUNTIF(Endplatzierung!E22:CZ22,$B$17)+COUNTIF(Endplatzierung!E56:CZ56,$B$17)","v":7},{"$f":"$B$18","v":"Österreich"},{"$f":"COUNTIF(Endplatzierung!E22:CZ22,$B$18)+COUNTIF(Endplatzierung!E56:CZ56,$B$18)","v":0},{"$f":"$B$19","v":"Frankreich"},{"$f":"COUNTIF(Endplatzierung!E22:CZ22,$B$19)+COUNTIF(Endplatzierung!E56:CZ56,$B$19)","v":69}]
[null,{"$f":"Teams!B17","v":"Holland"},null,null,"Rang 2",{"$f":"$B$16","v":"Polen"},{"$f":"COUNTIF(Endplatzierung!E23:CZ23,$B$16)+COUNTIF(Endplatzierung!E57:CZ57,$B$16)","v":2},{"$f":"$B$17","v":"Holland"},{"$f":"COUNTIF(Endplatzierung!E23:CZ23,$B$17)+COUNTIF(Endplatzierung!E57:CZ57,$B$17)","v":55},{"$f":"$B$18","v":"Österreich"},{"$f":"COUNTIF(Endplatzierung!E23:CZ23,$B$18)+COUNTIF(Endplatzierung!E57:CZ57,$B$18)","v":13},{"$f":"$B$19","v":"Frankreich"},{"$f":"COUNTIF(Endplatzierung!E23:CZ23,$B$19)+COUNTIF(Endplatzierung!E57:CZ57,$B$19)","v":6}]
[null,{"$f":"Teams!B18","v":"Österreich"},null,null,"Rang 3","Polen",{"$f":"COUNTIF(Endplatzierung!E24:CZ24,$B$16)+COUNTIF(Endplatzierung!E58:CZ58,$B$16)","v":12},"Holland",{"$f":"COUNTIF(Endplatzierung!E24:CZ24,$B$17)+COUNTIF(Endplatzierung!E58:CZ58,$B$17)","v":13},"Österreich",{"$f":"COUNTIF(Endplatzierung!E24:CZ24,$B$18)+COUNTIF(Endplatzierung!E58:CZ58,$B$18)","v":50},"Frankreich",{"$f":"COUNTIF(Endplatzierung!E24:CZ24,$B$19)+COUNTIF(Endplatzierung!E58:CZ58,$B$19)","v":1}]
[null,{"$f":"Teams!B19","v":"Frankreich"},null,null,"Rang 4","Polen",{"$f":"COUNTIF(Endplatzierung!E25:CZ25,$B$16)+COUNTIF(Endplatzierung!E59:CZ59,$B$16)","v":62},"Holland",{"$f":"COUNTIF(Endplatzierung!E25:CZ25,$B$17)+COUNTIF(Endplatzierung!E59:CZ59,$B$17)","v":1},"Österreich",{"$f":"COUNTIF(Endplatzierung!E25:CZ25,$B$18)+COUNTIF(Endplatzierung!E59:CZ59,$B$18)","v":13},"Frankreich",{"$f":"COUNTIF(Endplatzierung!E25:CZ25,$B$19)+COUNTIF(Endplatzierung!E59:CZ59,$B$19)","v":0}]
["Gruppe E",{"$f":"Teams!B20","v":"Belgien"},null,"Gruppe E","Rang 1",{"$f":"$B$20","v":"Belgien"},{"$f":"COUNTIF(Endplatzierung!E26:CZ26,$B$20)+COUNTIF(Endplatzierung!E60:CZ60,$B$20)","v":68},{"$f":"$B$21","v":"Slowakei"},{"$f":"COUNTIF(Endplatzierung!E26:CZ26,$B$21)+COUNTIF(Endplatzierung!E60:CZ60,$B$21)","v":3},{"$f":"$B$22","v":"Rumänien"},{"$f":"COUNTIF(Endplatzierung!E26:CZ26,$B$22)+COUNTIF(Endplatzierung!E60:CZ60,$B$22)","v":1},{"$f":"$B$23","v":"Ukraine"},{"$f":"COUNTIF(Endplatzierung!E26:CZ26,$B$23)+COUNTIF(Endplatzierung!E60:CZ60,$B$23)","v":4}]
[null,{"$f":"Teams!B21","v":"Slowakei"},null,null,"Rang 2",{"$f":"$B$20","v":"Belgien"},{"$f":"COUNTIF(Endplatzierung!E27:CZ27,$B$20)+COUNTIF(Endplatzierung!E61:CZ61,$B$20)","v":7},{"$f":"$B$21","v":"Slowakei"},{"$f":"COUNTIF(Endplatzierung!E27:CZ27,$B$21)+COUNTIF(Endplatzierung!E61:CZ61,$B$21)","v":16},{"$f":"$B$22","v":"Rumänien"},{"$f":"COUNTIF(Endplatzierung!E27:CZ27,$B$22)+COUNTIF(Endplatzierung!E61:CZ61,$B$22)","v":15},{"$f":"$B$23","v":"Ukraine"},{"$f":"COUNTIF(Endplatzierung!E27:CZ27,$B$23)+COUNTIF(Endplatzierung!E61:CZ61,$B$23)","v":38}]
[null,{"$f":"Teams!B22","v":"Rumänien"},null,null,"Rang 3","Belgien",{"$f":"COUNTIF(Endplatzierung!E28:CZ28,$B$20)+COUNTIF(Endplatzierung!E62:CZ62,$B$20)","v":0},"Slowakei",{"$f":"COUNTIF(Endplatzierung!E28:CZ28,$B$21)+COUNTIF(Endplatzierung!E62:CZ62,$B$21)","v":31},"Rumänien",{"$f":"COUNTIF(Endplatzierung!E28:CZ28,$B$22)+COUNTIF(Endplatzierung!E62:CZ62,$B$22)","v":29},"Ukraine",{"$f":"COUNTIF(Endplatzierung!E28:CZ28,$B$23)+COUNTIF(Endplatzierung!E62:CZ62,$B$23)","v":16}]
[null,{"$f":"Teams!B23","v":"Ukraine"},null,null,"Rang 4","Belgien",{"$f":"COUNTIF(Endplatzierung!E29:CZ29,$B$20)+COUNTIF(Endplatzierung!E63:CZ63,$B$20)","v":1},"Slowakei",{"$f":"COUNTIF(Endplatzierung!E29:CZ29,$B$21)+COUNTIF(Endplatzierung!E63:CZ63,$B$21)","v":26},"Rumänien",{"$f":"COUNTIF(Endplatzierung!E29:CZ29,$B$22)+COUNTIF(Endplatzierung!E63:CZ63,$B$22)","v":31},"Ukraine",{"$f":"COUNTIF(Endplatzierung!E29:CZ29,$B$23)+COUNTIF(Endplatzierung!E63:CZ63,$B$23)","v":18}]
["Gruppe F",{"$f":"Teams!B24","v":"Türkei"},null,"Gruppe F","Rang 1",{"$f":"$B$24","v":"Türkei"},{"$f":"COUNTIF(Endplatzierung!E30:CZ30,$B$24)+COUNTIF(Endplatzierung!E64:CZ64,$B$24)","v":3},{"$f":"$B$25","v":"Georgien"},{"$f":"COUNTIF(Endplatzierung!E30:CZ30,$B$25)+COUNTIF(Endplatzierung!E64:CZ64,$B$25)","v":0},{"$f":"$B$26","v":"Portugal"},{"$f":"COUNTIF(Endplatzierung!E30:CZ30,$B$26)+COUNTIF(Endplatzierung!E64:CZ64,$B$26)","v":72},{"$f":"$B$27","v":"Tschechien"},{"$f":"COUNTIF(Endplatzierung!E30:CZ30,$B$27)+COUNTIF(Endplatzierung!E64:CZ64,$B$27)","v":1}]
[null,{"$f":"Teams!B25","v":"Georgien"},null,null,"Rang 2",{"$f":"$B$24","v":"Türkei"},{"$f":"COUNTIF(Endplatzierung!E31:CZ31,$B$24)+COUNTIF(Endplatzierung!E65:CZ65,$B$24)","v":37},{"$f":"$B$25","v":"Georgien"},{"$f":"COUNTIF(Endplatzierung!E31:CZ31,$B$25)+COUNTIF(Endplatzierung!E65:CZ65,$B$25)","v":0},{"$f":"$B$26","v":"Portugal"},{"$f":"COUNTIF(Endplatzierung!E31:CZ31,$B$26)+COUNTIF(Endplatzierung!E65:CZ65,$B$26)","v":4},{"$f":"$B$27","v":"Tschechien"},{"$f":"COUNTIF(Endplatzierung!E31:CZ31,$B$27)+COUNTIF(Endplatzierung!E65:CZ65,$B$27)","v":35}]
[null,{"$f":"Teams!B26","v":"Portugal"},null,null,"Rang 3","Türkei",{"$f":"COUNTIF(Endplatzierung!E32:CZ32,$B$24)+COUNTIF(Endplatzierung!E66:CZ66,$B$24)","v":34},"Georgien",{"$f":"COUNTIF(Endplatzierung!E32:CZ32,$B$25)+COUNTIF(Endplatzierung!E66:CZ66,$B$25)","v":8},"Portugal",{"$f":"COUNTIF(Endplatzierung!E32:CZ32,$B$26)+COUNTIF(Endplatzierung!E66:CZ66,$B$26)","v":0},"Tschechien",{"$f":"COUNTIF(Endplatzierung!E32:CZ32,$B$27)+COUNTIF(Endplatzierung!E66:CZ66,$B$27)","v":34}]
[null,{"$f":"Teams!B27","v":"Tschechien"},null,null,"Rang 4","Türkei",{"$f":"COUNTIF(Endplatzierung!E33:CZ33,$B$24)+COUNTIF(Endplatzierung!E67:CZ67,$B$24)","v":2},"Georgien",{"$f":"COUNTIF(Endplatzierung!E33:CZ33,$B$25)+COUNTIF(Endplatzierung!E67:CZ67,$B$25)","v":68},"Portugal",{"$f":"COUNTIF(Endplatzierung!E33:CZ33,$B$26)+COUNTIF(Endplatzierung!E67:CZ67,$B$26)","v":0},"Tschechien",{"$f":"COUNTIF(Endplatzierung!E33:CZ33,$B$27)+COUNTIF(Endplatzierung!E67:CZ67,$B$27)","v":6}]

{"sheet":"Stat_Teams_Ort","index":11,"n_rows":105,"n_cols":17,"rows_kept":105,"cut":false,"hidden":false,"merged":[[0,0,0,4],[2,2,2,4],[2,8,2,10],[2,14,2,16]]}
[{"$f":"Teams!$B$30","v":"EM 2024 by Rogerinho (www.fcbouncer.ch)"}]
[]
["Wie gut wurde getippt? (alle Teilnehmer)",null,"Teams 1/8 Finale",null,null,null,"Wie gut wurde getippt? (alle Teilnehmer)",null,"Teams 1/4 Finale",null,null,null,"Wie gut wurde getippt? (alle Teilnehmer)",null,"Teams 1/2 Finale"]
[null,null,"am richtigen Ort","am falschen Ort","falsche Mannschaft",null,null,null,"am richtigen Ort","am falschen Ort","falsche Mannschaft",null,null,null,"am richtigen Ort","am falschen Ort","falsche Mannschaft"]
[{"$f":"Teilnehmerliste!$A$6","v":1},{"$f":"Teilnehmerliste!B6 &\" \"&Teilnehmerliste!C6","v":"Agorastos Panos"},{"$f":"IF(Finalrunde!$D$11=\"\",0,IF(Finalrunde!$D$11=Finalrunde!J11,1,0))+IF(Finalrunde!$D$12=\"\",0,IF(Finalrunde!$D$12=Finalrunde!J12,1,0))+IF(Finalrunde!$D$13=\"\",0,IF(Finalrunde!$D$13=Finalrunde!J13,1,0))+IF(Finalrunde!$D$14=\"\",0,IF(Finalrunde!$D$14=Finalrunde!J14,1,0))+IF(Finalrunde!$D$15=\"\",0,IF(Finalrunde!$D$15=Finalrunde!J15,1,0))+IF(Finalrunde!$D$16=\"\",0,IF(Finalrunde!$D$16=Finalrunde!J16,1,0))+IF(Finalrunde!$D$17=\"\",0,IF(Finalrunde!$D$17=Finalrunde!J17,1,0))+IF(Finalrunde!$D$18=\"\",0,IF(Finalrunde!$D$18=Finalrunde!J18,1,0))+IF(Finalrunde!$E$11=\"\",0,IF(Finalrunde!$E$11=Finalrunde!M11,1,0))+IF(Finalrunde!$E$12=\"\",0,IF(Finalrunde!$E$12=Finalrunde!M12,1,0))+IF(Finalrunde!$E$13=\"\",0,IF(Finalrunde!$E$13=Finalrunde!M13,1,0))+IF(Finalrunde!$E$14=\"\",0,IF(Finalrunde!$E$14=Finalrunde!M14,1,0))+IF(Finalrunde!$E$15=\"\",0,IF(Finalrunde!$E$15=Finalrunde!M15,1,0))+IF(Finalrunde!$E$16=\"\",0,IF(Finalrunde!$E$16=Finalrunde!M16,1,0))+IF(Finalrunde!$E$17=\"\",0,IF(Finalrunde!$E$17=Finalrunde!M17,1,0))+IF(Finalrunde!$E$18=\"\",0,IF(Finalrunde!$E$18=Finalrunde!M18,1,0))","v":5},{"$f":"SUM(16-C5-E5)","v":8},{"$f":"IF(COUNTIF(Finalrunde!$D$11:$E$18,Finalrunde!J11)<>0,\"0\",\"1\")+IF(COUNTIF(Finalrunde!$D$11:$E$18,Finalrunde!J12)<>0,\"0\",\"1\")+IF(COUNTIF(Finalrunde!$D$11:$E$18,Finalrunde!J13)<>0,\"0\",\"1\")+IF(COUNTIF(Finalrunde!$D$11:$E$18,Finalrunde!J14)<>0,\"0\",\"1\")+IF(COUNTIF(Finalrunde!$D$11:$E$18,Finalrunde!J15)<>0,\"0\",\"1\")+IF(COUNTIF(Finalrunde!$D$11:$E$18,Finalrunde!J16)<>0,\"0\",\"1\")+IF(COUNTIF(Finalrunde!$D$11:$E$18,Finalrunde!J17)<>0,\"0\",\"1\")+IF(COUNTIF(Finalrunde!$D$11:$E$18,Finalrunde!J18)<>0,\"0\",\"1\")+IF(COUNTIF(Finalrunde!$D$11:$E$18,Finalrunde!M11)<>0,\"0\",\"1\")+IF(COUNTIF(Finalrunde!$D$11:$E$18,Finalrunde!M12)<>0,\"0\",\"1\")+IF(COUNTIF(Finalrunde!$D$11:$E$18,Finalrunde!M13)<>0,\"0\",\"1\")+IF(COUNTIF(Finalrunde!$D$11:$E$18,Finalrunde!M14)<>0,\"0\",\"1\")+IF(COUNTIF(Finalrunde!$D$11:$E$18,Finalrunde!M15)<>0,\"0\",\"1\")+IF(COUNTIF(Finalrunde!$D$11:$E$18,Finalrunde!M16)<>0,\"0\",\"1\")+IF(COUNTIF(Finalrunde!$D$11:$E$18,Finalrunde!M17)<>0,\"0\",\"1\")+IF(COUNTIF(Finalrunde!$D$11:$E$18,Finalrunde!M18)<>0,\"0\",\"1\")","v":3},null,{"$f":"A5","v":1},{"$f":"B5","v":"Agorastos Panos"},{"$f":"IF(Finalrunde!$D$20=\"\",0,IF(Finalrunde!$D$20=Finalrunde!J20,1,0))+IF(Finalrunde!$D$21=\"\",0,IF(Finalrunde!$D$21=Finalrunde!J21,1,0))+IF(Finalrunde!$D$22=\"\",0,IF(Finalrunde!$D$22=Finalrunde!J22,1,0))+IF(Finalrunde!$D$23=\"\",0,IF(Finalrunde!$D$23=Finalrunde!J23,1,0))+IF(Finalrunde!$E$20=\"\",0,IF(Finalrunde!$E$20=Finalrunde!M20,1,0))+IF(Finalrunde!$E$21=\"\",0,IF(Finalrunde!$E$21=Finalrunde!M21,1,0))+IF(Finalrunde!$E$22=\"\",0,IF(Finalrunde!$E$22=Finalrunde!M22,1,0))+IF(Finalrunde!$E$23=\"\",0,IF(Finalrunde!$E$23=Finalrunde!M23,1,0))","v":3},{"$f":"SUM(8-I5-K5)","v":3},{"$f":"IF(COUNTIF(Finalrunde!$D$20:$E$23,Finalrunde!J20)<>0,\"0\",\"1\")+IF(COUNTIF(Finalrunde!$D$20:$E$23,Finalrunde!J21)<>0,\"0\",\"1\")+IF(COUNTIF(Finalrunde!$D$20:$E$23,Finalrunde!J22)<>0,\"0\",\"1\")+IF(COUNTIF(Finalrunde!$D$20:$E$23,Finalrunde!J23)<>0,\"0\",\"1\")+IF(COUNTIF(Finalrunde!$D$20:$E$23,Finalrunde!M20)<>0,\"0\",\"1\")+IF(COUNTIF(Finalrunde!$D$20:$E$23,Finalrunde!M21)<>0,\"0\",\"1\")+IF(COUNTIF(Finalrunde!$D$20:$E$23,Finalrunde!M22)<>0,\"0\",\"1\")+IF(COUNTIF(Finalrunde!$D$20:$E$23,Finalrunde!M23)<>0,\"0\",\"1\")","v":2},null,{"$f":"G5","v":1},{"$f":"H5","v":"Agorastos Panos"},{"$f":"IF(Finalrunde!$D$25=\"\",0,IF(Finalrunde!$D$25=Finalrunde!J25,1,0))+IF(Finalrunde!$D$26=\"\",0,IF(Finalrunde!$D$26=Finalrunde!J26,1,0))+IF(Finalrunde!$E$25=\"\",0,IF(Finalrunde!$E$25=Finalrunde!M25,1,0))+IF(Finalrunde!$E$26=\"\",0,IF(Finalrunde!$E$26=Finalrunde!M26,1,0))","v":1},{"$f":"SUM(4-O5-Q5)","v":1},{"$f":"IF(COUNTIF(Finalrunde!$D$25:$E$26,Finalrunde!J25)<>0,\"0\",\"1\")+IF(COUNTIF(Finalrunde!$D$25:$E$26,Finalrunde!J26)<>0,\"0\",\"1\")+IF(COUNTIF(Finalrunde!$D$25:$E$26,Finalrunde!M25)<>0,\"0\",\"1\")+IF(COUNTIF(Finalrunde!$D$25:$E$26,Finalrunde!M26)<>0,\"0\",\"1\")","v":2}]
[{"$f":"Teilnehmerliste!$A$7","v":2},{"$f":"Teilnehmerliste!B7 &\" \"&Teilnehmerliste!C7","v":"Antonelli Marco"},{"$f":"IF(Finalrunde!$D$11=\"\",0,IF(Finalrunde!$D$11=Finalrunde!Q11,1,0))+IF(Finalrunde!$D$12=\"\",0,IF(Finalrunde!$D$12=Finalrunde!Q12,1,0))+IF(Finalrunde!$D$13=\"\",0,IF(Finalrunde!$D$13=Finalrunde!Q13,1,0))+IF(Finalrunde!$D$14=\"\",0,IF(Finalrunde!$D$14=Finalrunde!Q14,1,0))+IF(Finalrunde!$D$15=\"\",0,IF(Finalrunde!$D$15=Finalrunde!Q15,1,0))+IF(Finalrunde!$D$16=\"\",0,IF(Finalrunde!$D$16=Finalrunde!Q16,1,0))+IF(Finalrunde!$D$17=\"\",0,IF(Finalrunde!$D$17=Finalrunde!Q17,1,0))+IF(Finalrunde!$D$18=\"\",0,IF(Finalrunde!$D$18=Finalrunde!Q18,1,0))+IF(Finalrunde!$E$11=\"\",0,IF(Finalrunde!$E$11=Finalrunde!T11,1,0))+IF(Finalrunde!$E$12=\"\",0,IF(Finalrunde!$E$12=Finalrunde!T12,1,0))+IF(Finalrunde!$E$13=\"\",0,IF(Finalrunde!$E$13=Finalrunde!T13,1,0))+IF(Finalrunde!$E$14=\"\",0,IF(Finalrunde!$E$14=Finalrunde!T14,1,0))+IF(Finalrunde!$E$15=\"\",0,IF(Finalrunde!$E$15=Finalrunde!T15,1,0))+IF(Finalrunde!$E$16=\"\",0,IF(Finalrunde!$E$16=Finalrunde!T16,1,0))+IF(Finalrunde!$E$17=\"\",0,IF(Finalrunde!$E$17=Finalrunde!T17,1,0))+IF(Finalrunde!$E$18=\"\",0,IF(Finalrunde!$E$18=Finalrunde!T18,1,0))","v":5},{"$f":"SUM(16-C6-E6)","v":8},{"$f":"IF(COUNTIF(Finalrunde!$D$11:$E$18,Finalrunde!Q11)<>0,\"0\",\"1\")+IF(COUNTIF(Finalrunde!$D$11:$E$18,Finalrunde!Q12)<>0,\"0\",\"1\")+IF(COUNTIF(Finalrunde!$D$11:$E$18,Finalrunde!Q13)<>0,\"0\",\"1\")+IF(COUNTIF(Finalrunde!$D$11:$E$18,Finalrunde!Q14)<>0,\"0\",\"1\")+IF(COUNTIF(Finalrunde!$D$11:$E$18,Finalrunde!Q15)<>0,\"0\",\"1\")+IF(COUNTIF(Finalrunde!$D$11:$E$18,Finalrunde!Q16)<>0,\"0\",\"1\")+IF(COUNTIF(Finalrunde!$D$11:$E$18,Finalrunde!Q17)<>0,\"0\",\"1\")+IF(COUNTIF(Finalrunde!$D$11:$E$18,Finalrunde!Q18)<>0,\"0\",\"1\")+IF(COUNTIF(Finalrunde!D$11:E$18,Finalrunde!T11)<>0,\"0\",\"1\")+IF(COUNTIF(Finalrunde!$D$11:$E$18,Finalrunde!T12)<>0,\"0\",\"1\")+IF(COUNTIF(Finalrunde!$D$11:$E$18,Finalrunde!T13)<>0,\"0\",\"1\")+IF(COUNTIF(Finalrunde!$D$11:$E$18,Finalrunde!T14)<>0,\"0\",\"1\")+IF(COUNTIF(Finalrunde!$D$11:$E$18,Finalrunde!T15)<>0,\"0\",\"1\")+IF(COUNTIF(Finalrunde!$D$11:$E$18,Finalrunde!T16)<>0,\"0\",\"1\")+IF(COUNTIF(Finalrunde!$D$11:$E$18,Finalrunde!T17)<>0,\"0\",\"1\")+IF(COUNTIF(Finalrunde!$D$11:$E$18,Finalrunde!T18)<>0,\"0\",\"1\")","v":3},null,{"$f":"A6","v":2},{"$f":"B6","v":"Antonelli Marco"},{"$f":"IF(Finalrunde!$D$20=\"\",0,IF(Finalrunde!$D$20=Finalrunde!Q20,1,0))+IF(Finalrunde!$D$21=\"\",0,IF(Finalrunde!$D$21=Finalrunde!Q21,1,0))+IF(Finalrunde!$D$22=\"\",0,IF(Finalrunde!$D$22=Finalrunde!Q22,1,0))+IF(Finalrunde!$D$23=\"\",0,IF(Finalrunde!$D$23=Finalrunde!Q23,1,0))+IF(Finalrunde!$E$20=\"\",0,IF(Finalrunde!$E$20=Finalrunde!T20,1,0))+IF(Finalrunde!$E$21=\"\",0,IF(Finalrunde!$E$21=Finalrunde!T21,1,0))+IF(Finalrunde!$E$22=\"\",0,IF(Finalrunde!$E$22=Finalrunde!T22,1,0))+IF(Finalrunde!$E$23=\"\",0,IF(Finalrunde!$E$23=Finalrunde!T23,1,0))","v":2},{"$f":"SUM(8-I6-K6)","v":2},{"$f":"IF(COUNTIF(Finalrunde!$D$20:$E$23,Finalrunde!Q20)<>0,\"0\",\"1\")+IF(COUNTIF(Finalrunde!$D$20:$E$23,Finalrunde!Q21)<>0,\"0\",\"1\")+IF(COUNTIF(Finalrunde!$D$20:$E$23,Finalrunde!Q22)<>0,\"0\",\"1\")+IF(COUNTIF(Finalrunde!$D$20:$E$23,Finalrunde!Q23)<>0,\"0\",\"1\")+IF(COUNTIF(Finalrunde!$D$20:$E$23,Finalrunde!T20)<>0,\"0\",\"1\")+IF(COUNTIF(Finalrunde!$D$20:$E$23,Finalrunde!T21)<>0,\"0\",\"1\")+IF(COUNTIF(Finalrunde!$D$20:$E$23,Finalrunde!T22)<>0,\"0\",\"1\")+IF(COUNTIF(Finalrunde!$D$20:$E$23,Finalrunde!T23)<>0,\"0\",\"1\")","v":4},null,{"$f":"G6","v":2},{"$f":"H6","v":"Antonelli Marco"},{"$f":"IF(Finalrunde!$D$25=\"\",0,IF(Finalrunde!$D$25=Finalrunde!Q25,1,0))+IF(Finalrunde!$D$26=\"\",0,IF(Finalrunde!$D$26=Finalrunde!Q26,1,0))+IF(Finalrunde!$E$25=\"\",0,IF(Finalrunde!$E$25=Finalrunde!T25,1,0))+IF(Finalrunde!$E$26=\"\",0,IF(Finalrunde!$E$26=Finalrunde!T26,1,0))","v":0},{"$f":"SUM(4-O6-Q6)","v":1},{"$f":"IF(COUNTIF(Finalrunde!$D$25:$E$26,Finalrunde!Q25)<>0,\"0\",\"1\")+IF(COUNTIF(Finalrunde!$D$25:$E$26,Finalrunde!Q26)<>0,\"0\",\"1\")+IF(COUNTIF(Finalrunde!$D$25:$E$26,Finalrunde!T25)<>0,\"0\",\"1\")+IF(COUNTIF(Finalrunde!$D$25:$E$26,Finalrunde!T26)<>0,\"0\",\"1\")","v":3}]
[{"$f":"Teilnehmerliste!$A$8","v":3},{"$f":"Teilnehmerliste!B8 &\" \"&Teilnehmerliste!C8","v":"Antonelli Ruben"},{"$f":"IF(Finalrunde!$D$11=\"\",0,IF(Finalrunde!$D$11=Finalrunde!X11,1,0))+IF(Finalrunde!$D$12=\"\",0,IF(Finalrunde!$D$12=Finalrunde!X12,1,0))+IF(Finalrunde!$D$13=\"\",0,IF(Finalrunde!$D$13=Finalrunde!X13,1,0))+IF(Finalrunde!$D$14=\"\",0,IF(Finalrunde!$D$14=Finalrunde!X14,1,0))+IF(Finalrunde!$D$15=\"\",0,IF(Finalrunde!$D$15=Finalrunde!X15,1,0))+IF(Finalrunde!$D$16=\"\",0,IF(Finalrunde!$D$16=Finalrunde!X16,1,0))+IF(Finalrunde!$D$17=\"\",0,IF(Finalrunde!$D$17=Finalrunde!X17,1,0))+IF(Finalrunde!$D$18=\"\",0,IF(Finalrunde!$D$18=Finalrunde!X18,1,0))+IF(Finalrunde!$E$11=\"\",0,IF(Finalrunde!$E$11=Finalrunde!AA11,1,0))+IF(Finalrunde!$E$12=\"\",0,IF(Finalrunde!$E$12=Finalrunde!AA12,1,0))+IF(Finalrunde!$E$13=\"\",0,IF(Finalrunde!$E$13=Finalrunde!AA13,1,0))+IF(Finalrunde!$E$14=\"\",0,IF(Finalrunde!$E$14=Finalrunde!AA14,1,0))+IF(Finalrunde!$E$15=\"\",0,IF(Finalrunde!$E$15=Finalrunde!AA15,1,0))+IF(Finalrunde!$E$16=\"\",0,IF(Finalrunde!$E$16=Finalrunde!AA16,1,0))+IF(Finalrunde!$E$17=\"\",0,IF(Finalrunde!$E$17=Finalrunde!AA17,1,0))+IF(Finalrunde!$E$18=\"\",0,IF(Finalrunde!$E$18=Finalrunde!AA18,1,0))","v":6},6,{"$f":"IF(COUNTIF(Finalrunde!$D$11:$E$18,Finalrunde!X11)<>0,\"0\",\"1\")+IF(COUNTIF(Finalrunde!$D$11:$E$18,Finalrunde!X12)<>0,\"0\",\"1\")+IF(COUNTIF(Finalrunde!$D$11:$E$18,Finalrunde!X13)<>0,\"0\",\"1\")+IF(COUNTIF(Finalrunde!$D$11:$E$18,Finalrunde!X14)<>0,\"0\",\"1\")+IF(COUNTIF(Finalrunde!$D$11:$E$18,Finalrunde!X15)<>0,\"0\",\"1\")+IF(COUNTIF(Finalrunde!$D$11:$E$18,Finalrunde!X16)<>0,\"0\",\"1\")+IF(COUNTIF(Finalrunde!$D$11:$E$18,Finalrunde!X17)<>0,\"0\",\"1\")+IF(COUNTIF(Finalrunde!$D$11:$E$18,Finalrunde!X18)<>0,\"0\",\"1\")+IF(COUNTIF(Finalrunde!D$11:E$18,Finalrunde!AA11)<>0,\"0\",\"1\")+IF(COUNTIF(Finalrunde!$D$11:$E$18,Finalrunde!AA12)<>0,\"0\",\"1\")+IF(COUNTIF(Finalrunde!$D$11:$E$18,Finalrunde!AA13)<>0,\"0\",\"1\")+IF(COUNTIF(Finalrunde!$D$11:$E$18,Finalrunde!AA14)<>0,\"0\",\"1\")+IF(COUNTIF(Finalrunde!$D$11:$E$18,Finalrunde!AA15)<>0,\"0\",\"1\")+IF(COUNTIF(Finalrunde!$D$11:$E$18,Finalrunde!AA16)<>0,\"0\",\"1\")+IF(COUNTIF(Finalrunde!$D$11:$E$18,Finalrunde!AA17)<>0,\"0\",\"1\")+IF(COUNTIF(Finalrunde!$D$11:$E$18,Finalrunde!AA18)<>0,\"0\",\"1\")","v":4},null,3,"Antonelli Ruben",{"$f":"IF(Finalrunde!$D$20=\"\",0,IF(Finalrunde!$D$20=Finalrunde!X20,1,0))+IF(Finalrunde!$D$21=\"\",0,IF(Finalrunde!$D$21=Finalrunde!X21,1,0))+IF(Finalrunde!$D$22=\"\",0,IF(Finalrunde!$D$22=Finalrunde!X22,1,0))+IF(Finalrunde!$D$23=\"\",0,IF(Finalrunde!$D$23=Finalrunde!X23,1,0))+IF(Finalrunde!$E$20=\"\",0,IF(Finalrunde!$E$20=Finalrunde!AA20,1,0))+IF(Finalrunde!$E$21=\"\",0,IF(Finalrunde!$E$21=Finalrunde!AA21,1,0))+IF(Finalrunde!$E$22=\"\",0,IF(Finalrunde!$E$22=Finalrunde!AA22,1,0))+IF(Finalrunde!$E$23=\"\",0,IF(Finalrunde!$E$23=Finalrunde!AA23,1,0))","v":3},3,{"$f":"IF(COUNTIF(Finalrunde!$D$20:$E$23,Finalrunde!X20)<>0,\"0\",\"1\")+IF(COUNTIF(Finalrunde!$D$20:$E$23,Finalrunde!X21)<>0,\"0\",\"1\")+IF(COUNTIF(Finalrunde!$D$20:$E$23,Finalrunde!X22)<>0,\"0\",\"1\")+IF(COUNTIF(Finalrunde!$D$20:$E$23,Finalrunde!X23)<>0,\"0\",\"1\")+IF(COUNTIF(Finalrunde!$D$20:$E$23,Finalrunde!AA20)<>0,\"0\",\"1\")+IF(COUNTIF(Finalrunde!$D$20:$E$23,Finalrunde!AA21)<>0,\"0\",\"1\")+IF(COUNTIF(Finalrunde!$D$20:$E$23,Finalrunde!AA22)<>0,\"0\",\"1\")+IF(COUNTIF(Finalrunde!$D$20:$E$23,Finalrunde!AA23)<>0,\"0\",\"1\")","v":2},null,3,"Antonelli Ruben",{"$f":"IF(Finalrunde!$D$25=\"\",0,IF(Finalrunde!$D$25=Finalrunde!X25,1,0))+IF(Finalrunde!$D$26=\"\",0,IF(Finalrunde!$D$26=Finalrunde!X26,1,0))+IF(Finalrunde!$E$25=\"\",0,IF(Finalrunde!$E$25=Finalrunde!AA25,1,0))+IF(Finalrunde!$E$26=\"\",0,IF(Finalrunde!$E$26=Finalrunde!AA26,1,0))","v":0},1,{"$f":"IF(COUNTIF(Finalrunde!$D$25:$E$26,Finalrunde!X25)<>0,\"0\",\"1\")+IF(COUNTIF(Finalrunde!$D$25:$E$26,Finalrunde!X26)<>0,\"0\",\"1\")+IF(COUNTIF(Finalrunde!$D$25:$E$26,Finalrunde!AA25)<>0,\"0\",\"1\")+IF(COUNTIF(Finalrunde!$D$25:$E$26,Finalrunde!AA26)<>0,\"0\",\"1\")","v":3}]
[{"$f":"Teilnehmerliste!$A$9","v":4},{"$f":"Teilnehmerliste!B9 &\" \"&Teilnehmerliste!C9","v":"Bartholet Andi"},{"$f":"IF(Finalrunde!$D$11=\"\",0,IF(Finalrunde!$D$11=Finalrunde!AE11,1,0))+IF(Finalrunde!$D$12=\"\",0,IF(Finalrunde!$D$12=Finalrunde!AE12,1,0))+IF(Finalrunde!$D$13=\"\",0,IF(Finalrunde!$D$13=Finalrunde!AE13,1,0))+IF(Finalrunde!$D$14=\"\",0,IF(Finalrunde!$D$14=Finalrunde!AE14,1,0))+IF(Finalrunde!$D$15=\"\",0,IF(Finalrunde!$D$15=Finalrunde!AE15,1,0))+IF(Finalrunde!$D$16=\"\",0,IF(Finalrunde!$D$16=Finalrunde!AE16,1,0))+IF(Finalrunde!$D$17=\"\",0,IF(Finalrunde!$D$17=Finalrunde!AE17,1,0))+IF(Finalrunde!$D$18=\"\",0,IF(Finalrunde!$D$18=Finalrunde!AE18,1,0))+IF(Finalrunde!$E$11=\"\",0,IF(Finalrunde!$E$11=Finalrunde!AH11,1,0))+IF(Finalrunde!$E$12=\"\",0,IF(Finalrunde!$E$12=Finalrunde!AH12,1,0))+IF(Finalrunde!$E$13=\"\",0,IF(Finalrunde!$E$13=Finalrunde!AH13,1,0))+IF(Finalrunde!$E$14=\"\",0,IF(Finalrunde!$E$14=Finalrunde!AH14,1,0))+IF(Finalrunde!$E$15=\"\",0,IF(Finalrunde!$E$15=Finalrunde!AH15,1,0))+IF(Finalrunde!$E$16=\"\",0,IF(Finalrunde!$E$16=Finalrunde!AH16,1,0))+IF(Finalrunde!$E$17=\"\",0,IF(Finalrunde!$E$17=Finalrunde!AH17,1,0))+IF(Finalrunde!$E$18=\"\",0,IF(Finalrunde!$E$18=Finalrunde!AH18,1,0))","v":7},5,{"$f":"IF(COUNTIF(Finalrunde!$D$11:$E$18,Finalrunde!AE11)<>0,\"0\",\"1\")+IF(COUNTIF(Finalrunde!$D$11:$E$18,Finalrunde!AE12)<>0,\"0\",\"1\")+IF(COUNTIF(Finalrunde!$D$11:$E$18,Finalrunde!AE13)<>0,\"0\",\"1\")+IF(COUNTIF(Finalrunde!$D$11:$E$18,Finalrunde!AE14)<>0,\"0\",\"1\")+IF(COUNTIF(Finalrunde!$D$11:$E$18,Finalrunde!AE15)<>0,\"0\",\"1\")+IF(COUNTIF(Finalrunde!$D$11:$E$18,Finalrunde!AE16)<>0,\"0\",\"1\")+IF(COUNTIF(Finalrunde!$D$11:$E$18,Finalrunde!AE17)<>0,\"0\",\"1\")+IF(COUNTIF(Finalrunde!$D$11:$E$18,Finalrunde!AE18)<>0,\"0\",\"1\")+IF(COUNTIF(Finalrunde!D$11:E$18,Finalrunde!AH11)<>0,\"0\",\"1\")+IF(COUNTIF(Finalrunde!$D$11:$E$18,Finalrunde!AH12)<>0,\"0\",\"1\")+IF(COUNTIF(Finalrunde!$D$11:$E$18,Finalrunde!AH13)<>0,\"0\",\"1\")+IF(COUNTIF(Finalrunde!$D$11:$E$18,Finalrunde!AH14)<>0,\"0\",\"1\")+IF(COUNTIF(Finalrunde!$D$11:$E$18,Finalrunde!AH15)<>0,\"0\",\"1\")+IF(COUNTIF(Finalrunde!$D$11:$E$18,Finalrunde!AH16)<>0,\"0\",\"1\")+IF(COUNTIF(Finalrunde!$D$11:$E$18,Finalrunde!AH17)<>0,\"0\",\"1\")+IF(COUNTIF(Finalrunde!$D$11:$E$18,Finalrunde!AH18)<>0,\"0\",\"1\")","v":4},null,4,"Bartholet Andi",{"$f":"IF(Finalrunde!$D$20=\"\",0,IF(Finalrunde!$D$20=Finalrunde!AE20,1,0))+IF(Finalrunde!$D$21=\"\",0,IF(Finalrunde!$D$21=Finalrunde!AE21,1,0))+IF(Finalrunde!$D$22=\"\",0,IF(Finalrunde!$D$22=Finalrunde!AE22,1,0))+IF(Finalrunde!$D$23=\"\",0,IF(Finalrunde!$D$23=Finalrunde!AE23,1,0))+IF(Finalrunde!$E$20=\"\",0,IF(Finalrunde!$E$20=Finalrunde!AH20,1,0))+IF(Finalrunde!$E$21=\"\",0,IF(Finalrunde!$E$21=Finalrunde!AH21,1,0))+IF(Finalrunde!$E$22=\"\",0,IF(Finalrunde!$E$22=Finalrunde!AH22,1,0))+IF(Finalrunde!$E$23=\"\",0,IF(Finalrunde!$E$23=Finalrunde!AH23,1,0))","v":5},2,{"$f":"IF(COUNTIF(Finalrunde!$D$20:$E$23,Finalrunde!AE20)<>0,\"0\",\"1\")+IF(COUNTIF(Finalrunde!$D$20:$E$23,Finalrunde!AE21)<>0,\"0\",\"1\")+IF(COUNTIF(Finalrunde!$D$20:$E$23,Finalrunde!AE22)<>0,\"0\",\"1\")+IF(COUNTIF(Finalrunde!$D$20:$E$23,Finalrunde!AE23)<>0,\"0\",\"1\")+IF(COUNTIF(Finalrunde!$D$20:$E$23,Finalrunde!AH20)<>0,\"0\",\"1\")+IF(COUNTIF(Finalrunde!$D$20:$E$23,Finalrunde!AH21)<>0,\"0\",\"1\")+IF(COUNTIF(Finalrunde!$D$20:$E$23,Finalrunde!AH22)<>0,\"0\",\"1\")+IF(COUNTIF(Finalrunde!$D$20:$E$23,Finalrunde!AH23)<>0,\"0\",\"1\")","v":1},null,4,"Bartholet Andi",{"$f":"IF(Finalrunde!$D$25=\"\",0,IF(Finalrunde!$D$25=Finalrunde!AE25,1,0))+IF(Finalrunde!$D$26=\"\",0,IF(Finalrunde!$D$26=Finalrunde!AE26,1,0))+IF(Finalrunde!$E$25=\"\",0,IF(Finalrunde!$E$25=Finalrunde!AH25,1,0))+IF(Finalrunde!$E$26=\"\",0,IF(Finalrunde!$E$26=Finalrunde!AH26,1,0))","v":2},2,{"$f":"IF(COUNTIF(Finalrunde!$D$25:$E$26,Finalrunde!AE25)<>0,\"0\",\"1\")+IF(COUNTIF(Finalrunde!$D$25:$E$26,Finalrunde!AE26)<>0,\"0\",\"1\")+IF(COUNTIF(Finalrunde!$D$25:$E$26,Finalrunde!AH25)<>0,\"0\",\"1\")+IF(COUNTIF(Finalrunde!$D$25:$E$26,Finalrunde!AH26)<>0,\"0\",\"1\")","v":0}]
[{"$f":"Teilnehmerliste!$A$10","v":5},{"$f":"Teilnehmerliste!B10 &\" \"&Teilnehmerliste!C10","v":"Bartholet Nott"},{"$f":"IF(Finalrunde!$D$11=\"\",0,IF(Finalrunde!$D$11=Finalrunde!AL11,1,0))+IF(Finalrunde!$D$12=\"\",0,IF(Finalrunde!$D$12=Finalrunde!AL12,1,0))+IF(Finalrunde!$D$13=\"\",0,IF(Finalrunde!$D$13=Finalrunde!AL13,1,0))+IF(Finalrunde!$D$14=\"\",0,IF(Finalrunde!$D$14=Finalrunde!AL14,1,0))+IF(Finalrunde!$D$15=\"\",0,IF(Finalrunde!$D$15=Finalrunde!AL15,1,0))+IF(Finalrunde!$D$16=\"\",0,IF(Finalrunde!$D$16=Finalrunde!AL16,1,0))+IF(Finalrunde!$D$17=\"\",0,IF(Finalrunde!$D$17=Finalrunde!AL17,1,0))+IF(Finalrunde!$D$18=\"\",0,IF(Finalrunde!$D$18=Finalrunde!AL18,1,0))+IF(Finalrunde!$E$11=\"\",0,IF(Finalrunde!$E$11=Finalrunde!AO11,1,0))+IF(Finalrunde!$E$12=\"\",0,IF(Finalrunde!$E$12=Finalrunde!AO12,1,0))+IF(Finalrunde!$E$13=\"\",0,IF(Finalrunde!$E$13=Finalrunde!AO13,1,0))+IF(Finalrunde!$E$14=\"\",0,IF(Finalrunde!$E$14=Finalrunde!AO14,1,0))+IF(Finalrunde!$E$15=\"\",0,IF(Finalrunde!$E$15=Finalrunde!AO15,1,0))+IF(Finalrunde!$E$16=\"\",0,IF(Finalrunde!$E$16=Finalrunde!AO16,1,0))+IF(Finalrunde!$E$17=\"\",0,IF(Finalrunde!$E$17=Finalrunde!AO17,1,0))+IF(Finalrunde!$E$18=\"\",0,IF(Finalrunde!$E$18=Finalrunde!AO18,1,0))","v":8},4,{"$f":"IF(COUNTIF(Finalrunde!$D$11:$E$18,Finalrunde!AL11)<>0,\"0\",\"1\")+IF(COUNTIF(Finalrunde!$D$11:$E$18,Finalrunde!AL12)<>0,\"0\",\"1\")+IF(COUNTIF(Finalrunde!$D$11:$E$18,Finalrunde!AL13)<>0,\"0\",\"1\")+IF(COUNTIF(Finalrunde!$D$11:$E$18,Finalrunde!AL14)<>0,\"0\",\"1\")+IF(COUNTIF(Finalrunde!$D$11:$E$18,Finalrunde!AL15)<>0,\"0\",\"1\")+IF(COUNTIF(Finalrunde!$D$11:$E$18,Finalrunde!AL16)<>0,\"0\",\"1\")+IF(COUNTIF(Finalrunde!$D$11:$E$18,Finalrunde!AL17)<>0,\"0\",\"1\")+IF(COUNTIF(Finalrunde!$D$11:$E$18,Finalrunde!AL18)<>0,\"0\",\"1\")+IF(COUNTIF(Finalrunde!D$11:E$18,Finalrunde!AO11)<>0,\"0\",\"1\")+IF(COUNTIF(Finalrunde!$D$11:$E$18,Finalrunde!AO12)<>0,\"0\",\"1\")+IF(COUNTIF(Finalrunde!$D$11:$E$18,Finalrunde!AO13)<>0,\"0\",\"1\")+IF(COUNTIF(Finalrunde!$D$11:$E$18,Finalrunde!AO14)<>0,\"0\",\"1\")+IF(COUNTIF(Finalrunde!$D$11:$E$18,Finalrunde!AO15)<>0,\"0\",\"1\")+IF(COUNTIF(Finalrunde!$D$11:$E$18,Finalrunde!AO16)<>0,\"0\",\"1\")+IF(COUNTIF(Finalrunde!$D$11:$E$18,Finalrunde!AO17)<>0,\"0\",\"1\")+IF(COUNTIF(Finalrunde!$D$11:$E$18,Finalrunde!AO18)<>0,\"0\",\"1\")","v":4},null,5,"Bartholet Nott",{"$f":"IF(Finalrunde!$D$20=\"\",0,IF(Finalrunde!$D$20=Finalrunde!AL20,1,0))+IF(Finalrunde!$D$21=\"\",0,IF(Finalrunde!$D$21=Finalrunde!AL21,1,0))+IF(Finalrunde!$D$22=\"\",0,IF(Finalrunde!$D$22=Finalrunde!AL22,1,0))+IF(Finalrunde!$D$23=\"\",0,IF(Finalrunde!$D$23=Finalrunde!AL23,1,0))+IF(Finalrunde!$E$20=\"\",0,IF(Finalrunde!$E$20=Finalrunde!AO20,1,0))+IF(Finalrunde!$E$21=\"\",0,IF(Finalrunde!$E$21=Finalrunde!AO21,1,0))+IF(Finalrunde!$E$22=\"\",0,IF(Finalrunde!$E$22=Finalrunde!AO22,1,0))+IF(Finalrunde!$E$23=\"\",0,IF(Finalrunde!$E$23=Finalrunde!AO23,1,0))","v":6},1,{"$f":"IF(COUNTIF(Finalrunde!$D$20:$E$23,Finalrunde!AL20)<>0,\"0\",\"1\")+IF(COUNTIF(Finalrunde!$D$20:$E$23,Finalrunde!AL21)<>0,\"0\",\"1\")+IF(COUNTIF(Finalrunde!$D$20:$E$23,Finalrunde!AL22)<>0,\"0\",\"1\")+IF(COUNTIF(Finalrunde!$D$20:$E$23,Finalrunde!AL23)<>0,\"0\",\"1\")+IF(COUNTIF(Finalrunde!$D$20:$E$23,Finalrunde!AO20)<>0,\"0\",\"1\")+IF(COUNTIF(Finalrunde!$D$20:$E$23,Finalrunde!AO21)<>0,\"0\",\"1\")+IF(COUNTIF(Finalrunde!$D$20:$E$23,Finalrunde!AO22)<>0,\"0\",\"1\")+IF(COUNTIF(Finalrunde!$D$20:$E$23,Finalrunde!AO23)<>0,\"0\",\"1\")","v":1},null,5,"Bartholet Nott",{"$f":"IF(Finalrunde!$D$25=\"\",0,IF(Finalrunde!$D$25=Finalrunde!AL25,1,0))+IF(Finalrunde!$D$26=\"\",0,IF(Finalrunde!$D$26=Finalrunde!AL26,1,0))+IF(Finalrunde!$E$25=\"\",0,IF(Finalrunde!$E$25=Finalrunde!AO25,1,0))+IF(Finalrunde!$E$26=\"\",0,IF(Finalrunde!$E$26=Finalrunde!AO26,1,0))","v":3},0,{"$f":"IF(COUNTIF(Finalrunde!$D$25:$E$26,Finalrunde!AL25)<>0,\"0\",\"1\")+IF(COUNTIF(Finalrunde!$D$25:$E$26,Finalrunde!AL26)<>0,\"0\",\"1\")+IF(COUNTIF(Finalrunde!$D$25:$E$26,Finalrunde!AO25)<>0,\"0\",\"1\")+IF(COUNTIF(Finalrunde!$D$25:$E$26,Finalrunde!AO26)<>0,\"0\",\"1\")","v":1}]
[{"$f":"Teilnehmerliste!$A$11","v":6},{"$f":"Teilnehmerliste!B11 &\" \"&Teilnehmerliste!C11","v":"Bartholet Philippe"},{"$f":"IF(Finalrunde!$D$11=\"\",0,IF(Finalrunde!$D$11=Finalrunde!AS11,1,0))+IF(Finalrunde!$D$12=\"\",0,IF(Finalrunde!$D$12=Finalrunde!AS12,1,0))+IF(Finalrunde!$D$13=\"\",0,IF(Finalrunde!$D$13=Finalrunde!AS13,1,0))+IF(Finalrunde!$D$14=\"\",0,IF(Finalrunde!$D$14=Finalrunde!AS14,1,0))+IF(Finalrunde!$D$15=\"\",0,IF(Finalrunde!$D$15=Finalrunde!AS15,1,0))+IF(Finalrunde!$D$16=\"\",0,IF(Finalrunde!$D$16=Finalrunde!AS16,1,0))+IF(Finalrunde!$D$17=\"\",0,IF(Finalrunde!$D$17=Finalrunde!AS17,1,0))+IF(Finalrunde!$D$18=\"\",0,IF(Finalrunde!$D$18=Finalrunde!AS18,1,0))+IF(Finalrunde!$E$11=\"\",0,IF(Finalrunde!$E$11=Finalrunde!AV11,1,0))+IF(Finalrunde!$E$12=\"\",0,IF(Finalrunde!$E$12=Finalrunde!AV12,1,0))+IF(Finalrunde!$E$13=\"\",0,IF(Finalrunde!$E$13=Finalrunde!AV13,1,0))+IF(Finalrunde!$E$14=\"\",0,IF(Finalrunde!$E$14=Finalrunde!AV14,1,0))+IF(Finalrunde!$E$15=\"\",0,IF(Finalrunde!$E$15=Finalrunde!AV15,1,0))+IF(Finalrunde!$E$16=\"\",0,IF(Finalrunde!$E$16=Finalrunde!AV16,1,0))+IF(Finalrunde!$E$17=\"\",0,IF(Finalrunde!$E$17=Finalrunde!AV17,1,0))+IF(Finalrunde!$E$18=\"\",0,IF(Finalrunde!$E$18=Finalrunde!AV18,1,0))","v":6},5,{"$f":"IF(COUNTIF(Finalrunde!$D$11:$E$18,Finalrunde!AS11)<>0,\"0\",\"1\")+IF(COUNTIF(Finalrunde!$D$11:$E$18,Finalrunde!AS12)<>0,\"0\",\"1\")+IF(COUNTIF(Finalrunde!$D$11:$E$18,Finalrunde!AS13)<>0,\"0\",\"1\")+IF(COUNTIF(Finalrunde!$D$11:$E$18,Finalrunde!AS14)<>0,\"0\",\"1\")+IF(COUNTIF(Finalrunde!$D$11:$E$18,Finalrunde!AS15)<>0,\"0\",\"1\")+IF(COUNTIF(Finalrunde!$D$11:$E$18,Finalrunde!AS16)<>0,\"0\",\"1\")+IF(COUNTIF(Finalrunde!$D$11:$E$18,Finalrunde!AS17)<>0,\"0\",\"1\")+IF(COUNTIF(Finalrunde!$D$11:$E$18,Finalrunde!AS18)<>0,\"0\",\"1\")+IF(COUNTIF(Finalrunde!D$11:E$18,Finalrunde!AV11)<>0,\"0\",\"1\")+IF(COUNTIF(Finalrunde!$D$11:$E$18,Finalrunde!AV12)<>0,\"0\",\"1\")+IF(COUNTIF(Finalrunde!$D$11:$E$18,Finalrunde!AV13)<>0,\"0\",\"1\")+IF(COUNTIF(Finalrunde!$D$11:$E$18,Finalrunde!AV14)<>0,\"0\",\"1\")+IF(COUNTIF(Finalrunde!$D$11:$E$18,Finalrunde!AV15)<>0,\"0\",\"1\")+IF(COUNTIF(Finalrunde!$D$11:$E$18,Finalrunde!AV16)<>0,\"0\",\"1\")+IF(COUNTIF(Finalrunde!$D$11:$E$18,Finalrunde!AV17)<>0,\"0\",\"1\")+IF(COUNTIF(Finalrunde!$D$11:$E$18,Finalrunde!AV18)<>0,\"0\",\"1\")","v":5},null,6,"Bartholet Philippe",{"$f":"IF(Finalrunde!$D$20=\"\",0,IF(Finalrunde!$D$20=Finalrunde!AS20,1,0))+IF(Finalrunde!$D$21=\"\",0,IF(Finalrunde!$D$21=Finalrunde!AS21,1,0))+IF(Finalrunde!$D$22=\"\",0,IF(Finalrunde!$D$22=Finalrunde!AS22,1,0))+IF(Finalrunde!$D$23=\"\",0,IF(Finalrunde!$D$23=Finalrunde!AS23,1,0))+IF(Finalrunde!$E$20=\"\",0,IF(Finalrunde!$E$20=Finalrunde!AV20,1,0))+IF(Finalrunde!$E$21=\"\",0,IF(Finalrunde!$E$21=Finalrunde!AV21,1,0))+IF(Finalrunde!$E$22=\"\",0,IF(Finalrunde!$E$22=Finalrunde!AV22,1,0))+IF(Finalrunde!$E$23=\"\",0,IF(Finalrunde!$E$23=Finalrunde!AV23,1,0))","v":5},2,{"$f":"IF(COUNTIF(Finalrunde!$D$20:$E$23,Finalrunde!AS20)<>0,\"0\",\"1\")+IF(COUNTIF(Finalrunde!$D$20:$E$23,Finalrunde!AS21)<>0,\"0\",\"1\")+IF(COUNTIF(Finalrunde!$D$20:$E$23,Finalrunde!AS22)<>0,\"0\",\"1\")+IF(COUNTIF(Finalrunde!$D$20:$E$23,Finalrunde!AS23)<>0,\"0\",\"1\")+IF(COUNTIF(Finalrunde!$D$20:$E$23,Finalrunde!AV20)<>0,\"0\",\"1\")+IF(COUNTIF(Finalrunde!$D$20:$E$23,Finalrunde!AV21)<>0,\"0\",\"1\")+IF(COUNTIF(Finalrunde!$D$20:$E$23,Finalrunde!AV22)<>0,\"0\",\"1\")+IF(COUNTIF(Finalrunde!$D$20:$E$23,Finalrunde!AV23)<>0,\"0\",\"1\")","v":1},null,6,"Bartholet Philippe",{"$f":"IF(Finalrunde!$D$25=\"\",0,IF(Finalrunde!$D$25=Finalrunde!AS25,1,0))+IF(Finalrunde!$D$26=\"\",0,IF(Finalrunde!$D$26=Finalrunde!AS26,1,0))+IF(Finalrunde!$E$25=\"\",0,IF(Finalrunde!$E$25=Finalrunde!AV25,1,0))+IF(Finalrunde!$E$26=\"\",0,IF(Finalrunde!$E$26=Finalrunde!AV26,1,0))","v":2},1,{"$f":"IF(COUNTIF(Finalrunde!$D$25:$E$26,Finalrunde!AS25)<>0,\"0\",\"1\")+IF(COUNTIF(Finalrunde!$D$25:$E$26,Finalrunde!AS26)<>0,\"0\",\"1\")+IF(COUNTIF(Finalrunde!$D$25:$E$26,Finalrunde!AV25)<>0,\"0\",\"1\")+IF(COUNTIF(Finalrunde!$D$25:$E$26,Finalrunde!AV26)<>0,\"0\",\"1\")","v":1}]
[{"$f":"Teilnehmerliste!$A$12","v":7},{"$f":"Teilnehmerliste!B12 &\" \"&Teilnehmerliste!C12","v":"Bartholet Roger"},{"$f":"IF(Finalrunde!$D$11=\"\",0,IF(Finalrunde!$D$11=Finalrunde!AZ11,1,0))+IF(Finalrunde!$D$12=\"\",0,IF(Finalrunde!$D$12=Finalrunde!AZ12,1,0))+IF(Finalrunde!$D$13=\"\",0,IF(Finalrunde!$D$13=Finalrunde!AZ13,1,0))+IF(Finalrunde!$D$14=\"\",0,IF(Finalrunde!$D$14=Finalrunde!AZ14,1,0))+IF(Finalrunde!$D$15=\"\",0,IF(Finalrunde!$D$15=Finalrunde!AZ15,1,0))+IF(Finalrunde!$D$16=\"\",0,IF(Finalrunde!$D$16=Finalrunde!AZ16,1,0))+IF(Finalrunde!$D$17=\"\",0,IF(Finalrunde!$D$17=Finalrunde!AZ17,1,0))+IF(Finalrunde!$D$18=\"\",0,IF(Finalrunde!$D$18=Finalrunde!AZ18,1,0))+IF(Finalrunde!$E$11=\"\",0,IF(Finalrunde!$E$11=Finalrunde!BC11,1,0))+IF(Finalrunde!$E$12=\"\",0,IF(Finalrunde!$E$12=Finalrunde!BC12,1,0))+IF(Finalrunde!$E$13=\"\",0,IF(Finalrunde!$E$13=Finalrunde!BC13,1,0))+IF(Finalrunde!$E$14=\"\",0,IF(Finalrunde!$E$14=Finalrunde!BC14,1,0))+IF(Finalrunde!$E$15=\"\",0,IF(Finalrunde!$E$15=Finalrunde!BC15,1,0))+IF(Finalrunde!$E$16=\"\",0,IF(Finalrunde!$E$16=Finalrunde!BC16,1,0))+IF(Finalrunde!$E$17=\"\",0,IF(Finalrunde!$E$17=Finalrunde!BC17,1,0))+IF(Finalrunde!$E$18=\"\",0,IF(Finalrunde!$E$18=Finalrunde!BC18,1,0))","v":7},5,{"$f":"IF(COUNTIF(Finalrunde!$D$11:$E$18,Finalrunde!AZ11)<>0,\"0\",\"1\")+IF(COUNTIF(Finalrunde!$D$11:$E$18,Finalrunde!AZ12)<>0,\"0\",\"1\")+IF(COUNTIF(Finalrunde!$D$11:$E$18,Finalrunde!AZ13)<>0,\"0\",\"1\")+IF(COUNTIF(Finalrunde!$D$11:$E$18,Finalrunde!AZ14)<>0,\"0\",\"1\")+IF(COUNTIF(Finalrunde!$D$11:$E$18,Finalrunde!AZ15)<>0,\"0\",\"1\")+IF(COUNTIF(Finalrunde!$D$11:$E$18,Finalrunde!AZ16)<>0,\"0\",\"1\")+IF(COUNTIF(Finalrunde!$D$11:$E$18,Finalrunde!AZ17)<>0,\"0\",\"1\")+IF(COUNTIF(Finalrunde!$D$11:$E$18,Finalrunde!AZ18)<>0,\"0\",\"1\")+IF(COUNTIF(Finalrunde!D$11:E$18,Finalrunde!BC11)<>0,\"0\",\"1\")+IF(COUNTIF(Finalrunde!$D$11:$E$18,Finalrunde!BC12)<>0,\"0\",\"1\")+IF(COUNTIF(Finalrunde!$D$11:$E$18,Finalrunde!BC13)<>0,\"0\",\"1\")+IF(COUNTIF(Finalrunde!$D$11:$E$18,Finalrunde!BC14)<>0,\"0\",\"1\")+IF(COUNTIF(Finalrunde!$D$11:$E$18,Finalrunde!BC15)<>0,\"0\",\"1\")+IF(COUNTIF(Finalrunde!$D$11:$E$18,Finalrunde!BC16)<>0,\"0\",\"1\")+IF(COUNTIF(Finalrunde!$D$11:$E$18,Finalrunde!BC17)<>0,\"0\",\"1\")+IF(COUNTIF(Finalrunde!$D$11:$E$18,Finalrunde!BC18)<>0,\"0\",\"1\")","v":4},null,7,"Bartholet Roger",{"$f":"IF(Finalrunde!$D$20=\"\",0,IF(Finalrunde!$D$20=Finalrunde!AZ20,1,0))+IF(Finalrunde!$D$21=\"\",0,IF(Finalrunde!$D$21=Finalrunde!AZ21,1,0))+IF(Finalrunde!$D$22=\"\",0,IF(Finalrunde!$D$22=Finalrunde!AZ22,1,0))+IF(Finalrunde!$D$23=\"\",0,IF(Finalrunde!$D$23=Finalrunde!AZ23,1,0))+IF(Finalrunde!$E$20=\"\",0,IF(Finalrunde!$E$20=Finalrunde!BC20,1,0))+IF(Finalrunde!$E$21=\"\",0,IF(Finalrunde!$E$21=Finalrunde!BC21,1,0))+IF(Finalrunde!$E$22=\"\",0,IF(Finalrunde!$E$22=Finalrunde!BC22,1,0))+IF(Finalrunde!$E$23=\"\",0,IF(Finalrunde!$E$23=Finalrunde!BC23,1,0))","v":5},1,{"$f":"IF(COUNTIF(Finalrunde!$D$20:$E$23,Finalrunde!AZ20)<>0,\"0\",\"1\")+IF(COUNTIF(Finalrunde!$D$20:$E$23,Finalrunde!AZ21)<>0,\"0\",\"1\")+IF(COUNTIF(Finalrunde!$D$20:$E$23,Finalrunde!AZ22)<>0,\"0\",\"1\")+IF(COUNTIF(Finalrunde!$D$20:$E$23,Finalrunde!AZ23)<>0,\"0\",\"1\")+IF(COUNTIF(Finalrunde!$D$20:$E$23,Finalrunde!BC20)<>0,\"0\",\"1\")+IF(COUNTIF(Finalrunde!$D$20:$E$23,Finalrunde!BC21)<>0,\"0\",\"1\")+IF(COUNTIF(Finalrunde!$D$20:$E$23,Finalrunde!BC22)<>0,\"0\",\"1\")+IF(COUNTIF(Finalrunde!$D$20:$E$23,Finalrunde!BC23)<>0,\"0\",\"1\")","v":2},null,7,"Bartholet Roger",{"$f":"IF(Finalrunde!$D$25=\"\",0,IF(Finalrunde!$D$25=Finalrunde!AZ25,1,0))+IF(Finalrunde!$D$26=\"\",0,IF(Finalrunde!$D$26=Finalrunde!AZ26,1,0))+IF(Finalrunde!$E$25=\"\",0,IF(Finalrunde!$E$25=Finalrunde!BC25,1,0))+IF(Finalrunde!$E$26=\"\",0,IF(Finalrunde!$E$26=Finalrunde!BC26,1,0))","v":0},0,{"$f":"IF(COUNTIF(Finalrunde!$D$25:$E$26,Finalrunde!AZ25)<>0,\"0\",\"1\")+IF(COUNTIF(Finalrunde!$D$25:$E$26,Finalrunde!AZ26)<>0,\"0\",\"1\")+IF(COUNTIF(Finalrunde!$D$25:$E$26,Finalrunde!BC25)<>0,\"0\",\"1\")+IF(COUNTIF(Finalrunde!$D$25:$E$26,Finalrunde!BC26)<>0,\"0\",\"1\")","v":4}]
[{"$f":"Teilnehmerliste!$A$13","v":8},{"$f":"Teilnehmerliste!B13 &\" \"&Teilnehmerliste!C13","v":"Beck Mara"},{"$f":"IF(Finalrunde!$D$11=\"\",0,IF(Finalrunde!$D$11=Finalrunde!BG11,1,0))+IF(Finalrunde!$D$12=\"\",0,IF(Finalrunde!$D$12=Finalrunde!BG12,1,0))+IF(Finalrunde!$D$13=\"\",0,IF(Finalrunde!$D$13=Finalrunde!BG13,1,0))+IF(Finalrunde!$D$14=\"\",0,IF(Finalrunde!$D$14=Finalrunde!BG14,1,0))+IF(Finalrunde!$D$15=\"\",0,IF(Finalrunde!$D$15=Finalrunde!BG15,1,0))+IF(Finalrunde!$D$16=\"\",0,IF(Finalrunde!$D$16=Finalrunde!BG16,1,0))+IF(Finalrunde!$D$17=\"\",0,IF(Finalrunde!$D$17=Finalrunde!BG17,1,0))+IF(Finalrunde!$D$18=\"\",0,IF(Finalrunde!$D$18=Finalrunde!BG18,1,0))+IF(Finalrunde!$E$11=\"\",0,IF(Finalrunde!$E$11=Finalrunde!BJ11,1,0))+IF(Finalrunde!$E$12=\"\",0,IF(Finalrunde!$E$12=Finalrunde!BJ12,1,0))+IF(Finalrunde!$E$13=\"\",0,IF(Finalrunde!$E$13=Finalrunde!BJ13,1,0))+IF(Finalrunde!$E$14=\"\",0,IF(Finalrunde!$E$14=Finalrunde!BJ14,1,0))+IF(Finalrunde!$E$15=\"\",0,IF(Finalrunde!$E$15=Finalrunde!BJ15,1,0))+IF(Finalrunde!$E$16=\"\",0,IF(Finalrunde!$E$16=Finalrunde!BJ16,1,0))+IF(Finalrunde!$E$17=\"\",0,IF(Finalrunde!$E$17=Finalrunde!BJ17,1,0))+IF(Finalrunde!$E$18=\"\",0,IF(Finalrunde!$E$18=Finalrunde!BJ18,1,0))","v":5},6,{"$f":"IF(COUNTIF(Finalrunde!$D$11:$E$18,Finalrunde!BG11)<>0,\"0\",\"1\")+IF(COUNTIF(Finalrunde!$D$11:$E$18,Finalrunde!BG12)<>0,\"0\",\"1\")+IF(COUNTIF(Finalrunde!$D$11:$E$18,Finalrunde!BG13)<>0,\"0\",\"1\")+IF(COUNTIF(Finalrunde!$D$11:$E$18,Finalrunde!BG14)<>0,\"0\",\"1\")+IF(COUNTIF(Finalrunde!$D$11:$E$18,Finalrunde!BG15)<>0,\"0\",\"1\")+IF(COUNTIF(Finalrunde!$D$11:$E$18,Finalrunde!BG16)<>0,\"0\",\"1\")+IF(COUNTIF(Finalrunde!$D$11:$E$18,Finalrunde!BG17)<>0,\"0\",\"1\")+IF(COUNTIF(Finalrunde!$D$11:$E$18,Finalrunde!BG18)<>0,\"0\",\"1\")+IF(COUNTIF(Finalrunde!D$11:E$18,Finalrunde!BJ11)<>0,\"0\",\"1\")+IF(COUNTIF(Finalrunde!$D$11:$E$18,Finalrunde!BJ12)<>0,\"0\",\"1\")+IF(COUNTIF(Finalrunde!$D$11:$E$18,Finalrunde!BJ13)<>0,\"0\",\"1\")+IF(COUNTIF(Finalrunde!$D$11:$E$18,Finalrunde!BJ14)<>0,\"0\",\"1\")+IF(COUNTIF(Finalrunde!$D$11:$E$18,Finalrunde!BJ15)<>0,\"0\",\"1\")+IF(COUNTIF(Finalrunde!$D$11:$E$18,Finalrunde!BJ16)<>0,\"0\",\"1\")+IF(COUNTIF(Finalrunde!$D$11:$E$18,Finalrunde!BJ17)<>0,\"0\",\"1\")+IF(COUNTIF(Finalrunde!$D$11:$E$18,Finalrunde!BJ18)<>0,\"0\",\"1\")","v":5},null,8,"Beck Mara",{"$f":"IF(Finalrunde!$D$20=\"\",0,IF(Finalrunde!$D$20=Finalrunde!BG20,1,0))+IF(Finalrunde!$D$21=\"\",0,IF(Finalrunde!$D$21=Finalrunde!BG21,1,0))+IF(Finalrunde!$D$22=\"\",0,IF(Finalrunde!$D$22=Finalrunde!BG22,1,0))+IF(Finalrunde!$D$23=\"\",0,IF(Finalrunde!$D$23=Finalrunde!BG23,1,0))+IF(Finalrunde!$E$20=\"\",0,IF(Finalrunde!$E$20=Finalrunde!BJ20,1,0))+IF(Finalrunde!$E$21=\"\",0,IF(Finalrunde!$E$21=Finalrunde!BJ21,1,0))+IF(Finalrunde!$E$22=\"\",0,IF(Finalrunde!$E$22=Finalrunde!BJ22,1,0))+IF(Finalrunde!$E$23=\"\",0,IF(Finalrunde!$E$23=Finalrunde!BJ23,1,0))","v":3},4,{"$f":"IF(COUNTIF(Finalrunde!$D$20:$E$23,Finalrunde!BG20)<>0,\"0\",\"1\")+IF(COUNTIF(Finalrunde!$D$20:$E$23,Finalrunde!BG21)<>0,\"0\",\"1\")+IF(COUNTIF(Finalrunde!$D$20:$E$23,Finalrunde!BG22)<>0,\"0\",\"1\")+IF(COUNTIF(Finalrunde!$D$20:$E$23,Finalrunde!BG23)<>0,\"0\",\"1\")+IF(COUNTIF(Finalrunde!$D$20:$E$23,Finalrunde!BJ20)<>0,\"0\",\"1\")+IF(COUNTIF(Finalrunde!$D$20:$E$23,Finalrunde!BJ21)<>0,\"0\",\"1\")+IF(COUNTIF(Finalrunde!$D$20:$E$23,Finalrunde!BJ22)<>0,\"0\",\"1\")+IF(COUNTIF(Finalrunde!$D$20:$E$23,Finalrunde!BJ23)<>0,\"0\",\"1\")","v":1},null,8,"Beck Mara",{"$f":"IF(Finalrunde!$D$25=\"\",0,IF(Finalrunde!$D$25=Finalrunde!BG25,1,0))+IF(Finalrunde!$D$26=\"\",0,IF(Finalrunde!$D$26=Finalrunde!BG26,1,0))+IF(Finalrunde!$E$25=\"\",0,IF(Finalrunde!$E$25=Finalrunde!BJ25,1,0))+IF(Finalrunde!$E$26=\"\",0,IF(Finalrunde!$E$26=Finalrunde!BJ26,1,0))","v":2},1,{"$f":"IF(COUNTIF(Finalrunde!$D$25:$E$26,Finalrunde!BG25)<>0,\"0\",\"1\")+IF(COUNTIF(Finalrunde!$D$25:$E$26,Finalrunde!BG26)<>0,\"0\",\"1\")+IF(COUNTIF(Finalrunde!$D$25:$E$26,Finalrunde!BJ25)<>0,\"0\",\"1\")+IF(COUNTIF(Finalrunde!$D$25:$E$26,Finalrunde!BJ26)<>0,\"0\",\"1\")","v":1}]
[{"$f":"Teilnehmerliste!$A$14","v":9},{"$f":"Teilnehmerliste!B14 &\" \"&Teilnehmerliste!C14","v":"Blöchlinger/Edri Lara/Yaniv"},{"$f":"IF(Finalrunde!$D$11=\"\",0,IF(Finalrunde!$D$11=Finalrunde!BN11,1,0))+IF(Finalrunde!$D$12=\"\",0,IF(Finalrunde!$D$12=Finalrunde!BN12,1,0))+IF(Finalrunde!$D$13=\"\",0,IF(Finalrunde!$D$13=Finalrunde!BN13,1,0))+IF(Finalrunde!$D$14=\"\",0,IF(Finalrunde!$D$14=Finalrunde!BN14,1,0))+IF(Finalrunde!$D$15=\"\",0,IF(Finalrunde!$D$15=Finalrunde!BN15,1,0))+IF(Finalrunde!$D$16=\"\",0,IF(Finalrunde!$D$16=Finalrunde!BN16,1,0))+IF(Finalrunde!$D$17=\"\",0,IF(Finalrunde!$D$17=Finalrunde!BN17,1,0))+IF(Finalrunde!$D$18=\"\",0,IF(Finalrunde!$D$18=Finalrunde!BN18,1,0))+IF(Finalrunde!$E$11=\"\",0,IF(Finalrunde!$E$11=Finalrunde!BQ11,1,0))+IF(Finalrunde!$E$12=\"\",0,IF(Finalrunde!$E$12=Finalrunde!BQ12,1,0))+IF(Finalrunde!$E$13=\"\",0,IF(Finalrunde!$E$13=Finalrunde!BQ13,1,0))+IF(Finalrunde!$E$14=\"\",0,IF(Finalrunde!$E$14=Finalrunde!BQ14,1,0))+IF(Finalrunde!$E$15=\"\",0,IF(Finalrunde!$E$15=Finalrunde!BQ15,1,0))+IF(Finalrunde!$E$16=\"\",0,IF(Finalrunde!$E$16=Finalrunde!BQ16,1,0))+IF(Finalrunde!$E$17=\"\",0,IF(Finalrunde!$E$17=Finalrunde!BQ17,1,0))+IF(Finalrunde!$E$18=\"\",0,IF(Finalrunde!$E$18=Finalrunde!BQ18,1,0))","v":7},5,{"$f":"IF(COUNTIF(Finalrunde!$D$11:$E$18,Finalrunde!BN11)<>0,\"0\",\"1\")+IF(COUNTIF(Finalrunde!$D$11:$E$18,Finalrunde!BN12)<>0,\"0\",\"1\")+IF(COUNTIF(Finalrunde!$D$11:$E$18,Finalrunde!BN13)<>0,\"0\",\"1\")+IF(COUNTIF(Finalrunde!$D$11:$E$18,Finalrunde!BN14)<>0,\"0\",\"1\")+IF(COUNTIF(Finalrunde!$D$11:$E$18,Finalrunde!BN15)<>0,\"0\",\"1\")+IF(COUNTIF(Finalrunde!$D$11:$E$18,Finalrunde!BN16)<>0,\"0\",\"1\")+IF(COUNTIF(Finalrunde!$D$11:$E$18,Finalrunde!BN17)<>0,\"0\",\"1\")+IF(COUNTIF(Finalrunde!$D$11:$E$18,Finalrunde!BN18)<>0,\"0\",\"1\")+IF(COUNTIF(Finalrunde!D$11:E$18,Finalrunde!BQ11)<>0,\"0\",\"1\")+IF(COUNTIF(Finalrunde!$D$11:$E$18,Finalrunde!BQ12)<>0,\"0\",\"1\")+IF(COUNTIF(Finalrunde!$D$11:$E$18,Finalrunde!BQ13)<>0,\"0\",\"1\")+IF(COUNTIF(Finalrunde!$D$11:$E$18,Finalrunde!BQ14)<>0,\"0\",\"1\")+IF(COUNTIF(Finalrunde!$D$11:$E$18,Finalrunde!BQ15)<>0,\"0\",\"1\")+IF(COUNTIF(Finalrunde!$D$11:$E$18,Finalrunde!BQ16)<>0,\"0\",\"1\")+IF(COUNTIF(Finalrunde!$D$11:$E$18,Finalrunde!BQ17)<>0,\"0\",\"1\")+IF(COUNTIF(Finalrunde!$D$11:$E$18,Finalrunde!BQ18)<>0,\"0\",\"1\")","v":4},null,9,"Blöchlinger/Edri Lara/Yaniv",{"$f":"IF(Finalrunde!$D$20=\"\",0,IF(Finalrunde!$D$20=Finalrunde!BN20,1,0))+IF(Finalrunde!$D$21=\"\",0,IF(Finalrunde!$D$21=Finalrunde!BN21,1,0))+IF(Finalrunde!$D$22=\"\",0,IF(Finalrunde!$D$22=Finalrunde!BN22,1,0))+IF(Finalrunde!$D$23=\"\",0,IF(Finalrunde!$D$23=Finalrunde!BN23,1,0))+IF(Finalrunde!$E$20=\"\",0,IF(Finalrunde!$E$20=Finalrunde!BQ20,1,0))+IF(Finalrunde!$E$21=\"\",0,IF(Finalrunde!$E$21=Finalrunde!BQ21,1,0))+IF(Finalrunde!$E$22=\"\",0,IF(Finalrunde!$E$22=Finalrunde!BQ22,1,0))+IF(Finalrunde!$E$23=\"\",0,IF(Finalrunde!$E$23=Finalrunde!BQ23,1,0))","v":4},2,{"$f":"IF(COUNTIF(Finalrunde!$D$20:$E$23,Finalrunde!BN20)<>0,\"0\",\"1\")+IF(COUNTIF(Finalrunde!$D$20:$E$23,Finalrunde!BN21)<>0,\"0\",\"1\")+IF(COUNTIF(Finalrunde!$D$20:$E$23,Finalrunde!BN22)<>0,\"0\",\"1\")+IF(COUNTIF(Finalrunde!$D$20:$E$23,Finalrunde!BN23)<>0,\"0\",\"1\")+IF(COUNTIF(Finalrunde!$D$20:$E$23,Finalrunde!BQ20)<>0,\"0\",\"1\")+IF(COUNTIF(Finalrunde!$D$20:$E$23,Finalrunde!BQ21)<>0,\"0\",\"1\")+IF(COUNTIF(Finalrunde!$D$20:$E$23,Finalrunde!BQ22)<>0,\"0\",\"1\")+IF(COUNTIF(Finalrunde!$D$20:$E$23,Finalrunde!BQ23)<>0,\"0\",\"1\")","v":2},null,9,"Blöchlinger/Edri Lara/Yaniv",{"$f":"IF(Finalrunde!$D$25=\"\",0,IF(Finalrunde!$D$25=Finalrunde!BN25,1,0))+IF(Finalrunde!$D$26=\"\",0,IF(Finalrunde!$D$26=Finalrunde!BN26,1,0))+IF(Finalrunde!$E$25=\"\",0,IF(Finalrunde!$E$25=Finalrunde!BQ25,1,0))+IF(Finalrunde!$E$26=\"\",0,IF(Finalrunde!$E$26=Finalrunde!BQ26,1,0))","v":1},1,{"$f":"IF(COUNTIF(Finalrunde!$D$25:$E$26,Finalrunde!BN25)<>0,\"0\",\"1\")+IF(COUNTIF(Finalrunde!$D$25:$E$26,Finalrunde!BN26)<>0,\"0\",\"1\")+IF(COUNTIF(Finalrunde!$D$25:$E$26,Finalrunde!BQ25)<>0,\"0\",\"1\")+IF(COUNTIF(Finalrunde!$D$25:$E$26,Finalrunde!BQ26)<>0,\"0\",\"1\")","v":2}]
[{"$f":"Teilnehmerliste!$A$15","v":10},{"$f":"Teilnehmerliste!B15 &\" \"&Teilnehmerliste!C15","v":"Bosshart Michael"},{"$f":"IF(Finalrunde!$D$11=\"\",0,IF(Finalrunde!$D$11=Finalrunde!BU11,1,0))+IF(Finalrunde!$D$12=\"\",0,IF(Finalrunde!$D$12=Finalrunde!BU12,1,0))+IF(Finalrunde!$D$13=\"\",0,IF(Finalrunde!$D$13=Finalrunde!BU13,1,0))+IF(Finalrunde!$D$14=\"\",0,IF(Finalrunde!$D$14=Finalrunde!BU14,1,0))+IF(Finalrunde!$D$15=\"\",0,IF(Finalrunde!$D$15=Finalrunde!BU15,1,0))+IF(Finalrunde!$D$16=\"\",0,IF(Finalrunde!$D$16=Finalrunde!BU16,1,0))+IF(Finalrunde!$D$17=\"\",0,IF(Finalrunde!$D$17=Finalrunde!BU17,1,0))+IF(Finalrunde!$D$18=\"\",0,IF(Finalrunde!$D$18=Finalrunde!BU18,1,0))+IF(Finalrunde!$E$11=\"\",0,IF(Finalrunde!$E$11=Finalrunde!BX11,1,0))+IF(Finalrunde!$E$12=\"\",0,IF(Finalrunde!$E$12=Finalrunde!BX12,1,0))+IF(Finalrunde!$E$13=\"\",0,IF(Finalrunde!$E$13=Finalrunde!BX13,1,0))+IF(Finalrunde!$E$14=\"\",0,IF(Finalrunde!$E$14=Finalrunde!BX14,1,0))+IF(Finalrunde!$E$15=\"\",0,IF(Finalrunde!$E$15=Finalrunde!BX15,1,0))+IF(Finalrunde!$E$16=\"\",0,IF(Finalrunde!$E$16=Finalrunde!BX16,1,0))+IF(Finalrunde!$E$17=\"\",0,IF(Finalrunde!$E$17=Finalrunde!BX17,1,0))+IF(Finalrunde!$E$18=\"\",0,IF(Finalrunde!$E$18=Finalrunde!BX18,1,0))","v":6},7,{"$f":"IF(COUNTIF(Finalrunde!$D$11:$E$18,Finalrunde!BU11)<>0,\"0\",\"1\")+IF(COUNTIF(Finalrunde!$D$11:$E$18,Finalrunde!BU12)<>0,\"0\",\"1\")+IF(COUNTIF(Finalrunde!$D$11:$E$18,Finalrunde!BU13)<>0,\"0\",\"1\")+IF(COUNTIF(Finalrunde!$D$11:$E$18,Finalrunde!BU14)<>0,\"0\",\"1\")+IF(COUNTIF(Finalrunde!$D$11:$E$18,Finalrunde!BU15)<>0,\"0\",\"1\")+IF(COUNTIF(Finalrunde!$D$11:$E$18,Finalrunde!BU16)<>0,\"0\",\"1\")+IF(COUNTIF(Finalrunde!$D$11:$E$18,Finalrunde!BU17)<>0,\"0\",\"1\")+IF(COUNTIF(Finalrunde!$D$11:$E$18,Finalrunde!BU18)<>0,\"0\",\"1\")+IF(COUNTIF(Finalrunde!D$11:E$18,Finalrunde!BX11)<>0,\"0\",\"1\")+IF(COUNTIF(Finalrunde!$D$11:$E$18,Finalrunde!BX12)<>0,\"0\",\"1\")+IF(COUNTIF(Finalrunde!$D$11:$E$18,Finalrunde!BX13)<>0,\"0\",\"1\")+IF(COUNTIF(Finalrunde!$D$11:$E$18,Finalrunde!BX14)<>0,\"0\",\"1\")+IF(COUNTIF(Finalrunde!$D$11:$E$18,Finalrunde!BX15)<>0,\"0\",\"1\")+IF(COUNTIF(Finalrunde!$D$11:$E$18,Finalrunde!BX16)<>0,\"0\",\"1\")+IF(COUNTIF(Finalrunde!$D$11:$E$18,Finalrunde!BX17)<>0,\"0\",\"1\")+IF(COUNTIF(Finalrunde!$D$11:$E$18,Finalrunde!BX18)<>0,\"0\",\"1\")","v":3},null,10,"Bosshart Michael",{"$f":"IF(Finalrunde!$D$20=\"\",0,IF(Finalrunde!$D$20=Finalrunde!BU20,1,0))+IF(Finalrunde!$D$21=\"\",0,IF(Finalrunde!$D$21=Finalrunde!BU21,1,0))+IF(Finalrunde!$D$22=\"\",0,IF(Finalrunde!$D$22=Finalrunde!BU22,1,0))+IF(Finalrunde!$D$23=\"\",0,IF(Finalrunde!$D$23=Finalrunde!BU23,1,0))+IF(Finalrunde!$E$20=\"\",0,IF(Finalrunde!$E$20=Finalrunde!BX20,1,0))+IF(Finalrunde!$E$21=\"\",0,IF(Finalrunde!$E$21=Finalrunde!BX21,1,0))+IF(Finalrunde!$E$22=\"\",0,IF(Finalrunde!$E$22=Finalrunde!BX22,1,0))+IF(Finalrunde!$E$23=\"\",0,IF(Finalrunde!$E$23=Finalrunde!BX23,1,0))","v":3},2,{"$f":"IF(COUNTIF(Finalrunde!$D$20:$E$23,Finalrunde!BU20)<>0,\"0\",\"1\")+IF(COUNTIF(Finalrunde!$D$20:$E$23,Finalrunde!BU21)<>0,\"0\",\"1\")+IF(COUNTIF(Finalrunde!$D$20:$E$23,Finalrunde!BU22)<>0,\"0\",\"1\")+IF(COUNTIF(Finalrunde!$D$20:$E$23,Finalrunde!BU23)<>0,\"0\",\"1\")+IF(COUNTIF(Finalrunde!$D$20:$E$23,Finalrunde!BX20)<>0,\"0\",\"1\")+IF(COUNTIF(Finalrunde!$D$20:$E$23,Finalrunde!BX21)<>0,\"0\",\"1\")+IF(COUNTIF(Finalrunde!$D$20:$E$23,Finalrunde!BX22)<>0,\"0\",\"1\")+IF(COUNTIF(Finalrunde!$D$20:$E$23,Finalrunde!BX23)<>0,\"0\",\"1\")","v":3},null,10,"Bosshart Michael",{"$f":"IF(Finalrunde!$D$25=\"\",0,IF(Finalrunde!$D$25=Finalrunde!BU25,1,0))+IF(Finalrunde!$D$26=\"\",0,IF(Finalrunde!$D$26=Finalrunde!BU26,1,0))+IF(Finalrunde!$E$25=\"\",0,IF(Finalrunde!$E$25=Finalrunde!BX25,1,0))+IF(Finalrunde!$E$26=\"\",0,IF(Finalrunde!$E$26=Finalrunde!BX26,1,0))","v":1},1,{"$f":"IF(COUNTIF(Finalrunde!$D$25:$E$26,Finalrunde!BU25)<>0,\"0\",\"1\")+IF(COUNTIF(Finalrunde!$D$25:$E$26,Finalrunde!BU26)<>0,\"0\",\"1\")+IF(COUNTIF(Finalrunde!$D$25:$E$26,Finalrunde!BX25)<>0,\"0\",\"1\")+IF(COUNTIF(Finalrunde!$D$25:$E$26,Finalrunde!BX26)<>0,\"0\",\"1\")","v":2}]
[{"$f":"Teilnehmerliste!$A$16","v":11},{"$f":"Teilnehmerliste!B16 &\" \"&Teilnehmerliste!C16","v":"Brunner Manuel"},{"$f":"IF(Finalrunde!$D$11=\"\",0,IF(Finalrunde!$D$11=Finalrunde!CB11,1,0))+IF(Finalrunde!$D$12=\"\",0,IF(Finalrunde!$D$12=Finalrunde!CB12,1,0))+IF(Finalrunde!$D$13=\"\",0,IF(Finalrunde!$D$13=Finalrunde!CB13,1,0))+IF(Finalrunde!$D$14=\"\",0,IF(Finalrunde!$D$14=Finalrunde!CB14,1,0))+IF(Finalrunde!$D$15=\"\",0,IF(Finalrunde!$D$15=Finalrunde!CB15,1,0))+IF(Finalrunde!$D$16=\"\",0,IF(Finalrunde!$D$16=Finalrunde!CB16,1,0))+IF(Finalrunde!$D$17=\"\",0,IF(Finalrunde!$D$17=Finalrunde!CB17,1,0))+IF(Finalrunde!$D$18=\"\",0,IF(Finalrunde!$D$18=Finalrunde!CB18,1,0))+IF(Finalrunde!$E$11=\"\",0,IF(Finalrunde!$E$11=Finalrunde!CE11,1,0))+IF(Finalrunde!$E$12=\"\",0,IF(Finalrunde!$E$12=Finalrunde!CE12,1,0))+IF(Finalrunde!$E$13=\"\",0,IF(Finalrunde!$E$13=Finalrunde!CE13,1,0))+IF(Finalrunde!$E$14=\"\",0,IF(Finalrunde!$E$14=Finalrunde!CE14,1,0))+IF(Finalrunde!$E$15=\"\",0,IF(Finalrunde!$E$15=Finalrunde!CE15,1,0))+IF(Finalrunde!$E$16=\"\",0,IF(Finalrunde!$E$16=Finalrunde!CE16,1,0))+IF(Finalrunde!$E$17=\"\",0,IF(Finalrunde!$E$17=Finalrunde!CE17,1,0))+IF(Finalrunde!$E$18=\"\",0,IF(Finalrunde!$E$18=Finalrunde!CE18,1,0))","v":6},6,{"$f":"IF(COUNTIF(Finalrunde!$D$11:$E$18,Finalrunde!CB11)<>0,\"0\",\"1\")+IF(COUNTIF(Finalrunde!$D$11:$E$18,Finalrunde!CB12)<>0,\"0\",\"1\")+IF(COUNTIF(Finalrunde!$D$11:$E$18,Finalrunde!CB13)<>0,\"0\",\"1\")+IF(COUNTIF(Finalrunde!$D$11:$E$18,Finalrunde!CB14)<>0,\"0\",\"1\")+IF(COUNTIF(Finalrunde!$D$11:$E$18,Finalrunde!CB15)<>0,\"0\",\"1\")+IF(COUNTIF(Finalrunde!$D$11:$E$18,Finalrunde!CB16)<>0,\"0\",\"1\")+IF(COUNTIF(Finalrunde!$D$11:$E$18,Finalrunde!CB17)<>0,\"0\",\"1\")+IF(COUNTIF(Finalrunde!$D$11:$E$18,Finalrunde!CB18)<>0,\"0\",\"1\")+IF(COUNTIF(Finalrunde!D$11:E$18,Finalrunde!CE11)<>0,\"0\",\"1\")+IF(COUNTIF(Finalrunde!$D$11:$E$18,Finalrunde!CE12)<>0,\"0\",\"1\")+IF(COUNTIF(Finalrunde!$D$11:$E$18,Finalrunde!CE13)<>0,\"0\",\"1\")+IF(COUNTIF(Finalrunde!$D$11:$E$18,Finalrunde!CE14)<>0,\"0\",\"1\")+IF(COUNTIF(Finalrunde!$D$11:$E$18,Finalrunde!CE15)<>0,\"0\",\"1\")+IF(COUNTIF(Finalrunde!$D$11:$E$18,Finalrunde!CE16)<>0,\"0\",\"1\")+IF(COUNTIF(Finalrunde!$D$11:$E$18,Finalrunde!CE17)<>0,\"0\",\"1\")+IF(COUNTIF(Finalrunde!$D$11:$E$18,Finalrunde!CE18)<>0,\"0\",\"1\")","v":4},null,11,"Brunner Manuel",{"$f":"IF(Finalrunde!$D$20=\"\",0,IF(Finalrunde!$D$20=Finalrunde!CB20,1,0))+IF(Finalrunde!$D$21=\"\",0,IF(Finalrunde!$D$21=Finalrunde!CB21,1,0))+IF(Finalrunde!$D$22=\"\",0,IF(Finalrunde!$D$22=Finalrunde!CB22,1,0))+IF(Finalrunde!$D$23=\"\",0,IF(Finalrunde!$D$23=Finalrunde!CB23,1,0))+IF(Finalrunde!$E$20=\"\",0,IF(Finalrunde!$E$20=Finalrunde!CE20,1,0))+IF(Finalrunde!$E$21=\"\",0,IF(Finalrunde!$E$21=Finalrunde!CE21,1,0))+IF(Finalrunde!$E$22=\"\",0,IF(Finalrunde!$E$22=Finalrunde!CE22,1,0))+IF(Finalrunde!$E$23=\"\",0,IF(Finalrunde!$E$23=Finalrunde!CE23,1,0))","v":3},3,{"$f":"IF(COUNTIF(Finalrunde!$D$20:$E$23,Finalrunde!CB20)<>0,\"0\",\"1\")+IF(COUNTIF(Finalrunde!$D$20:$E$23,Finalrunde!CB21)<>0,\"0\",\"1\")+IF(COUNTIF(Finalrunde!$D$20:$E$23,Finalrunde!CB22)<>0,\"0\",\"1\")+IF(COUNTIF(Finalrunde!$D$20:$E$23,Finalrunde!CB23)<>0,\"0\",\"1\")+IF(COUNTIF(Finalrunde!$D$20:$E$23,Finalrunde!CE20)<>0,\"0\",\"1\")+IF(COUNTIF(Finalrunde!$D$20:$E$23,Finalrunde!CE21)<>0,\"0\",\"1\")+IF(COUNTIF(Finalrunde!$D$20:$E$23,Finalrunde!CE22)<>0,\"0\",\"1\")+IF(COUNTIF(Finalrunde!$D$20:$E$23,Finalrunde!CE23)<>0,\"0\",\"1\")","v":2},null,11,"Brunner Manuel",{"$f":"IF(Finalrunde!$D$25=\"\",0,IF(Finalrunde!$D$25=Finalrunde!CB25,1,0))+IF(Finalrunde!$D$26=\"\",0,IF(Finalrunde!$D$26=Finalrunde!CB26,1,0))+IF(Finalrunde!$E$25=\"\",0,IF(Finalrunde!$E$25=Finalrunde!CE25,1,0))+IF(Finalrunde!$E$26=\"\",0,IF(Finalrunde!$E$26=Finalrunde!CE26,1,0))","v":1},2,{"$f":"IF(COUNTIF(Finalrunde!$D$25:$E$26,Finalrunde!CB25)<>0,\"0\",\"1\")+IF(COUNTIF(Finalrunde!$D$25:$E$26,Finalrunde!CB26)<>0,\"0\",\"1\")+IF(COUNTIF(Finalrunde!$D$25:$E$26,Finalrunde!CE25)<>0,\"0\",\"1\")+IF(COUNTIF(Finalrunde!$D$25:$E$26,Finalrunde!CE26)<>0,\"0\",\"1\")","v":1}]
[{"$f":"Teilnehmerliste!$A$17","v":12},{"$f":"Teilnehmerliste!B17 &\" \"&Teilnehmerliste!C17","v":"Brunner Nicolas"},{"$f":"IF(Finalrunde!$D$11=\"\",0,IF(Finalrunde!$D$11=Finalrunde!CI11,1,0))+IF(Finalrunde!$D$12=\"\",0,IF(Finalrunde!$D$12=Finalrunde!CI12,1,0))+IF(Finalrunde!$D$13=\"\",0,IF(Finalrunde!$D$13=Finalrunde!CI13,1,0))+IF(Finalrunde!$D$14=\"\",0,IF(Finalrunde!$D$14=Finalrunde!CI14,1,0))+IF(Finalrunde!$D$15=\"\",0,IF(Finalrunde!$D$15=Finalrunde!CI15,1,0))+IF(Finalrunde!$D$16=\"\",0,IF(Finalrunde!$D$16=Finalrunde!CI16,1,0))+IF(Finalrunde!$D$17=\"\",0,IF(Finalrunde!$D$17=Finalrunde!CI17,1,0))+IF(Finalrunde!$D$18=\"\",0,IF(Finalrunde!$D$18=Finalrunde!CI18,1,0))+IF(Finalrunde!$E$11=\"\",0,IF(Finalrunde!$E$11=Finalrunde!CL11,1,0))+IF(Finalrunde!$E$12=\"\",0,IF(Finalrunde!$E$12=Finalrunde!CL12,1,0))+IF(Finalrunde!$E$13=\"\",0,IF(Finalrunde!$E$13=Finalrunde!CL13,1,0))+IF(Finalrunde!$E$14=\"\",0,IF(Finalrunde!$E$14=Finalrunde!CL14,1,0))+IF(Finalrunde!$E$15=\"\",0,IF(Finalrunde!$E$15=Finalrunde!CL15,1,0))+IF(Finalrunde!$E$16=\"\",0,IF(Finalrunde!$E$16=Finalrunde!CL16,1,0))+IF(Finalrunde!$E$17=\"\",0,IF(Finalrunde!$E$17=Finalrunde!CL17,1,0))+IF(Finalrunde!$E$18=\"\",0,IF(Finalrunde!$E$18=Finalrunde!CL18,1,0))","v":6},5,{"$f":"IF(COUNTIF(Finalrunde!$D$11:$E$18,Finalrunde!CI11)<>0,\"0\",\"1\")+IF(COUNTIF(Finalrunde!$D$11:$E$18,Finalrunde!CI12)<>0,\"0\",\"1\")+IF(COUNTIF(Finalrunde!$D$11:$E$18,Finalrunde!CI13)<>0,\"0\",\"1\")+IF(COUNTIF(Finalrunde!$D$11:$E$18,Finalrunde!CI14)<>0,\"0\",\"1\")+IF(COUNTIF(Finalrunde!$D$11:$E$18,Finalrunde!CI15)<>0,\"0\",\"1\")+IF(COUNTIF(Finalrunde!$D$11:$E$18,Finalrunde!CI16)<>0,\"0\",\"1\")+IF(COUNTIF(Finalrunde!$D$11:$E$18,Finalrunde!CI17)<>0,\"0\",\"1\")+IF(COUNTIF(Finalrunde!$D$11:$E$18,Finalrunde!CI18)<>0,\"0\",\"1\")+IF(COUNTIF(Finalrunde!D$11:E$18,Finalrunde!CL11)<>0,\"0\",\"1\")+IF(COUNTIF(Finalrunde!$D$11:$E$18,Finalrunde!CL12)<>0,\"0\",\"1\")+IF(COUNTIF(Finalrunde!$D$11:$E$18,Finalrunde!CL13)<>0,\"0\",\"1\")+IF(COUNTIF(Finalrunde!$D$11:$E$18,Finalrunde!CL14)<>0,\"0\",\"1\")+IF(COUNTIF(Finalrunde!$D$11:$E$18,Finalrunde!CL15)<>0,\"0\",\"1\")+IF(COUNTIF(Finalrunde!$D$11:$E$18,Finalrunde!CL16)<>0,\"0\",\"1\")+IF(COUNTIF(Finalrunde!$D$11:$E$18,Finalrunde!CL17)<>0,\"0\",\"1\")+IF(COUNTIF(Finalrunde!$D$11:$E$18,Finalrunde!CL18)<>0,\"0\",\"1\")","v":5},null,12,"Brunner Nicolas",{"$f":"IF(Finalrunde!$D$20=\"\",0,IF(Finalrunde!$D$20=Finalrunde!CI20,1,0))+IF(Finalrunde!$D$21=\"\",0,IF(Finalrunde!$D$21=Finalrunde!CI21,1,0))+IF(Finalrunde!$D$22=\"\",0,IF(Finalrunde!$D$22=Finalrunde!CI22,1,0))+IF(Finalrunde!$D$23=\"\",0,IF(Finalrunde!$D$23=Finalrunde!CI23,1,0))+IF(Finalrunde!$E$20=\"\",0,IF(Finalrunde!$E$20=Finalrunde!CL20,1,0))+IF(Finalrunde!$E$21=\"\",0,IF(Finalrunde!$E$21=Finalrunde!CL21,1,0))+IF(Finalrunde!$E$22=\"\",0,IF(Finalrunde!$E$22=Finalrunde!CL22,1,0))+IF(Finalrunde!$E$23=\"\",0,IF(Finalrunde!$E$23=Finalrunde!CL23,1,0))","v":3},3,{"$f":"IF(COUNTIF(Finalrunde!$D$20:$E$23,Finalrunde!CI20)<>0,\"0\",\"1\")+IF(COUNTIF(Finalrunde!$D$20:$E$23,Finalrunde!CI21)<>0,\"0\",\"1\")+IF(COUNTIF(Finalrunde!$D$20:$E$23,Finalrunde!CI22)<>0,\"0\",\"1\")+IF(COUNTIF(Finalrunde!$D$20:$E$23,Finalrunde!CI23)<>0,\"0\",\"1\")+IF(COUNTIF(Finalrunde!$D$20:$E$23,Finalrunde!CL20)<>0,\"0\",\"1\")+IF(COUNTIF(Finalrunde!$D$20:$E$23,Finalrunde!CL21)<>0,\"0\",\"1\")+IF(COUNTIF(Finalrunde!$D$20:$E$23,Finalrunde!CL22)<>0,\"0\",\"1\")+IF(COUNTIF(Finalrunde!$D$20:$E$23,Finalrunde!CL23)<>0,\"0\",\"1\")","v":2},null,12,"Brunner Nicolas",{"$f":"IF(Finalrunde!$D$25=\"\",0,IF(Finalrunde!$D$25=Finalrunde!CI25,1,0))+IF(Finalrunde!$D$26=\"\",0,IF(Finalrunde!$D$26=Finalrunde!CI26,1,0))+IF(Finalrunde!$E$25=\"\",0,IF(Finalrunde!$E$25=Finalrunde!CL25,1,0))+IF(Finalrunde!$E$26=\"\",0,IF(Finalrunde!$E$26=Finalrunde!CL26,1,0))","v":2},1,{"$f":"IF(COUNTIF(Finalrunde!$D$25:$E$26,Finalrunde!CI25)<>0,\"0\",\"1\")+IF(COUNTIF(Finalrunde!$D$25:$E$26,Finalrunde!CI26)<>0,\"0\",\"1\")+IF(COUNTIF(Finalrunde!$D$25:$E$26,Finalrunde!CL25)<>0,\"0\",\"1\")+IF(COUNTIF(Finalrunde!$D$25:$E$26,Finalrunde!CL26)<>0,\"0\",\"1\")","v":1}]
[{"$f":"Teilnehmerliste!$A$18","v":13},{"$f":"Teilnehmerliste!B18 &\" \"&Teilnehmerliste!C18","v":"Brunner Philip"},{"$f":"IF(Finalrunde!$D$11=\"\",0,IF(Finalrunde!$D$11=Finalrunde!CP11,1,0))+IF(Finalrunde!$D$12=\"\",0,IF(Finalrunde!$D$12=Finalrunde!CP12,1,0))+IF(Finalrunde!$D$13=\"\",0,IF(Finalrunde!$D$13=Finalrunde!CP13,1,0))+IF(Finalrunde!$D$14=\"\",0,IF(Finalrunde!$D$14=Finalrunde!CP14,1,0))+IF(Finalrunde!$D$15=\"\",0,IF(Finalrunde!$D$15=Finalrunde!CP15,1,0))+IF(Finalrunde!$D$16=\"\",0,IF(Finalrunde!$D$16=Finalrunde!CP16,1,0))+IF(Finalrunde!$D$17=\"\",0,IF(Finalrunde!$D$17=Finalrunde!CP17,1,0))+IF(Finalrunde!$D$18=\"\",0,IF(Finalrunde!$D$18=Finalrunde!CP18,1,0))+IF(Finalrunde!$E$11=\"\",0,IF(Finalrunde!$E$11=Finalrunde!CS11,1,0))+IF(Finalrunde!$E$12=\"\",0,IF(Finalrunde!$E$12=Finalrunde!CS12,1,0))+IF(Finalrunde!$E$13=\"\",0,IF(Finalrunde!$E$13=Finalrunde!CS13,1,0))+IF(Finalrunde!$E$14=\"\",0,IF(Finalrunde!$E$14=Finalrunde!CS14,1,0))+IF(Finalrunde!$E$15=\"\",0,IF(Finalrunde!$E$15=Finalrunde!CS15,1,0))+IF(Finalrunde!$E$16=\"\",0,IF(Finalrunde!$E$16=Finalrunde!CS16,1,0))+IF(Finalrunde!$E$17=\"\",0,IF(Finalrunde!$E$17=Finalrunde!CS17,1,0))+IF(Finalrunde!$E$18=\"\",0,IF(Finalrunde!$E$18=Finalrunde!CS18,1,0))","v":7},5,{"$f":"IF(COUNTIF(Finalrunde!$D$11:$E$18,Finalrunde!CP11)<>0,\"0\",\"1\")+IF(COUNTIF(Finalrunde!$D$11:$E$18,Finalrunde!CP12)<>0,\"0\",\"1\")+IF(COUNTIF(Finalrunde!$D$11:$E$18,Finalrunde!CP13)<>0,\"0\",\"1\")+IF(COUNTIF(Finalrunde!$D$11:$E$18,Finalrunde!CP14)<>0,\"0\",\"1\")+IF(COUNTIF(Finalrunde!$D$11:$E$18,Finalrunde!CP15)<>0,\"0\",\"1\")+IF(COUNTIF(Finalrunde!$D$11:$E$18,Finalrunde!CP16)<>0,\"0\",\"1\")+IF(COUNTIF(Finalrunde!$D$11:$E$18,Finalrunde!CP17)<>0,\"0\",\"1\")+IF(COUNTIF(Finalrunde!$D$11:$E$18,Finalrunde!CP18)<>0,\"0\",\"1\")+IF(COUNTIF(Finalrunde!D$11:E$18,Finalrunde!CS11)<>0,\"0\",\"1\")+IF(COUNTIF(Finalrunde!$D$11:$E$18,Finalrunde!CS12)<>0,\"0\",\"1\")+IF(COUNTIF(Finalrunde!$D$11:$E$18,Finalrunde!CS13)<>0,\"0\",\"1\")+IF(COUNTIF(Finalrunde!$D$11:$E$18,Finalrunde!CS14)<>0,\"0\",\"1\")+IF(COUNTIF(Finalrunde!$D$11:$E$18,Finalrunde!CS15)<>0,\"0\",\"1\")+IF(COUNTIF(Finalrunde!$D$11:$E$18,Finalrunde!CS16)<>0,\"0\",\"1\")+IF(COUNTIF(Finalrunde!$D$11:$E$18,Finalrunde!CS17)<>0,\"0\",\"1\")+IF(COUNTIF(Finalrunde!$D$11:$E$18,Finalrunde!CS18)<>0,\"0\",\"1\")","v":4},null,13,"Brunner Philip",{"$f":"IF(Finalrunde!$D$20=\"\",0,IF(Finalrunde!$D$20=Finalrunde!CP20,1,0))+IF(Finalrunde!$D$21=\"\",0,IF(Finalrunde!$D$21=Finalrunde!CP21,1,0))+IF(Finalrunde!$D$22=\"\",0,IF(Finalrunde!$D$22=Finalrunde!CP22,1,0))+IF(Finalrunde!$D$23=\"\",0,IF(Finalrunde!$D$23=Finalrunde!CP23,1,0))+IF(Finalrunde!$E$20=\"\",0,IF(Finalrunde!$E$20=Finalrunde!CS20,1,0))+IF(Finalrunde!$E$21=\"\",0,IF(Finalrunde!$E$21=Finalrunde!CS21,1,0))+IF(Finalrunde!$E$22=\"\",0,IF(Finalrunde!$E$22=Finalrunde!CS22,1,0))+IF(Finalrunde!$E$23=\"\",0,IF(Finalrunde!$E$23=Finalrunde!CS23,1,0))","v":4},2,{"$f":"IF(COUNTIF(Finalrunde!$D$20:$E$23,Finalrunde!CP20)<>0,\"0\",\"1\")+IF(COUNTIF(Finalrunde!$D$20:$E$23,Finalrunde!CP21)<>0,\"0\",\"1\")+IF(COUNTIF(Finalrunde!$D$20:$E$23,Finalrunde!CP22)<>0,\"0\",\"1\")+IF(COUNTIF(Finalrunde!$D$20:$E$23,Finalrunde!CP23)<>0,\"0\",\"1\")+IF(COUNTIF(Finalrunde!$D$20:$E$23,Finalrunde!CS20)<>0,\"0\",\"1\")+IF(COUNTIF(Finalrunde!$D$20:$E$23,Finalrunde!CS21)<>0,\"0\",\"1\")+IF(COUNTIF(Finalrunde!$D$20:$E$23,Finalrunde!CS22)<>0,\"0\",\"1\")+IF(COUNTIF(Finalrunde!$D$20:$E$23,Finalrunde!CS23)<>0,\"0\",\"1\")","v":2},null,13,"Brunner Philip",{"$f":"IF(Finalrunde!$D$25=\"\",0,IF(Finalrunde!$D$25=Finalrunde!CP25,1,0))+IF(Finalrunde!$D$26=\"\",0,IF(Finalrunde!$D$26=Finalrunde!CP26,1,0))+IF(Finalrunde!$E$25=\"\",0,IF(Finalrunde!$E$25=Finalrunde!CS25,1,0))+IF(Finalrunde!$E$26=\"\",0,IF(Finalrunde!$E$26=Finalrunde!CS26,1,0))","v":1},1,{"$f":"IF(COUNTIF(Finalrunde!$D$25:$E$26,Finalrunde!CP25)<>0,\"0\",\"1\")+IF(COUNTIF(Finalrunde!$D$25:$E$26,Finalrunde!CP26)<>0,\"0\",\"1\")+IF(COUNTIF(Finalrunde!$D$25:$E$26,Finalrunde!CS25)<>0,\"0\",\"1\")+IF(COUNTIF(Finalrunde!$D$25:$E$26,Finalrunde!CS26)<>0,\"0\",\"1\")","v":2}]
[{"$f":"Teilnehmerliste!$A$19","v":14},{"$f":"Teilnehmerliste!B19 &\" \"&Teilnehmerliste!C19","v":"Burkart André"},{"$f":"IF(Finalrunde!$D$11=\"\",0,IF(Finalrunde!$D$11=Finalrunde!CW11,1,0))+IF(Finalrunde!$D$12=\"\",0,IF(Finalrunde!$D$12=Finalrunde!CW12,1,0))+IF(Finalrunde!$D$13=\"\",0,IF(Finalrunde!$D$13=Finalrunde!CW13,1,0))+IF(Finalrunde!$D$14=\"\",0,IF(Finalrunde!$D$14=Finalrunde!CW14,1,0))+IF(Finalrunde!$D$15=\"\",0,IF(Finalrunde!$D$15=Finalrunde!CW15,1,0))+IF(Finalrunde!$D$16=\"\",0,IF(Finalrunde!$D$16=Finalrunde!CW16,1,0))+IF(Finalrunde!$D$17=\"\",0,IF(Finalrunde!$D$17=Finalrunde!CW17,1,0))+IF(Finalrunde!$D$18=\"\",0,IF(Finalrunde!$D$18=Finalrunde!CW18,1,0))+IF(Finalrunde!$E$11=\"\",0,IF(Finalrunde!$E$11=Finalrunde!CZ11,1,0))+IF(Finalrunde!$E$12=\"\",0,IF(Finalrunde!$E$12=Finalrunde!CZ12,1,0))+IF(Finalrunde!$E$13=\"\",0,IF(Finalrunde!$E$13=Finalrunde!CZ13,1,0))+IF(Finalrunde!$E$14=\"\",0,IF(Finalrunde!$E$14=Finalrunde!CZ14,1,0))+IF(Finalrunde!$E$15=\"\",0,IF(Finalrunde!$E$15=Finalrunde!CZ15,1,0))+IF(Finalrunde!$E$16=\"\",0,IF(Finalrunde!$E$16=Finalrunde!CZ16,1,0))+IF(Finalrunde!$E$17=\"\",0,IF(Finalrunde!$E$17=Finalrunde!CZ17,1,0))+IF(Finalrunde!$E$18=\"\",0,IF(Finalrunde!$E$18=Finalrunde!CZ18,1,0))","v":7},4,{"$f":"IF(COUNTIF(Finalrunde!$D$11:$E$18,Finalrunde!CW11)<>0,\"0\",\"1\")+IF(COUNTIF(Finalrunde!$D$11:$E$18,Finalrunde!CW12)<>0,\"0\",\"1\")+IF(COUNTIF(Finalrunde!$D$11:$E$18,Finalrunde!CW13)<>0,\"0\",\"1\")+IF(COUNTIF(Finalrunde!$D$11:$E$18,Finalrunde!CW14)<>0,\"0\",\"1\")+IF(COUNTIF(Finalrunde!$D$11:$E$18,Finalrunde!CW15)<>0,\"0\",\"1\")+IF(COUNTIF(Finalrunde!$D$11:$E$18,Finalrunde!CW16)<>0,\"0\",\"1\")+IF(COUNTIF(Finalrunde!$D$11:$E$18,Finalrunde!CW17)<>0,\"0\",\"1\")+IF(COUNTIF(Finalrunde!$D$11:$E$18,Finalrunde!CW18)<>0,\"0\",\"1\")+IF(COUNTIF(Finalrunde!D$11:E$18,Finalrunde!CZ11)<>0,\"0\",\"1\")+IF(COUNTIF(Finalrunde!$D$11:$E$18,Finalrunde!CZ12)<>0,\"0\",\"1\")+IF(COUNTIF(Finalrunde!$D$11:$E$18,Finalrunde!CZ13)<>0,\"0\",\"1\")+IF(COUNTIF(Finalrunde!$D$11:$E$18,Finalrunde!CZ14)<>0,\"0\",\"1\")+IF(COUNTIF(Finalrunde!$D$11:$E$18,Finalrunde!CZ15)<>0,\"0\",\"1\")+IF(COUNTIF(Finalrunde!$D$11:$E$18,Finalrunde!CZ16)<>0,\"0\",\"1\")+IF(COUNTIF(Finalrunde!$D$11:$E$18,Finalrunde!CZ17)<>0,\"0\",\"1\")+IF(COUNTIF(Finalrunde!$D$11:$E$18,Finalrunde!CZ18)<>0,\"0\",\"1\")","v":5},null,14,"Burkart André",{"$f":"IF(Finalrunde!$D$20=\"\",0,IF(Finalrunde!$D$20=Finalrunde!CW20,1,0))+IF(Finalrunde!$D$21=\"\",0,IF(Finalrunde!$D$21=Finalrunde!CW21,1,0))+IF(Finalrunde!$D$22=\"\",0,IF(Finalrunde!$D$22=Finalrunde!CW22,1,0))+IF(Finalrunde!$D$23=\"\",0,IF(Finalrunde!$D$23=Finalrunde!CW23,1,0))+IF(Finalrunde!$E$20=\"\",0,IF(Finalrunde!$E$20=Finalrunde!CZ20,1,0))+IF(Finalrunde!$E$21=\"\",0,IF(Finalrunde!$E$21=Finalrunde!CZ21,1,0))+IF(Finalrunde!$E$22=\"\",0,IF(Finalrunde!$E$22=Finalrunde!CZ22,1,0))+IF(Finalrunde!$E$23=\"\",0,IF(Finalrunde!$E$23=Finalrunde!CZ23,1,0))","v":4},2,{"$f":"IF(COUNTIF(Finalrunde!$D$20:$E$23,Finalrunde!CW20)<>0,\"0\",\"1\")+IF(COUNTIF(Finalrunde!$D$20:$E$23,Finalrunde!CW21)<>0,\"0\",\"1\")+IF(COUNTIF(Finalrunde!$D$20:$E$23,Finalrunde!CW22)<>0,\"0\",\"1\")+IF(COUNTIF(Finalrunde!$D$20:$E$23,Finalrunde!CW23)<>0,\"0\",\"1\")+IF(COUNTIF(Finalrunde!$D$20:$E$23,Finalrunde!CZ20)<>0,\"0\",\"1\")+IF(COUNTIF(Finalrunde!$D$20:$E$23,Finalrunde!CZ21)<>0,\"0\",\"1\")+IF(COUNTIF(Finalrunde!$D$20:$E$23,Finalrunde!CZ22)<>0,\"0\",\"1\")+IF(COUNTIF(Finalrunde!$D$20:$E$23,Finalrunde!CZ23)<>0,\"0\",\"1\")","v":2},null,14,"Burkart André",{"$f":"IF(Finalrunde!$D$25=\"\",0,IF(Finalrunde!$D$25=Finalrunde!CW25,1,0))+IF(Finalrunde!$D$26=\"\",0,IF(Finalrunde!$D$26=Finalrunde!CW26,1,0))+IF(Finalrunde!$E$25=\"\",0,IF(Finalrunde!$E$25=Finalrunde!CZ25,1,0))+IF(Finalrunde!$E$26=\"\",0,IF(Finalrunde!$E$26=Finalrunde!CZ26,1,0))","v":1},2,{"$f":"IF(COUNTIF(Finalrunde!$D$25:$E$26,Finalrunde!CW25)<>0,\"0\",\"1\")+IF(COUNTIF(Finalrunde!$D$25:$E$26,Finalrunde!CW26)<>0,\"0\",\"1\")+IF(COUNTIF(Finalrunde!$D$25:$E$26,Finalrunde!CZ25)<>0,\"0\",\"1\")+IF(COUNTIF(Finalrunde!$D$25:$E$26,Finalrunde!CZ26)<>0,\"0\",\"1\")","v":1}]
[{"$f":"Teilnehmerliste!$A$20","v":15},{"$f":"Teilnehmerliste!B20 &\" \"&Teilnehmerliste!C20","v":"Burkart Louis"},{"$f":"IF(Finalrunde!$D$11=\"\",0,IF(Finalrunde!$D$11=Finalrunde!DD11,1,0))+IF(Finalrunde!$D$12=\"\",0,IF(Finalrunde!$D$12=Finalrunde!DD12,1,0))+IF(Finalrunde!$D$13=\"\",0,IF(Finalrunde!$D$13=Finalrunde!DD13,1,0))+IF(Finalrunde!$D$14=\"\",0,IF(Finalrunde!$D$14=Finalrunde!DD14,1,0))+IF(Finalrunde!$D$15=\"\",0,IF(Finalrunde!$D$15=Finalrunde!DD15,1,0))+IF(Finalrunde!$D$16=\"\",0,IF(Finalrunde!$D$16=Finalrunde!DD16,1,0))+IF(Finalrunde!$D$17=\"\",0,IF(Finalrunde!$D$17=Finalrunde!DD17,1,0))+IF(Finalrunde!$D$18=\"\",0,IF(Finalrunde!$D$18=Finalrunde!DD18,1,0))+IF(Finalrunde!$E$11=\"\",0,IF(Finalrunde!$E$11=Finalrunde!DG11,1,0))+IF(Finalrunde!$E$12=\"\",0,IF(Finalrunde!$E$12=Finalrunde!DG12,1,0))+IF(Finalrunde!$E$13=\"\",0,IF(Finalrunde!$E$13=Finalrunde!DG13,1,0))+IF(Finalrunde!$E$14=\"\",0,IF(Finalrunde!$E$14=Finalrunde!DG14,1,0))+IF(Finalrunde!$E$15=\"\",0,IF(Finalrunde!$E$15=Finalrunde!DG15,1,0))+IF(Finalrunde!$E$16=\"\",0,IF(Finalrunde!$E$16=Finalrunde!DG16,1,0))+IF(Finalrunde!$E$17=\"\",0,IF(Finalrunde!$E$17=Finalrunde!DG17,1,0))+IF(Finalrunde!$E$18=\"\",0,IF(Finalrunde!$E$18=Finalrunde!DG18,1,0))","v":5},7,{"$f":"IF(COUNTIF(Finalrunde!$D$11:$E$18,Finalrunde!DD11)<>0,\"0\",\"1\")+IF(COUNTIF(Finalrunde!$D$11:$E$18,Finalrunde!DD12)<>0,\"0\",\"1\")+IF(COUNTIF(Finalrunde!$D$11:$E$18,Finalrunde!DD13)<>0,\"0\",\"1\")+IF(COUNTIF(Finalrunde!$D$11:$E$18,Finalrunde!DD14)<>0,\"0\",\"1\")+IF(COUNTIF(Finalrunde!$D$11:$E$18,Finalrunde!DD15)<>0,\"0\",\"1\")+IF(COUNTIF(Finalrunde!$D$11:$E$18,Finalrunde!DD16)<>0,\"0\",\"1\")+IF(COUNTIF(Finalrunde!$D$11:$E$18,Finalrunde!DD17)<>0,\"0\",\"1\")+IF(COUNTIF(Finalrunde!$D$11:$E$18,Finalrunde!DD18)<>0,\"0\",\"1\")+IF(COUNTIF(Finalrunde!D$11:E$18,Finalrunde!DG11)<>0,\"0\",\"1\")+IF(COUNTIF(Finalrunde!$D$11:$E$18,Finalrunde!DG12)<>0,\"0\",\"1\")+IF(COUNTIF(Finalrunde!$D$11:$E$18,Finalrunde!DG13)<>0,\"0\",\"1\")+IF(COUNTIF(Finalrunde!$D$11:$E$18,Finalrunde!DG14)<>0,\"0\",\"1\")+IF(COUNTIF(Finalrunde!$D$11:$E$18,Finalrunde!DG15)<>0,\"0\",\"1\")+IF(COUNTIF(Finalrunde!$D$11:$E$18,Finalrunde!DG16)<>0,\"0\",\"1\")+IF(COUNTIF(Finalrunde!$D$11:$E$18,Finalrunde!DG17)<>0,\"0\",\"1\")+IF(COUNTIF(Finalrunde!$D$11:$E$18,Finalrunde!DG18)<>0,\"0\",\"1\")","v":4},null,15,"Burkart Louis",{"$f":"IF(Finalrunde!$D$20=\"\",0,IF(Finalrunde!$D$20=Finalrunde!DD20,1,0))+IF(Finalrunde!$D$21=\"\",0,IF(Finalrunde!$D$21=Finalrunde!DD21,1,0))+IF(Finalrunde!$D$22=\"\",0,IF(Finalrunde!$D$22=Finalrunde!DD22,1,0))+IF(Finalrunde!$D$23=\"\",0,IF(Finalrunde!$D$23=Finalrunde!DD23,1,0))+IF(Finalrunde!$E$20=\"\",0,IF(Finalrunde!$E$20=Finalrunde!DG20,1,0))+IF(Finalrunde!$E$21=\"\",0,IF(Finalrunde!$E$21=Finalrunde!DG21,1,0))+IF(Finalrunde!$E$22=\"\",0,IF(Finalrunde!$E$22=Finalrunde!DG22,1,0))+IF(Finalrunde!$E$23=\"\",0,IF(Finalrunde!$E$23=Finalrunde!DG23,1,0))","v":4},2,{"$f":"IF(COUNTIF(Finalrunde!$D$20:$E$23,Finalrunde!DD20)<>0,\"0\",\"1\")+IF(COUNTIF(Finalrunde!$D$20:$E$23,Finalrunde!DD21)<>0,\"0\",\"1\")+IF(COUNTIF(Finalrunde!$D$20:$E$23,Finalrunde!DD22)<>0,\"0\",\"1\")+IF(COUNTIF(Finalrunde!$D$20:$E$23,Finalrunde!DD23)<>0,\"0\",\"1\")+IF(COUNTIF(Finalrunde!$D$20:$E$23,Finalrunde!DG20)<>0,\"0\",\"1\")+IF(COUNTIF(Finalrunde!$D$20:$E$23,Finalrunde!DG21)<>0,\"0\",\"1\")+IF(COUNTIF(Finalrunde!$D$20:$E$23,Finalrunde!DG22)<>0,\"0\",\"1\")+IF(COUNTIF(Finalrunde!$D$20:$E$23,Finalrunde!DG23)<>0,\"0\",\"1\")","v":2},null,15,"Burkart Louis",{"$f":"IF(Finalrunde!$D$25=\"\",0,IF(Finalrunde!$D$25=Finalrunde!DD25,1,0))+IF(Finalrunde!$D$26=\"\",0,IF(Finalrunde!$D$26=Finalrunde!DD26,1,0))+IF(Finalrunde!$E$25=\"\",0,IF(Finalrunde!$E$25=Finalrunde!DG25,1,0))+IF(Finalrunde!$E$26=\"\",0,IF(Finalrunde!$E$26=Finalrunde!DG26,1,0))","v":3},0,{"$f":"IF(COUNTIF(Finalrunde!$D$25:$E$26,Finalrunde!DD25)<>0,\"0\",\"1\")+IF(COUNTIF(Finalrunde!$D$25:$E$26,Finalrunde!DD26)<>0,\"0\",\"1\")+IF(COUNTIF(Finalrunde!$D$25:$E$26,Finalrunde!DG25)<>0,\"0\",\"1\")+IF(COUNTIF(Finalrunde!$D$25:$E$26,Finalrunde!DG26)<>0,\"0\",\"1\")","v":1}]
[{"$f":"Teilnehmerliste!$A$21","v":16},{"$f":"Teilnehmerliste!B21 &\" \"&Teilnehmerliste!C21","v":"Cadonau Daniel"},{"$f":"IF(Finalrunde!$D$11=\"\",0,IF(Finalrunde!$D$11=Finalrunde!DK11,1,0))+IF(Finalrunde!$D$12=\"\",0,IF(Finalrunde!$D$12=Finalrunde!DK12,1,0))+IF(Finalrunde!$D$13=\"\",0,IF(Finalrunde!$D$13=Finalrunde!DK13,1,0))+IF(Finalrunde!$D$14=\"\",0,IF(Finalrunde!$D$14=Finalrunde!DK14,1,0))+IF(Finalrunde!$D$15=\"\",0,IF(Finalrunde!$D$15=Finalrunde!DK15,1,0))+IF(Finalrunde!$D$16=\"\",0,IF(Finalrunde!$D$16=Finalrunde!DK16,1,0))+IF(Finalrunde!$D$17=\"\",0,IF(Finalrunde!$D$17=Finalrunde!DK17,1,0))+IF(Finalrunde!$D$18=\"\",0,IF(Finalrunde!$D$18=Finalrunde!DK18,1,0))+IF(Finalrunde!$E$11=\"\",0,IF(Finalrunde!$E$11=Finalrunde!DN11,1,0))+IF(Finalrunde!$E$12=\"\",0,IF(Finalrunde!$E$12=Finalrunde!DN12,1,0))+IF(Finalrunde!$E$13=\"\",0,IF(Finalrunde!$E$13=Finalrunde!DN13,1,0))+IF(Finalrunde!$E$14=\"\",0,IF(Finalrunde!$E$14=Finalrunde!DN14,1,0))+IF(Finalrunde!$E$15=\"\",0,IF(Finalrunde!$E$15=Finalrunde!DN15,1,0))+IF(Finalrunde!$E$16=\"\",0,IF(Finalrunde!$E$16=Finalrunde!DN16,1,0))+IF(Finalrunde!$E$17=\"\",0,IF(Finalrunde!$E$17=Finalrunde!DN17,1,0))+IF(Finalrunde!$E$18=\"\",0,IF(Finalrunde!$E$18=Finalrunde!DN18,1,0))","v":5},8,{"$f":"IF(COUNTIF(Finalrunde!$D$11:$E$18,Finalrunde!DK11)<>0,\"0\",\"1\")+IF(COUNTIF(Finalrunde!$D$11:$E$18,Finalrunde!DK12)<>0,\"0\",\"1\")+IF(COUNTIF(Finalrunde!$D$11:$E$18,Finalrunde!DK13)<>0,\"0\",\"1\")+IF(COUNTIF(Finalrunde!$D$11:$E$18,Finalrunde!DK14)<>0,\"0\",\"1\")+IF(COUNTIF(Finalrunde!$D$11:$E$18,Finalrunde!DK15)<>0,\"0\",\"1\")+IF(COUNTIF(Finalrunde!$D$11:$E$18,Finalrunde!DK16)<>0,\"0\",\"1\")+IF(COUNTIF(Finalrunde!$D$11:$E$18,Finalrunde!DK17)<>0,\"0\",\"1\")+IF(COUNTIF(Finalrunde!$D$11:$E$18,Finalrunde!DK18)<>0,\"0\",\"1\")+IF(COUNTIF(Finalrunde!D$11:E$18,Finalrunde!DN11)<>0,\"0\",\"1\")+IF(COUNTIF(Finalrunde!$D$11:$E$18,Finalrunde!DN12)<>0,\"0\",\"1\")+IF(COUNTIF(Finalrunde!$D$11:$E$18,Finalrunde!DN13)<>0,\"0\",\"1\")+IF(COUNTIF(Finalrunde!$D$11:$E$18,Finalrunde!DN14)<>0,\"0\",\"1\")+IF(COUNTIF(Finalrunde!$D$11:$E$18,Finalrunde!DN15)<>0,\"0\",\"1\")+IF(COUNTIF(Finalrunde!$D$11:$E$18,Finalrunde!DN16)<>0,\"0\",\"1\")+IF(COUNTIF(Finalrunde!$D$11:$E$18,Finalrunde!DN17)<>0,\"0\",\"1\")+IF(COUNTIF(Finalrunde!$D$11:$E$18,Finalrunde!DN18)<>0,\"0\",\"1\")","v":3},null,16,"Cadonau Daniel",{"$f":"IF(Finalrunde!$D$20=\"\",0,IF(Finalrunde!$D$20=Finalrunde!DK20,1,0))+IF(Finalrunde!$D$21=\"\",0,IF(Finalrunde!$D$21=Finalrunde!DK21,1,0))+IF(Finalrunde!$D$22=\"\",0,IF(Finalrunde!$D$22=Finalrunde!DK22,1,0))+IF(Finalrunde!$D$23=\"\",0,IF(Finalrunde!$D$23=Finalrunde!DK23,1,0))+IF(Finalrunde!$E$20=\"\",0,IF(Finalrunde!$E$20=Finalrunde!DN20,1,0))+IF(Finalrunde!$E$21=\"\",0,IF(Finalrunde!$E$21=Finalrunde!DN21,1,0))+IF(Finalrunde!$E$22=\"\",0,IF(Finalrunde!$E$22=Finalrunde!DN22,1,0))+IF(Finalrunde!$E$23=\"\",0,IF(Finalrunde!$E$23=Finalrunde!DN23,1,0))","v":3},3,{"$f":"IF(COUNTIF(Finalrunde!$D$20:$E$23,Finalrunde!DK20)<>0,\"0\",\"1\")+IF(COUNTIF(Finalrunde!$D$20:$E$23,Finalrunde!DK21)<>0,\"0\",\"1\")+IF(COUNTIF(Finalrunde!$D$20:$E$23,Finalrunde!DK22)<>0,\"0\",\"1\")+IF(COUNTIF(Finalrunde!$D$20:$E$23,Finalrunde!DK23)<>0,\"0\",\"1\")+IF(COUNTIF(Finalrunde!$D$20:$E$23,Finalrunde!DN20)<>0,\"0\",\"1\")+IF(COUNTIF(Finalrunde!$D$20:$E$23,Finalrunde!DN21)<>0,\"0\",\"1\")+IF(COUNTIF(Finalrunde!$D$20:$E$23,Finalrunde!DN22)<>0,\"0\",\"1\")+IF(COUNTIF(Finalrunde!$D$20:$E$23,Finalrunde!DN23)<>0,\"0\",\"1\")","v":2},null,16,"Cadonau Daniel",{"$f":"IF(Finalrunde!$D$25=\"\",0,IF(Finalrunde!$D$25=Finalrunde!DK25,1,0))+IF(Finalrunde!$D$26=\"\",0,IF(Finalrunde!$D$26=Finalrunde!DK26,1,0))+IF(Finalrunde!$E$25=\"\",0,IF(Finalrunde!$E$25=Finalrunde!DN25,1,0))+IF(Finalrunde!$E$26=\"\",0,IF(Finalrunde!$E$26=Finalrunde!DN26,1,0))","v":1},1,{"$f":"IF(COUNTIF(Finalrunde!$D$25:$E$26,Finalrunde!DK25)<>0,\"0\",\"1\")+IF(COUNTIF(Finalrunde!$D$25:$E$26,Finalrunde!DK26)<>0,\"0\",\"1\")+IF(COUNTIF(Finalrunde!$D$25:$E$26,Finalrunde!DN25)<>0,\"0\",\"1\")+IF(COUNTIF(Finalrunde!$D$25:$E$26,Finalrunde!DN26)<>0,\"0\",\"1\")","v":2}]
[{"$f":"Teilnehmerliste!$A$22","v":17},{"$f":"Teilnehmerliste!B22 &\" \"&Teilnehmerliste!C22","v":"Cadonau Deliz"},{"$f":"IF(Finalrunde!$D$11=\"\",0,IF(Finalrunde!$D$11=Finalrunde!DR11,1,0))+IF(Finalrunde!$D$12=\"\",0,IF(Finalrunde!$D$12=Finalrunde!DR12,1,0))+IF(Finalrunde!$D$13=\"\",0,IF(Finalrunde!$D$13=Finalrunde!DR13,1,0))+IF(Finalrunde!$D$14=\"\",0,IF(Finalrunde!$D$14=Finalrunde!DR14,1,0))+IF(Finalrunde!$D$15=\"\",0,IF(Finalrunde!$D$15=Finalrunde!DR15,1,0))+IF(Finalrunde!$D$16=\"\",0,IF(Finalrunde!$D$16=Finalrunde!DR16,1,0))+IF(Finalrunde!$D$17=\"\",0,IF(Finalrunde!$D$17=Finalrunde!DR17,1,0))+IF(Finalrunde!$D$18=\"\",0,IF(Finalrunde!$D$18=Finalrunde!DR18,1,0))+IF(Finalrunde!$E$11=\"\",0,IF(Finalrunde!$E$11=Finalrunde!DU11,1,0))+IF(Finalrunde!$E$12=\"\",0,IF(Finalrunde!$E$12=Finalrunde!DU12,1,0))+IF(Finalrunde!$E$13=\"\",0,IF(Finalrunde!$E$13=Finalrunde!DU13,1,0))+IF(Finalrunde!$E$14=\"\",0,IF(Finalrunde!$E$14=Finalrunde!DU14,1,0))+IF(Finalrunde!$E$15=\"\",0,IF(Finalrunde!$E$15=Finalrunde!DU15,1,0))+IF(Finalrunde!$E$16=\"\",0,IF(Finalrunde!$E$16=Finalrunde!DU16,1,0))+IF(Finalrunde!$E$17=\"\",0,IF(Finalrunde!$E$17=Finalrunde!DU17,1,0))+IF(Finalrunde!$E$18=\"\",0,IF(Finalrunde!$E$18=Finalrunde!DU18,1,0))","v":5},7,{"$f":"IF(COUNTIF(Finalrunde!$D$11:$E$18,Finalrunde!DR11)<>0,\"0\",\"1\")+IF(COUNTIF(Finalrunde!$D$11:$E$18,Finalrunde!DR12)<>0,\"0\",\"1\")+IF(COUNTIF(Finalrunde!$D$11:$E$18,Finalrunde!DR13)<>0,\"0\",\"1\")+IF(COUNTIF(Finalrunde!$D$11:$E$18,Finalrunde!DR14)<>0,\"0\",\"1\")+IF(COUNTIF(Finalrunde!$D$11:$E$18,Finalrunde!DR15)<>0,\"0\",\"1\")+IF(COUNTIF(Finalrunde!$D$11:$E$18,Finalrunde!DR16)<>0,\"0\",\"1\")+IF(COUNTIF(Finalrunde!$D$11:$E$18,Finalrunde!DR17)<>0,\"0\",\"1\")+IF(COUNTIF(Finalrunde!$D$11:$E$18,Finalrunde!DR18)<>0,\"0\",\"1\")+IF(COUNTIF(Finalrunde!D$11:E$18,Finalrunde!DU11)<>0,\"0\",\"1\")+IF(COUNTIF(Finalrunde!$D$11:$E$18,Finalrunde!DU12)<>0,\"0\",\"1\")+IF(COUNTIF(Finalrunde!$D$11:$E$18,Finalrunde!DU13)<>0,\"0\",\"1\")+IF(COUNTIF(Finalrunde!$D$11:$E$18,Finalrunde!DU14)<>0,\"0\",\"1\")+IF(COUNTIF(Finalrunde!$D$11:$E$18,Finalrunde!DU15)<>0,\"0\",\"1\")+IF(COUNTIF(Finalrunde!$D$11:$E$18,Finalrunde!DU16)<>0,\"0\",\"1\")+IF(COUNTIF(Finalrunde!$D$11:$E$18,Finalrunde!DU17)<>0,\"0\",\"1\")+IF(COUNTIF(Finalrunde!$D$11:$E$18,Finalrunde!DU18)<>0,\"0\",\"1\")","v":4},null,17,"Cadonau Deliz",{"$f":"IF(Finalrunde!$D$20=\"\",0,IF(Finalrunde!$D$20=Finalrunde!DR20,1,0))+IF(Finalrunde!$D$21=\"\",0,IF(Finalrunde!$D$21=Finalrunde!DR21,1,0))+IF(Finalrunde!$D$22=\"\",0,IF(Finalrunde!$D$22=Finalrunde!DR22,1,0))+IF(Finalrunde!$D$23=\"\",0,IF(Finalrunde!$D$23=Finalrunde!DR23,1,0))+IF(Finalrunde!$E$20=\"\",0,IF(Finalrunde!$E$20=Finalrunde!DU20,1,0))+IF(Finalrunde!$E$21=\"\",0,IF(Finalrunde!$E$21=Finalrunde!DU21,1,0))+IF(Finalrunde!$E$22=\"\",0,IF(Finalrunde!$E$22=Finalrunde!DU22,1,0))+IF(Finalrunde!$E$23=\"\",0,IF(Finalrunde!$E$23=Finalrunde!DU23,1,0))","v":4},2,{"$f":"IF(COUNTIF(Finalrunde!$D$20:$E$23,Finalrunde!DR20)<>0,\"0\",\"1\")+IF(COUNTIF(Finalrunde!$D$20:$E$23,Finalrunde!DR21)<>0,\"0\",\"1\")+IF(COUNTIF(Finalrunde!$D$20:$E$23,Finalrunde!DR22)<>0,\"0\",\"1\")+IF(COUNTIF(Finalrunde!$D$20:$E$23,Finalrunde!DR23)<>0,\"0\",\"1\")+IF(COUNTIF(Finalrunde!$D$20:$E$23,Finalrunde!DU20)<>0,\"0\",\"1\")+IF(COUNTIF(Finalrunde!$D$20:$E$23,Finalrunde!DU21)<>0,\"0\",\"1\")+IF(COUNTIF(Finalrunde!$D$20:$E$23,Finalrunde!DU22)<>0,\"0\",\"1\")+IF(COUNTIF(Finalrunde!$D$20:$E$23,Finalrunde!DU23)<>0,\"0\",\"1\")","v":2},null,17,"Cadonau Deliz",{"$f":"IF(Finalrunde!$D$25=\"\",0,IF(Finalrunde!$D$25=Finalrunde!DR25,1,0))+IF(Finalrunde!$D$26=\"\",0,IF(Finalrunde!$D$26=Finalrunde!DR26,1,0))+IF(Finalrunde!$E$25=\"\",0,IF(Finalrunde!$E$25=Finalrunde!DU25,1,0))+IF(Finalrunde!$E$26=\"\",0,IF(Finalrunde!$E$26=Finalrunde!DU26,1,0))","v":1},1,{"$f":"IF(COUNTIF(Finalrunde!$D$25:$E$26,Finalrunde!DR25)<>0,\"0\",\"1\")+IF(COUNTIF(Finalrunde!$D$25:$E$26,Finalrunde!DR26)<>0,\"0\",\"1\")+IF(COUNTIF(Finalrunde!$D$25:$E$26,Finalrunde!DU25)<>0,\"0\",\"1\")+IF(COUNTIF(Finalrunde!$D$25:$E$26,Finalrunde!DU26)<>0,\"0\",\"1\")","v":2}]
[{"$f":"Teilnehmerliste!$A$23","v":18},{"$f":"Teilnehmerliste!B23 &\" \"&Teilnehmerliste!C23","v":"Cadonau Florian"},{"$f":"IF(Finalrunde!$D$11=\"\",0,IF(Finalrunde!$D$11=Finalrunde!DY11,1,0))+IF(Finalrunde!$D$12=\"\",0,IF(Finalrunde!$D$12=Finalrunde!DY12,1,0))+IF(Finalrunde!$D$13=\"\",0,IF(Finalrunde!$D$13=Finalrunde!DY13,1,0))+IF(Finalrunde!$D$14=\"\",0,IF(Finalrunde!$D$14=Finalrunde!DY14,1,0))+IF(Finalrunde!$D$15=\"\",0,IF(Finalrunde!$D$15=Finalrunde!DY15,1,0))+IF(Finalrunde!$D$16=\"\",0,IF(Finalrunde!$D$16=Finalrunde!DY16,1,0))+IF(Finalrunde!$D$17=\"\",0,IF(Finalrunde!$D$17=Finalrunde!DY17,1,0))+IF(Finalrunde!$D$18=\"\",0,IF(Finalrunde!$D$18=Finalrunde!DY18,1,0))+IF(Finalrunde!$E$11=\"\",0,IF(Finalrunde!$E$11=Finalrunde!EB11,1,0))+IF(Finalrunde!$E$12=\"\",0,IF(Finalrunde!$E$12=Finalrunde!EB12,1,0))+IF(Finalrunde!$E$13=\"\",0,IF(Finalrunde!$E$13=Finalrunde!EB13,1,0))+IF(Finalrunde!$E$14=\"\",0,IF(Finalrunde!$E$14=Finalrunde!EB14,1,0))+IF(Finalrunde!$E$15=\"\",0,IF(Finalrunde!$E$15=Finalrunde!EB15,1,0))+IF(Finalrunde!$E$16=\"\",0,IF(Finalrunde!$E$16=Finalrunde!EB16,1,0))+IF(Finalrunde!$E$17=\"\",0,IF(Finalrunde!$E$17=Finalrunde!EB17,1,0))+IF(Finalrunde!$E$18=\"\",0,IF(Finalrunde!$E$18=Finalrunde!EB18,1,0))","v":8},5,{"$f":"IF(COUNTIF(Finalrunde!$D$11:$E$18,Finalrunde!DY11)<>0,\"0\",\"1\")+IF(COUNTIF(Finalrunde!$D$11:$E$18,Finalrunde!DY12)<>0,\"0\",\"1\")+IF(COUNTIF(Finalrunde!$D$11:$E$18,Finalrunde!DY13)<>0,\"0\",\"1\")+IF(COUNTIF(Finalrunde!$D$11:$E$18,Finalrunde!DY14)<>0,\"0\",\"1\")+IF(COUNTIF(Finalrunde!$D$11:$E$18,Finalrunde!DY15)<>0,\"0\",\"1\")+IF(COUNTIF(Finalrunde!$D$11:$E$18,Finalrunde!DY16)<>0,\"0\",\"1\")+IF(COUNTIF(Finalrunde!$D$11:$E$18,Finalrunde!DY17)<>0,\"0\",\"1\")+IF(COUNTIF(Finalrunde!$D$11:$E$18,Finalrunde!DY18)<>0,\"0\",\"1\")+IF(COUNTIF(Finalrunde!D$11:E$18,Finalrunde!EB11)<>0,\"0\",\"1\")+IF(COUNTIF(Finalrunde!$D$11:$E$18,Finalrunde!EB12)<>0,\"0\",\"1\")+IF(COUNTIF(Finalrunde!$D$11:$E$18,Finalrunde!EB13)<>0,\"0\",\"1\")+IF(COUNTIF(Finalrunde!$D$11:$E$18,Finalrunde!EB14)<>0,\"0\",\"1\")+IF(COUNTIF(Finalrunde!$D$11:$E$18,Finalrunde!EB15)<>0,\"0\",\"1\")+IF(COUNTIF(Finalrunde!$D$11:$E$18,Finalrunde!EB16)<>0,\"0\",\"1\")+IF(COUNTIF(Finalrunde!$D$11:$E$18,Finalrunde!EB17)<>0,\"0\",\"1\")+IF(COUNTIF(Finalrunde!$D$11:$E$18,Finalrunde!EB18)<>0,\"0\",\"1\")","v":3},null,18,"Cadonau Florian",{"$f":"IF(Finalrunde!$D$20=\"\",0,IF(Finalrunde!$D$20=Finalrunde!DY20,1,0))+IF(Finalrunde!$D$21=\"\",0,IF(Finalrunde!$D$21=Finalrunde!DY21,1,0))+IF(Finalrunde!$D$22=\"\",0,IF(Finalrunde!$D$22=Finalrunde!DY22,1,0))+IF(Finalrunde!$D$23=\"\",0,IF(Finalrunde!$D$23=Finalrunde!DY23,1,0))+IF(Finalrunde!$E$20=\"\",0,IF(Finalrunde!$E$20=Finalrunde!EB20,1,0))+IF(Finalrunde!$E$21=\"\",0,IF(Finalrunde!$E$21=Finalrunde!EB21,1,0))+IF(Finalrunde!$E$22=\"\",0,IF(Finalrunde!$E$22=Finalrunde!EB22,1,0))+IF(Finalrunde!$E$23=\"\",0,IF(Finalrunde!$E$23=Finalrunde!EB23,1,0))","v":5},1,{"$f":"IF(COUNTIF(Finalrunde!$D$20:$E$23,Finalrunde!DY20)<>0,\"0\",\"1\")+IF(COUNTIF(Finalrunde!$D$20:$E$23,Finalrunde!DY21)<>0,\"0\",\"1\")+IF(COUNTIF(Finalrunde!$D$20:$E$23,Finalrunde!DY22)<>0,\"0\",\"1\")+IF(COUNTIF(Finalrunde!$D$20:$E$23,Finalrunde!DY23)<>0,\"0\",\"1\")+IF(COUNTIF(Finalrunde!$D$20:$E$23,Finalrunde!EB20)<>0,\"0\",\"1\")+IF(COUNTIF(Finalrunde!$D$20:$E$23,Finalrunde!EB21)<>0,\"0\",\"1\")+IF(COUNTIF(Finalrunde!$D$20:$E$23,Finalrunde!EB22)<>0,\"0\",\"1\")+IF(COUNTIF(Finalrunde!$D$20:$E$23,Finalrunde!EB23)<>0,\"0\",\"1\")","v":2},null,18,"Cadonau Florian",{"$f":"IF(Finalrunde!$D$25=\"\",0,IF(Finalrunde!$D$25=Finalrunde!DY25,1,0))+IF(Finalrunde!$D$26=\"\",0,IF(Finalrunde!$D$26=Finalrunde!DY26,1,0))+IF(Finalrunde!$E$25=\"\",0,IF(Finalrunde!$E$25=Finalrunde!EB25,1,0))+IF(Finalrunde!$E$26=\"\",0,IF(Finalrunde!$E$26=Finalrunde!EB26,1,0))","v":1},1,{"$f":"IF(COUNTIF(Finalrunde!$D$25:$E$26,Finalrunde!DY25)<>0,\"0\",\"1\")+IF(COUNTIF(Finalrunde!$D$25:$E$26,Finalrunde!DY26)<>0,\"0\",\"1\")+IF(COUNTIF(Finalrunde!$D$25:$E$26,Finalrunde!EB25)<>0,\"0\",\"1\")+IF(COUNTIF(Finalrunde!$D$25:$E$26,Finalrunde!EB26)<>0,\"0\",\"1\")","v":2}]
[{"$f":"Teilnehmerliste!$A$24","v":19},{"$f":"Teilnehmerliste!B24 &\" \"&Teilnehmerliste!C24","v":"Christiansen Olo"},{"$f":"IF(Finalrunde!$D$11=\"\",0,IF(Finalrunde!$D$11=Finalrunde!EF11,1,0))+IF(Finalrunde!$D$12=\"\",0,IF(Finalrunde!$D$12=Finalrunde!EF12,1,0))+IF(Finalrunde!$D$13=\"\",0,IF(Finalrunde!$D$13=Finalrunde!EF13,1,0))+IF(Finalrunde!$D$14=\"\",0,IF(Finalrunde!$D$14=Finalrunde!EF14,1,0))+IF(Finalrunde!$D$15=\"\",0,IF(Finalrunde!$D$15=Finalrunde!EF15,1,0))+IF(Finalrunde!$D$16=\"\",0,IF(Finalrunde!$D$16=Finalrunde!EF16,1,0))+IF(Finalrunde!$D$17=\"\",0,IF(Finalrunde!$D$17=Finalrunde!EF17,1,0))+IF(Finalrunde!$D$18=\"\",0,IF(Finalrunde!$D$18=Finalrunde!EF18,1,0))+IF(Finalrunde!$E$11=\"\",0,IF(Finalrunde!$E$11=Finalrunde!EI11,1,0))+IF(Finalrunde!$E$12=\"\",0,IF(Finalrunde!$E$12=Finalrunde!EI12,1,0))+IF(Finalrunde!$E$13=\"\",0,IF(Finalrunde!$E$13=Finalrunde!EI13,1,0))+IF(Finalrunde!$E$14=\"\",0,IF(Finalrunde!$E$14=Finalrunde!EI14,1,0))+IF(Finalrunde!$E$15=\"\",0,IF(Finalrunde!$E$15=Finalrunde!EI15,1,0))+IF(Finalrunde!$E$16=\"\",0,IF(Finalrunde!$E$16=Finalrunde!EI16,1,0))+IF(Finalrunde!$E$17=\"\",0,IF(Finalrunde!$E$17=Finalrunde!EI17,1,0))+IF(Finalrunde!$E$18=\"\",0,IF(Finalrunde!$E$18=Finalrunde!EI18,1,0))","v":6},6,{"$f":"IF(COUNTIF(Finalrunde!$D$11:$E$18,Finalrunde!EF11)<>0,\"0\",\"1\")+IF(COUNTIF(Finalrunde!$D$11:$E$18,Finalrunde!EF12)<>0,\"0\",\"1\")+IF(COUNTIF(Finalrunde!$D$11:$E$18,Finalrunde!EF13)<>0,\"0\",\"1\")+IF(COUNTIF(Finalrunde!$D$11:$E$18,Finalrunde!EF14)<>0,\"0\",\"1\")+IF(COUNTIF(Finalrunde!$D$11:$E$18,Finalrunde!EF15)<>0,\"0\",\"1\")+IF(COUNTIF(Finalrunde!$D$11:$E$18,Finalrunde!EF16)<>0,\"0\",\"1\")+IF(COUNTIF(Finalrunde!$D$11:$E$18,Finalrunde!EF17)<>0,\"0\",\"1\")+IF(COUNTIF(Finalrunde!$D$11:$E$18,Finalrunde!EF18)<>0,\"0\",\"1\")+IF(COUNTIF(Finalrunde!D$11:E$18,Finalrunde!EI11)<>0,\"0\",\"1\")+IF(COUNTIF(Finalrunde!$D$11:$E$18,Finalrunde!EI12)<>0,\"0\",\"1\")+IF(COUNTIF(Finalrunde!$D$11:$E$18,Finalrunde!EI13)<>0,\"0\",\"1\")+IF(COUNTIF(Finalrunde!$D$11:$E$18,Finalrunde!EI14)<>0,\"0\",\"1\")+IF(COUNTIF(Finalrunde!$D$11:$E$18,Finalrunde!EI15)<>0,\"0\",\"1\")+IF(COUNTIF(Finalrunde!$D$11:$E$18,Finalrunde!EI16)<>0,\"0\",\"1\")+IF(COUNTIF(Finalrunde!$D$11:$E$18,Finalrunde!EI17)<>0,\"0\",\"1\")+IF(COUNTIF(Finalrunde!$D$11:$E$18,Finalrunde!EI18)<>0,\"0\",\"1\")","v":4},null,19,"Christiansen Olo",{"$f":"IF(Finalrunde!$D$20=\"\",0,IF(Finalrunde!$D$20=Finalrunde!EF20,1,0))+IF(Finalrunde!$D$21=\"\",0,IF(Finalrunde!$D$21=Finalrunde!EF21,1,0))+IF(Finalrunde!$D$22=\"\",0,IF(Finalrunde!$D$22=Finalrunde!EF22,1,0))+IF(Finalrunde!$D$23=\"\",0,IF(Finalrunde!$D$23=Finalrunde!EF23,1,0))+IF(Finalrunde!$E$20=\"\",0,IF(Finalrunde!$E$20=Finalrunde!EI20,1,0))+IF(Finalrunde!$E$21=\"\",0,IF(Finalrunde!$E$21=Finalrunde!EI21,1,0))+IF(Finalrunde!$E$22=\"\",0,IF(Finalrunde!$E$22=Finalrunde!EI22,1,0))+IF(Finalrunde!$E$23=\"\",0,IF(Finalrunde!$E$23=Finalrunde!EI23,1,0))","v":2},2,{"$f":"IF(COUNTIF(Finalrunde!$D$20:$E$23,Finalrunde!EF20)<>0,\"0\",\"1\")+IF(COUNTIF(Finalrunde!$D$20:$E$23,Finalrunde!EF21)<>0,\"0\",\"1\")+IF(COUNTIF(Finalrunde!$D$20:$E$23,Finalrunde!EF22)<>0,\"0\",\"1\")+IF(COUNTIF(Finalrunde!$D$20:$E$23,Finalrunde!EF23)<>0,\"0\",\"1\")+IF(COUNTIF(Finalrunde!$D$20:$E$23,Finalrunde!EI20)<>0,\"0\",\"1\")+IF(COUNTIF(Finalrunde!$D$20:$E$23,Finalrunde!EI21)<>0,\"0\",\"1\")+IF(COUNTIF(Finalrunde!$D$20:$E$23,Finalrunde!EI22)<>0,\"0\",\"1\")+IF(COUNTIF(Finalrunde!$D$20:$E$23,Finalrunde!EI23)<>0,\"0\",\"1\")","v":4},null,19,"Christiansen Olo",{"$f":"IF(Finalrunde!$D$25=\"\",0,IF(Finalrunde!$D$25=Finalrunde!EF25,1,0))+IF(Finalrunde!$D$26=\"\",0,IF(Finalrunde!$D$26=Finalrunde!EF26,1,0))+IF(Finalrunde!$E$25=\"\",0,IF(Finalrunde!$E$25=Finalrunde!EI25,1,0))+IF(Finalrunde!$E$26=\"\",0,IF(Finalrunde!$E$26=Finalrunde!EI26,1,0))","v":1},1,{"$f":"IF(COUNTIF(Finalrunde!$D$25:$E$26,Finalrunde!EF25)<>0,\"0\",\"1\")+IF(COUNTIF(Finalrunde!$D$25:$E$26,Finalrunde!EF26)<>0,\"0\",\"1\")+IF(COUNTIF(Finalrunde!$D$25:$E$26,Finalrunde!EI25)<>0,\"0\",\"1\")+IF(COUNTIF(Finalrunde!$D$25:$E$26,Finalrunde!EI26)<>0,\"0\",\"1\")","v":2}]
[{"$f":"Teilnehmerliste!$A$25","v":20},{"$f":"Teilnehmerliste!B25 &\" \"&Teilnehmerliste!C25","v":"Da Costa Leonardo"},{"$f":"IF(Finalrunde!$D$11=\"\",0,IF(Finalrunde!$D$11=Finalrunde!EM11,1,0))+IF(Finalrunde!$D$12=\"\",0,IF(Finalrunde!$D$12=Finalrunde!EM12,1,0))+IF(Finalrunde!$D$13=\"\",0,IF(Finalrunde!$D$13=Finalrunde!EM13,1,0))+IF(Finalrunde!$D$14=\"\",0,IF(Finalrunde!$D$14=Finalrunde!EM14,1,0))+IF(Finalrunde!$D$15=\"\",0,IF(Finalrunde!$D$15=Finalrunde!EM15,1,0))+IF(Finalrunde!$D$16=\"\",0,IF(Finalrunde!$D$16=Finalrunde!EM16,1,0))+IF(Finalrunde!$D$17=\"\",0,IF(Finalrunde!$D$17=Finalrunde!EM17,1,0))+IF(Finalrunde!$D$18=\"\",0,IF(Finalrunde!$D$18=Finalrunde!EM18,1,0))+IF(Finalrunde!$E$11=\"\",0,IF(Finalrunde!$E$11=Finalrunde!EP11,1,0))+IF(Finalrunde!$E$12=\"\",0,IF(Finalrunde!$E$12=Finalrunde!EP12,1,0))+IF(Finalrunde!$E$13=\"\",0,IF(Finalrunde!$E$13=Finalrunde!EP13,1,0))+IF(Finalrunde!$E$14=\"\",0,IF(Finalrunde!$E$14=Finalrunde!EP14,1,0))+IF(Finalrunde!$E$15=\"\",0,IF(Finalrunde!$E$15=Finalrunde!EP15,1,0))+IF(Finalrunde!$E$16=\"\",0,IF(Finalrunde!$E$16=Finalrunde!EP16,1,0))+IF(Finalrunde!$E$17=\"\",0,IF(Finalrunde!$E$17=Finalrunde!EP17,1,0))+IF(Finalrunde!$E$18=\"\",0,IF(Finalrunde!$E$18=Finalrunde!EP18,1,0))","v":6},5,{"$f":"IF(COUNTIF(Finalrunde!$D$11:$E$18,Finalrunde!EM11)<>0,\"0\",\"1\")+IF(COUNTIF(Finalrunde!$D$11:$E$18,Finalrunde!EM12)<>0,\"0\",\"1\")+IF(COUNTIF(Finalrunde!$D$11:$E$18,Finalrunde!EM13)<>0,\"0\",\"1\")+IF(COUNTIF(Finalrunde!$D$11:$E$18,Finalrunde!EM14)<>0,\"0\",\"1\")+IF(COUNTIF(Finalrunde!$D$11:$E$18,Finalrunde!EM15)<>0,\"0\",\"1\")+IF(COUNTIF(Finalrunde!$D$11:$E$18,Finalrunde!EM16)<>0,\"0\",\"1\")+IF(COUNTIF(Finalrunde!$D$11:$E$18,Finalrunde!EM17)<>0,\"0\",\"1\")+IF(COUNTIF(Finalrunde!$D$11:$E$18,Finalrunde!EM18)<>0,\"0\",\"1\")+IF(COUNTIF(Finalrunde!D$11:E$18,Finalrunde!EP11)<>0,\"0\",\"1\")+IF(COUNTIF(Finalrunde!$D$11:$E$18,Finalrunde!EP12)<>0,\"0\",\"1\")+IF(COUNTIF(Finalrunde!$D$11:$E$18,Finalrunde!EP13)<>0,\"0\",\"1\")+IF(COUNTIF(Finalrunde!$D$11:$E$18,Finalrunde!EP14)<>0,\"0\",\"1\")+IF(COUNTIF(Finalrunde!$D$11:$E$18,Finalrunde!EP15)<>0,\"0\",\"1\")+IF(COUNTIF(Finalrunde!$D$11:$E$18,Finalrunde!EP16)<>0,\"0\",\"1\")+IF(COUNTIF(Finalrunde!$D$11:$E$18,Finalrunde!EP17)<>0,\"0\",\"1\")+IF(COUNTIF(Finalrunde!$D$11:$E$18,Finalrunde!EP18)<>0,\"0\",\"1\")","v":5},null,20,"Da Costa Leonardo",{"$f":"IF(Finalrunde!$D$20=\"\",0,IF(Finalrunde!$D$20=Finalrunde!EM20,1,0))+IF(Finalrunde!$D$21=\"\",0,IF(Finalrunde!$D$21=Finalrunde!EM21,1,0))+IF(Finalrunde!$D$22=\"\",0,IF(Finalrunde!$D$22=Finalrunde!EM22,1,0))+IF(Finalrunde!$D$23=\"\",0,IF(Finalrunde!$D$23=Finalrunde!EM23,1,0))+IF(Finalrunde!$E$20=\"\",0,IF(Finalrunde!$E$20=Finalrunde!EP20,1,0))+IF(Finalrunde!$E$21=\"\",0,IF(Finalrunde!$E$21=Finalrunde!EP21,1,0))+IF(Finalrunde!$E$22=\"\",0,IF(Finalrunde!$E$22=Finalrunde!EP22,1,0))+IF(Finalrunde!$E$23=\"\",0,IF(Finalrunde!$E$23=Finalrunde!EP23,1,0))","v":3},3,{"$f":"IF(COUNTIF(Finalrunde!$D$20:$E$23,Finalrunde!EM20)<>0,\"0\",\"1\")+IF(COUNTIF(Finalrunde!$D$20:$E$23,Finalrunde!EM21)<>0,\"0\",\"1\")+IF(COUNTIF(Finalrunde!$D$20:$E$23,Finalrunde!EM22)<>0,\"0\",\"1\")+IF(COUNTIF(Finalrunde!$D$20:$E$23,Finalrunde!EM23)<>0,\"0\",\"1\")+IF(COUNTIF(Finalrunde!$D$20:$E$23,Finalrunde!EP20)<>0,\"0\",\"1\")+IF(COUNTIF(Finalrunde!$D$20:$E$23,Finalrunde!EP21)<>0,\"0\",\"1\")+IF(COUNTIF(Finalrunde!$D$20:$E$23,Finalrunde!EP22)<>0,\"0\",\"1\")+IF(COUNTIF(Finalrunde!$D$20:$E$23,Finalrunde!EP23)<>0,\"0\",\"1\")","v":2},null,20,"Da Costa Leonardo",{"$f":"IF(Finalrunde!$D$25=\"\",0,IF(Finalrunde!$D$25=Finalrunde!EM25,1,0))+IF(Finalrunde!$D$26=\"\",0,IF(Finalrunde!$D$26=Finalrunde!EM26,1,0))+IF(Finalrunde!$E$25=\"\",0,IF(Finalrunde!$E$25=Finalrunde!EP25,1,0))+IF(Finalrunde!$E$26=\"\",0,IF(Finalrunde!$E$26=Finalrunde!EP26,1,0))","v":1},1,{"$f":"IF(COUNTIF(Finalrunde!$D$25:$E$26,Finalrunde!EM25)<>0,\"0\",\"1\")+IF(COUNTIF(Finalrunde!$D$25:$E$26,Finalrunde!EM26)<>0,\"0\",\"1\")+IF(COUNTIF(Finalrunde!$D$25:$E$26,Finalrunde!EP25)<>0,\"0\",\"1\")+IF(COUNTIF(Finalrunde!$D$25:$E$26,Finalrunde!EP26)<>0,\"0\",\"1\")","v":2}]
[{"$f":"Teilnehmerliste!$A$26","v":21},{"$f":"Teilnehmerliste!B26 &\" \"&Teilnehmerliste!C26","v":"D'Acunto Lisa"},{"$f":"IF(Finalrunde!$D$11=\"\",0,IF(Finalrunde!$D$11=Finalrunde!J42,1,0))+IF(Finalrunde!$D$12=\"\",0,IF(Finalrunde!$D$12=Finalrunde!J43,1,0))+IF(Finalrunde!$D$13=\"\",0,IF(Finalrunde!$D$13=Finalrunde!J44,1,0))+IF(Finalrunde!$D$14=\"\",0,IF(Finalrunde!$D$14=Finalrunde!J45,1,0))+IF(Finalrunde!$D$15=\"\",0,IF(Finalrunde!$D$15=Finalrunde!J46,1,0))+IF(Finalrunde!$D$16=\"\",0,IF(Finalrunde!$D$16=Finalrunde!J47,1,0))+IF(Finalrunde!$D$17=\"\",0,IF(Finalrunde!$D$17=Finalrunde!J48,1,0))+IF(Finalrunde!$D$18=\"\",0,IF(Finalrunde!$D$18=Finalrunde!J49,1,0))+IF(Finalrunde!$E$11=\"\",0,IF(Finalrunde!$E$11=Finalrunde!M42,1,0))+IF(Finalrunde!$E$12=\"\",0,IF(Finalrunde!$E$12=Finalrunde!M43,1,0))+IF(Finalrunde!$E$13=\"\",0,IF(Finalrunde!$E$13=Finalrunde!M44,1,0))+IF(Finalrunde!$E$14=\"\",0,IF(Finalrunde!$E$14=Finalrunde!M45,1,0))+IF(Finalrunde!$E$15=\"\",0,IF(Finalrunde!$E$15=Finalrunde!M46,1,0))+IF(Finalrunde!$E$16=\"\",0,IF(Finalrunde!$E$16=Finalrunde!M47,1,0))+IF(Finalrunde!$E$17=\"\",0,IF(Finalrunde!$E$17=Finalrunde!M48,1,0))+IF(Finalrunde!$E$18=\"\",0,IF(Finalrunde!$E$18=Finalrunde!M49,1,0))","v":7},{"$f":"SUM(16-C25-E25)","v":5},{"$f":"IF(COUNTIF(Finalrunde!$D$11:$E$18,Finalrunde!J42)<>0,\"0\",\"1\")+IF(COUNTIF(Finalrunde!$D$11:$E$18,Finalrunde!J43)<>0,\"0\",\"1\")+IF(COUNTIF(Finalrunde!$D$11:$E$18,Finalrunde!J44)<>0,\"0\",\"1\")+IF(COUNTIF(Finalrunde!$D$11:$E$18,Finalrunde!J45)<>0,\"0\",\"1\")+IF(COUNTIF(Finalrunde!$D$11:$E$18,Finalrunde!J46)<>0,\"0\",\"1\")+IF(COUNTIF(Finalrunde!$D$11:$E$18,Finalrunde!J47)<>0,\"0\",\"1\")+IF(COUNTIF(Finalrunde!$D$11:$E$18,Finalrunde!J48)<>0,\"0\",\"1\")+IF(COUNTIF(Finalrunde!$D$11:$E$18,Finalrunde!J49)<>0,\"0\",\"1\")+IF(COUNTIF(Finalrunde!D$11:E$18,Finalrunde!M42)<>0,\"0\",\"1\")+IF(COUNTIF(Finalrunde!$D$11:$E$18,Finalrunde!M43)<>0,\"0\",\"1\")+IF(COUNTIF(Finalrunde!$D$11:$E$18,Finalrunde!M44)<>0,\"0\",\"1\")+IF(COUNTIF(Finalrunde!$D$11:$E$18,Finalrunde!M45)<>0,\"0\",\"1\")+IF(COUNTIF(Finalrunde!$D$11:$E$18,Finalrunde!M46)<>0,\"0\",\"1\")+IF(COUNTIF(Finalrunde!$D$11:$E$18,Finalrunde!M47)<>0,\"0\",\"1\")+IF(COUNTIF(Finalrunde!$D$11:$E$18,Finalrunde!M48)<>0,\"0\",\"1\")+IF(COUNTIF(Finalrunde!$D$11:$E$18,Finalrunde!M49)<>0,\"0\",\"1\")","v":4},null,21,"D'Acunto Lisa",{"$f":"IF(Finalrunde!$D$20=\"\",0,IF(Finalrunde!$D$20=Finalrunde!J51,1,0))+IF(Finalrunde!$D$21=\"\",0,IF(Finalrunde!$D$21=Finalrunde!J52,1,0))+IF(Finalrunde!$D$22=\"\",0,IF(Finalrunde!$D$22=Finalrunde!J53,1,0))+IF(Finalrunde!$D$23=\"\",0,IF(Finalrunde!$D$23=Finalrunde!J54,1,0))+IF(Finalrunde!$E$20=\"\",0,IF(Finalrunde!$E$20=Finalrunde!M51,1,0))+IF(Finalrunde!$E$21=\"\",0,IF(Finalrunde!$E$21=Finalrunde!M52,1,0))+IF(Finalrunde!$E$22=\"\",0,IF(Finalrunde!$E$22=Finalrunde!M53,1,0))+IF(Finalrunde!$E$23=\"\",0,IF(Finalrunde!$E$23=Finalrunde!M54,1,0))","v":3},{"$f":"SUM(8-I25-K25)","v":2},{"$f":"IF(COUNTIF(Finalrunde!$D$20:$E$23,Finalrunde!J51)<>0,\"0\",\"1\")+IF(COUNTIF(Finalrunde!$D$20:$E$23,Finalrunde!J52)<>0,\"0\",\"1\")+IF(COUNTIF(Finalrunde!$D$20:$E$23,Finalrunde!J53)<>0,\"0\",\"1\")+IF(COUNTIF(Finalrunde!$D$20:$E$23,Finalrunde!J54)<>0,\"0\",\"1\")+IF(COUNTIF(Finalrunde!$D$20:$E$23,Finalrunde!M51)<>0,\"0\",\"1\")+IF(COUNTIF(Finalrunde!$D$20:$E$23,Finalrunde!M52)<>0,\"0\",\"1\")+IF(COUNTIF(Finalrunde!$D$20:$E$23,Finalrunde!M53)<>0,\"0\",\"1\")+IF(COUNTIF(Finalrunde!$D$20:$E$23,Finalrunde!M54)<>0,\"0\",\"1\")","v":3},null,21,"D'Acunto Lisa",{"$f":"IF(Finalrunde!$D$25=\"\",0,IF(Finalrunde!$D$25=Finalrunde!J56,1,0))+IF(Finalrunde!$D$26=\"\",0,IF(Finalrunde!$D$26=Finalrunde!J57,1,0))+IF(Finalrunde!$E$25=\"\",0,IF(Finalrunde!$E$25=Finalrunde!M56,1,0))+IF(Finalrunde!$E$26=\"\",0,IF(Finalrunde!$E$26=Finalrunde!M57,1,0))","v":1},2,{"$f":"IF(COUNTIF(Finalrunde!$D$25:$E$26,Finalrunde!J56)<>0,\"0\",\"1\")+IF(COUNTIF(Finalrunde!$D$25:$E$26,Finalrunde!J57)<>0,\"0\",\"1\")+IF(COUNTIF(Finalrunde!$D$25:$E$26,Finalrunde!M56)<>0,\"0\",\"1\")+IF(COUNTIF(Finalrunde!$D$25:$E$26,Finalrunde!M57)<>0,\"0\",\"1\")","v":1}]
[{"$f":"Teilnehmerliste!$A$27","v":22},{"$f":"Teilnehmerliste!B27 &\" \"&Teilnehmerliste!C27","v":"D'Acunto Niva"},{"$f":"IF(Finalrunde!$D$11=\"\",0,IF(Finalrunde!$D$11=Finalrunde!Q42,1,0))+IF(Finalrunde!$D$12=\"\",0,IF(Finalrunde!$D$12=Finalrunde!Q43,1,0))+IF(Finalrunde!$D$13=\"\",0,IF(Finalrunde!$D$13=Finalrunde!Q44,1,0))+IF(Finalrunde!$D$14=\"\",0,IF(Finalrunde!$D$14=Finalrunde!Q45,1,0))+IF(Finalrunde!$D$15=\"\",0,IF(Finalrunde!$D$15=Finalrunde!Q46,1,0))+IF(Finalrunde!$D$16=\"\",0,IF(Finalrunde!$D$16=Finalrunde!Q47,1,0))+IF(Finalrunde!$D$17=\"\",0,IF(Finalrunde!$D$17=Finalrunde!Q48,1,0))+IF(Finalrunde!$D$18=\"\",0,IF(Finalrunde!$D$18=Finalrunde!Q49,1,0))+IF(Finalrunde!$E$11=\"\",0,IF(Finalrunde!$E$11=Finalrunde!T42,1,0))+IF(Finalrunde!$E$12=\"\",0,IF(Finalrunde!$E$12=Finalrunde!T43,1,0))+IF(Finalrunde!$E$13=\"\",0,IF(Finalrunde!$E$13=Finalrunde!T44,1,0))+IF(Finalrunde!$E$14=\"\",0,IF(Finalrunde!$E$14=Finalrunde!T45,1,0))+IF(Finalrunde!$E$15=\"\",0,IF(Finalrunde!$E$15=Finalrunde!T46,1,0))+IF(Finalrunde!$E$16=\"\",0,IF(Finalrunde!$E$16=Finalrunde!T47,1,0))+IF(Finalrunde!$E$17=\"\",0,IF(Finalrunde!$E$17=Finalrunde!T48,1,0))+IF(Finalrunde!$E$18=\"\",0,IF(Finalrunde!$E$18=Finalrunde!T49,1,0))","v":8},4,{"$f":"IF(COUNTIF(Finalrunde!$D$11:$E$18,Finalrunde!Q42)<>0,\"0\",\"1\")+IF(COUNTIF(Finalrunde!$D$11:$E$18,Finalrunde!Q43)<>0,\"0\",\"1\")+IF(COUNTIF(Finalrunde!$D$11:$E$18,Finalrunde!Q44)<>0,\"0\",\"1\")+IF(COUNTIF(Finalrunde!$D$11:$E$18,Finalrunde!Q45)<>0,\"0\",\"1\")+IF(COUNTIF(Finalrunde!$D$11:$E$18,Finalrunde!Q46)<>0,\"0\",\"1\")+IF(COUNTIF(Finalrunde!$D$11:$E$18,Finalrunde!Q47)<>0,\"0\",\"1\")+IF(COUNTIF(Finalrunde!$D$11:$E$18,Finalrunde!Q48)<>0,\"0\",\"1\")+IF(COUNTIF(Finalrunde!$D$11:$E$18,Finalrunde!Q49)<>0,\"0\",\"1\")+IF(COUNTIF(Finalrunde!D$11:E$18,Finalrunde!T42)<>0,\"0\",\"1\")+IF(COUNTIF(Finalrunde!$D$11:$E$18,Finalrunde!T43)<>0,\"0\",\"1\")+IF(COUNTIF(Finalrunde!$D$11:$E$18,Finalrunde!T44)<>0,\"0\",\"1\")+IF(COUNTIF(Finalrunde!$D$11:$E$18,Finalrunde!T45)<>0,\"0\",\"1\")+IF(COUNTIF(Finalrunde!$D$11:$E$18,Finalrunde!T46)<>0,\"0\",\"1\")+IF(COUNTIF(Finalrunde!$D$11:$E$18,Finalrunde!T47)<>0,\"0\",\"1\")+IF(COUNTIF(Finalrunde!$D$11:$E$18,Finalrunde!T48)<>0,\"0\",\"1\")+IF(COUNTIF(Finalrunde!$D$11:$E$18,Finalrunde!T49)<>0,\"0\",\"1\")","v":4},null,22,"D'Acunto Niva",{"$f":"IF(Finalrunde!$D$20=\"\",0,IF(Finalrunde!$D$20=Finalrunde!Q51,1,0))+IF(Finalrunde!$D$21=\"\",0,IF(Finalrunde!$D$21=Finalrunde!Q52,1,0))+IF(Finalrunde!$D$22=\"\",0,IF(Finalrunde!$D$22=Finalrunde!Q53,1,0))+IF(Finalrunde!$D$23=\"\",0,IF(Finalrunde!$D$23=Finalrunde!Q54,1,0))+IF(Finalrunde!$E$20=\"\",0,IF(Finalrunde!$E$20=Finalrunde!T51,1,0))+IF(Finalrunde!$E$21=\"\",0,IF(Finalrunde!$E$21=Finalrunde!T52,1,0))+IF(Finalrunde!$E$22=\"\",0,IF(Finalrunde!$E$22=Finalrunde!T53,1,0))+IF(Finalrunde!$E$23=\"\",0,IF(Finalrunde!$E$23=Finalrunde!T54,1,0))","v":4},{"$f":"SUM(8-I26-K26)","v":2},{"$f":"IF(COUNTIF(Finalrunde!$D$20:$E$23,Finalrunde!Q51)<>0,\"0\",\"1\")+IF(COUNTIF(Finalrunde!$D$20:$E$23,Finalrunde!Q52)<>0,\"0\",\"1\")+IF(COUNTIF(Finalrunde!$D$20:$E$23,Finalrunde!Q53)<>0,\"0\",\"1\")+IF(COUNTIF(Finalrunde!$D$20:$E$23,Finalrunde!Q54)<>0,\"0\",\"1\")+IF(COUNTIF(Finalrunde!$D$20:$E$23,Finalrunde!T51)<>0,\"0\",\"1\")+IF(COUNTIF(Finalrunde!$D$20:$E$23,Finalrunde!T52)<>0,\"0\",\"1\")+IF(COUNTIF(Finalrunde!$D$20:$E$23,Finalrunde!T53)<>0,\"0\",\"1\")+IF(COUNTIF(Finalrunde!$D$20:$E$23,Finalrunde!T54)<>0,\"0\",\"1\")","v":2},null,22,"D'Acunto Niva",{"$f":"IF(Finalrunde!$D$25=\"\",0,IF(Finalrunde!$D$25=Finalrunde!Q56,1,0))+IF(Finalrunde!$D$26=\"\",0,IF(Finalrunde!$D$26=Finalrunde!Q57,1,0))+IF(Finalrunde!$E$25=\"\",0,IF(Finalrunde!$E$25=Finalrunde!T56,1,0))+IF(Finalrunde!$E$26=\"\",0,IF(Finalrunde!$E$26=Finalrunde!T57,1,0))","v":0},2,{"$f":"IF(COUNTIF(Finalrunde!$D$25:$E$26,Finalrunde!Q56)<>0,\"0\",\"1\")+IF(COUNTIF(Finalrunde!$D$25:$E$26,Finalrunde!Q57)<>0,\"0\",\"1\")+IF(COUNTIF(Finalrunde!$D$25:$E$26,Finalrunde!T56)<>0,\"0\",\"1\")+IF(COUNTIF(Finalrunde!$D$25:$E$26,Finalrunde!T57)<>0,\"0\",\"1\")","v":2}]
[{"$f":"Teilnehmerliste!$A$28","v":23},{"$f":"Teilnehmerliste!B28 &\" \"&Teilnehmerliste!C28","v":"D'Acunto Vinci"},{"$f":"IF(Finalrunde!$D$11=\"\",0,IF(Finalrunde!$D$11=Finalrunde!X42,1,0))+IF(Finalrunde!$D$12=\"\",0,IF(Finalrunde!$D$12=Finalrunde!X43,1,0))+IF(Finalrunde!$D$13=\"\",0,IF(Finalrunde!$D$13=Finalrunde!X44,1,0))+IF(Finalrunde!$D$14=\"\",0,IF(Finalrunde!$D$14=Finalrunde!X45,1,0))+IF(Finalrunde!$D$15=\"\",0,IF(Finalrunde!$D$15=Finalrunde!X46,1,0))+IF(Finalrunde!$D$16=\"\",0,IF(Finalrunde!$D$16=Finalrunde!X47,1,0))+IF(Finalrunde!$D$17=\"\",0,IF(Finalrunde!$D$17=Finalrunde!X48,1,0))+IF(Finalrunde!$D$18=\"\",0,IF(Finalrunde!$D$18=Finalrunde!X49,1,0))+IF(Finalrunde!$E$11=\"\",0,IF(Finalrunde!$E$11=Finalrunde!AA42,1,0))+IF(Finalrunde!$E$12=\"\",0,IF(Finalrunde!$E$12=Finalrunde!AA43,1,0))+IF(Finalrunde!$E$13=\"\",0,IF(Finalrunde!$E$13=Finalrunde!AA44,1,0))+IF(Finalrunde!$E$14=\"\",0,IF(Finalrunde!$E$14=Finalrunde!AA45,1,0))+IF(Finalrunde!$E$15=\"\",0,IF(Finalrunde!$E$15=Finalrunde!AA46,1,0))+IF(Finalrunde!$E$16=\"\",0,IF(Finalrunde!$E$16=Finalrunde!AA47,1,0))+IF(Finalrunde!$E$17=\"\",0,IF(Finalrunde!$E$17=Finalrunde!AA48,1,0))+IF(Finalrunde!$E$18=\"\",0,IF(Finalrunde!$E$18=Finalrunde!AA49,1,0))","v":6},6,{"$f":"IF(COUNTIF(Finalrunde!$D$11:$E$18,Finalrunde!X42)<>0,\"0\",\"1\")+IF(COUNTIF(Finalrunde!$D$11:$E$18,Finalrunde!X43)<>0,\"0\",\"1\")+IF(COUNTIF(Finalrunde!$D$11:$E$18,Finalrunde!X44)<>0,\"0\",\"1\")+IF(COUNTIF(Finalrunde!$D$11:$E$18,Finalrunde!X45)<>0,\"0\",\"1\")+IF(COUNTIF(Finalrunde!$D$11:$E$18,Finalrunde!X46)<>0,\"0\",\"1\")+IF(COUNTIF(Finalrunde!$D$11:$E$18,Finalrunde!X47)<>0,\"0\",\"1\")+IF(COUNTIF(Finalrunde!$D$11:$E$18,Finalrunde!X48)<>0,\"0\",\"1\")+IF(COUNTIF(Finalrunde!$D$11:$E$18,Finalrunde!X49)<>0,\"0\",\"1\")+IF(COUNTIF(Finalrunde!D$11:E$18,Finalrunde!AA42)<>0,\"0\",\"1\")+IF(COUNTIF(Finalrunde!$D$11:$E$18,Finalrunde!AA43)<>0,\"0\",\"1\")+IF(COUNTIF(Finalrunde!$D$11:$E$18,Finalrunde!AA44)<>0,\"0\",\"1\")+IF(COUNTIF(Finalrunde!$D$11:$E$18,Finalrunde!AA45)<>0,\"0\",\"1\")+IF(COUNTIF(Finalrunde!$D$11:$E$18,Finalrunde!AA46)<>0,\"0\",\"1\")+IF(COUNTIF(Finalrunde!$D$11:$E$18,Finalrunde!AA47)<>0,\"0\",\"1\")+IF(COUNTIF(Finalrunde!$D$11:$E$18,Finalrunde!AA48)<>0,\"0\",\"1\")+IF(COUNTIF(Finalrunde!$D$11:$E$18,Finalrunde!AA49)<>0,\"0\",\"1\")","v":4},null,23,"D'Acunto Vinci",{"$f":"IF(Finalrunde!$D$20=\"\",0,IF(Finalrunde!$D$20=Finalrunde!X51,1,0))+IF(Finalrunde!$D$21=\"\",0,IF(Finalrunde!$D$21=Finalrunde!X52,1,0))+IF(Finalrunde!$D$22=\"\",0,IF(Finalrunde!$D$22=Finalrunde!X53,1,0))+IF(Finalrunde!$D$23=\"\",0,IF(Finalrunde!$D$23=Finalrunde!X54,1,0))+IF(Finalrunde!$E$20=\"\",0,IF(Finalrunde!$E$20=Finalrunde!AA51,1,0))+IF(Finalrunde!$E$21=\"\",0,IF(Finalrunde!$E$21=Finalrunde!AA52,1,0))+IF(Finalrunde!$E$22=\"\",0,IF(Finalrunde!$E$22=Finalrunde!AA53,1,0))+IF(Finalrunde!$E$23=\"\",0,IF(Finalrunde!$E$23=Finalrunde!AA54,1,0))","v":4},2,{"$f":"IF(COUNTIF(Finalrunde!$D$20:$E$23,Finalrunde!X51)<>0,\"0\",\"1\")+IF(COUNTIF(Finalrunde!$D$20:$E$23,Finalrunde!X52)<>0,\"0\",\"1\")+IF(COUNTIF(Finalrunde!$D$20:$E$23,Finalrunde!X53)<>0,\"0\",\"1\")+IF(COUNTIF(Finalrunde!$D$20:$E$23,Finalrunde!X54)<>0,\"0\",\"1\")+IF(COUNTIF(Finalrunde!$D$20:$E$23,Finalrunde!AA51)<>0,\"0\",\"1\")+IF(COUNTIF(Finalrunde!$D$20:$E$23,Finalrunde!AA52)<>0,\"0\",\"1\")+IF(COUNTIF(Finalrunde!$D$20:$E$23,Finalrunde!AA53)<>0,\"0\",\"1\")+IF(COUNTIF(Finalrunde!$D$20:$E$23,Finalrunde!AA54)<>0,\"0\",\"1\")","v":2},null,23,"D'Acunto Vinci",{"$f":"IF(Finalrunde!$D$25=\"\",0,IF(Finalrunde!$D$25=Finalrunde!X56,1,0))+IF(Finalrunde!$D$26=\"\",0,IF(Finalrunde!$D$26=Finalrunde!X57,1,0))+IF(Finalrunde!$E$25=\"\",0,IF(Finalrunde!$E$25=Finalrunde!AA56,1,0))+IF(Finalrunde!$E$26=\"\",0,IF(Finalrunde!$E$26=Finalrunde!AA57,1,0))","v":3},0,{"$f":"IF(COUNTIF(Finalrunde!$D$25:$E$26,Finalrunde!X56)<>0,\"0\",\"1\")+IF(COUNTIF(Finalrunde!$D$25:$E$26,Finalrunde!X57)<>0,\"0\",\"1\")+IF(COUNTIF(Finalrunde!$D$25:$E$26,Finalrunde!AA56)<>0,\"0\",\"1\")+IF(COUNTIF(Finalrunde!$D$25:$E$26,Finalrunde!AA57)<>0,\"0\",\"1\")","v":1}]
[{"$f":"Teilnehmerliste!$A$29","v":24},{"$f":"Teilnehmerliste!B29 &\" \"&Teilnehmerliste!C29","v":"Dukic Goran"},{"$f":"IF(Finalrunde!$D$11=\"\",0,IF(Finalrunde!$D$11=Finalrunde!AE42,1,0))+IF(Finalrunde!$D$12=\"\",0,IF(Finalrunde!$D$12=Finalrunde!AE43,1,0))+IF(Finalrunde!$D$13=\"\",0,IF(Finalrunde!$D$13=Finalrunde!AE44,1,0))+IF(Finalrunde!$D$14=\"\",0,IF(Finalrunde!$D$14=Finalrunde!AE45,1,0))+IF(Finalrunde!$D$15=\"\",0,IF(Finalrunde!$D$15=Finalrunde!AE46,1,0))+IF(Finalrunde!$D$16=\"\",0,IF(Finalrunde!$D$16=Finalrunde!AE47,1,0))+IF(Finalrunde!$D$17=\"\",0,IF(Finalrunde!$D$17=Finalrunde!AE48,1,0))+IF(Finalrunde!$D$18=\"\",0,IF(Finalrunde!$D$18=Finalrunde!AE49,1,0))+IF(Finalrunde!$E$11=\"\",0,IF(Finalrunde!$E$11=Finalrunde!AH42,1,0))+IF(Finalrunde!$E$12=\"\",0,IF(Finalrunde!$E$12=Finalrunde!AH43,1,0))+IF(Finalrunde!$E$13=\"\",0,IF(Finalrunde!$E$13=Finalrunde!AH44,1,0))+IF(Finalrunde!$E$14=\"\",0,IF(Finalrunde!$E$14=Finalrunde!AH45,1,0))+IF(Finalrunde!$E$15=\"\",0,IF(Finalrunde!$E$15=Finalrunde!AH46,1,0))+IF(Finalrunde!$E$16=\"\",0,IF(Finalrunde!$E$16=Finalrunde!AH47,1,0))+IF(Finalrunde!$E$17=\"\",0,IF(Finalrunde!$E$17=Finalrunde!AH48,1,0))+IF(Finalrunde!$E$18=\"\",0,IF(Finalrunde!$E$18=Finalrunde!AH49,1,0))","v":9},3,{"$f":"IF(COUNTIF(Finalrunde!$D$11:$E$18,Finalrunde!AE42)<>0,\"0\",\"1\")+IF(COUNTIF(Finalrunde!$D$11:$E$18,Finalrunde!AE43)<>0,\"0\",\"1\")+IF(COUNTIF(Finalrunde!$D$11:$E$18,Finalrunde!AE44)<>0,\"0\",\"1\")+IF(COUNTIF(Finalrunde!$D$11:$E$18,Finalrunde!AE45)<>0,\"0\",\"1\")+IF(COUNTIF(Finalrunde!$D$11:$E$18,Finalrunde!AE46)<>0,\"0\",\"1\")+IF(COUNTIF(Finalrunde!$D$11:$E$18,Finalrunde!AE47)<>0,\"0\",\"1\")+IF(COUNTIF(Finalrunde!$D$11:$E$18,Finalrunde!AE48)<>0,\"0\",\"1\")+IF(COUNTIF(Finalrunde!$D$11:$E$18,Finalrunde!AE49)<>0,\"0\",\"1\")+IF(COUNTIF(Finalrunde!D$11:E$18,Finalrunde!AH42)<>0,\"0\",\"1\")+IF(COUNTIF(Finalrunde!$D$11:$E$18,Finalrunde!AH43)<>0,\"0\",\"1\")+IF(COUNTIF(Finalrunde!$D$11:$E$18,Finalrunde!AH44)<>0,\"0\",\"1\")+IF(COUNTIF(Finalrunde!$D$11:$E$18,Finalrunde!AH45)<>0,\"0\",\"1\")+IF(COUNTIF(Finalrunde!$D$11:$E$18,Finalrunde!AH46)<>0,\"0\",\"1\")+IF(COUNTIF(Finalrunde!$D$11:$E$18,Finalrunde!AH47)<>0,\"0\",\"1\")+IF(COUNTIF(Finalrunde!$D$11:$E$18,Finalrunde!AH48)<>0,\"0\",\"1\")+IF(COUNTIF(Finalrunde!$D$11:$E$18,Finalrunde!AH49)<>0,\"0\",\"1\")","v":4},null,24,"Dukic Goran",{"$f":"IF(Finalrunde!$D$20=\"\",0,IF(Finalrunde!$D$20=Finalrunde!AE51,1,0))+IF(Finalrunde!$D$21=\"\",0,IF(Finalrunde!$D$21=Finalrunde!AE52,1,0))+IF(Finalrunde!$D$22=\"\",0,IF(Finalrunde!$D$22=Finalrunde!AE53,1,0))+IF(Finalrunde!$D$23=\"\",0,IF(Finalrunde!$D$23=Finalrunde!AE54,1,0))+IF(Finalrunde!$E$20=\"\",0,IF(Finalrunde!$E$20=Finalrunde!AH51,1,0))+IF(Finalrunde!$E$21=\"\",0,IF(Finalrunde!$E$21=Finalrunde!AH52,1,0))+IF(Finalrunde!$E$22=\"\",0,IF(Finalrunde!$E$22=Finalrunde!AH53,1,0))+IF(Finalrunde!$E$23=\"\",0,IF(Finalrunde!$E$23=Finalrunde!AH54,1,0))","v":4},2,{"$f":"IF(COUNTIF(Finalrunde!$D$20:$E$23,Finalrunde!AE51)<>0,\"0\",\"1\")+IF(COUNTIF(Finalrunde!$D$20:$E$23,Finalrunde!AE52)<>0,\"0\",\"1\")+IF(COUNTIF(Finalrunde!$D$20:$E$23,Finalrunde!AE53)<>0,\"0\",\"1\")+IF(COUNTIF(Finalrunde!$D$20:$E$23,Finalrunde!AE54)<>0,\"0\",\"1\")+IF(COUNTIF(Finalrunde!$D$20:$E$23,Finalrunde!AH51)<>0,\"0\",\"1\")+IF(COUNTIF(Finalrunde!$D$20:$E$23,Finalrunde!AH52)<>0,\"0\",\"1\")+IF(COUNTIF(Finalrunde!$D$20:$E$23,Finalrunde!AH53)<>0,\"0\",\"1\")+IF(COUNTIF(Finalrunde!$D$20:$E$23,Finalrunde!AH54)<>0,\"0\",\"1\")","v":2},null,24,"Dukic Goran",{"$f":"IF(Finalrunde!$D$25=\"\",0,IF(Finalrunde!$D$25=Finalrunde!AE56,1,0))+IF(Finalrunde!$D$26=\"\",0,IF(Finalrunde!$D$26=Finalrunde!AE57,1,0))+IF(Finalrunde!$E$25=\"\",0,IF(Finalrunde!$E$25=Finalrunde!AH56,1,0))+IF(Finalrunde!$E$26=\"\",0,IF(Finalrunde!$E$26=Finalrunde!AH57,1,0))","v":2},1,{"$f":"IF(COUNTIF(Finalrunde!$D$25:$E$26,Finalrunde!AE56)<>0,\"0\",\"1\")+IF(COUNTIF(Finalrunde!$D$25:$E$26,Finalrunde!AE57)<>0,\"0\",\"1\")+IF(COUNTIF(Finalrunde!$D$25:$E$26,Finalrunde!AH56)<>0,\"0\",\"1\")+IF(COUNTIF(Finalrunde!$D$25:$E$26,Finalrunde!AH57)<>0,\"0\",\"1\")","v":1}]
[{"$f":"Teilnehmerliste!$A$30","v":25},{"$f":"Teilnehmerliste!B30 &\" \"&Teilnehmerliste!C30","v":"Duvnjak Dino"},{"$f":"IF(Finalrunde!$D$11=\"\",0,IF(Finalrunde!$D$11=Finalrunde!AL42,1,0))+IF(Finalrunde!$D$12=\"\",0,IF(Finalrunde!$D$12=Finalrunde!AL43,1,0))+IF(Finalrunde!$D$13=\"\",0,IF(Finalrunde!$D$13=Finalrunde!AL44,1,0))+IF(Finalrunde!$D$14=\"\",0,IF(Finalrunde!$D$14=Finalrunde!AL45,1,0))+IF(Finalrunde!$D$15=\"\",0,IF(Finalrunde!$D$15=Finalrunde!AL46,1,0))+IF(Finalrunde!$D$16=\"\",0,IF(Finalrunde!$D$16=Finalrunde!AL47,1,0))+IF(Finalrunde!$D$17=\"\",0,IF(Finalrunde!$D$17=Finalrunde!AL48,1,0))+IF(Finalrunde!$D$18=\"\",0,IF(Finalrunde!$D$18=Finalrunde!AL49,1,0))+IF(Finalrunde!$E$11=\"\",0,IF(Finalrunde!$E$11=Finalrunde!AO42,1,0))+IF(Finalrunde!$E$12=\"\",0,IF(Finalrunde!$E$12=Finalrunde!AO43,1,0))+IF(Finalrunde!$E$13=\"\",0,IF(Finalrunde!$E$13=Finalrunde!AO44,1,0))+IF(Finalrunde!$E$14=\"\",0,IF(Finalrunde!$E$14=Finalrunde!AO45,1,0))+IF(Finalrunde!$E$15=\"\",0,IF(Finalrunde!$E$15=Finalrunde!AO46,1,0))+IF(Finalrunde!$E$16=\"\",0,IF(Finalrunde!$E$16=Finalrunde!AO47,1,0))+IF(Finalrunde!$E$17=\"\",0,IF(Finalrunde!$E$17=Finalrunde!AO48,1,0))+IF(Finalrunde!$E$18=\"\",0,IF(Finalrunde!$E$18=Finalrunde!AO49,1,0))","v":9},4,{"$f":"IF(COUNTIF(Finalrunde!$D$11:$E$18,Finalrunde!AL42)<>0,\"0\",\"1\")+IF(COUNTIF(Finalrunde!$D$11:$E$18,Finalrunde!AL43)<>0,\"0\",\"1\")+IF(COUNTIF(Finalrunde!$D$11:$E$18,Finalrunde!AL44)<>0,\"0\",\"1\")+IF(COUNTIF(Finalrunde!$D$11:$E$18,Finalrunde!AL45)<>0,\"0\",\"1\")+IF(COUNTIF(Finalrunde!$D$11:$E$18,Finalrunde!AL46)<>0,\"0\",\"1\")+IF(COUNTIF(Finalrunde!$D$11:$E$18,Finalrunde!AL47)<>0,\"0\",\"1\")+IF(COUNTIF(Finalrunde!$D$11:$E$18,Finalrunde!AL48)<>0,\"0\",\"1\")+IF(COUNTIF(Finalrunde!$D$11:$E$18,Finalrunde!AL49)<>0,\"0\",\"1\")+IF(COUNTIF(Finalrunde!D$11:E$18,Finalrunde!AO42)<>0,\"0\",\"1\")+IF(COUNTIF(Finalrunde!$D$11:$E$18,Finalrunde!AO43)<>0,\"0\",\"1\")+IF(COUNTIF(Finalrunde!$D$11:$E$18,Finalrunde!AO44)<>0,\"0\",\"1\")+IF(COUNTIF(Finalrunde!$D$11:$E$18,Finalrunde!AO45)<>0,\"0\",\"1\")+IF(COUNTIF(Finalrunde!$D$11:$E$18,Finalrunde!AO46)<>0,\"0\",\"1\")+IF(COUNTIF(Finalrunde!$D$11:$E$18,Finalrunde!AO47)<>0,\"0\",\"1\")+IF(COUNTIF(Finalrunde!$D$11:$E$18,Finalrunde!AO48)<>0,\"0\",\"1\")+IF(COUNTIF(Finalrunde!$D$11:$E$18,Finalrunde!AO49)<>0,\"0\",\"1\")","v":3},null,25,"Duvnjak Dino",{"$f":"IF(Finalrunde!$D$20=\"\",0,IF(Finalrunde!$D$20=Finalrunde!AL51,1,0))+IF(Finalrunde!$D$21=\"\",0,IF(Finalrunde!$D$21=Finalrunde!AL52,1,0))+IF(Finalrunde!$D$22=\"\",0,IF(Finalrunde!$D$22=Finalrunde!AL53,1,0))+IF(Finalrunde!$D$23=\"\",0,IF(Finalrunde!$D$23=Finalrunde!AL54,1,0))+IF(Finalrunde!$E$20=\"\",0,IF(Finalrunde!$E$20=Finalrunde!AO51,1,0))+IF(Finalrunde!$E$21=\"\",0,IF(Finalrunde!$E$21=Finalrunde!AO52,1,0))+IF(Finalrunde!$E$22=\"\",0,IF(Finalrunde!$E$22=Finalrunde!AO53,1,0))+IF(Finalrunde!$E$23=\"\",0,IF(Finalrunde!$E$23=Finalrunde!AO54,1,0))","v":4},1,{"$f":"IF(COUNTIF(Finalrunde!$D$20:$E$23,Finalrunde!AL51)<>0,\"0\",\"1\")+IF(COUNTIF(Finalrunde!$D$20:$E$23,Finalrunde!AL52)<>0,\"0\",\"1\")+IF(COUNTIF(Finalrunde!$D$20:$E$23,Finalrunde!AL53)<>0,\"0\",\"1\")+IF(COUNTIF(Finalrunde!$D$20:$E$23,Finalrunde!AL54)<>0,\"0\",\"1\")+IF(COUNTIF(Finalrunde!$D$20:$E$23,Finalrunde!AO51)<>0,\"0\",\"1\")+IF(COUNTIF(Finalrunde!$D$20:$E$23,Finalrunde!AO52)<>0,\"0\",\"1\")+IF(COUNTIF(Finalrunde!$D$20:$E$23,Finalrunde!AO53)<>0,\"0\",\"1\")+IF(COUNTIF(Finalrunde!$D$20:$E$23,Finalrunde!AO54)<>0,\"0\",\"1\")","v":3},null,25,"Duvnjak Dino",{"$f":"IF(Finalrunde!$D$25=\"\",0,IF(Finalrunde!$D$25=Finalrunde!AL56,1,0))+IF(Finalrunde!$D$26=\"\",0,IF(Finalrunde!$D$26=Finalrunde!AL57,1,0))+IF(Finalrunde!$E$25=\"\",0,IF(Finalrunde!$E$25=Finalrunde!AO56,1,0))+IF(Finalrunde!$E$26=\"\",0,IF(Finalrunde!$E$26=Finalrunde!AO57,1,0))","v":1},1,{"$f":"IF(COUNTIF(Finalrunde!$D$25:$E$26,Finalrunde!AL56)<>0,\"0\",\"1\")+IF(COUNTIF(Finalrunde!$D$25:$E$26,Finalrunde!AL57)<>0,\"0\",\"1\")+IF(COUNTIF(Finalrunde!$D$25:$E$26,Finalrunde!AO56)<>0,\"0\",\"1\")+IF(COUNTIF(Finalrunde!$D$25:$E$26,Finalrunde!AO57)<>0,\"0\",\"1\")","v":2}]
[{"$f":"Teilnehmerliste!$A$31","v":26},{"$f":"Teilnehmerliste!B31 &\" \"&Teilnehmerliste!C31","v":"Figaro Marlon"},{"$f":"IF(Finalrunde!$D$11=\"\",0,IF(Finalrunde!$D$11=Finalrunde!AS42,1,0))+IF(Finalrunde!$D$12=\"\",0,IF(Finalrunde!$D$12=Finalrunde!AS43,1,0))+IF(Finalrunde!$D$13=\"\",0,IF(Finalrunde!$D$13=Finalrunde!AS44,1,0))+IF(Finalrunde!$D$14=\"\",0,IF(Finalrunde!$D$14=Finalrunde!AS45,1,0))+IF(Finalrunde!$D$15=\"\",0,IF(Finalrunde!$D$15=Finalrunde!AS46,1,0))+IF(Finalrunde!$D$16=\"\",0,IF(Finalrunde!$D$16=Finalrunde!AS47,1,0))+IF(Finalrunde!$D$17=\"\",0,IF(Finalrunde!$D$17=Finalrunde!AS48,1,0))+IF(Finalrunde!$D$18=\"\",0,IF(Finalrunde!$D$18=Finalrunde!AS49,1,0))+IF(Finalrunde!$E$11=\"\",0,IF(Finalrunde!$E$11=Finalrunde!AV42,1,0))+IF(Finalrunde!$E$12=\"\",0,IF(Finalrunde!$E$12=Finalrunde!AV43,1,0))+IF(Finalrunde!$E$13=\"\",0,IF(Finalrunde!$E$13=Finalrunde!AV44,1,0))+IF(Finalrunde!$E$14=\"\",0,IF(Finalrunde!$E$14=Finalrunde!AV45,1,0))+IF(Finalrunde!$E$15=\"\",0,IF(Finalrunde!$E$15=Finalrunde!AV46,1,0))+IF(Finalrunde!$E$16=\"\",0,IF(Finalrunde!$E$16=Finalrunde!AV47,1,0))+IF(Finalrunde!$E$17=\"\",0,IF(Finalrunde!$E$17=Finalrunde!AV48,1,0))+IF(Finalrunde!$E$18=\"\",0,IF(Finalrunde!$E$18=Finalrunde!AV49,1,0))","v":2},11,{"$f":"IF(COUNTIF(Finalrunde!$D$11:$E$18,Finalrunde!AS42)<>0,\"0\",\"1\")+IF(COUNTIF(Finalrunde!$D$11:$E$18,Finalrunde!AS43)<>0,\"0\",\"1\")+IF(COUNTIF(Finalrunde!$D$11:$E$18,Finalrunde!AS44)<>0,\"0\",\"1\")+IF(COUNTIF(Finalrunde!$D$11:$E$18,Finalrunde!AS45)<>0,\"0\",\"1\")+IF(COUNTIF(Finalrunde!$D$11:$E$18,Finalrunde!AS46)<>0,\"0\",\"1\")+IF(COUNTIF(Finalrunde!$D$11:$E$18,Finalrunde!AS47)<>0,\"0\",\"1\")+IF(COUNTIF(Finalrunde!$D$11:$E$18,Finalrunde!AS48)<>0,\"0\",\"1\")+IF(COUNTIF(Finalrunde!$D$11:$E$18,Finalrunde!AS49)<>0,\"0\",\"1\")+IF(COUNTIF(Finalrunde!D$11:E$18,Finalrunde!AV42)<>0,\"0\",\"1\")+IF(COUNTIF(Finalrunde!$D$11:$E$18,Finalrunde!AV43)<>0,\"0\",\"1\")+IF(COUNTIF(Finalrunde!$D$11:$E$18,Finalrunde!AV44)<>0,\"0\",\"1\")+IF(COUNTIF(Finalrunde!$D$11:$E$18,Finalrunde!AV45)<>0,\"0\",\"1\")+IF(COUNTIF(Finalrunde!$D$11:$E$18,Finalrunde!AV46)<>0,\"0\",\"1\")+IF(COUNTIF(Finalrunde!$D$11:$E$18,Finalrunde!AV47)<>0,\"0\",\"1\")+IF(COUNTIF(Finalrunde!$D$11:$E$18,Finalrunde!AV48)<>0,\"0\",\"1\")+IF(COUNTIF(Finalrunde!$D$11:$E$18,Finalrunde!AV49)<>0,\"0\",\"1\")","v":3},null,26,"Figaro Marlon",{"$f":"IF(Finalrunde!$D$20=\"\",0,IF(Finalrunde!$D$20=Finalrunde!AS51,1,0))+IF(Finalrunde!$D$21=\"\",0,IF(Finalrunde!$D$21=Finalrunde!AS52,1,0))+IF(Finalrunde!$D$22=\"\",0,IF(Finalrunde!$D$22=Finalrunde!AS53,1,0))+IF(Finalrunde!$D$23=\"\",0,IF(Finalrunde!$D$23=Finalrunde!AS54,1,0))+IF(Finalrunde!$E$20=\"\",0,IF(Finalrunde!$E$20=Finalrunde!AV51,1,0))+IF(Finalrunde!$E$21=\"\",0,IF(Finalrunde!$E$21=Finalrunde!AV52,1,0))+IF(Finalrunde!$E$22=\"\",0,IF(Finalrunde!$E$22=Finalrunde!AV53,1,0))+IF(Finalrunde!$E$23=\"\",0,IF(Finalrunde!$E$23=Finalrunde!AV54,1,0))","v":1},3,{"$f":"IF(COUNTIF(Finalrunde!$D$20:$E$23,Finalrunde!AS51)<>0,\"0\",\"1\")+IF(COUNTIF(Finalrunde!$D$20:$E$23,Finalrunde!AS52)<>0,\"0\",\"1\")+IF(COUNTIF(Finalrunde!$D$20:$E$23,Finalrunde!AS53)<>0,\"0\",\"1\")+IF(COUNTIF(Finalrunde!$D$20:$E$23,Finalrunde!AS54)<>0,\"0\",\"1\")+IF(COUNTIF(Finalrunde!$D$20:$E$23,Finalrunde!AV51)<>0,\"0\",\"1\")+IF(COUNTIF(Finalrunde!$D$20:$E$23,Finalrunde!AV52)<>0,\"0\",\"1\")+IF(COUNTIF(Finalrunde!$D$20:$E$23,Finalrunde!AV53)<>0,\"0\",\"1\")+IF(COUNTIF(Finalrunde!$D$20:$E$23,Finalrunde!AV54)<>0,\"0\",\"1\")","v":4},null,26,"Figaro Marlon",{"$f":"IF(Finalrunde!$D$25=\"\",0,IF(Finalrunde!$D$25=Finalrunde!AS56,1,0))+IF(Finalrunde!$D$26=\"\",0,IF(Finalrunde!$D$26=Finalrunde!AS57,1,0))+IF(Finalrunde!$E$25=\"\",0,IF(Finalrunde!$E$25=Finalrunde!AV56,1,0))+IF(Finalrunde!$E$26=\"\",0,IF(Finalrunde!$E$26=Finalrunde!AV57,1,0))","v":0},1,{"$f":"IF(COUNTIF(Finalrunde!$D$25:$E$26,Finalrunde!AS56)<>0,\"0\",\"1\")+IF(COUNTIF(Finalrunde!$D$25:$E$26,Finalrunde!AS57)<>0,\"0\",\"1\")+IF(COUNTIF(Finalrunde!$D$25:$E$26,Finalrunde!AV56)<>0,\"0\",\"1\")+IF(COUNTIF(Finalrunde!$D$25:$E$26,Finalrunde!AV57)<>0,\"0\",\"1\")","v":3}]
[{"$f":"Teilnehmerliste!$A$32","v":27},{"$f":"Teilnehmerliste!B32 &\" \"&Teilnehmerliste!C32","v":"Foscaldi Maurizio"},{"$f":"IF(Finalrunde!$D$11=\"\",0,IF(Finalrunde!$D$11=Finalrunde!AZ42,1,0))+IF(Finalrunde!$D$12=\"\",0,IF(Finalrunde!$D$12=Finalrunde!AZ43,1,0))+IF(Finalrunde!$D$13=\"\",0,IF(Finalrunde!$D$13=Finalrunde!AZ44,1,0))+IF(Finalrunde!$D$14=\"\",0,IF(Finalrunde!$D$14=Finalrunde!AZ45,1,0))+IF(Finalrunde!$D$15=\"\",0,IF(Finalrunde!$D$15=Finalrunde!AZ46,1,0))+IF(Finalrunde!$D$16=\"\",0,IF(Finalrunde!$D$16=Finalrunde!AZ47,1,0))+IF(Finalrunde!$D$17=\"\",0,IF(Finalrunde!$D$17=Finalrunde!AZ48,1,0))+IF(Finalrunde!$D$18=\"\",0,IF(Finalrunde!$D$18=Finalrunde!AZ49,1,0))+IF(Finalrunde!$E$11=\"\",0,IF(Finalrunde!$E$11=Finalrunde!BC42,1,0))+IF(Finalrunde!$E$12=\"\",0,IF(Finalrunde!$E$12=Finalrunde!BC43,1,0))+IF(Finalrunde!$E$13=\"\",0,IF(Finalrunde!$E$13=Finalrunde!BC44,1,0))+IF(Finalrunde!$E$14=\"\",0,IF(Finalrunde!$E$14=Finalrunde!BC45,1,0))+IF(Finalrunde!$E$15=\"\",0,IF(Finalrunde!$E$15=Finalrunde!BC46,1,0))+IF(Finalrunde!$E$16=\"\",0,IF(Finalrunde!$E$16=Finalrunde!BC47,1,0))+IF(Finalrunde!$E$17=\"\",0,IF(Finalrunde!$E$17=Finalrunde!BC48,1,0))+IF(Finalrunde!$E$18=\"\",0,IF(Finalrunde!$E$18=Finalrunde!BC49,1,0))","v":7},4,{"$f":"IF(COUNTIF(Finalrunde!$D$11:$E$18,Finalrunde!AZ42)<>0,\"0\",\"1\")+IF(COUNTIF(Finalrunde!$D$11:$E$18,Finalrunde!AZ43)<>0,\"0\",\"1\")+IF(COUNTIF(Finalrunde!$D$11:$E$18,Finalrunde!AZ44)<>0,\"0\",\"1\")+IF(COUNTIF(Finalrunde!$D$11:$E$18,Finalrunde!AZ45)<>0,\"0\",\"1\")+IF(COUNTIF(Finalrunde!$D$11:$E$18,Finalrunde!AZ46)<>0,\"0\",\"1\")+IF(COUNTIF(Finalrunde!$D$11:$E$18,Finalrunde!AZ47)<>0,\"0\",\"1\")+IF(COUNTIF(Finalrunde!$D$11:$E$18,Finalrunde!AZ48)<>0,\"0\",\"1\")+IF(COUNTIF(Finalrunde!$D$11:$E$18,Finalrunde!AZ49)<>0,\"0\",\"1\")+IF(COUNTIF(Finalrunde!D$11:E$18,Finalrunde!BC42)<>0,\"0\",\"1\")+IF(COUNTIF(Finalrunde!$D$11:$E$18,Finalrunde!BC43)<>0,\"0\",\"1\")+IF(COUNTIF(Finalrunde!$D$11:$E$18,Finalrunde!BC44)<>0,\"0\",\"1\")+IF(COUNTIF(Finalrunde!$D$11:$E$18,Finalrunde!BC45)<>0,\"0\",\"1\")+IF(COUNTIF(Finalrunde!$D$11:$E$18,Finalrunde!BC46)<>0,\"0\",\"1\")+IF(COUNTIF(Finalrunde!$D$11:$E$18,Finalrunde!BC47)<>0,\"0\",\"1\")+IF(COUNTIF(Finalrunde!$D$11:$E$18,Finalrunde!BC48)<>0,\"0\",\"1\")+IF(COUNTIF(Finalrunde!$D$11:$E$18,Finalrunde!BC49)<>0,\"0\",\"1\")","v":5},null,27,"Foscaldi Maurizio",{"$f":"IF(Finalrunde!$D$20=\"\",0,IF(Finalrunde!$D$20=Finalrunde!AZ51,1,0))+IF(Finalrunde!$D$21=\"\",0,IF(Finalrunde!$D$21=Finalrunde!AZ52,1,0))+IF(Finalrunde!$D$22=\"\",0,IF(Finalrunde!$D$22=Finalrunde!AZ53,1,0))+IF(Finalrunde!$D$23=\"\",0,IF(Finalrunde!$D$23=Finalrunde!AZ54,1,0))+IF(Finalrunde!$E$20=\"\",0,IF(Finalrunde!$E$20=Finalrunde!BC51,1,0))+IF(Finalrunde!$E$21=\"\",0,IF(Finalrunde!$E$21=Finalrunde!BC52,1,0))+IF(Finalrunde!$E$22=\"\",0,IF(Finalrunde!$E$22=Finalrunde!BC53,1,0))+IF(Finalrunde!$E$23=\"\",0,IF(Finalrunde!$E$23=Finalrunde!BC54,1,0))","v":4},2,{"$f":"IF(COUNTIF(Finalrunde!$D$20:$E$23,Finalrunde!AZ51)<>0,\"0\",\"1\")+IF(COUNTIF(Finalrunde!$D$20:$E$23,Finalrunde!AZ52)<>0,\"0\",\"1\")+IF(COUNTIF(Finalrunde!$D$20:$E$23,Finalrunde!AZ53)<>0,\"0\",\"1\")+IF(COUNTIF(Finalrunde!$D$20:$E$23,Finalrunde!AZ54)<>0,\"0\",\"1\")+IF(COUNTIF(Finalrunde!$D$20:$E$23,Finalrunde!BC51)<>0,\"0\",\"1\")+IF(COUNTIF(Finalrunde!$D$20:$E$23,Finalrunde!BC52)<>0,\"0\",\"1\")+IF(COUNTIF(Finalrunde!$D$20:$E$23,Finalrunde!BC53)<>0,\"0\",\"1\")+IF(COUNTIF(Finalrunde!$D$20:$E$23,Finalrunde!BC54)<>0,\"0\",\"1\")","v":2},null,27,"Foscaldi Maurizio",{"$f":"IF(Finalrunde!$D$25=\"\",0,IF(Finalrunde!$D$25=Finalrunde!AZ56,1,0))+IF(Finalrunde!$D$26=\"\",0,IF(Finalrunde!$D$26=Finalrunde!AZ57,1,0))+IF(Finalrunde!$E$25=\"\",0,IF(Finalrunde!$E$25=Finalrunde!BC56,1,0))+IF(Finalrunde!$E$26=\"\",0,IF(Finalrunde!$E$26=Finalrunde!BC57,1,0))","v":0},1,{"$f":"IF(COUNTIF(Finalrunde!$D$25:$E$26,Finalrunde!AZ56)<>0,\"0\",\"1\")+IF(COUNTIF(Finalrunde!$D$25:$E$26,Finalrunde!AZ57)<>0,\"0\",\"1\")+IF(COUNTIF(Finalrunde!$D$25:$E$26,Finalrunde!BC56)<>0,\"0\",\"1\")+IF(COUNTIF(Finalrunde!$D$25:$E$26,Finalrunde!BC57)<>0,\"0\",\"1\")","v":3}]
[{"$f":"Teilnehmerliste!$A$33","v":28},{"$f":"Teilnehmerliste!B33 &\" \"&Teilnehmerliste!C33","v":"Giuralarocca Roberto"},{"$f":"IF(Finalrunde!$D$11=\"\",0,IF(Finalrunde!$D$11=Finalrunde!BG42,1,0))+IF(Finalrunde!$D$12=\"\",0,IF(Finalrunde!$D$12=Finalrunde!BG43,1,0))+IF(Finalrunde!$D$13=\"\",0,IF(Finalrunde!$D$13=Finalrunde!BG44,1,0))+IF(Finalrunde!$D$14=\"\",0,IF(Finalrunde!$D$14=Finalrunde!BG45,1,0))+IF(Finalrunde!$D$15=\"\",0,IF(Finalrunde!$D$15=Finalrunde!BG46,1,0))+IF(Finalrunde!$D$16=\"\",0,IF(Finalrunde!$D$16=Finalrunde!BG47,1,0))+IF(Finalrunde!$D$17=\"\",0,IF(Finalrunde!$D$17=Finalrunde!BG48,1,0))+IF(Finalrunde!$D$18=\"\",0,IF(Finalrunde!$D$18=Finalrunde!BG49,1,0))+IF(Finalrunde!$E$11=\"\",0,IF(Finalrunde!$E$11=Finalrunde!BJ42,1,0))+IF(Finalrunde!$E$12=\"\",0,IF(Finalrunde!$E$12=Finalrunde!BJ43,1,0))+IF(Finalrunde!$E$13=\"\",0,IF(Finalrunde!$E$13=Finalrunde!BJ44,1,0))+IF(Finalrunde!$E$14=\"\",0,IF(Finalrunde!$E$14=Finalrunde!BJ45,1,0))+IF(Finalrunde!$E$15=\"\",0,IF(Finalrunde!$E$15=Finalrunde!BJ46,1,0))+IF(Finalrunde!$E$16=\"\",0,IF(Finalrunde!$E$16=Finalrunde!BJ47,1,0))+IF(Finalrunde!$E$17=\"\",0,IF(Finalrunde!$E$17=Finalrunde!BJ48,1,0))+IF(Finalrunde!$E$18=\"\",0,IF(Finalrunde!$E$18=Finalrunde!BJ49,1,0))","v":6},6,{"$f":"IF(COUNTIF(Finalrunde!$D$11:$E$18,Finalrunde!BG42)<>0,\"0\",\"1\")+IF(COUNTIF(Finalrunde!$D$11:$E$18,Finalrunde!BG43)<>0,\"0\",\"1\")+IF(COUNTIF(Finalrunde!$D$11:$E$18,Finalrunde!BG44)<>0,\"0\",\"1\")+IF(COUNTIF(Finalrunde!$D$11:$E$18,Finalrunde!BG45)<>0,\"0\",\"1\")+IF(COUNTIF(Finalrunde!$D$11:$E$18,Finalrunde!BG46)<>0,\"0\",\"1\")+IF(COUNTIF(Finalrunde!$D$11:$E$18,Finalrunde!BG47)<>0,\"0\",\"1\")+IF(COUNTIF(Finalrunde!$D$11:$E$18,Finalrunde!BG48)<>0,\"0\",\"1\")+IF(COUNTIF(Finalrunde!$D$11:$E$18,Finalrunde!BG49)<>0,\"0\",\"1\")+IF(COUNTIF(Finalrunde!D$11:E$18,Finalrunde!BJ42)<>0,\"0\",\"1\")+IF(COUNTIF(Finalrunde!$D$11:$E$18,Finalrunde!BJ43)<>0,\"0\",\"1\")+IF(COUNTIF(Finalrunde!$D$11:$E$18,Finalrunde!BJ44)<>0,\"0\",\"1\")+IF(COUNTIF(Finalrunde!$D$11:$E$18,Finalrunde!BJ45)<>0,\"0\",\"1\")+IF(COUNTIF(Finalrunde!$D$11:$E$18,Finalrunde!BJ46)<>0,\"0\",\"1\")+IF(COUNTIF(Finalrunde!$D$11:$E$18,Finalrunde!BJ47)<>0,\"0\",\"1\")+IF(COUNTIF(Finalrunde!$D$11:$E$18,Finalrunde!BJ48)<>0,\"0\",\"1\")+IF(COUNTIF(Finalrunde!$D$11:$E$18,Finalrunde!BJ49)<>0,\"0\",\"1\")","v":4},null,28,"Giuralarocca Roberto",{"$f":"IF(Finalrunde!$D$20=\"\",0,IF(Finalrunde!$D$20=Finalrunde!BG51,1,0))+IF(Finalrunde!$D$21=\"\",0,IF(Finalrunde!$D$21=Finalrunde!BG52,1,0))+IF(Finalrunde!$D$22=\"\",0,IF(Finalrunde!$D$22=Finalrunde!BG53,1,0))+IF(Finalrunde!$D$23=\"\",0,IF(Finalrunde!$D$23=Finalrunde!BG54,1,0))+IF(Finalrunde!$E$20=\"\",0,IF(Finalrunde!$E$20=Finalrunde!BJ51,1,0))+IF(Finalrunde!$E$21=\"\",0,IF(Finalrunde!$E$21=Finalrunde!BJ52,1,0))+IF(Finalrunde!$E$22=\"\",0,IF(Finalrunde!$E$22=Finalrunde!BJ53,1,0))+IF(Finalrunde!$E$23=\"\",0,IF(Finalrunde!$E$23=Finalrunde!BJ54,1,0))","v":3},2,{"$f":"IF(COUNTIF(Finalrunde!$D$20:$E$23,Finalrunde!BG51)<>0,\"0\",\"1\")+IF(COUNTIF(Finalrunde!$D$20:$E$23,Finalrunde!BG52)<>0,\"0\",\"1\")+IF(COUNTIF(Finalrunde!$D$20:$E$23,Finalrunde!BG53)<>0,\"0\",\"1\")+IF(COUNTIF(Finalrunde!$D$20:$E$23,Finalrunde!BG54)<>0,\"0\",\"1\")+IF(COUNTIF(Finalrunde!$D$20:$E$23,Finalrunde!BJ51)<>0,\"0\",\"1\")+IF(COUNTIF(Finalrunde!$D$20:$E$23,Finalrunde!BJ52)<>0,\"0\",\"1\")+IF(COUNTIF(Finalrunde!$D$20:$E$23,Finalrunde!BJ53)<>0,\"0\",\"1\")+IF(COUNTIF(Finalrunde!$D$20:$E$23,Finalrunde!BJ54)<>0,\"0\",\"1\")","v":3},null,28,"Giuralarocca Roberto",{"$f":"IF(Finalrunde!$D$25=\"\",0,IF(Finalrunde!$D$25=Finalrunde!BG56,1,0))+IF(Finalrunde!$D$26=\"\",0,IF(Finalrunde!$D$26=Finalrunde!BG57,1,0))+IF(Finalrunde!$E$25=\"\",0,IF(Finalrunde!$E$25=Finalrunde!BJ56,1,0))+IF(Finalrunde!$E$26=\"\",0,IF(Finalrunde!$E$26=Finalrunde!BJ57,1,0))","v":0},1,{"$f":"IF(COUNTIF(Finalrunde!$D$25:$E$26,Finalrunde!BG56)<>0,\"0\",\"1\")+IF(COUNTIF(Finalrunde!$D$25:$E$26,Finalrunde!BG57)<>0,\"0\",\"1\")+IF(COUNTIF(Finalrunde!$D$25:$E$26,Finalrunde!BJ56)<>0,\"0\",\"1\")+IF(COUNTIF(Finalrunde!$D$25:$E$26,Finalrunde!BJ57)<>0,\"0\",\"1\")","v":3}]
[{"$f":"Teilnehmerliste!$A$34","v":29},{"$f":"Teilnehmerliste!B34 &\" \"&Teilnehmerliste!C34","v":"Gomes Rui"},{"$f":"IF(Finalrunde!$D$11=\"\",0,IF(Finalrunde!$D$11=Finalrunde!BN42,1,0))+IF(Finalrunde!$D$12=\"\",0,IF(Finalrunde!$D$12=Finalrunde!BN43,1,0))+IF(Finalrunde!$D$13=\"\",0,IF(Finalrunde!$D$13=Finalrunde!BN44,1,0))+IF(Finalrunde!$D$14=\"\",0,IF(Finalrunde!$D$14=Finalrunde!BN45,1,0))+IF(Finalrunde!$D$15=\"\",0,IF(Finalrunde!$D$15=Finalrunde!BN46,1,0))+IF(Finalrunde!$D$16=\"\",0,IF(Finalrunde!$D$16=Finalrunde!BN47,1,0))+IF(Finalrunde!$D$17=\"\",0,IF(Finalrunde!$D$17=Finalrunde!BN48,1,0))+IF(Finalrunde!$D$18=\"\",0,IF(Finalrunde!$D$18=Finalrunde!BN49,1,0))+IF(Finalrunde!$E$11=\"\",0,IF(Finalrunde!$E$11=Finalrunde!BQ42,1,0))+IF(Finalrunde!$E$12=\"\",0,IF(Finalrunde!$E$12=Finalrunde!BQ43,1,0))+IF(Finalrunde!$E$13=\"\",0,IF(Finalrunde!$E$13=Finalrunde!BQ44,1,0))+IF(Finalrunde!$E$14=\"\",0,IF(Finalrunde!$E$14=Finalrunde!BQ45,1,0))+IF(Finalrunde!$E$15=\"\",0,IF(Finalrunde!$E$15=Finalrunde!BQ46,1,0))+IF(Finalrunde!$E$16=\"\",0,IF(Finalrunde!$E$16=Finalrunde!BQ47,1,0))+IF(Finalrunde!$E$17=\"\",0,IF(Finalrunde!$E$17=Finalrunde!BQ48,1,0))+IF(Finalrunde!$E$18=\"\",0,IF(Finalrunde!$E$18=Finalrunde!BQ49,1,0))","v":5},6,{"$f":"IF(COUNTIF(Finalrunde!$D$11:$E$18,Finalrunde!BN42)<>0,\"0\",\"1\")+IF(COUNTIF(Finalrunde!$D$11:$E$18,Finalrunde!BN43)<>0,\"0\",\"1\")+IF(COUNTIF(Finalrunde!$D$11:$E$18,Finalrunde!BN44)<>0,\"0\",\"1\")+IF(COUNTIF(Finalrunde!$D$11:$E$18,Finalrunde!BN45)<>0,\"0\",\"1\")+IF(COUNTIF(Finalrunde!$D$11:$E$18,Finalrunde!BN46)<>0,\"0\",\"1\")+IF(COUNTIF(Finalrunde!$D$11:$E$18,Finalrunde!BN47)<>0,\"0\",\"1\")+IF(COUNTIF(Finalrunde!$D$11:$E$18,Finalrunde!BN48)<>0,\"0\",\"1\")+IF(COUNTIF(Finalrunde!$D$11:$E$18,Finalrunde!BN49)<>0,\"0\",\"1\")+IF(COUNTIF(Finalrunde!D$11:E$18,Finalrunde!BQ42)<>0,\"0\",\"1\")+IF(COUNTIF(Finalrunde!$D$11:$E$18,Finalrunde!BQ43)<>0,\"0\",\"1\")+IF(COUNTIF(Finalrunde!$D$11:$E$18,Finalrunde!BQ44)<>0,\"0\",\"1\")+IF(COUNTIF(Finalrunde!$D$11:$E$18,Finalrunde!BQ45)<>0,\"0\",\"1\")+IF(COUNTIF(Finalrunde!$D$11:$E$18,Finalrunde!BQ46)<>0,\"0\",\"1\")+IF(COUNTIF(Finalrunde!$D$11:$E$18,Finalrunde!BQ47)<>0,\"0\",\"1\")+IF(COUNTIF(Finalrunde!$D$11:$E$18,Finalrunde!BQ48)<>0,\"0\",\"1\")+IF(COUNTIF(Finalrunde!$D$11:$E$18,Finalrunde!BQ49)<>0,\"0\",\"1\")","v":5},null,29,"Gomes Rui",{"$f":"IF(Finalrunde!$D$20=\"\",0,IF(Finalrunde!$D$20=Finalrunde!BN51,1,0))+IF(Finalrunde!$D$21=\"\",0,IF(Finalrunde!$D$21=Finalrunde!BN52,1,0))+IF(Finalrunde!$D$22=\"\",0,IF(Finalrunde!$D$22=Finalrunde!BN53,1,0))+IF(Finalrunde!$D$23=\"\",0,IF(Finalrunde!$D$23=Finalrunde!BN54,1,0))+IF(Finalrunde!$E$20=\"\",0,IF(Finalrunde!$E$20=Finalrunde!BQ51,1,0))+IF(Finalrunde!$E$21=\"\",0,IF(Finalrunde!$E$21=Finalrunde!BQ52,1,0))+IF(Finalrunde!$E$22=\"\",0,IF(Finalrunde!$E$22=Finalrunde!BQ53,1,0))+IF(Finalrunde!$E$23=\"\",0,IF(Finalrunde!$E$23=Finalrunde!BQ54,1,0))","v":3},3,{"$f":"IF(COUNTIF(Finalrunde!$D$20:$E$23,Finalrunde!BN51)<>0,\"0\",\"1\")+IF(COUNTIF(Finalrunde!$D$20:$E$23,Finalrunde!BN52)<>0,\"0\",\"1\")+IF(COUNTIF(Finalrunde!$D$20:$E$23,Finalrunde!BN53)<>0,\"0\",\"1\")+IF(COUNTIF(Finalrunde!$D$20:$E$23,Finalrunde!BN54)<>0,\"0\",\"1\")+IF(COUNTIF(Finalrunde!$D$20:$E$23,Finalrunde!BQ51)<>0,\"0\",\"1\")+IF(COUNTIF(Finalrunde!$D$20:$E$23,Finalrunde!BQ52)<>0,\"0\",\"1\")+IF(COUNTIF(Finalrunde!$D$20:$E$23,Finalrunde!BQ53)<>0,\"0\",\"1\")+IF(COUNTIF(Finalrunde!$D$20:$E$23,Finalrunde!BQ54)<>0,\"0\",\"1\")","v":2},null,29,"Gomes Rui",{"$f":"IF(Finalrunde!$D$25=\"\",0,IF(Finalrunde!$D$25=Finalrunde!BN56,1,0))+IF(Finalrunde!$D$26=\"\",0,IF(Finalrunde!$D$26=Finalrunde!BN57,1,0))+IF(Finalrunde!$E$25=\"\",0,IF(Finalrunde!$E$25=Finalrunde!BQ56,1,0))+IF(Finalrunde!$E$26=\"\",0,IF(Finalrunde!$E$26=Finalrunde!BQ57,1,0))","v":2},0,{"$f":"IF(COUNTIF(Finalrunde!$D$25:$E$26,Finalrunde!BN56)<>0,\"0\",\"1\")+IF(COUNTIF(Finalrunde!$D$25:$E$26,Finalrunde!BN57)<>0,\"0\",\"1\")+IF(COUNTIF(Finalrunde!$D$25:$E$26,Finalrunde!BQ56)<>0,\"0\",\"1\")+IF(COUNTIF(Finalrunde!$D$25:$E$26,Finalrunde!BQ57)<>0,\"0\",\"1\")","v":2}]
[{"$f":"Teilnehmerliste!$A$35","v":30},{"$f":"Teilnehmerliste!B35 &\" \"&Teilnehmerliste!C35","v":"Grosse Laurent"},{"$f":"IF(Finalrunde!$D$11=\"\",0,IF(Finalrunde!$D$11=Finalrunde!BU42,1,0))+IF(Finalrunde!$D$12=\"\",0,IF(Finalrunde!$D$12=Finalrunde!BU43,1,0))+IF(Finalrunde!$D$13=\"\",0,IF(Finalrunde!$D$13=Finalrunde!BU44,1,0))+IF(Finalrunde!$D$14=\"\",0,IF(Finalrunde!$D$14=Finalrunde!BU45,1,0))+IF(Finalrunde!$D$15=\"\",0,IF(Finalrunde!$D$15=Finalrunde!BU46,1,0))+IF(Finalrunde!$D$16=\"\",0,IF(Finalrunde!$D$16=Finalrunde!BU47,1,0))+IF(Finalrunde!$D$17=\"\",0,IF(Finalrunde!$D$17=Finalrunde!BU48,1,0))+IF(Finalrunde!$D$18=\"\",0,IF(Finalrunde!$D$18=Finalrunde!BU49,1,0))+IF(Finalrunde!$E$11=\"\",0,IF(Finalrunde!$E$11=Finalrunde!BX42,1,0))+IF(Finalrunde!$E$12=\"\",0,IF(Finalrunde!$E$12=Finalrunde!BX43,1,0))+IF(Finalrunde!$E$13=\"\",0,IF(Finalrunde!$E$13=Finalrunde!BX44,1,0))+IF(Finalrunde!$E$14=\"\",0,IF(Finalrunde!$E$14=Finalrunde!BX45,1,0))+IF(Finalrunde!$E$15=\"\",0,IF(Finalrunde!$E$15=Finalrunde!BX46,1,0))+IF(Finalrunde!$E$16=\"\",0,IF(Finalrunde!$E$16=Finalrunde!BX47,1,0))+IF(Finalrunde!$E$17=\"\",0,IF(Finalrunde!$E$17=Finalrunde!BX48,1,0))+IF(Finalrunde!$E$18=\"\",0,IF(Finalrunde!$E$18=Finalrunde!BX49,1,0))","v":6},7,{"$f":"IF(COUNTIF(Finalrunde!$D$11:$E$18,Finalrunde!BU42)<>0,\"0\",\"1\")+IF(COUNTIF(Finalrunde!$D$11:$E$18,Finalrunde!BU43)<>0,\"0\",\"1\")+IF(COUNTIF(Finalrunde!$D$11:$E$18,Finalrunde!BU44)<>0,\"0\",\"1\")+IF(COUNTIF(Finalrunde!$D$11:$E$18,Finalrunde!BU45)<>0,\"0\",\"1\")+IF(COUNTIF(Finalrunde!$D$11:$E$18,Finalrunde!BU46)<>0,\"0\",\"1\")+IF(COUNTIF(Finalrunde!$D$11:$E$18,Finalrunde!BU47)<>0,\"0\",\"1\")+IF(COUNTIF(Finalrunde!$D$11:$E$18,Finalrunde!BU48)<>0,\"0\",\"1\")+IF(COUNTIF(Finalrunde!$D$11:$E$18,Finalrunde!BU49)<>0,\"0\",\"1\")+IF(COUNTIF(Finalrunde!D$11:E$18,Finalrunde!BX42)<>0,\"0\",\"1\")+IF(COUNTIF(Finalrunde!$D$11:$E$18,Finalrunde!BX43)<>0,\"0\",\"1\")+IF(COUNTIF(Finalrunde!$D$11:$E$18,Finalrunde!BX44)<>0,\"0\",\"1\")+IF(COUNTIF(Finalrunde!$D$11:$E$18,Finalrunde!BX45)<>0,\"0\",\"1\")+IF(COUNTIF(Finalrunde!$D$11:$E$18,Finalrunde!BX46)<>0,\"0\",\"1\")+IF(COUNTIF(Finalrunde!$D$11:$E$18,Finalrunde!BX47)<>0,\"0\",\"1\")+IF(COUNTIF(Finalrunde!$D$11:$E$18,Finalrunde!BX48)<>0,\"0\",\"1\")+IF(COUNTIF(Finalrunde!$D$11:$E$18,Finalrunde!BX49)<>0,\"0\",\"1\")","v":3},null,30,"Grosse Laurent",{"$f":"IF(Finalrunde!$D$20=\"\",0,IF(Finalrunde!$D$20=Finalrunde!BU51,1,0))+IF(Finalrunde!$D$21=\"\",0,IF(Finalrunde!$D$21=Finalrunde!BU52,1,0))+IF(Finalrunde!$D$22=\"\",0,IF(Finalrunde!$D$22=Finalrunde!BU53,1,0))+IF(Finalrunde!$D$23=\"\",0,IF(Finalrunde!$D$23=Finalrunde!BU54,1,0))+IF(Finalrunde!$E$20=\"\",0,IF(Finalrunde!$E$20=Finalrunde!BX51,1,0))+IF(Finalrunde!$E$21=\"\",0,IF(Finalrunde!$E$21=Finalrunde!BX52,1,0))+IF(Finalrunde!$E$22=\"\",0,IF(Finalrunde!$E$22=Finalrunde!BX53,1,0))+IF(Finalrunde!$E$23=\"\",0,IF(Finalrunde!$E$23=Finalrunde!BX54,1,0))","v":3},3,{"$f":"IF(COUNTIF(Finalrunde!$D$20:$E$23,Finalrunde!BU51)<>0,\"0\",\"1\")+IF(COUNTIF(Finalrunde!$D$20:$E$23,Finalrunde!BU52)<>0,\"0\",\"1\")+IF(COUNTIF(Finalrunde!$D$20:$E$23,Finalrunde!BU53)<>0,\"0\",\"1\")+IF(COUNTIF(Finalrunde!$D$20:$E$23,Finalrunde!BU54)<>0,\"0\",\"1\")+IF(COUNTIF(Finalrunde!$D$20:$E$23,Finalrunde!BX51)<>0,\"0\",\"1\")+IF(COUNTIF(Finalrunde!$D$20:$E$23,Finalrunde!BX52)<>0,\"0\",\"1\")+IF(COUNTIF(Finalrunde!$D$20:$E$23,Finalrunde!BX53)<>0,\"0\",\"1\")+IF(COUNTIF(Finalrunde!$D$20:$E$23,Finalrunde!BX54)<>0,\"0\",\"1\")","v":2},null,30,"Grosse Laurent",{"$f":"IF(Finalrunde!$D$25=\"\",0,IF(Finalrunde!$D$25=Finalrunde!BU56,1,0))+IF(Finalrunde!$D$26=\"\",0,IF(Finalrunde!$D$26=Finalrunde!BU57,1,0))+IF(Finalrunde!$E$25=\"\",0,IF(Finalrunde!$E$25=Finalrunde!BX56,1,0))+IF(Finalrunde!$E$26=\"\",0,IF(Finalrunde!$E$26=Finalrunde!BX57,1,0))","v":1},2,{"$f":"IF(COUNTIF(Finalrunde!$D$25:$E$26,Finalrunde!BU56)<>0,\"0\",\"1\")+IF(COUNTIF(Finalrunde!$D$25:$E$26,Finalrunde!BU57)<>0,\"0\",\"1\")+IF(COUNTIF(Finalrunde!$D$25:$E$26,Finalrunde!BX56)<>0,\"0\",\"1\")+IF(COUNTIF(Finalrunde!$D$25:$E$26,Finalrunde!BX57)<>0,\"0\",\"1\")","v":1}]
[{"$f":"Teilnehmerliste!$A$36","v":31},{"$f":"Teilnehmerliste!B36 &\" \"&Teilnehmerliste!C36","v":"Gygli Gregory"},{"$f":"IF(Finalrunde!$D$11=\"\",0,IF(Finalrunde!$D$11=Finalrunde!CB42,1,0))+IF(Finalrunde!$D$12=\"\",0,IF(Finalrunde!$D$12=Finalrunde!CB43,1,0))+IF(Finalrunde!$D$13=\"\",0,IF(Finalrunde!$D$13=Finalrunde!CB44,1,0))+IF(Finalrunde!$D$14=\"\",0,IF(Finalrunde!$D$14=Finalrunde!CB45,1,0))+IF(Finalrunde!$D$15=\"\",0,IF(Finalrunde!$D$15=Finalrunde!CB46,1,0))+IF(Finalrunde!$D$16=\"\",0,IF(Finalrunde!$D$16=Finalrunde!CB47,1,0))+IF(Finalrunde!$D$17=\"\",0,IF(Finalrunde!$D$17=Finalrunde!CB48,1,0))+IF(Finalrunde!$D$18=\"\",0,IF(Finalrunde!$D$18=Finalrunde!CB49,1,0))+IF(Finalrunde!$E$11=\"\",0,IF(Finalrunde!$E$11=Finalrunde!CE42,1,0))+IF(Finalrunde!$E$12=\"\",0,IF(Finalrunde!$E$12=Finalrunde!CE43,1,0))+IF(Finalrunde!$E$13=\"\",0,IF(Finalrunde!$E$13=Finalrunde!CE44,1,0))+IF(Finalrunde!$E$14=\"\",0,IF(Finalrunde!$E$14=Finalrunde!CE45,1,0))+IF(Finalrunde!$E$15=\"\",0,IF(Finalrunde!$E$15=Finalrunde!CE46,1,0))+IF(Finalrunde!$E$16=\"\",0,IF(Finalrunde!$E$16=Finalrunde!CE47,1,0))+IF(Finalrunde!$E$17=\"\",0,IF(Finalrunde!$E$17=Finalrunde!CE48,1,0))+IF(Finalrunde!$E$18=\"\",0,IF(Finalrunde!$E$18=Finalrunde!CE49,1,0))","v":7},6,{"$f":"IF(COUNTIF(Finalrunde!$D$11:$E$18,Finalrunde!CB42)<>0,\"0\",\"1\")+IF(COUNTIF(Finalrunde!$D$11:$E$18,Finalrunde!CB43)<>0,\"0\",\"1\")+IF(COUNTIF(Finalrunde!$D$11:$E$18,Finalrunde!CB44)<>0,\"0\",\"1\")+IF(COUNTIF(Finalrunde!$D$11:$E$18,Finalrunde!CB45)<>0,\"0\",\"1\")+IF(COUNTIF(Finalrunde!$D$11:$E$18,Finalrunde!CB46)<>0,\"0\",\"1\")+IF(COUNTIF(Finalrunde!$D$11:$E$18,Finalrunde!CB47)<>0,\"0\",\"1\")+IF(COUNTIF(Finalrunde!$D$11:$E$18,Finalrunde!CB48)<>0,\"0\",\"1\")+IF(COUNTIF(Finalrunde!$D$11:$E$18,Finalrunde!CB49)<>0,\"0\",\"1\")+IF(COUNTIF(Finalrunde!D$11:E$18,Finalrunde!CE42)<>0,\"0\",\"1\")+IF(COUNTIF(Finalrunde!$D$11:$E$18,Finalrunde!CE43)<>0,\"0\",\"1\")+IF(COUNTIF(Finalrunde!$D$11:$E$18,Finalrunde!CE44)<>0,\"0\",\"1\")+IF(COUNTIF(Finalrunde!$D$11:$E$18,Finalrunde!CE45)<>0,\"0\",\"1\")+IF(COUNTIF(Finalrunde!$D$11:$E$18,Finalrunde!CE46)<>0,\"0\",\"1\")+IF(COUNTIF(Finalrunde!$D$11:$E$18,Finalrunde!CE47)<>0,\"0\",\"1\")+IF(COUNTIF(Finalrunde!$D$11:$E$18,Finalrunde!CE48)<>0,\"0\",\"1\")+IF(COUNTIF(Finalrunde!$D$11:$E$18,Finalrunde!CE49)<>0,\"0\",\"1\")","v":3},null,31,"Gygli Gregory",{"$f":"IF(Finalrunde!$D$20=\"\",0,IF(Finalrunde!$D$20=Finalrunde!CB51,1,0))+IF(Finalrunde!$D$21=\"\",0,IF(Finalrunde!$D$21=Finalrunde!CB52,1,0))+IF(Finalrunde!$D$22=\"\",0,IF(Finalrunde!$D$22=Finalrunde!CB53,1,0))+IF(Finalrunde!$D$23=\"\",0,IF(Finalrunde!$D$23=Finalrunde!CB54,1,0))+IF(Finalrunde!$E$20=\"\",0,IF(Finalrunde!$E$20=Finalrunde!CE51,1,0))+IF(Finalrunde!$E$21=\"\",0,IF(Finalrunde!$E$21=Finalrunde!CE52,1,0))+IF(Finalrunde!$E$22=\"\",0,IF(Finalrunde!$E$22=Finalrunde!CE53,1,0))+IF(Finalrunde!$E$23=\"\",0,IF(Finalrunde!$E$23=Finalrunde!CE54,1,0))","v":3},3,{"$f":"IF(COUNTIF(Finalrunde!$D$20:$E$23,Finalrunde!CB51)<>0,\"0\",\"1\")+IF(COUNTIF(Finalrunde!$D$20:$E$23,Finalrunde!CB52)<>0,\"0\",\"1\")+IF(COUNTIF(Finalrunde!$D$20:$E$23,Finalrunde!CB53)<>0,\"0\",\"1\")+IF(COUNTIF(Finalrunde!$D$20:$E$23,Finalrunde!CB54)<>0,\"0\",\"1\")+IF(COUNTIF(Finalrunde!$D$20:$E$23,Finalrunde!CE51)<>0,\"0\",\"1\")+IF(COUNTIF(Finalrunde!$D$20:$E$23,Finalrunde!CE52)<>0,\"0\",\"1\")+IF(COUNTIF(Finalrunde!$D$20:$E$23,Finalrunde!CE53)<>0,\"0\",\"1\")+IF(COUNTIF(Finalrunde!$D$20:$E$23,Finalrunde!CE54)<>0,\"0\",\"1\")","v":2},null,31,"Gygli Gregory",{"$f":"IF(Finalrunde!$D$25=\"\",0,IF(Finalrunde!$D$25=Finalrunde!CB56,1,0))+IF(Finalrunde!$D$26=\"\",0,IF(Finalrunde!$D$26=Finalrunde!CB57,1,0))+IF(Finalrunde!$E$25=\"\",0,IF(Finalrunde!$E$25=Finalrunde!CE56,1,0))+IF(Finalrunde!$E$26=\"\",0,IF(Finalrunde!$E$26=Finalrunde!CE57,1,0))","v":1},1,{"$f":"IF(COUNTIF(Finalrunde!$D$25:$E$26,Finalrunde!CB56)<>0,\"0\",\"1\")+IF(COUNTIF(Finalrunde!$D$25:$E$26,Finalrunde!CB57)<>0,\"0\",\"1\")+IF(COUNTIF(Finalrunde!$D$25:$E$26,Finalrunde!CE56)<>0,\"0\",\"1\")+IF(COUNTIF(Finalrunde!$D$25:$E$26,Finalrunde!CE57)<>0,\"0\",\"1\")","v":2}]
[{"$f":"Teilnehmerliste!$A$37","v":32},{"$f":"Teilnehmerliste!B37 &\" \"&Teilnehmerliste!C37","v":"Gygli Reto"},{"$f":"IF(Finalrunde!$D$11=\"\",0,IF(Finalrunde!$D$11=Finalrunde!CI42,1,0))+IF(Finalrunde!$D$12=\"\",0,IF(Finalrunde!$D$12=Finalrunde!CI43,1,0))+IF(Finalrunde!$D$13=\"\",0,IF(Finalrunde!$D$13=Finalrunde!CI44,1,0))+IF(Finalrunde!$D$14=\"\",0,IF(Finalrunde!$D$14=Finalrunde!CI45,1,0))+IF(Finalrunde!$D$15=\"\",0,IF(Finalrunde!$D$15=Finalrunde!CI46,1,0))+IF(Finalrunde!$D$16=\"\",0,IF(Finalrunde!$D$16=Finalrunde!CI47,1,0))+IF(Finalrunde!$D$17=\"\",0,IF(Finalrunde!$D$17=Finalrunde!CI48,1,0))+IF(Finalrunde!$D$18=\"\",0,IF(Finalrunde!$D$18=Finalrunde!CI49,1,0))+IF(Finalrunde!$E$11=\"\",0,IF(Finalrunde!$E$11=Finalrunde!CL42,1,0))+IF(Finalrunde!$E$12=\"\",0,IF(Finalrunde!$E$12=Finalrunde!CL43,1,0))+IF(Finalrunde!$E$13=\"\",0,IF(Finalrunde!$E$13=Finalrunde!CL44,1,0))+IF(Finalrunde!$E$14=\"\",0,IF(Finalrunde!$E$14=Finalrunde!CL45,1,0))+IF(Finalrunde!$E$15=\"\",0,IF(Finalrunde!$E$15=Finalrunde!CL46,1,0))+IF(Finalrunde!$E$16=\"\",0,IF(Finalrunde!$E$16=Finalrunde!CL47,1,0))+IF(Finalrunde!$E$17=\"\",0,IF(Finalrunde!$E$17=Finalrunde!CL48,1,0))+IF(Finalrunde!$E$18=\"\",0,IF(Finalrunde!$E$18=Finalrunde!CL49,1,0))","v":7},6,{"$f":"IF(COUNTIF(Finalrunde!$D$11:$E$18,Finalrunde!CI42)<>0,\"0\",\"1\")+IF(COUNTIF(Finalrunde!$D$11:$E$18,Finalrunde!CI43)<>0,\"0\",\"1\")+IF(COUNTIF(Finalrunde!$D$11:$E$18,Finalrunde!CI44)<>0,\"0\",\"1\")+IF(COUNTIF(Finalrunde!$D$11:$E$18,Finalrunde!CI45)<>0,\"0\",\"1\")+IF(COUNTIF(Finalrunde!$D$11:$E$18,Finalrunde!CI46)<>0,\"0\",\"1\")+IF(COUNTIF(Finalrunde!$D$11:$E$18,Finalrunde!CI47)<>0,\"0\",\"1\")+IF(COUNTIF(Finalrunde!$D$11:$E$18,Finalrunde!CI48)<>0,\"0\",\"1\")+IF(COUNTIF(Finalrunde!$D$11:$E$18,Finalrunde!CI49)<>0,\"0\",\"1\")+IF(COUNTIF(Finalrunde!D$11:E$18,Finalrunde!CL42)<>0,\"0\",\"1\")+IF(COUNTIF(Finalrunde!$D$11:$E$18,Finalrunde!CL43)<>0,\"0\",\"1\")+IF(COUNTIF(Finalrunde!$D$11:$E$18,Finalrunde!CL44)<>0,\"0\",\"1\")+IF(COUNTIF(Finalrunde!$D$11:$E$18,Finalrunde!CL45)<>0,\"0\",\"1\")+IF(COUNTIF(Finalrunde!$D$11:$E$18,Finalrunde!CL46)<>0,\"0\",\"1\")+IF(COUNTIF(Finalrunde!$D$11:$E$18,Finalrunde!CL47)<>0,\"0\",\"1\")+IF(COUNTIF(Finalrunde!$D$11:$E$18,Finalrunde!CL48)<>0,\"0\",\"1\")+IF(COUNTIF(Finalrunde!$D$11:$E$18,Finalrunde!CL49)<>0,\"0\",\"1\")","v":3},null,32,"Gygli Reto",{"$f":"IF(Finalrunde!$D$20=\"\",0,IF(Finalrunde!$D$20=Finalrunde!CI51,1,0))+IF(Finalrunde!$D$21=\"\",0,IF(Finalrunde!$D$21=Finalrunde!CI52,1,0))+IF(Finalrunde!$D$22=\"\",0,IF(Finalrunde!$D$22=Finalrunde!CI53,1,0))+IF(Finalrunde!$D$23=\"\",0,IF(Finalrunde!$D$23=Finalrunde!CI54,1,0))+IF(Finalrunde!$E$20=\"\",0,IF(Finalrunde!$E$20=Finalrunde!CL51,1,0))+IF(Finalrunde!$E$21=\"\",0,IF(Finalrunde!$E$21=Finalrunde!CL52,1,0))+IF(Finalrunde!$E$22=\"\",0,IF(Finalrunde!$E$22=Finalrunde!CL53,1,0))+IF(Finalrunde!$E$23=\"\",0,IF(Finalrunde!$E$23=Finalrunde!CL54,1,0))","v":4},2,{"$f":"IF(COUNTIF(Finalrunde!$D$20:$E$23,Finalrunde!CI51)<>0,\"0\",\"1\")+IF(COUNTIF(Finalrunde!$D$20:$E$23,Finalrunde!CI52)<>0,\"0\",\"1\")+IF(COUNTIF(Finalrunde!$D$20:$E$23,Finalrunde!CI53)<>0,\"0\",\"1\")+IF(COUNTIF(Finalrunde!$D$20:$E$23,Finalrunde!CI54)<>0,\"0\",\"1\")+IF(COUNTIF(Finalrunde!$D$20:$E$23,Finalrunde!CL51)<>0,\"0\",\"1\")+IF(COUNTIF(Finalrunde!$D$20:$E$23,Finalrunde!CL52)<>0,\"0\",\"1\")+IF(COUNTIF(Finalrunde!$D$20:$E$23,Finalrunde!CL53)<>0,\"0\",\"1\")+IF(COUNTIF(Finalrunde!$D$20:$E$23,Finalrunde!CL54)<>0,\"0\",\"1\")","v":2},null,32,"Gygli Reto",{"$f":"IF(Finalrunde!$D$25=\"\",0,IF(Finalrunde!$D$25=Finalrunde!CI56,1,0))+IF(Finalrunde!$D$26=\"\",0,IF(Finalrunde!$D$26=Finalrunde!CI57,1,0))+IF(Finalrunde!$E$25=\"\",0,IF(Finalrunde!$E$25=Finalrunde!CL56,1,0))+IF(Finalrunde!$E$26=\"\",0,IF(Finalrunde!$E$26=Finalrunde!CL57,1,0))","v":1},2,{"$f":"IF(COUNTIF(Finalrunde!$D$25:$E$26,Finalrunde!CI56)<>0,\"0\",\"1\")+IF(COUNTIF(Finalrunde!$D$25:$E$26,Finalrunde!CI57)<>0,\"0\",\"1\")+IF(COUNTIF(Finalrunde!$D$25:$E$26,Finalrunde!CL56)<>0,\"0\",\"1\")+IF(COUNTIF(Finalrunde!$D$25:$E$26,Finalrunde!CL57)<>0,\"0\",\"1\")","v":1}]
[{"$f":"Teilnehmerliste!$A$38","v":33},{"$f":"Teilnehmerliste!B38 &\" \"&Teilnehmerliste!C38","v":"Gygli Sarina"},{"$f":"IF(Finalrunde!$D$11=\"\",0,IF(Finalrunde!$D$11=Finalrunde!CP42,1,0))+IF(Finalrunde!$D$12=\"\",0,IF(Finalrunde!$D$12=Finalrunde!CP43,1,0))+IF(Finalrunde!$D$13=\"\",0,IF(Finalrunde!$D$13=Finalrunde!CP44,1,0))+IF(Finalrunde!$D$14=\"\",0,IF(Finalrunde!$D$14=Finalrunde!CP45,1,0))+IF(Finalrunde!$D$15=\"\",0,IF(Finalrunde!$D$15=Finalrunde!CP46,1,0))+IF(Finalrunde!$D$16=\"\",0,IF(Finalrunde!$D$16=Finalrunde!CP47,1,0))+IF(Finalrunde!$D$17=\"\",0,IF(Finalrunde!$D$17=Finalrunde!CP48,1,0))+IF(Finalrunde!$D$18=\"\",0,IF(Finalrunde!$D$18=Finalrunde!CP49,1,0))+IF(Finalrunde!$E$11=\"\",0,IF(Finalrunde!$E$11=Finalrunde!CS42,1,0))+IF(Finalrunde!$E$12=\"\",0,IF(Finalrunde!$E$12=Finalrunde!CS43,1,0))+IF(Finalrunde!$E$13=\"\",0,IF(Finalrunde!$E$13=Finalrunde!CS44,1,0))+IF(Finalrunde!$E$14=\"\",0,IF(Finalrunde!$E$14=Finalrunde!CS45,1,0))+IF(Finalrunde!$E$15=\"\",0,IF(Finalrunde!$E$15=Finalrunde!CS46,1,0))+IF(Finalrunde!$E$16=\"\",0,IF(Finalrunde!$E$16=Finalrunde!CS47,1,0))+IF(Finalrunde!$E$17=\"\",0,IF(Finalrunde!$E$17=Finalrunde!CS48,1,0))+IF(Finalrunde!$E$18=\"\",0,IF(Finalrunde!$E$18=Finalrunde!CS49,1,0))","v":5},7,{"$f":"IF(COUNTIF(Finalrunde!$D$11:$E$18,Finalrunde!CP42)<>0,\"0\",\"1\")+IF(COUNTIF(Finalrunde!$D$11:$E$18,Finalrunde!CP43)<>0,\"0\",\"1\")+IF(COUNTIF(Finalrunde!$D$11:$E$18,Finalrunde!CP44)<>0,\"0\",\"1\")+IF(COUNTIF(Finalrunde!$D$11:$E$18,Finalrunde!CP45)<>0,\"0\",\"1\")+IF(COUNTIF(Finalrunde!$D$11:$E$18,Finalrunde!CP46)<>0,\"0\",\"1\")+IF(COUNTIF(Finalrunde!$D$11:$E$18,Finalrunde!CP47)<>0,\"0\",\"1\")+IF(COUNTIF(Finalrunde!$D$11:$E$18,Finalrunde!CP48)<>0,\"0\",\"1\")+IF(COUNTIF(Finalrunde!$D$11:$E$18,Finalrunde!CP49)<>0,\"0\",\"1\")+IF(COUNTIF(Finalrunde!D$11:E$18,Finalrunde!CS42)<>0,\"0\",\"1\")+IF(COUNTIF(Finalrunde!$D$11:$E$18,Finalrunde!CS43)<>0,\"0\",\"1\")+IF(COUNTIF(Finalrunde!$D$11:$E$18,Finalrunde!CS44)<>0,\"0\",\"1\")+IF(COUNTIF(Finalrunde!$D$11:$E$18,Finalrunde!CS45)<>0,\"0\",\"1\")+IF(COUNTIF(Finalrunde!$D$11:$E$18,Finalrunde!CS46)<>0,\"0\",\"1\")+IF(COUNTIF(Finalrunde!$D$11:$E$18,Finalrunde!CS47)<>0,\"0\",\"1\")+IF(COUNTIF(Finalrunde!$D$11:$E$18,Finalrunde!CS48)<>0,\"0\",\"1\")+IF(COUNTIF(Finalrunde!$D$11:$E$18,Finalrunde!CS49)<>0,\"0\",\"1\")","v":4},null,33,"Gygli Sarina",{"$f":"IF(Finalrunde!$D$20=\"\",0,IF(Finalrunde!$D$20=Finalrunde!CP51,1,0))+IF(Finalrunde!$D$21=\"\",0,IF(Finalrunde!$D$21=Finalrunde!CP52,1,0))+IF(Finalrunde!$D$22=\"\",0,IF(Finalrunde!$D$22=Finalrunde!CP53,1,0))+IF(Finalrunde!$D$23=\"\",0,IF(Finalrunde!$D$23=Finalrunde!CP54,1,0))+IF(Finalrunde!$E$20=\"\",0,IF(Finalrunde!$E$20=Finalrunde!CS51,1,0))+IF(Finalrunde!$E$21=\"\",0,IF(Finalrunde!$E$21=Finalrunde!CS52,1,0))+IF(Finalrunde!$E$22=\"\",0,IF(Finalrunde!$E$22=Finalrunde!CS53,1,0))+IF(Finalrunde!$E$23=\"\",0,IF(Finalrunde!$E$23=Finalrunde!CS54,1,0))","v":4},2,{"$f":"IF(COUNTIF(Finalrunde!$D$20:$E$23,Finalrunde!CP51)<>0,\"0\",\"1\")+IF(COUNTIF(Finalrunde!$D$20:$E$23,Finalrunde!CP52)<>0,\"0\",\"1\")+IF(COUNTIF(Finalrunde!$D$20:$E$23,Finalrunde!CP53)<>0,\"0\",\"1\")+IF(COUNTIF(Finalrunde!$D$20:$E$23,Finalrunde!CP54)<>0,\"0\",\"1\")+IF(COUNTIF(Finalrunde!$D$20:$E$23,Finalrunde!CS51)<>0,\"0\",\"1\")+IF(COUNTIF(Finalrunde!$D$20:$E$23,Finalrunde!CS52)<>0,\"0\",\"1\")+IF(COUNTIF(Finalrunde!$D$20:$E$23,Finalrunde!CS53)<>0,\"0\",\"1\")+IF(COUNTIF(Finalrunde!$D$20:$E$23,Finalrunde!CS54)<>0,\"0\",\"1\")","v":2},null,33,"Gygli Sarina",{"$f":"IF(Finalrunde!$D$25=\"\",0,IF(Finalrunde!$D$25=Finalrunde!CP56,1,0))+IF(Finalrunde!$D$26=\"\",0,IF(Finalrunde!$D$26=Finalrunde!CP57,1,0))+IF(Finalrunde!$E$25=\"\",0,IF(Finalrunde!$E$25=Finalrunde!CS56,1,0))+IF(Finalrunde!$E$26=\"\",0,IF(Finalrunde!$E$26=Finalrunde!CS57,1,0))","v":1},1,{"$f":"IF(COUNTIF(Finalrunde!$D$25:$E$26,Finalrunde!CP56)<>0,\"0\",\"1\")+IF(COUNTIF(Finalrunde!$D$25:$E$26,Finalrunde!CP57)<>0,\"0\",\"1\")+IF(COUNTIF(Finalrunde!$D$25:$E$26,Finalrunde!CS56)<>0,\"0\",\"1\")+IF(COUNTIF(Finalrunde!$D$25:$E$26,Finalrunde!CS57)<>0,\"0\",\"1\")","v":2}]
[{"$f":"Teilnehmerliste!$A$39","v":34},{"$f":"Teilnehmerliste!B39 &\" \"&Teilnehmerliste!C39","v":"Gygli Stefan"},{"$f":"IF(Finalrunde!$D$11=\"\",0,IF(Finalrunde!$D$11=Finalrunde!CW42,1,0))+IF(Finalrunde!$D$12=\"\",0,IF(Finalrunde!$D$12=Finalrunde!CW43,1,0))+IF(Finalrunde!$D$13=\"\",0,IF(Finalrunde!$D$13=Finalrunde!CW44,1,0))+IF(Finalrunde!$D$14=\"\",0,IF(Finalrunde!$D$14=Finalrunde!CW45,1,0))+IF(Finalrunde!$D$15=\"\",0,IF(Finalrunde!$D$15=Finalrunde!CW46,1,0))+IF(Finalrunde!$D$16=\"\",0,IF(Finalrunde!$D$16=Finalrunde!CW47,1,0))+IF(Finalrunde!$D$17=\"\",0,IF(Finalrunde!$D$17=Finalrunde!CW48,1,0))+IF(Finalrunde!$D$18=\"\",0,IF(Finalrunde!$D$18=Finalrunde!CW49,1,0))+IF(Finalrunde!$E$11=\"\",0,IF(Finalrunde!$E$11=Finalrunde!CZ42,1,0))+IF(Finalrunde!$E$12=\"\",0,IF(Finalrunde!$E$12=Finalrunde!CZ43,1,0))+IF(Finalrunde!$E$13=\"\",0,IF(Finalrunde!$E$13=Finalrunde!CZ44,1,0))+IF(Finalrunde!$E$14=\"\",0,IF(Finalrunde!$E$14=Finalrunde!CZ45,1,0))+IF(Finalrunde!$E$15=\"\",0,IF(Finalrunde!$E$15=Finalrunde!CZ46,1,0))+IF(Finalrunde!$E$16=\"\",0,IF(Finalrunde!$E$16=Finalrunde!CZ47,1,0))+IF(Finalrunde!$E$17=\"\",0,IF(Finalrunde!$E$17=Finalrunde!CZ48,1,0))+IF(Finalrunde!$E$18=\"\",0,IF(Finalrunde!$E$18=Finalrunde!CZ49,1,0))","v":8},5,{"$f":"IF(COUNTIF(Finalrunde!$D$11:$E$18,Finalrunde!CW42)<>0,\"0\",\"1\")+IF(COUNTIF(Finalrunde!$D$11:$E$18,Finalrunde!CW43)<>0,\"0\",\"1\")+IF(COUNTIF(Finalrunde!$D$11:$E$18,Finalrunde!CW44)<>0,\"0\",\"1\")+IF(COUNTIF(Finalrunde!$D$11:$E$18,Finalrunde!CW45)<>0,\"0\",\"1\")+IF(COUNTIF(Finalrunde!$D$11:$E$18,Finalrunde!CW46)<>0,\"0\",\"1\")+IF(COUNTIF(Finalrunde!$D$11:$E$18,Finalrunde!CW47)<>0,\"0\",\"1\")+IF(COUNTIF(Finalrunde!$D$11:$E$18,Finalrunde!CW48)<>0,\"0\",\"1\")+IF(COUNTIF(Finalrunde!$D$11:$E$18,Finalrunde!CW49)<>0,\"0\",\"1\")+IF(COUNTIF(Finalrunde!D$11:E$18,Finalrunde!CZ42)<>0,\"0\",\"1\")+IF(COUNTIF(Finalrunde!$D$11:$E$18,Finalrunde!CZ43)<>0,\"0\",\"1\")+IF(COUNTIF(Finalrunde!$D$11:$E$18,Finalrunde!CZ44)<>0,\"0\",\"1\")+IF(COUNTIF(Finalrunde!$D$11:$E$18,Finalrunde!CZ45)<>0,\"0\",\"1\")+IF(COUNTIF(Finalrunde!$D$11:$E$18,Finalrunde!CZ46)<>0,\"0\",\"1\")+IF(COUNTIF(Finalrunde!$D$11:$E$18,Finalrunde!CZ47)<>0,\"0\",\"1\")+IF(COUNTIF(Finalrunde!$D$11:$E$18,Finalrunde!CZ48)<>0,\"0\",\"1\")+IF(COUNTIF(Finalrunde!$D$11:$E$18,Finalrunde!CZ49)<>0,\"0\",\"1\")","v":3},null,34,"Gygli Stefan",{"$f":"IF(Finalrunde!$D$20=\"\",0,IF(Finalrunde!$D$20=Finalrunde!CW51,1,0))+IF(Finalrunde!$D$21=\"\",0,IF(Finalrunde!$D$21=Finalrunde!CW52,1,0))+IF(Finalrunde!$D$22=\"\",0,IF(Finalrunde!$D$22=Finalrunde!CW53,1,0))+IF(Finalrunde!$D$23=\"\",0,IF(Finalrunde!$D$23=Finalrunde!CW54,1,0))+IF(Finalrunde!$E$20=\"\",0,IF(Finalrunde!$E$20=Finalrunde!CZ51,1,0))+IF(Finalrunde!$E$21=\"\",0,IF(Finalrunde!$E$21=Finalrunde!CZ52,1,0))+IF(Finalrunde!$E$22=\"\",0,IF(Finalrunde!$E$22=Finalrunde!CZ53,1,0))+IF(Finalrunde!$E$23=\"\",0,IF(Finalrunde!$E$23=Finalrunde!CZ54,1,0))","v":6},1,{"$f":"IF(COUNTIF(Finalrunde!$D$20:$E$23,Finalrunde!CW51)<>0,\"0\",\"1\")+IF(COUNTIF(Finalrunde!$D$20:$E$23,Finalrunde!CW52)<>0,\"0\",\"1\")+IF(COUNTIF(Finalrunde!$D$20:$E$23,Finalrunde!CW53)<>0,\"0\",\"1\")+IF(COUNTIF(Finalrunde!$D$20:$E$23,Finalrunde!CW54)<>0,\"0\",\"1\")+IF(COUNTIF(Finalrunde!$D$20:$E$23,Finalrunde!CZ51)<>0,\"0\",\"1\")+IF(COUNTIF(Finalrunde!$D$20:$E$23,Finalrunde!CZ52)<>0,\"0\",\"1\")+IF(COUNTIF(Finalrunde!$D$20:$E$23,Finalrunde!CZ53)<>0,\"0\",\"1\")+IF(COUNTIF(Finalrunde!$D$20:$E$23,Finalrunde!CZ54)<>0,\"0\",\"1\")","v":1},null,34,"Gygli Stefan",{"$f":"IF(Finalrunde!$D$25=\"\",0,IF(Finalrunde!$D$25=Finalrunde!CW56,1,0))+IF(Finalrunde!$D$26=\"\",0,IF(Finalrunde!$D$26=Finalrunde!CW57,1,0))+IF(Finalrunde!$E$25=\"\",0,IF(Finalrunde!$E$25=Finalrunde!CZ56,1,0))+IF(Finalrunde!$E$26=\"\",0,IF(Finalrunde!$E$26=Finalrunde!CZ57,1,0))","v":4},0,{"$f":"IF(COUNTIF(Finalrunde!$D$25:$E$26,Finalrunde!CW56)<>0,\"0\",\"1\")+IF(COUNTIF(Finalrunde!$D$25:$E$26,Finalrunde!CW57)<>0,\"0\",\"1\")+IF(COUNTIF(Finalrunde!$D$25:$E$26,Finalrunde!CZ56)<>0,\"0\",\"1\")+IF(COUNTIF(Finalrunde!$D$25:$E$26,Finalrunde!CZ57)<>0,\"0\",\"1\")","v":0}]
[{"$f":"Teilnehmerliste!$A$40","v":35},{"$f":"Teilnehmerliste!B40 &\" \"&Teilnehmerliste!C40","v":"Gygli Timothy"},{"$f":"IF(Finalrunde!$D$11=\"\",0,IF(Finalrunde!$D$11=Finalrunde!DD42,1,0))+IF(Finalrunde!$D$12=\"\",0,IF(Finalrunde!$D$12=Finalrunde!DD43,1,0))+IF(Finalrunde!$D$13=\"\",0,IF(Finalrunde!$D$13=Finalrunde!DD44,1,0))+IF(Finalrunde!$D$14=\"\",0,IF(Finalrunde!$D$14=Finalrunde!DD45,1,0))+IF(Finalrunde!$D$15=\"\",0,IF(Finalrunde!$D$15=Finalrunde!DD46,1,0))+IF(Finalrunde!$D$16=\"\",0,IF(Finalrunde!$D$16=Finalrunde!DD47,1,0))+IF(Finalrunde!$D$17=\"\",0,IF(Finalrunde!$D$17=Finalrunde!DD48,1,0))+IF(Finalrunde!$D$18=\"\",0,IF(Finalrunde!$D$18=Finalrunde!DD49,1,0))+IF(Finalrunde!$E$11=\"\",0,IF(Finalrunde!$E$11=Finalrunde!DG42,1,0))+IF(Finalrunde!$E$12=\"\",0,IF(Finalrunde!$E$12=Finalrunde!DG43,1,0))+IF(Finalrunde!$E$13=\"\",0,IF(Finalrunde!$E$13=Finalrunde!DG44,1,0))+IF(Finalrunde!$E$14=\"\",0,IF(Finalrunde!$E$14=Finalrunde!DG45,1,0))+IF(Finalrunde!$E$15=\"\",0,IF(Finalrunde!$E$15=Finalrunde!DG46,1,0))+IF(Finalrunde!$E$16=\"\",0,IF(Finalrunde!$E$16=Finalrunde!DG47,1,0))+IF(Finalrunde!$E$17=\"\",0,IF(Finalrunde!$E$17=Finalrunde!DG48,1,0))+IF(Finalrunde!$E$18=\"\",0,IF(Finalrunde!$E$18=Finalrunde!DG49,1,0))","v":8},4,{"$f":"IF(COUNTIF(Finalrunde!$D$11:$E$18,Finalrunde!DD42)<>0,\"0\",\"1\")+IF(COUNTIF(Finalrunde!$D$11:$E$18,Finalrunde!DD43)<>0,\"0\",\"1\")+IF(COUNTIF(Finalrunde!$D$11:$E$18,Finalrunde!DD44)<>0,\"0\",\"1\")+IF(COUNTIF(Finalrunde!$D$11:$E$18,Finalrunde!DD45)<>0,\"0\",\"1\")+IF(COUNTIF(Finalrunde!$D$11:$E$18,Finalrunde!DD46)<>0,\"0\",\"1\")+IF(COUNTIF(Finalrunde!$D$11:$E$18,Finalrunde!DD47)<>0,\"0\",\"1\")+IF(COUNTIF(Finalrunde!$D$11:$E$18,Finalrunde!DD48)<>0,\"0\",\"1\")+IF(COUNTIF(Finalrunde!$D$11:$E$18,Finalrunde!DD49)<>0,\"0\",\"1\")+IF(COUNTIF(Finalrunde!D$11:E$18,Finalrunde!DG42)<>0,\"0\",\"1\")+IF(COUNTIF(Finalrunde!$D$11:$E$18,Finalrunde!DG43)<>0,\"0\",\"1\")+IF(COUNTIF(Finalrunde!$D$11:$E$18,Finalrunde!DG44)<>0,\"0\",\"1\")+IF(COUNTIF(Finalrunde!$D$11:$E$18,Finalrunde!DG45)<>0,\"0\",\"1\")+IF(COUNTIF(Finalrunde!$D$11:$E$18,Finalrunde!DG46)<>0,\"0\",\"1\")+IF(COUNTIF(Finalrunde!$D$11:$E$18,Finalrunde!DG47)<>0,\"0\",\"1\")+IF(COUNTIF(Finalrunde!$D$11:$E$18,Finalrunde!DG48)<>0,\"0\",\"1\")+IF(COUNTIF(Finalrunde!$D$11:$E$18,Finalrunde!DG49)<>0,\"0\",\"1\")","v":4},null,35,"Gygli Timothy",{"$f":"IF(Finalrunde!$D$20=\"\",0,IF(Finalrunde!$D$20=Finalrunde!DD51,1,0))+IF(Finalrunde!$D$21=\"\",0,IF(Finalrunde!$D$21=Finalrunde!DD52,1,0))+IF(Finalrunde!$D$22=\"\",0,IF(Finalrunde!$D$22=Finalrunde!DD53,1,0))+IF(Finalrunde!$D$23=\"\",0,IF(Finalrunde!$D$23=Finalrunde!DD54,1,0))+IF(Finalrunde!$E$20=\"\",0,IF(Finalrunde!$E$20=Finalrunde!DG51,1,0))+IF(Finalrunde!$E$21=\"\",0,IF(Finalrunde!$E$21=Finalrunde!DG52,1,0))+IF(Finalrunde!$E$22=\"\",0,IF(Finalrunde!$E$22=Finalrunde!DG53,1,0))+IF(Finalrunde!$E$23=\"\",0,IF(Finalrunde!$E$23=Finalrunde!DG54,1,0))","v":3},2,{"$f":"IF(COUNTIF(Finalrunde!$D$20:$E$23,Finalrunde!DD51)<>0,\"0\",\"1\")+IF(COUNTIF(Finalrunde!$D$20:$E$23,Finalrunde!DD52)<>0,\"0\",\"1\")+IF(COUNTIF(Finalrunde!$D$20:$E$23,Finalrunde!DD53)<>0,\"0\",\"1\")+IF(COUNTIF(Finalrunde!$D$20:$E$23,Finalrunde!DD54)<>0,\"0\",\"1\")+IF(COUNTIF(Finalrunde!$D$20:$E$23,Finalrunde!DG51)<>0,\"0\",\"1\")+IF(COUNTIF(Finalrunde!$D$20:$E$23,Finalrunde!DG52)<>0,\"0\",\"1\")+IF(COUNTIF(Finalrunde!$D$20:$E$23,Finalrunde!DG53)<>0,\"0\",\"1\")+IF(COUNTIF(Finalrunde!$D$20:$E$23,Finalrunde!DG54)<>0,\"0\",\"1\")","v":3},null,35,"Gygli Timothy",{"$f":"IF(Finalrunde!$D$25=\"\",0,IF(Finalrunde!$D$25=Finalrunde!DD56,1,0))+IF(Finalrunde!$D$26=\"\",0,IF(Finalrunde!$D$26=Finalrunde!DD57,1,0))+IF(Finalrunde!$E$25=\"\",0,IF(Finalrunde!$E$25=Finalrunde!DG56,1,0))+IF(Finalrunde!$E$26=\"\",0,IF(Finalrunde!$E$26=Finalrunde!DG57,1,0))","v":1},2,{"$f":"IF(COUNTIF(Finalrunde!$D$25:$E$26,Finalrunde!DD56)<>0,\"0\",\"1\")+IF(COUNTIF(Finalrunde!$D$25:$E$26,Finalrunde!DD57)<>0,\"0\",\"1\")+IF(COUNTIF(Finalrunde!$D$25:$E$26,Finalrunde!DG56)<>0,\"0\",\"1\")+IF(COUNTIF(Finalrunde!$D$25:$E$26,Finalrunde!DG57)<>0,\"0\",\"1\")","v":1}]
[{"$f":"Teilnehmerliste!$A$41","v":36},{"$f":"Teilnehmerliste!B41 &\" \"&Teilnehmerliste!C41","v":"Haab Florian"},{"$f":"IF(Finalrunde!$D$11=\"\",0,IF(Finalrunde!$D$11=Finalrunde!DK42,1,0))+IF(Finalrunde!$D$12=\"\",0,IF(Finalrunde!$D$12=Finalrunde!DK43,1,0))+IF(Finalrunde!$D$13=\"\",0,IF(Finalrunde!$D$13=Finalrunde!DK44,1,0))+IF(Finalrunde!$D$14=\"\",0,IF(Finalrunde!$D$14=Finalrunde!DK45,1,0))+IF(Finalrunde!$D$15=\"\",0,IF(Finalrunde!$D$15=Finalrunde!DK46,1,0))+IF(Finalrunde!$D$16=\"\",0,IF(Finalrunde!$D$16=Finalrunde!DK47,1,0))+IF(Finalrunde!$D$17=\"\",0,IF(Finalrunde!$D$17=Finalrunde!DK48,1,0))+IF(Finalrunde!$D$18=\"\",0,IF(Finalrunde!$D$18=Finalrunde!DK49,1,0))+IF(Finalrunde!$E$11=\"\",0,IF(Finalrunde!$E$11=Finalrunde!DN42,1,0))+IF(Finalrunde!$E$12=\"\",0,IF(Finalrunde!$E$12=Finalrunde!DN43,1,0))+IF(Finalrunde!$E$13=\"\",0,IF(Finalrunde!$E$13=Finalrunde!DN44,1,0))+IF(Finalrunde!$E$14=\"\",0,IF(Finalrunde!$E$14=Finalrunde!DN45,1,0))+IF(Finalrunde!$E$15=\"\",0,IF(Finalrunde!$E$15=Finalrunde!DN46,1,0))+IF(Finalrunde!$E$16=\"\",0,IF(Finalrunde!$E$16=Finalrunde!DN47,1,0))+IF(Finalrunde!$E$17=\"\",0,IF(Finalrunde!$E$17=Finalrunde!DN48,1,0))+IF(Finalrunde!$E$18=\"\",0,IF(Finalrunde!$E$18=Finalrunde!DN49,1,0))","v":5},8,{"$f":"IF(COUNTIF(Finalrunde!$D$11:$E$18,Finalrunde!DK42)<>0,\"0\",\"1\")+IF(COUNTIF(Finalrunde!$D$11:$E$18,Finalrunde!DK43)<>0,\"0\",\"1\")+IF(COUNTIF(Finalrunde!$D$11:$E$18,Finalrunde!DK44)<>0,\"0\",\"1\")+IF(COUNTIF(Finalrunde!$D$11:$E$18,Finalrunde!DK45)<>0,\"0\",\"1\")+IF(COUNTIF(Finalrunde!$D$11:$E$18,Finalrunde!DK46)<>0,\"0\",\"1\")+IF(COUNTIF(Finalrunde!$D$11:$E$18,Finalrunde!DK47)<>0,\"0\",\"1\")+IF(COUNTIF(Finalrunde!$D$11:$E$18,Finalrunde!DK48)<>0,\"0\",\"1\")+IF(COUNTIF(Finalrunde!$D$11:$E$18,Finalrunde!DK49)<>0,\"0\",\"1\")+IF(COUNTIF(Finalrunde!D$11:E$18,Finalrunde!DN42)<>0,\"0\",\"1\")+IF(COUNTIF(Finalrunde!$D$11:$E$18,Finalrunde!DN43)<>0,\"0\",\"1\")+IF(COUNTIF(Finalrunde!$D$11:$E$18,Finalrunde!DN44)<>0,\"0\",\"1\")+IF(COUNTIF(Finalrunde!$D$11:$E$18,Finalrunde!DN45)<>0,\"0\",\"1\")+IF(COUNTIF(Finalrunde!$D$11:$E$18,Finalrunde!DN46)<>0,\"0\",\"1\")+IF(COUNTIF(Finalrunde!$D$11:$E$18,Finalrunde!DN47)<>0,\"0\",\"1\")+IF(COUNTIF(Finalrunde!$D$11:$E$18,Finalrunde!DN48)<>0,\"0\",\"1\")+IF(COUNTIF(Finalrunde!$D$11:$E$18,Finalrunde!DN49)<>0,\"0\",\"1\")","v":3},null,36,"Haab Florian",{"$f":"IF(Finalrunde!$D$20=\"\",0,IF(Finalrunde!$D$20=Finalrunde!DK51,1,0))+IF(Finalrunde!$D$21=\"\",0,IF(Finalrunde!$D$21=Finalrunde!DK52,1,0))+IF(Finalrunde!$D$22=\"\",0,IF(Finalrunde!$D$22=Finalrunde!DK53,1,0))+IF(Finalrunde!$D$23=\"\",0,IF(Finalrunde!$D$23=Finalrunde!DK54,1,0))+IF(Finalrunde!$E$20=\"\",0,IF(Finalrunde!$E$20=Finalrunde!DN51,1,0))+IF(Finalrunde!$E$21=\"\",0,IF(Finalrunde!$E$21=Finalrunde!DN52,1,0))+IF(Finalrunde!$E$22=\"\",0,IF(Finalrunde!$E$22=Finalrunde!DN53,1,0))+IF(Finalrunde!$E$23=\"\",0,IF(Finalrunde!$E$23=Finalrunde!DN54,1,0))","v":4},2,{"$f":"IF(COUNTIF(Finalrunde!$D$20:$E$23,Finalrunde!DK51)<>0,\"0\",\"1\")+IF(COUNTIF(Finalrunde!$D$20:$E$23,Finalrunde!DK52)<>0,\"0\",\"1\")+IF(COUNTIF(Finalrunde!$D$20:$E$23,Finalrunde!DK53)<>0,\"0\",\"1\")+IF(COUNTIF(Finalrunde!$D$20:$E$23,Finalrunde!DK54)<>0,\"0\",\"1\")+IF(COUNTIF(Finalrunde!$D$20:$E$23,Finalrunde!DN51)<>0,\"0\",\"1\")+IF(COUNTIF(Finalrunde!$D$20:$E$23,Finalrunde!DN52)<>0,\"0\",\"1\")+IF(COUNTIF(Finalrunde!$D$20:$E$23,Finalrunde!DN53)<>0,\"0\",\"1\")+IF(COUNTIF(Finalrunde!$D$20:$E$23,Finalrunde!DN54)<>0,\"0\",\"1\")","v":2},null,36,"Haab Florian",{"$f":"IF(Finalrunde!$D$25=\"\",0,IF(Finalrunde!$D$25=Finalrunde!DK56,1,0))+IF(Finalrunde!$D$26=\"\",0,IF(Finalrunde!$D$26=Finalrunde!DK57,1,0))+IF(Finalrunde!$E$25=\"\",0,IF(Finalrunde!$E$25=Finalrunde!DN56,1,0))+IF(Finalrunde!$E$26=\"\",0,IF(Finalrunde!$E$26=Finalrunde!DN57,1,0))","v":1},1,{"$f":"IF(COUNTIF(Finalrunde!$D$25:$E$26,Finalrunde!DK56)<>0,\"0\",\"1\")+IF(COUNTIF(Finalrunde!$D$25:$E$26,Finalrunde!DK57)<>0,\"0\",\"1\")+IF(COUNTIF(Finalrunde!$D$25:$E$26,Finalrunde!DN56)<>0,\"0\",\"1\")+IF(COUNTIF(Finalrunde!$D$25:$E$26,Finalrunde!DN57)<>0,\"0\",\"1\")","v":2}]
[{"$f":"Teilnehmerliste!$A$42","v":37},{"$f":"Teilnehmerliste!B42 &\" \"&Teilnehmerliste!C42","v":"Handanagic Djuma"},{"$f":"IF(Finalrunde!$D$11=\"\",0,IF(Finalrunde!$D$11=Finalrunde!DR42,1,0))+IF(Finalrunde!$D$12=\"\",0,IF(Finalrunde!$D$12=Finalrunde!DR43,1,0))+IF(Finalrunde!$D$13=\"\",0,IF(Finalrunde!$D$13=Finalrunde!DR44,1,0))+IF(Finalrunde!$D$14=\"\",0,IF(Finalrunde!$D$14=Finalrunde!DR45,1,0))+IF(Finalrunde!$D$15=\"\",0,IF(Finalrunde!$D$15=Finalrunde!DR46,1,0))+IF(Finalrunde!$D$16=\"\",0,IF(Finalrunde!$D$16=Finalrunde!DR47,1,0))+IF(Finalrunde!$D$17=\"\",0,IF(Finalrunde!$D$17=Finalrunde!DR48,1,0))+IF(Finalrunde!$D$18=\"\",0,IF(Finalrunde!$D$18=Finalrunde!DR49,1,0))+IF(Finalrunde!$E$11=\"\",0,IF(Finalrunde!$E$11=Finalrunde!DU42,1,0))+IF(Finalrunde!$E$12=\"\",0,IF(Finalrunde!$E$12=Finalrunde!DU43,1,0))+IF(Finalrunde!$E$13=\"\",0,IF(Finalrunde!$E$13=Finalrunde!DU44,1,0))+IF(Finalrunde!$E$14=\"\",0,IF(Finalrunde!$E$14=Finalrunde!DU45,1,0))+IF(Finalrunde!$E$15=\"\",0,IF(Finalrunde!$E$15=Finalrunde!DU46,1,0))+IF(Finalrunde!$E$16=\"\",0,IF(Finalrunde!$E$16=Finalrunde!DU47,1,0))+IF(Finalrunde!$E$17=\"\",0,IF(Finalrunde!$E$17=Finalrunde!DU48,1,0))+IF(Finalrunde!$E$18=\"\",0,IF(Finalrunde!$E$18=Finalrunde!DU49,1,0))","v":7},6,{"$f":"IF(COUNTIF(Finalrunde!$D$11:$E$18,Finalrunde!DR42)<>0,\"0\",\"1\")+IF(COUNTIF(Finalrunde!$D$11:$E$18,Finalrunde!DR43)<>0,\"0\",\"1\")+IF(COUNTIF(Finalrunde!$D$11:$E$18,Finalrunde!DR44)<>0,\"0\",\"1\")+IF(COUNTIF(Finalrunde!$D$11:$E$18,Finalrunde!DR45)<>0,\"0\",\"1\")+IF(COUNTIF(Finalrunde!$D$11:$E$18,Finalrunde!DR46)<>0,\"0\",\"1\")+IF(COUNTIF(Finalrunde!$D$11:$E$18,Finalrunde!DR47)<>0,\"0\",\"1\")+IF(COUNTIF(Finalrunde!$D$11:$E$18,Finalrunde!DR48)<>0,\"0\",\"1\")+IF(COUNTIF(Finalrunde!$D$11:$E$18,Finalrunde!DR49)<>0,\"0\",\"1\")+IF(COUNTIF(Finalrunde!D$11:E$18,Finalrunde!DU42)<>0,\"0\",\"1\")+IF(COUNTIF(Finalrunde!$D$11:$E$18,Finalrunde!DU43)<>0,\"0\",\"1\")+IF(COUNTIF(Finalrunde!$D$11:$E$18,Finalrunde!DU44)<>0,\"0\",\"1\")+IF(COUNTIF(Finalrunde!$D$11:$E$18,Finalrunde!DU45)<>0,\"0\",\"1\")+IF(COUNTIF(Finalrunde!$D$11:$E$18,Finalrunde!DU46)<>0,\"0\",\"1\")+IF(COUNTIF(Finalrunde!$D$11:$E$18,Finalrunde!DU47)<>0,\"0\",\"1\")+IF(COUNTIF(Finalrunde!$D$11:$E$18,Finalrunde!DU48)<>0,\"0\",\"1\")+IF(COUNTIF(Finalrunde!$D$11:$E$18,Finalrunde!DU49)<>0,\"0\",\"1\")","v":3},null,37,"Handanagic Djuma",{"$f":"IF(Finalrunde!$D$20=\"\",0,IF(Finalrunde!$D$20=Finalrunde!DR51,1,0))+IF(Finalrunde!$D$21=\"\",0,IF(Finalrunde!$D$21=Finalrunde!DR52,1,0))+IF(Finalrunde!$D$22=\"\",0,IF(Finalrunde!$D$22=Finalrunde!DR53,1,0))+IF(Finalrunde!$D$23=\"\",0,IF(Finalrunde!$D$23=Finalrunde!DR54,1,0))+IF(Finalrunde!$E$20=\"\",0,IF(Finalrunde!$E$20=Finalrunde!DU51,1,0))+IF(Finalrunde!$E$21=\"\",0,IF(Finalrunde!$E$21=Finalrunde!DU52,1,0))+IF(Finalrunde!$E$22=\"\",0,IF(Finalrunde!$E$22=Finalrunde!DU53,1,0))+IF(Finalrunde!$E$23=\"\",0,IF(Finalrunde!$E$23=Finalrunde!DU54,1,0))","v":3},2,{"$f":"IF(COUNTIF(Finalrunde!$D$20:$E$23,Finalrunde!DR51)<>0,\"0\",\"1\")+IF(COUNTIF(Finalrunde!$D$20:$E$23,Finalrunde!DR52)<>0,\"0\",\"1\")+IF(COUNTIF(Finalrunde!$D$20:$E$23,Finalrunde!DR53)<>0,\"0\",\"1\")+IF(COUNTIF(Finalrunde!$D$20:$E$23,Finalrunde!DR54)<>0,\"0\",\"1\")+IF(COUNTIF(Finalrunde!$D$20:$E$23,Finalrunde!DU51)<>0,\"0\",\"1\")+IF(COUNTIF(Finalrunde!$D$20:$E$23,Finalrunde!DU52)<>0,\"0\",\"1\")+IF(COUNTIF(Finalrunde!$D$20:$E$23,Finalrunde!DU53)<>0,\"0\",\"1\")+IF(COUNTIF(Finalrunde!$D$20:$E$23,Finalrunde!DU54)<>0,\"0\",\"1\")","v":3},null,37,"Handanagic Djuma",{"$f":"IF(Finalrunde!$D$25=\"\",0,IF(Finalrunde!$D$25=Finalrunde!DR56,1,0))+IF(Finalrunde!$D$26=\"\",0,IF(Finalrunde!$D$26=Finalrunde!DR57,1,0))+IF(Finalrunde!$E$25=\"\",0,IF(Finalrunde!$E$25=Finalrunde!DU56,1,0))+IF(Finalrunde!$E$26=\"\",0,IF(Finalrunde!$E$26=Finalrunde!DU57,1,0))","v":1},1,{"$f":"IF(COUNTIF(Finalrunde!$D$25:$E$26,Finalrunde!DR56)<>0,\"0\",\"1\")+IF(COUNTIF(Finalrunde!$D$25:$E$26,Finalrunde!DR57)<>0,\"0\",\"1\")+IF(COUNTIF(Finalrunde!$D$25:$E$26,Finalrunde!DU56)<>0,\"0\",\"1\")+IF(COUNTIF(Finalrunde!$D$25:$E$26,Finalrunde!DU57)<>0,\"0\",\"1\")","v":2}]
[{"$f":"Teilnehmerliste!$A$43","v":38},{"$f":"Teilnehmerliste!B43 &\" \"&Teilnehmerliste!C43","v":"Isenschmid Agnes"},{"$f":"IF(Finalrunde!$D$11=\"\",0,IF(Finalrunde!$D$11=Finalrunde!DY42,1,0))+IF(Finalrunde!$D$12=\"\",0,IF(Finalrunde!$D$12=Finalrunde!DY43,1,0))+IF(Finalrunde!$D$13=\"\",0,IF(Finalrunde!$D$13=Finalrunde!DY44,1,0))+IF(Finalrunde!$D$14=\"\",0,IF(Finalrunde!$D$14=Finalrunde!DY45,1,0))+IF(Finalrunde!$D$15=\"\",0,IF(Finalrunde!$D$15=Finalrunde!DY46,1,0))+IF(Finalrunde!$D$16=\"\",0,IF(Finalrunde!$D$16=Finalrunde!DY47,1,0))+IF(Finalrunde!$D$17=\"\",0,IF(Finalrunde!$D$17=Finalrunde!DY48,1,0))+IF(Finalrunde!$D$18=\"\",0,IF(Finalrunde!$D$18=Finalrunde!DY49,1,0))+IF(Finalrunde!$E$11=\"\",0,IF(Finalrunde!$E$11=Finalrunde!EB42,1,0))+IF(Finalrunde!$E$12=\"\",0,IF(Finalrunde!$E$12=Finalrunde!EB43,1,0))+IF(Finalrunde!$E$13=\"\",0,IF(Finalrunde!$E$13=Finalrunde!EB44,1,0))+IF(Finalrunde!$E$14=\"\",0,IF(Finalrunde!$E$14=Finalrunde!EB45,1,0))+IF(Finalrunde!$E$15=\"\",0,IF(Finalrunde!$E$15=Finalrunde!EB46,1,0))+IF(Finalrunde!$E$16=\"\",0,IF(Finalrunde!$E$16=Finalrunde!EB47,1,0))+IF(Finalrunde!$E$17=\"\",0,IF(Finalrunde!$E$17=Finalrunde!EB48,1,0))+IF(Finalrunde!$E$18=\"\",0,IF(Finalrunde!$E$18=Finalrunde!EB49,1,0))","v":6},{"$f":"SUM(16-C42-E42)","v":6},{"$f":"IF(COUNTIF(Finalrunde!$D$11:$E$18,Finalrunde!DY42)<>0,\"0\",\"1\")+IF(COUNTIF(Finalrunde!$D$11:$E$18,Finalrunde!DY43)<>0,\"0\",\"1\")+IF(COUNTIF(Finalrunde!$D$11:$E$18,Finalrunde!DY44)<>0,\"0\",\"1\")+IF(COUNTIF(Finalrunde!$D$11:$E$18,Finalrunde!DY45)<>0,\"0\",\"1\")+IF(COUNTIF(Finalrunde!$D$11:$E$18,Finalrunde!DY46)<>0,\"0\",\"1\")+IF(COUNTIF(Finalrunde!$D$11:$E$18,Finalrunde!DY47)<>0,\"0\",\"1\")+IF(COUNTIF(Finalrunde!$D$11:$E$18,Finalrunde!DY48)<>0,\"0\",\"1\")+IF(COUNTIF(Finalrunde!$D$11:$E$18,Finalrunde!DY49)<>0,\"0\",\"1\")+IF(COUNTIF(Finalrunde!D$11:E$18,Finalrunde!EB42)<>0,\"0\",\"1\")+IF(COUNTIF(Finalrunde!$D$11:$E$18,Finalrunde!EB43)<>0,\"0\",\"1\")+IF(COUNTIF(Finalrunde!$D$11:$E$18,Finalrunde!EB44)<>0,\"0\",\"1\")+IF(COUNTIF(Finalrunde!$D$11:$E$18,Finalrunde!EB45)<>0,\"0\",\"1\")+IF(COUNTIF(Finalrunde!$D$11:$E$18,Finalrunde!EB46)<>0,\"0\",\"1\")+IF(COUNTIF(Finalrunde!$D$11:$E$18,Finalrunde!EB47)<>0,\"0\",\"1\")+IF(COUNTIF(Finalrunde!$D$11:$E$18,Finalrunde!EB48)<>0,\"0\",\"1\")+IF(COUNTIF(Finalrunde!$D$11:$E$18,Finalrunde!EB49)<>0,\"0\",\"1\")","v":4},null,38,"Isenschmid Agnes",{"$f":"IF(Finalrunde!$D$20=\"\",0,IF(Finalrunde!$D$20=Finalrunde!DY51,1,0))+IF(Finalrunde!$D$21=\"\",0,IF(Finalrunde!$D$21=Finalrunde!DY52,1,0))+IF(Finalrunde!$D$22=\"\",0,IF(Finalrunde!$D$22=Finalrunde!DY53,1,0))+IF(Finalrunde!$D$23=\"\",0,IF(Finalrunde!$D$23=Finalrunde!DY54,1,0))+IF(Finalrunde!$E$20=\"\",0,IF(Finalrunde!$E$20=Finalrunde!EB51,1,0))+IF(Finalrunde!$E$21=\"\",0,IF(Finalrunde!$E$21=Finalrunde!EB52,1,0))+IF(Finalrunde!$E$22=\"\",0,IF(Finalrunde!$E$22=Finalrunde!EB53,1,0))+IF(Finalrunde!$E$23=\"\",0,IF(Finalrunde!$E$23=Finalrunde!EB54,1,0))","v":3},1,{"$f":"IF(COUNTIF(Finalrunde!$D$20:$E$23,Finalrunde!DY51)<>0,\"0\",\"1\")+IF(COUNTIF(Finalrunde!$D$20:$E$23,Finalrunde!DY52)<>0,\"0\",\"1\")+IF(COUNTIF(Finalrunde!$D$20:$E$23,Finalrunde!DY53)<>0,\"0\",\"1\")+IF(COUNTIF(Finalrunde!$D$20:$E$23,Finalrunde!DY54)<>0,\"0\",\"1\")+IF(COUNTIF(Finalrunde!$D$20:$E$23,Finalrunde!EB51)<>0,\"0\",\"1\")+IF(COUNTIF(Finalrunde!$D$20:$E$23,Finalrunde!EB52)<>0,\"0\",\"1\")+IF(COUNTIF(Finalrunde!$D$20:$E$23,Finalrunde!EB53)<>0,\"0\",\"1\")+IF(COUNTIF(Finalrunde!$D$20:$E$23,Finalrunde!EB54)<>0,\"0\",\"1\")","v":4},null,38,"Isenschmid Agnes",{"$f":"IF(Finalrunde!$D$25=\"\",0,IF(Finalrunde!$D$25=Finalrunde!DY56,1,0))+IF(Finalrunde!$D$26=\"\",0,IF(Finalrunde!$D$26=Finalrunde!DY57,1,0))+IF(Finalrunde!$E$25=\"\",0,IF(Finalrunde!$E$25=Finalrunde!EB56,1,0))+IF(Finalrunde!$E$26=\"\",0,IF(Finalrunde!$E$26=Finalrunde!EB57,1,0))","v":1},1,{"$f":"IF(COUNTIF(Finalrunde!$D$25:$E$26,Finalrunde!DY56)<>0,\"0\",\"1\")+IF(COUNTIF(Finalrunde!$D$25:$E$26,Finalrunde!DY57)<>0,\"0\",\"1\")+IF(COUNTIF(Finalrunde!$D$25:$E$26,Finalrunde!EB56)<>0,\"0\",\"1\")+IF(COUNTIF(Finalrunde!$D$25:$E$26,Finalrunde!EB57)<>0,\"0\",\"1\")","v":2}]
[{"$f":"Teilnehmerliste!$A$44","v":39},{"$f":"Teilnehmerliste!B44 &\" \"&Teilnehmerliste!C44","v":"Isenschmid Andreas"},{"$f":"IF(Finalrunde!$D$11=\"\",0,IF(Finalrunde!$D$11=Finalrunde!EF42,1,0))+IF(Finalrunde!$D$12=\"\",0,IF(Finalrunde!$D$12=Finalrunde!EF43,1,0))+IF(Finalrunde!$D$13=\"\",0,IF(Finalrunde!$D$13=Finalrunde!EF44,1,0))+IF(Finalrunde!$D$14=\"\",0,IF(Finalrunde!$D$14=Finalrunde!EF45,1,0))+IF(Finalrunde!$D$15=\"\",0,IF(Finalrunde!$D$15=Finalrunde!EF46,1,0))+IF(Finalrunde!$D$16=\"\",0,IF(Finalrunde!$D$16=Finalrunde!EF47,1,0))+IF(Finalrunde!$D$17=\"\",0,IF(Finalrunde!$D$17=Finalrunde!EF48,1,0))+IF(Finalrunde!$D$18=\"\",0,IF(Finalrunde!$D$18=Finalrunde!EF49,1,0))+IF(Finalrunde!$E$11=\"\",0,IF(Finalrunde!$E$11=Finalrunde!EI42,1,0))+IF(Finalrunde!$E$12=\"\",0,IF(Finalrunde!$E$12=Finalrunde!EI43,1,0))+IF(Finalrunde!$E$13=\"\",0,IF(Finalrunde!$E$13=Finalrunde!EI44,1,0))+IF(Finalrunde!$E$14=\"\",0,IF(Finalrunde!$E$14=Finalrunde!EI45,1,0))+IF(Finalrunde!$E$15=\"\",0,IF(Finalrunde!$E$15=Finalrunde!EI46,1,0))+IF(Finalrunde!$E$16=\"\",0,IF(Finalrunde!$E$16=Finalrunde!EI47,1,0))+IF(Finalrunde!$E$17=\"\",0,IF(Finalrunde!$E$17=Finalrunde!EI48,1,0))+IF(Finalrunde!$E$18=\"\",0,IF(Finalrunde!$E$18=Finalrunde!EI49,1,0))","v":6},{"$f":"SUM(16-C43-E43)","v":7},{"$f":"IF(COUNTIF(Finalrunde!$D$11:$E$18,Finalrunde!EF42)<>0,\"0\",\"1\")+IF(COUNTIF(Finalrunde!$D$11:$E$18,Finalrunde!EF43)<>0,\"0\",\"1\")+IF(COUNTIF(Finalrunde!$D$11:$E$18,Finalrunde!EF44)<>0,\"0\",\"1\")+IF(COUNTIF(Finalrunde!$D$11:$E$18,Finalrunde!EF45)<>0,\"0\",\"1\")+IF(COUNTIF(Finalrunde!$D$11:$E$18,Finalrunde!EF46)<>0,\"0\",\"1\")+IF(COUNTIF(Finalrunde!$D$11:$E$18,Finalrunde!EF47)<>0,\"0\",\"1\")+IF(COUNTIF(Finalrunde!$D$11:$E$18,Finalrunde!EF48)<>0,\"0\",\"1\")+IF(COUNTIF(Finalrunde!$D$11:$E$18,Finalrunde!EF49)<>0,\"0\",\"1\")+IF(COUNTIF(Finalrunde!D$11:E$18,Finalrunde!EI42)<>0,\"0\",\"1\")+IF(COUNTIF(Finalrunde!$D$11:$E$18,Finalrunde!EI43)<>0,\"0\",\"1\")+IF(COUNTIF(Finalrunde!$D$11:$E$18,Finalrunde!EI44)<>0,\"0\",\"1\")+IF(COUNTIF(Finalrunde!$D$11:$E$18,Finalrunde!EI45)<>0,\"0\",\"1\")+IF(COUNTIF(Finalrunde!$D$11:$E$18,Finalrunde!EI46)<>0,\"0\",\"1\")+IF(COUNTIF(Finalrunde!$D$11:$E$18,Finalrunde!EI47)<>0,\"0\",\"1\")+IF(COUNTIF(Finalrunde!$D$11:$E$18,Finalrunde!EI48)<>0,\"0\",\"1\")+IF(COUNTIF(Finalrunde!$D$11:$E$18,Finalrunde!EI49)<>0,\"0\",\"1\")","v":3},null,39,"Isenschmid Andreas",{"$f":"IF(Finalrunde!$D$20=\"\",0,IF(Finalrunde!$D$20=Finalrunde!EF51,1,0))+IF(Finalrunde!$D$21=\"\",0,IF(Finalrunde!$D$21=Finalrunde!EF52,1,0))+IF(Finalrunde!$D$22=\"\",0,IF(Finalrunde!$D$22=Finalrunde!EF53,1,0))+IF(Finalrunde!$D$23=\"\",0,IF(Finalrunde!$D$23=Finalrunde!EF54,1,0))+IF(Finalrunde!$E$20=\"\",0,IF(Finalrunde!$E$20=Finalrunde!EI51,1,0))+IF(Finalrunde!$E$21=\"\",0,IF(Finalrunde!$E$21=Finalrunde!EI52,1,0))+IF(Finalrunde!$E$22=\"\",0,IF(Finalrunde!$E$22=Finalrunde!EI53,1,0))+IF(Finalrunde!$E$23=\"\",0,IF(Finalrunde!$E$23=Finalrunde!EI54,1,0))","v":3},2,{"$f":"IF(COUNTIF(Finalrunde!$D$20:$E$23,Finalrunde!EF51)<>0,\"0\",\"1\")+IF(COUNTIF(Finalrunde!$D$20:$E$23,Finalrunde!EF52)<>0,\"0\",\"1\")+IF(COUNTIF(Finalrunde!$D$20:$E$23,Finalrunde!EF53)<>0,\"0\",\"1\")+IF(COUNTIF(Finalrunde!$D$20:$E$23,Finalrunde!EF54)<>0,\"0\",\"1\")+IF(COUNTIF(Finalrunde!$D$20:$E$23,Finalrunde!EI51)<>0,\"0\",\"1\")+IF(COUNTIF(Finalrunde!$D$20:$E$23,Finalrunde!EI52)<>0,\"0\",\"1\")+IF(COUNTIF(Finalrunde!$D$20:$E$23,Finalrunde!EI53)<>0,\"0\",\"1\")+IF(COUNTIF(Finalrunde!$D$20:$E$23,Finalrunde!EI54)<>0,\"0\",\"1\")","v":3},null,39,"Isenschmid Andreas",{"$f":"IF(Finalrunde!$D$25=\"\",0,IF(Finalrunde!$D$25=Finalrunde!EF56,1,0))+IF(Finalrunde!$D$26=\"\",0,IF(Finalrunde!$D$26=Finalrunde!EF57,1,0))+IF(Finalrunde!$E$25=\"\",0,IF(Finalrunde!$E$25=Finalrunde!EI56,1,0))+IF(Finalrunde!$E$26=\"\",0,IF(Finalrunde!$E$26=Finalrunde!EI57,1,0))","v":1},2,{"$f":"IF(COUNTIF(Finalrunde!$D$25:$E$26,Finalrunde!EF56)<>0,\"0\",\"1\")+IF(COUNTIF(Finalrunde!$D$25:$E$26,Finalrunde!EF57)<>0,\"0\",\"1\")+IF(COUNTIF(Finalrunde!$D$25:$E$26,Finalrunde!EI56)<>0,\"0\",\"1\")+IF(COUNTIF(Finalrunde!$D$25:$E$26,Finalrunde!EI57)<>0,\"0\",\"1\")","v":1}]
[{"$f":"Teilnehmerliste!$A$45","v":40},{"$f":"Teilnehmerliste!B45 &\" \"&Teilnehmerliste!C45","v":"Isenschmid Michi"},{"$f":"IF(Finalrunde!$D$11=\"\",0,IF(Finalrunde!$D$11=Finalrunde!EM42,1,0))+IF(Finalrunde!$D$12=\"\",0,IF(Finalrunde!$D$12=Finalrunde!EM43,1,0))+IF(Finalrunde!$D$13=\"\",0,IF(Finalrunde!$D$13=Finalrunde!EM44,1,0))+IF(Finalrunde!$D$14=\"\",0,IF(Finalrunde!$D$14=Finalrunde!EM45,1,0))+IF(Finalrunde!$D$15=\"\",0,IF(Finalrunde!$D$15=Finalrunde!EM46,1,0))+IF(Finalrunde!$D$16=\"\",0,IF(Finalrunde!$D$16=Finalrunde!EM47,1,0))+IF(Finalrunde!$D$17=\"\",0,IF(Finalrunde!$D$17=Finalrunde!EM48,1,0))+IF(Finalrunde!$D$18=\"\",0,IF(Finalrunde!$D$18=Finalrunde!EM49,1,0))+IF(Finalrunde!$E$11=\"\",0,IF(Finalrunde!$E$11=Finalrunde!EP42,1,0))+IF(Finalrunde!$E$12=\"\",0,IF(Finalrunde!$E$12=Finalrunde!EP43,1,0))+IF(Finalrunde!$E$13=\"\",0,IF(Finalrunde!$E$13=Finalrunde!EP44,1,0))+IF(Finalrunde!$E$14=\"\",0,IF(Finalrunde!$E$14=Finalrunde!EP45,1,0))+IF(Finalrunde!$E$15=\"\",0,IF(Finalrunde!$E$15=Finalrunde!EP46,1,0))+IF(Finalrunde!$E$16=\"\",0,IF(Finalrunde!$E$16=Finalrunde!EP47,1,0))+IF(Finalrunde!$E$17=\"\",0,IF(Finalrunde!$E$17=Finalrunde!EP48,1,0))+IF(Finalrunde!$E$18=\"\",0,IF(Finalrunde!$E$18=Finalrunde!EP49,1,0))","v":6},7,{"$f":"IF(COUNTIF(Finalrunde!$D$11:$E$18,Finalrunde!EM42)<>0,\"0\",\"1\")+IF(COUNTIF(Finalrunde!$D$11:$E$18,Finalrunde!EM43)<>0,\"0\",\"1\")+IF(COUNTIF(Finalrunde!$D$11:$E$18,Finalrunde!EM44)<>0,\"0\",\"1\")+IF(COUNTIF(Finalrunde!$D$11:$E$18,Finalrunde!EM45)<>0,\"0\",\"1\")+IF(COUNTIF(Finalrunde!$D$11:$E$18,Finalrunde!EM46)<>0,\"0\",\"1\")+IF(COUNTIF(Finalrunde!$D$11:$E$18,Finalrunde!EM47)<>0,\"0\",\"1\")+IF(COUNTIF(Finalrunde!$D$11:$E$18,Finalrunde!EM48)<>0,\"0\",\"1\")+IF(COUNTIF(Finalrunde!$D$11:$E$18,Finalrunde!EM49)<>0,\"0\",\"1\")+IF(COUNTIF(Finalrunde!D$11:E$18,Finalrunde!EP42)<>0,\"0\",\"1\")+IF(COUNTIF(Finalrunde!$D$11:$E$18,Finalrunde!EP43)<>0,\"0\",\"1\")+IF(COUNTIF(Finalrunde!$D$11:$E$18,Finalrunde!EP44)<>0,\"0\",\"1\")+IF(COUNTIF(Finalrunde!$D$11:$E$18,Finalrunde!EP45)<>0,\"0\",\"1\")+IF(COUNTIF(Finalrunde!$D$11:$E$18,Finalrunde!EP46)<>0,\"0\",\"1\")+IF(COUNTIF(Finalrunde!$D$11:$E$18,Finalrunde!EP47)<>0,\"0\",\"1\")+IF(COUNTIF(Finalrunde!$D$11:$E$18,Finalrunde!EP48)<>0,\"0\",\"1\")+IF(COUNTIF(Finalrunde!$D$11:$E$18,Finalrunde!EP49)<>0,\"0\",\"1\")","v":3},null,40,"Isenschmid Michi",{"$f":"IF(Finalrunde!$D$20=\"\",0,IF(Finalrunde!$D$20=Finalrunde!EM51,1,0))+IF(Finalrunde!$D$21=\"\",0,IF(Finalrunde!$D$21=Finalrunde!EM52,1,0))+IF(Finalrunde!$D$22=\"\",0,IF(Finalrunde!$D$22=Finalrunde!EM53,1,0))+IF(Finalrunde!$D$23=\"\",0,IF(Finalrunde!$D$23=Finalrunde!EM54,1,0))+IF(Finalrunde!$E$20=\"\",0,IF(Finalrunde!$E$20=Finalrunde!EP51,1,0))+IF(Finalrunde!$E$21=\"\",0,IF(Finalrunde!$E$21=Finalrunde!EP52,1,0))+IF(Finalrunde!$E$22=\"\",0,IF(Finalrunde!$E$22=Finalrunde!EP53,1,0))+IF(Finalrunde!$E$23=\"\",0,IF(Finalrunde!$E$23=Finalrunde!EP54,1,0))","v":4},2,{"$f":"IF(COUNTIF(Finalrunde!$D$20:$E$23,Finalrunde!EM51)<>0,\"0\",\"1\")+IF(COUNTIF(Finalrunde!$D$20:$E$23,Finalrunde!EM52)<>0,\"0\",\"1\")+IF(COUNTIF(Finalrunde!$D$20:$E$23,Finalrunde!EM53)<>0,\"0\",\"1\")+IF(COUNTIF(Finalrunde!$D$20:$E$23,Finalrunde!EM54)<>0,\"0\",\"1\")+IF(COUNTIF(Finalrunde!$D$20:$E$23,Finalrunde!EP51)<>0,\"0\",\"1\")+IF(COUNTIF(Finalrunde!$D$20:$E$23,Finalrunde!EP52)<>0,\"0\",\"1\")+IF(COUNTIF(Finalrunde!$D$20:$E$23,Finalrunde!EP53)<>0,\"0\",\"1\")+IF(COUNTIF(Finalrunde!$D$20:$E$23,Finalrunde!EP54)<>0,\"0\",\"1\")","v":2},null,40,"Isenschmid Michi",{"$f":"IF(Finalrunde!$D$25=\"\",0,IF(Finalrunde!$D$25=Finalrunde!EM56,1,0))+IF(Finalrunde!$D$26=\"\",0,IF(Finalrunde!$D$26=Finalrunde!EM57,1,0))+IF(Finalrunde!$E$25=\"\",0,IF(Finalrunde!$E$25=Finalrunde!EP56,1,0))+IF(Finalrunde!$E$26=\"\",0,IF(Finalrunde!$E$26=Finalrunde!EP57,1,0))","v":0},2,{"$f":"IF(COUNTIF(Finalrunde!$D$25:$E$26,Finalrunde!EM56)<>0,\"0\",\"1\")+IF(COUNTIF(Finalrunde!$D$25:$E$26,Finalrunde!EM57)<>0,\"0\",\"1\")+IF(COUNTIF(Finalrunde!$D$25:$E$26,Finalrunde!EP56)<>0,\"0\",\"1\")+IF(COUNTIF(Finalrunde!$D$25:$E$26,Finalrunde!EP57)<>0,\"0\",\"1\")","v":2}]
[{"$f":"Teilnehmerliste!$A$46","v":41},{"$f":"Teilnehmerliste!B46 &\" \"&Teilnehmerliste!C46","v":"Jones Aiden"},{"$f":"IF(Finalrunde!$D$11=\"\",0,IF(Finalrunde!$D$11=Finalrunde!J73,1,0))+IF(Finalrunde!$D$12=\"\",0,IF(Finalrunde!$D$12=Finalrunde!J74,1,0))+IF(Finalrunde!$D$13=\"\",0,IF(Finalrunde!$D$13=Finalrunde!J75,1,0))+IF(Finalrunde!$D$14=\"\",0,IF(Finalrunde!$D$14=Finalrunde!J76,1,0))+IF(Finalrunde!$D$15=\"\",0,IF(Finalrunde!$D$15=Finalrunde!J77,1,0))+IF(Finalrunde!$D$16=\"\",0,IF(Finalrunde!$D$16=Finalrunde!J78,1,0))+IF(Finalrunde!$D$17=\"\",0,IF(Finalrunde!$D$17=Finalrunde!J79,1,0))+IF(Finalrunde!$D$18=\"\",0,IF(Finalrunde!$D$18=Finalrunde!J80,1,0))+IF(Finalrunde!$E$11=\"\",0,IF(Finalrunde!$E$11=Finalrunde!M73,1,0))+IF(Finalrunde!$E$12=\"\",0,IF(Finalrunde!$E$12=Finalrunde!M74,1,0))+IF(Finalrunde!$E$13=\"\",0,IF(Finalrunde!$E$13=Finalrunde!M75,1,0))+IF(Finalrunde!$E$14=\"\",0,IF(Finalrunde!$E$14=Finalrunde!M76,1,0))+IF(Finalrunde!$E$15=\"\",0,IF(Finalrunde!$E$15=Finalrunde!M77,1,0))+IF(Finalrunde!$E$16=\"\",0,IF(Finalrunde!$E$16=Finalrunde!M78,1,0))+IF(Finalrunde!$E$17=\"\",0,IF(Finalrunde!$E$17=Finalrunde!M79,1,0))+IF(Finalrunde!$E$18=\"\",0,IF(Finalrunde!$E$18=Finalrunde!M80,1,0))","v":8},5,{"$f":"IF(COUNTIF(Finalrunde!$D$11:$E$18,Finalrunde!J73)<>0,\"0\",\"1\")+IF(COUNTIF(Finalrunde!$D$11:$E$18,Finalrunde!J74)<>0,\"0\",\"1\")+IF(COUNTIF(Finalrunde!$D$11:$E$18,Finalrunde!J75)<>0,\"0\",\"1\")+IF(COUNTIF(Finalrunde!$D$11:$E$18,Finalrunde!J76)<>0,\"0\",\"1\")+IF(COUNTIF(Finalrunde!$D$11:$E$18,Finalrunde!J77)<>0,\"0\",\"1\")+IF(COUNTIF(Finalrunde!$D$11:$E$18,Finalrunde!J78)<>0,\"0\",\"1\")+IF(COUNTIF(Finalrunde!$D$11:$E$18,Finalrunde!J79)<>0,\"0\",\"1\")+IF(COUNTIF(Finalrunde!$D$11:$E$18,Finalrunde!J80)<>0,\"0\",\"1\")+IF(COUNTIF(Finalrunde!D$11:E$18,Finalrunde!M73)<>0,\"0\",\"1\")+IF(COUNTIF(Finalrunde!$D$11:$E$18,Finalrunde!M74)<>0,\"0\",\"1\")+IF(COUNTIF(Finalrunde!$D$11:$E$18,Finalrunde!M75)<>0,\"0\",\"1\")+IF(COUNTIF(Finalrunde!$D$11:$E$18,Finalrunde!M76)<>0,\"0\",\"1\")+IF(COUNTIF(Finalrunde!$D$11:$E$18,Finalrunde!M77)<>0,\"0\",\"1\")+IF(COUNTIF(Finalrunde!$D$11:$E$18,Finalrunde!M78)<>0,\"0\",\"1\")+IF(COUNTIF(Finalrunde!$D$11:$E$18,Finalrunde!M79)<>0,\"0\",\"1\")+IF(COUNTIF(Finalrunde!$D$11:$E$18,Finalrunde!M80)<>0,\"0\",\"1\")","v":3},null,41,"Jones Aiden",{"$f":"IF(Finalrunde!$D$20=\"\",0,IF(Finalrunde!$D$20=Finalrunde!J82,1,0))+IF(Finalrunde!$D$21=\"\",0,IF(Finalrunde!$D$21=Finalrunde!J83,1,0))+IF(Finalrunde!$D$22=\"\",0,IF(Finalrunde!$D$22=Finalrunde!J84,1,0))+IF(Finalrunde!$D$23=\"\",0,IF(Finalrunde!$D$23=Finalrunde!J85,1,0))+IF(Finalrunde!$E$20=\"\",0,IF(Finalrunde!$E$20=Finalrunde!M82,1,0))+IF(Finalrunde!$E$21=\"\",0,IF(Finalrunde!$E$21=Finalrunde!M83,1,0))+IF(Finalrunde!$E$22=\"\",0,IF(Finalrunde!$E$22=Finalrunde!M84,1,0))+IF(Finalrunde!$E$23=\"\",0,IF(Finalrunde!$E$23=Finalrunde!M85,1,0))","v":4},2,{"$f":"IF(COUNTIF(Finalrunde!$D$20:$E$23,Finalrunde!J82)<>0,\"0\",\"1\")+IF(COUNTIF(Finalrunde!$D$20:$E$23,Finalrunde!J83)<>0,\"0\",\"1\")+IF(COUNTIF(Finalrunde!$D$20:$E$23,Finalrunde!J84)<>0,\"0\",\"1\")+IF(COUNTIF(Finalrunde!$D$20:$E$23,Finalrunde!J85)<>0,\"0\",\"1\")+IF(COUNTIF(Finalrunde!$D$20:$E$23,Finalrunde!M82)<>0,\"0\",\"1\")+IF(COUNTIF(Finalrunde!$D$20:$E$23,Finalrunde!M83)<>0,\"0\",\"1\")+IF(COUNTIF(Finalrunde!$D$20:$E$23,Finalrunde!M84)<>0,\"0\",\"1\")+IF(COUNTIF(Finalrunde!$D$20:$E$23,Finalrunde!M85)<>0,\"0\",\"1\")","v":2},null,41,"Jones Aiden",{"$f":"IF(Finalrunde!$D$25=\"\",0,IF(Finalrunde!$D$25=Finalrunde!J87,1,0))+IF(Finalrunde!$D$26=\"\",0,IF(Finalrunde!$D$26=Finalrunde!J88,1,0))+IF(Finalrunde!$E$25=\"\",0,IF(Finalrunde!$E$25=Finalrunde!M87,1,0))+IF(Finalrunde!$E$26=\"\",0,IF(Finalrunde!$E$26=Finalrunde!M88,1,0))","v":2},2,{"$f":"IF(COUNTIF(Finalrunde!$D$25:$E$26,Finalrunde!J87)<>0,\"0\",\"1\")+IF(COUNTIF(Finalrunde!$D$25:$E$26,Finalrunde!J88)<>0,\"0\",\"1\")+IF(COUNTIF(Finalrunde!$D$25:$E$26,Finalrunde!M87)<>0,\"0\",\"1\")+IF(COUNTIF(Finalrunde!$D$25:$E$26,Finalrunde!M88)<>0,\"0\",\"1\")","v":0}]
[{"$f":"Teilnehmerliste!$A$47","v":42},{"$f":"Teilnehmerliste!B47 &\" \"&Teilnehmerliste!C47","v":"Kalinci Murat"},{"$f":"IF(Finalrunde!$D$11=\"\",0,IF(Finalrunde!$D$11=Finalrunde!Q73,1,0))+IF(Finalrunde!$D$12=\"\",0,IF(Finalrunde!$D$12=Finalrunde!Q74,1,0))+IF(Finalrunde!$D$13=\"\",0,IF(Finalrunde!$D$13=Finalrunde!Q75,1,0))+IF(Finalrunde!$D$14=\"\",0,IF(Finalrunde!$D$14=Finalrunde!Q76,1,0))+IF(Finalrunde!$D$15=\"\",0,IF(Finalrunde!$D$15=Finalrunde!Q77,1,0))+IF(Finalrunde!$D$16=\"\",0,IF(Finalrunde!$D$16=Finalrunde!Q78,1,0))+IF(Finalrunde!$D$17=\"\",0,IF(Finalrunde!$D$17=Finalrunde!Q79,1,0))+IF(Finalrunde!$D$18=\"\",0,IF(Finalrunde!$D$18=Finalrunde!Q80,1,0))+IF(Finalrunde!$E$11=\"\",0,IF(Finalrunde!$E$11=Finalrunde!T73,1,0))+IF(Finalrunde!$E$12=\"\",0,IF(Finalrunde!$E$12=Finalrunde!T74,1,0))+IF(Finalrunde!$E$13=\"\",0,IF(Finalrunde!$E$13=Finalrunde!T75,1,0))+IF(Finalrunde!$E$14=\"\",0,IF(Finalrunde!$E$14=Finalrunde!T76,1,0))+IF(Finalrunde!$E$15=\"\",0,IF(Finalrunde!$E$15=Finalrunde!T77,1,0))+IF(Finalrunde!$E$16=\"\",0,IF(Finalrunde!$E$16=Finalrunde!T78,1,0))+IF(Finalrunde!$E$17=\"\",0,IF(Finalrunde!$E$17=Finalrunde!T79,1,0))+IF(Finalrunde!$E$18=\"\",0,IF(Finalrunde!$E$18=Finalrunde!T80,1,0))","v":6},7,{"$f":"IF(COUNTIF(Finalrunde!$D$11:$E$18,Finalrunde!Q73)<>0,\"0\",\"1\")+IF(COUNTIF(Finalrunde!$D$11:$E$18,Finalrunde!Q74)<>0,\"0\",\"1\")+IF(COUNTIF(Finalrunde!$D$11:$E$18,Finalrunde!Q75)<>0,\"0\",\"1\")+IF(COUNTIF(Finalrunde!$D$11:$E$18,Finalrunde!Q76)<>0,\"0\",\"1\")+IF(COUNTIF(Finalrunde!$D$11:$E$18,Finalrunde!Q77)<>0,\"0\",\"1\")+IF(COUNTIF(Finalrunde!$D$11:$E$18,Finalrunde!Q78)<>0,\"0\",\"1\")+IF(COUNTIF(Finalrunde!$D$11:$E$18,Finalrunde!Q79)<>0,\"0\",\"1\")+IF(COUNTIF(Finalrunde!$D$11:$E$18,Finalrunde!Q80)<>0,\"0\",\"1\")+IF(COUNTIF(Finalrunde!D$11:E$18,Finalrunde!T73)<>0,\"0\",\"1\")+IF(COUNTIF(Finalrunde!$D$11:$E$18,Finalrunde!T74)<>0,\"0\",\"1\")+IF(COUNTIF(Finalrunde!$D$11:$E$18,Finalrunde!T75)<>0,\"0\",\"1\")+IF(COUNTIF(Finalrunde!$D$11:$E$18,Finalrunde!T76)<>0,\"0\",\"1\")+IF(COUNTIF(Finalrunde!$D$11:$E$18,Finalrunde!T77)<>0,\"0\",\"1\")+IF(COUNTIF(Finalrunde!$D$11:$E$18,Finalrunde!T78)<>0,\"0\",\"1\")+IF(COUNTIF(Finalrunde!$D$11:$E$18,Finalrunde!T79)<>0,\"0\",\"1\")+IF(COUNTIF(Finalrunde!$D$11:$E$18,Finalrunde!T80)<>0,\"0\",\"1\")","v":3},null,42,"Kalinci Murat",{"$f":"IF(Finalrunde!$D$20=\"\",0,IF(Finalrunde!$D$20=Finalrunde!Q82,1,0))+IF(Finalrunde!$D$21=\"\",0,IF(Finalrunde!$D$21=Finalrunde!Q83,1,0))+IF(Finalrunde!$D$22=\"\",0,IF(Finalrunde!$D$22=Finalrunde!Q84,1,0))+IF(Finalrunde!$D$23=\"\",0,IF(Finalrunde!$D$23=Finalrunde!Q85,1,0))+IF(Finalrunde!$E$20=\"\",0,IF(Finalrunde!$E$20=Finalrunde!T82,1,0))+IF(Finalrunde!$E$21=\"\",0,IF(Finalrunde!$E$21=Finalrunde!T83,1,0))+IF(Finalrunde!$E$22=\"\",0,IF(Finalrunde!$E$22=Finalrunde!T84,1,0))+IF(Finalrunde!$E$23=\"\",0,IF(Finalrunde!$E$23=Finalrunde!T85,1,0))","v":3},3,{"$f":"IF(COUNTIF(Finalrunde!$D$20:$E$23,Finalrunde!Q82)<>0,\"0\",\"1\")+IF(COUNTIF(Finalrunde!$D$20:$E$23,Finalrunde!Q83)<>0,\"0\",\"1\")+IF(COUNTIF(Finalrunde!$D$20:$E$23,Finalrunde!Q84)<>0,\"0\",\"1\")+IF(COUNTIF(Finalrunde!$D$20:$E$23,Finalrunde!Q85)<>0,\"0\",\"1\")+IF(COUNTIF(Finalrunde!$D$20:$E$23,Finalrunde!T82)<>0,\"0\",\"1\")+IF(COUNTIF(Finalrunde!$D$20:$E$23,Finalrunde!T83)<>0,\"0\",\"1\")+IF(COUNTIF(Finalrunde!$D$20:$E$23,Finalrunde!T84)<>0,\"0\",\"1\")+IF(COUNTIF(Finalrunde!$D$20:$E$23,Finalrunde!T85)<>0,\"0\",\"1\")","v":2},null,42,"Kalinci Murat",{"$f":"IF(Finalrunde!$D$25=\"\",0,IF(Finalrunde!$D$25=Finalrunde!Q87,1,0))+IF(Finalrunde!$D$26=\"\",0,IF(Finalrunde!$D$26=Finalrunde!Q88,1,0))+IF(Finalrunde!$E$25=\"\",0,IF(Finalrunde!$E$25=Finalrunde!T87,1,0))+IF(Finalrunde!$E$26=\"\",0,IF(Finalrunde!$E$26=Finalrunde!T88,1,0))","v":1},1,{"$f":"IF(COUNTIF(Finalrunde!$D$25:$E$26,Finalrunde!Q87)<>0,\"0\",\"1\")+IF(COUNTIF(Finalrunde!$D$25:$E$26,Finalrunde!Q88)<>0,\"0\",\"1\")+IF(COUNTIF(Finalrunde!$D$25:$E$26,Finalrunde!T87)<>0,\"0\",\"1\")+IF(COUNTIF(Finalrunde!$D$25:$E$26,Finalrunde!T88)<>0,\"0\",\"1\")","v":2}]
[{"$f":"Teilnehmerliste!$A$48","v":43},{"$f":"Teilnehmerliste!B48 &\" \"&Teilnehmerliste!C48","v":"Keller Pascal"},{"$f":"IF(Finalrunde!$D$11=\"\",0,IF(Finalrunde!$D$11=Finalrunde!X73,1,0))+IF(Finalrunde!$D$12=\"\",0,IF(Finalrunde!$D$12=Finalrunde!X74,1,0))+IF(Finalrunde!$D$13=\"\",0,IF(Finalrunde!$D$13=Finalrunde!X75,1,0))+IF(Finalrunde!$D$14=\"\",0,IF(Finalrunde!$D$14=Finalrunde!X76,1,0))+IF(Finalrunde!$D$15=\"\",0,IF(Finalrunde!$D$15=Finalrunde!X77,1,0))+IF(Finalrunde!$D$16=\"\",0,IF(Finalrunde!$D$16=Finalrunde!X78,1,0))+IF(Finalrunde!$D$17=\"\",0,IF(Finalrunde!$D$17=Finalrunde!X79,1,0))+IF(Finalrunde!$D$18=\"\",0,IF(Finalrunde!$D$18=Finalrunde!X80,1,0))+IF(Finalrunde!$E$11=\"\",0,IF(Finalrunde!$E$11=Finalrunde!AA73,1,0))+IF(Finalrunde!$E$12=\"\",0,IF(Finalrunde!$E$12=Finalrunde!AA74,1,0))+IF(Finalrunde!$E$13=\"\",0,IF(Finalrunde!$E$13=Finalrunde!AA75,1,0))+IF(Finalrunde!$E$14=\"\",0,IF(Finalrunde!$E$14=Finalrunde!AA76,1,0))+IF(Finalrunde!$E$15=\"\",0,IF(Finalrunde!$E$15=Finalrunde!AA77,1,0))+IF(Finalrunde!$E$16=\"\",0,IF(Finalrunde!$E$16=Finalrunde!AA78,1,0))+IF(Finalrunde!$E$17=\"\",0,IF(Finalrunde!$E$17=Finalrunde!AA79,1,0))+IF(Finalrunde!$E$18=\"\",0,IF(Finalrunde!$E$18=Finalrunde!AA80,1,0))","v":8},3,{"$f":"IF(COUNTIF(Finalrunde!$D$11:$E$18,Finalrunde!X73)<>0,\"0\",\"1\")+IF(COUNTIF(Finalrunde!$D$11:$E$18,Finalrunde!X74)<>0,\"0\",\"1\")+IF(COUNTIF(Finalrunde!$D$11:$E$18,Finalrunde!X75)<>0,\"0\",\"1\")+IF(COUNTIF(Finalrunde!$D$11:$E$18,Finalrunde!X76)<>0,\"0\",\"1\")+IF(COUNTIF(Finalrunde!$D$11:$E$18,Finalrunde!X77)<>0,\"0\",\"1\")+IF(COUNTIF(Finalrunde!$D$11:$E$18,Finalrunde!X78)<>0,\"0\",\"1\")+IF(COUNTIF(Finalrunde!$D$11:$E$18,Finalrunde!X79)<>0,\"0\",\"1\")+IF(COUNTIF(Finalrunde!$D$11:$E$18,Finalrunde!X80)<>0,\"0\",\"1\")+IF(COUNTIF(Finalrunde!D$11:E$18,Finalrunde!AA73)<>0,\"0\",\"1\")+IF(COUNTIF(Finalrunde!$D$11:$E$18,Finalrunde!AA74)<>0,\"0\",\"1\")+IF(COUNTIF(Finalrunde!$D$11:$E$18,Finalrunde!AA75)<>0,\"0\",\"1\")+IF(COUNTIF(Finalrunde!$D$11:$E$18,Finalrunde!AA76)<>0,\"0\",\"1\")+IF(COUNTIF(Finalrunde!$D$11:$E$18,Finalrunde!AA77)<>0,\"0\",\"1\")+IF(COUNTIF(Finalrunde!$D$11:$E$18,Finalrunde!AA78)<>0,\"0\",\"1\")+IF(COUNTIF(Finalrunde!$D$11:$E$18,Finalrunde!AA79)<>0,\"0\",\"1\")+IF(COUNTIF(Finalrunde!$D$11:$E$18,Finalrunde!AA80)<>0,\"0\",\"1\")","v":5},null,43,"Keller Pascal",{"$f":"IF(Finalrunde!$D$20=\"\",0,IF(Finalrunde!$D$20=Finalrunde!X82,1,0))+IF(Finalrunde!$D$21=\"\",0,IF(Finalrunde!$D$21=Finalrunde!X83,1,0))+IF(Finalrunde!$D$22=\"\",0,IF(Finalrunde!$D$22=Finalrunde!X84,1,0))+IF(Finalrunde!$D$23=\"\",0,IF(Finalrunde!$D$23=Finalrunde!X85,1,0))+IF(Finalrunde!$E$20=\"\",0,IF(Finalrunde!$E$20=Finalrunde!AA82,1,0))+IF(Finalrunde!$E$21=\"\",0,IF(Finalrunde!$E$21=Finalrunde!AA83,1,0))+IF(Finalrunde!$E$22=\"\",0,IF(Finalrunde!$E$22=Finalrunde!AA84,1,0))+IF(Finalrunde!$E$23=\"\",0,IF(Finalrunde!$E$23=Finalrunde!AA85,1,0))","v":5},1,{"$f":"IF(COUNTIF(Finalrunde!$D$20:$E$23,Finalrunde!X82)<>0,\"0\",\"1\")+IF(COUNTIF(Finalrunde!$D$20:$E$23,Finalrunde!X83)<>0,\"0\",\"1\")+IF(COUNTIF(Finalrunde!$D$20:$E$23,Finalrunde!X84)<>0,\"0\",\"1\")+IF(COUNTIF(Finalrunde!$D$20:$E$23,Finalrunde!X85)<>0,\"0\",\"1\")+IF(COUNTIF(Finalrunde!$D$20:$E$23,Finalrunde!AA82)<>0,\"0\",\"1\")+IF(COUNTIF(Finalrunde!$D$20:$E$23,Finalrunde!AA83)<>0,\"0\",\"1\")+IF(COUNTIF(Finalrunde!$D$20:$E$23,Finalrunde!AA84)<>0,\"0\",\"1\")+IF(COUNTIF(Finalrunde!$D$20:$E$23,Finalrunde!AA85)<>0,\"0\",\"1\")","v":2},null,43,"Keller Pascal",{"$f":"IF(Finalrunde!$D$25=\"\",0,IF(Finalrunde!$D$25=Finalrunde!X87,1,0))+IF(Finalrunde!$D$26=\"\",0,IF(Finalrunde!$D$26=Finalrunde!X88,1,0))+IF(Finalrunde!$E$25=\"\",0,IF(Finalrunde!$E$25=Finalrunde!AA87,1,0))+IF(Finalrunde!$E$26=\"\",0,IF(Finalrunde!$E$26=Finalrunde!AA88,1,0))","v":2},1,{"$f":"IF(COUNTIF(Finalrunde!$D$25:$E$26,Finalrunde!X87)<>0,\"0\",\"1\")+IF(COUNTIF(Finalrunde!$D$25:$E$26,Finalrunde!X88)<>0,\"0\",\"1\")+IF(COUNTIF(Finalrunde!$D$25:$E$26,Finalrunde!AA87)<>0,\"0\",\"1\")+IF(COUNTIF(Finalrunde!$D$25:$E$26,Finalrunde!AA88)<>0,\"0\",\"1\")","v":1}]
[{"$f":"Teilnehmerliste!$A$49","v":44},{"$f":"Teilnehmerliste!B49 &\" \"&Teilnehmerliste!C49","v":"Lanz André"},{"$f":"IF(Finalrunde!$D$11=\"\",0,IF(Finalrunde!$D$11=Finalrunde!AE73,1,0))+IF(Finalrunde!$D$12=\"\",0,IF(Finalrunde!$D$12=Finalrunde!AE74,1,0))+IF(Finalrunde!$D$13=\"\",0,IF(Finalrunde!$D$13=Finalrunde!AE75,1,0))+IF(Finalrunde!$D$14=\"\",0,IF(Finalrunde!$D$14=Finalrunde!AE76,1,0))+IF(Finalrunde!$D$15=\"\",0,IF(Finalrunde!$D$15=Finalrunde!AE77,1,0))+IF(Finalrunde!$D$16=\"\",0,IF(Finalrunde!$D$16=Finalrunde!AE78,1,0))+IF(Finalrunde!$D$17=\"\",0,IF(Finalrunde!$D$17=Finalrunde!AE79,1,0))+IF(Finalrunde!$D$18=\"\",0,IF(Finalrunde!$D$18=Finalrunde!AE80,1,0))+IF(Finalrunde!$E$11=\"\",0,IF(Finalrunde!$E$11=Finalrunde!AH73,1,0))+IF(Finalrunde!$E$12=\"\",0,IF(Finalrunde!$E$12=Finalrunde!AH74,1,0))+IF(Finalrunde!$E$13=\"\",0,IF(Finalrunde!$E$13=Finalrunde!AH75,1,0))+IF(Finalrunde!$E$14=\"\",0,IF(Finalrunde!$E$14=Finalrunde!AH76,1,0))+IF(Finalrunde!$E$15=\"\",0,IF(Finalrunde!$E$15=Finalrunde!AH77,1,0))+IF(Finalrunde!$E$16=\"\",0,IF(Finalrunde!$E$16=Finalrunde!AH78,1,0))+IF(Finalrunde!$E$17=\"\",0,IF(Finalrunde!$E$17=Finalrunde!AH79,1,0))+IF(Finalrunde!$E$18=\"\",0,IF(Finalrunde!$E$18=Finalrunde!AH80,1,0))","v":7},5,{"$f":"IF(COUNTIF(Finalrunde!$D$11:$E$18,Finalrunde!AE73)<>0,\"0\",\"1\")+IF(COUNTIF(Finalrunde!$D$11:$E$18,Finalrunde!AE74)<>0,\"0\",\"1\")+IF(COUNTIF(Finalrunde!$D$11:$E$18,Finalrunde!AE75)<>0,\"0\",\"1\")+IF(COUNTIF(Finalrunde!$D$11:$E$18,Finalrunde!AE76)<>0,\"0\",\"1\")+IF(COUNTIF(Finalrunde!$D$11:$E$18,Finalrunde!AE77)<>0,\"0\",\"1\")+IF(COUNTIF(Finalrunde!$D$11:$E$18,Finalrunde!AE78)<>0,\"0\",\"1\")+IF(COUNTIF(Finalrunde!$D$11:$E$18,Finalrunde!AE79)<>0,\"0\",\"1\")+IF(COUNTIF(Finalrunde!$D$11:$E$18,Finalrunde!AE80)<>0,\"0\",\"1\")+IF(COUNTIF(Finalrunde!D$11:E$18,Finalrunde!AH73)<>0,\"0\",\"1\")+IF(COUNTIF(Finalrunde!$D$11:$E$18,Finalrunde!AH74)<>0,\"0\",\"1\")+IF(COUNTIF(Finalrunde!$D$11:$E$18,Finalrunde!AH75)<>0,\"0\",\"1\")+IF(COUNTIF(Finalrunde!$D$11:$E$18,Finalrunde!AH76)<>0,\"0\",\"1\")+IF(COUNTIF(Finalrunde!$D$11:$E$18,Finalrunde!AH77)<>0,\"0\",\"1\")+IF(COUNTIF(Finalrunde!$D$11:$E$18,Finalrunde!AH78)<>0,\"0\",\"1\")+IF(COUNTIF(Finalrunde!$D$11:$E$18,Finalrunde!AH79)<>0,\"0\",\"1\")+IF(COUNTIF(Finalrunde!$D$11:$E$18,Finalrunde!AH80)<>0,\"0\",\"1\")","v":4},null,44,"Lanz André",{"$f":"IF(Finalrunde!$D$20=\"\",0,IF(Finalrunde!$D$20=Finalrunde!AE82,1,0))+IF(Finalrunde!$D$21=\"\",0,IF(Finalrunde!$D$21=Finalrunde!AE83,1,0))+IF(Finalrunde!$D$22=\"\",0,IF(Finalrunde!$D$22=Finalrunde!AE84,1,0))+IF(Finalrunde!$D$23=\"\",0,IF(Finalrunde!$D$23=Finalrunde!AE85,1,0))+IF(Finalrunde!$E$20=\"\",0,IF(Finalrunde!$E$20=Finalrunde!AH82,1,0))+IF(Finalrunde!$E$21=\"\",0,IF(Finalrunde!$E$21=Finalrunde!AH83,1,0))+IF(Finalrunde!$E$22=\"\",0,IF(Finalrunde!$E$22=Finalrunde!AH84,1,0))+IF(Finalrunde!$E$23=\"\",0,IF(Finalrunde!$E$23=Finalrunde!AH85,1,0))","v":4},2,{"$f":"IF(COUNTIF(Finalrunde!$D$20:$E$23,Finalrunde!AE82)<>0,\"0\",\"1\")+IF(COUNTIF(Finalrunde!$D$20:$E$23,Finalrunde!AE83)<>0,\"0\",\"1\")+IF(COUNTIF(Finalrunde!$D$20:$E$23,Finalrunde!AE84)<>0,\"0\",\"1\")+IF(COUNTIF(Finalrunde!$D$20:$E$23,Finalrunde!AE85)<>0,\"0\",\"1\")+IF(COUNTIF(Finalrunde!$D$20:$E$23,Finalrunde!AH82)<>0,\"0\",\"1\")+IF(COUNTIF(Finalrunde!$D$20:$E$23,Finalrunde!AH83)<>0,\"0\",\"1\")+IF(COUNTIF(Finalrunde!$D$20:$E$23,Finalrunde!AH84)<>0,\"0\",\"1\")+IF(COUNTIF(Finalrunde!$D$20:$E$23,Finalrunde!AH85)<>0,\"0\",\"1\")","v":2},null,44,"Lanz André",{"$f":"IF(Finalrunde!$D$25=\"\",0,IF(Finalrunde!$D$25=Finalrunde!AE87,1,0))+IF(Finalrunde!$D$26=\"\",0,IF(Finalrunde!$D$26=Finalrunde!AE88,1,0))+IF(Finalrunde!$E$25=\"\",0,IF(Finalrunde!$E$25=Finalrunde!AH87,1,0))+IF(Finalrunde!$E$26=\"\",0,IF(Finalrunde!$E$26=Finalrunde!AH88,1,0))","v":2},1,{"$f":"IF(COUNTIF(Finalrunde!$D$25:$E$26,Finalrunde!AE87)<>0,\"0\",\"1\")+IF(COUNTIF(Finalrunde!$D$25:$E$26,Finalrunde!AE88)<>0,\"0\",\"1\")+IF(COUNTIF(Finalrunde!$D$25:$E$26,Finalrunde!AH87)<>0,\"0\",\"1\")+IF(COUNTIF(Finalrunde!$D$25:$E$26,Finalrunde!AH88)<>0,\"0\",\"1\")","v":1}]
[{"$f":"Teilnehmerliste!$A$50","v":45},{"$f":"Teilnehmerliste!B50 &\" \"&Teilnehmerliste!C50","v":"Lischer Franz"},{"$f":"IF(Finalrunde!$D$11=\"\",0,IF(Finalrunde!$D$11=Finalrunde!AL73,1,0))+IF(Finalrunde!$D$12=\"\",0,IF(Finalrunde!$D$12=Finalrunde!AL74,1,0))+IF(Finalrunde!$D$13=\"\",0,IF(Finalrunde!$D$13=Finalrunde!AL75,1,0))+IF(Finalrunde!$D$14=\"\",0,IF(Finalrunde!$D$14=Finalrunde!AL76,1,0))+IF(Finalrunde!$D$15=\"\",0,IF(Finalrunde!$D$15=Finalrunde!AL77,1,0))+IF(Finalrunde!$D$16=\"\",0,IF(Finalrunde!$D$16=Finalrunde!AL78,1,0))+IF(Finalrunde!$D$17=\"\",0,IF(Finalrunde!$D$17=Finalrunde!AL79,1,0))+IF(Finalrunde!$D$18=\"\",0,IF(Finalrunde!$D$18=Finalrunde!AL80,1,0))+IF(Finalrunde!$E$11=\"\",0,IF(Finalrunde!$E$11=Finalrunde!AO73,1,0))+IF(Finalrunde!$E$12=\"\",0,IF(Finalrunde!$E$12=Finalrunde!AO74,1,0))+IF(Finalrunde!$E$13=\"\",0,IF(Finalrunde!$E$13=Finalrunde!AO75,1,0))+IF(Finalrunde!$E$14=\"\",0,IF(Finalrunde!$E$14=Finalrunde!AO76,1,0))+IF(Finalrunde!$E$15=\"\",0,IF(Finalrunde!$E$15=Finalrunde!AO77,1,0))+IF(Finalrunde!$E$16=\"\",0,IF(Finalrunde!$E$16=Finalrunde!AO78,1,0))+IF(Finalrunde!$E$17=\"\",0,IF(Finalrunde!$E$17=Finalrunde!AO79,1,0))+IF(Finalrunde!$E$18=\"\",0,IF(Finalrunde!$E$18=Finalrunde!AO80,1,0))","v":7},7,{"$f":"IF(COUNTIF(Finalrunde!$D$11:$E$18,Finalrunde!AL73)<>0,\"0\",\"1\")+IF(COUNTIF(Finalrunde!$D$11:$E$18,Finalrunde!AL74)<>0,\"0\",\"1\")+IF(COUNTIF(Finalrunde!$D$11:$E$18,Finalrunde!AL75)<>0,\"0\",\"1\")+IF(COUNTIF(Finalrunde!$D$11:$E$18,Finalrunde!AL76)<>0,\"0\",\"1\")+IF(COUNTIF(Finalrunde!$D$11:$E$18,Finalrunde!AL77)<>0,\"0\",\"1\")+IF(COUNTIF(Finalrunde!$D$11:$E$18,Finalrunde!AL78)<>0,\"0\",\"1\")+IF(COUNTIF(Finalrunde!$D$11:$E$18,Finalrunde!AL79)<>0,\"0\",\"1\")+IF(COUNTIF(Finalrunde!$D$11:$E$18,Finalrunde!AL80)<>0,\"0\",\"1\")+IF(COUNTIF(Finalrunde!D$11:E$18,Finalrunde!AO73)<>0,\"0\",\"1\")+IF(COUNTIF(Finalrunde!$D$11:$E$18,Finalrunde!AO74)<>0,\"0\",\"1\")+IF(COUNTIF(Finalrunde!$D$11:$E$18,Finalrunde!AO75)<>0,\"0\",\"1\")+IF(COUNTIF(Finalrunde!$D$11:$E$18,Finalrunde!AO76)<>0,\"0\",\"1\")+IF(COUNTIF(Finalrunde!$D$11:$E$18,Finalrunde!AO77)<>0,\"0\",\"1\")+IF(COUNTIF(Finalrunde!$D$11:$E$18,Finalrunde!AO78)<>0,\"0\",\"1\")+IF(COUNTIF(Finalrunde!$D$11:$E$18,Finalrunde!AO79)<>0,\"0\",\"1\")+IF(COUNTIF(Finalrunde!$D$11:$E$18,Finalrunde!AO80)<>0,\"0\",\"1\")","v":2},null,45,"Lischer Franz",{"$f":"IF(Finalrunde!$D$20=\"\",0,IF(Finalrunde!$D$20=Finalrunde!AL82,1,0))+IF(Finalrunde!$D$21=\"\",0,IF(Finalrunde!$D$21=Finalrunde!AL83,1,0))+IF(Finalrunde!$D$22=\"\",0,IF(Finalrunde!$D$22=Finalrunde!AL84,1,0))+IF(Finalrunde!$D$23=\"\",0,IF(Finalrunde!$D$23=Finalrunde!AL85,1,0))+IF(Finalrunde!$E$20=\"\",0,IF(Finalrunde!$E$20=Finalrunde!AO82,1,0))+IF(Finalrunde!$E$21=\"\",0,IF(Finalrunde!$E$21=Finalrunde!AO83,1,0))+IF(Finalrunde!$E$22=\"\",0,IF(Finalrunde!$E$22=Finalrunde!AO84,1,0))+IF(Finalrunde!$E$23=\"\",0,IF(Finalrunde!$E$23=Finalrunde!AO85,1,0))","v":3},3,{"$f":"IF(COUNTIF(Finalrunde!$D$20:$E$23,Finalrunde!AL82)<>0,\"0\",\"1\")+IF(COUNTIF(Finalrunde!$D$20:$E$23,Finalrunde!AL83)<>0,\"0\",\"1\")+IF(COUNTIF(Finalrunde!$D$20:$E$23,Finalrunde!AL84)<>0,\"0\",\"1\")+IF(COUNTIF(Finalrunde!$D$20:$E$23,Finalrunde!AL85)<>0,\"0\",\"1\")+IF(COUNTIF(Finalrunde!$D$20:$E$23,Finalrunde!AO82)<>0,\"0\",\"1\")+IF(COUNTIF(Finalrunde!$D$20:$E$23,Finalrunde!AO83)<>0,\"0\",\"1\")+IF(COUNTIF(Finalrunde!$D$20:$E$23,Finalrunde!AO84)<>0,\"0\",\"1\")+IF(COUNTIF(Finalrunde!$D$20:$E$23,Finalrunde!AO85)<>0,\"0\",\"1\")","v":2},null,45,"Lischer Franz",{"$f":"IF(Finalrunde!$D$25=\"\",0,IF(Finalrunde!$D$25=Finalrunde!AL87,1,0))+IF(Finalrunde!$D$26=\"\",0,IF(Finalrunde!$D$26=Finalrunde!AL88,1,0))+IF(Finalrunde!$E$25=\"\",0,IF(Finalrunde!$E$25=Finalrunde!AO87,1,0))+IF(Finalrunde!$E$26=\"\",0,IF(Finalrunde!$E$26=Finalrunde!AO88,1,0))","v":1},2,{"$f":"IF(COUNTIF(Finalrunde!$D$25:$E$26,Finalrunde!AL87)<>0,\"0\",\"1\")+IF(COUNTIF(Finalrunde!$D$25:$E$26,Finalrunde!AL88)<>0,\"0\",\"1\")+IF(COUNTIF(Finalrunde!$D$25:$E$26,Finalrunde!AO87)<>0,\"0\",\"1\")+IF(COUNTIF(Finalrunde!$D$25:$E$26,Finalrunde!AO88)<>0,\"0\",\"1\")","v":1}]
[{"$f":"Teilnehmerliste!$A$51","v":46},{"$f":"Teilnehmerliste!B51 &\" \"&Teilnehmerliste!C51","v":"Lütolf Marc"},{"$f":"IF(Finalrunde!$D$11=\"\",0,IF(Finalrunde!$D$11=Finalrunde!AS73,1,0))+IF(Finalrunde!$D$12=\"\",0,IF(Finalrunde!$D$12=Finalrunde!AS74,1,0))+IF(Finalrunde!$D$13=\"\",0,IF(Finalrunde!$D$13=Finalrunde!AS75,1,0))+IF(Finalrunde!$D$14=\"\",0,IF(Finalrunde!$D$14=Finalrunde!AS76,1,0))+IF(Finalrunde!$D$15=\"\",0,IF(Finalrunde!$D$15=Finalrunde!AS77,1,0))+IF(Finalrunde!$D$16=\"\",0,IF(Finalrunde!$D$16=Finalrunde!AS78,1,0))+IF(Finalrunde!$D$17=\"\",0,IF(Finalrunde!$D$17=Finalrunde!AS79,1,0))+IF(Finalrunde!$D$18=\"\",0,IF(Finalrunde!$D$18=Finalrunde!AS80,1,0))+IF(Finalrunde!$E$11=\"\",0,IF(Finalrunde!$E$11=Finalrunde!AV73,1,0))+IF(Finalrunde!$E$12=\"\",0,IF(Finalrunde!$E$12=Finalrunde!AV74,1,0))+IF(Finalrunde!$E$13=\"\",0,IF(Finalrunde!$E$13=Finalrunde!AV75,1,0))+IF(Finalrunde!$E$14=\"\",0,IF(Finalrunde!$E$14=Finalrunde!AV76,1,0))+IF(Finalrunde!$E$15=\"\",0,IF(Finalrunde!$E$15=Finalrunde!AV77,1,0))+IF(Finalrunde!$E$16=\"\",0,IF(Finalrunde!$E$16=Finalrunde!AV78,1,0))+IF(Finalrunde!$E$17=\"\",0,IF(Finalrunde!$E$17=Finalrunde!AV79,1,0))+IF(Finalrunde!$E$18=\"\",0,IF(Finalrunde!$E$18=Finalrunde!AV80,1,0))","v":7},5,{"$f":"IF(COUNTIF(Finalrunde!$D$11:$E$18,Finalrunde!AS73)<>0,\"0\",\"1\")+IF(COUNTIF(Finalrunde!$D$11:$E$18,Finalrunde!AS74)<>0,\"0\",\"1\")+IF(COUNTIF(Finalrunde!$D$11:$E$18,Finalrunde!AS75)<>0,\"0\",\"1\")+IF(COUNTIF(Finalrunde!$D$11:$E$18,Finalrunde!AS76)<>0,\"0\",\"1\")+IF(COUNTIF(Finalrunde!$D$11:$E$18,Finalrunde!AS77)<>0,\"0\",\"1\")+IF(COUNTIF(Finalrunde!$D$11:$E$18,Finalrunde!AS78)<>0,\"0\",\"1\")+IF(COUNTIF(Finalrunde!$D$11:$E$18,Finalrunde!AS79)<>0,\"0\",\"1\")+IF(COUNTIF(Finalrunde!$D$11:$E$18,Finalrunde!AS80)<>0,\"0\",\"1\")+IF(COUNTIF(Finalrunde!D$11:E$18,Finalrunde!AV73)<>0,\"0\",\"1\")+IF(COUNTIF(Finalrunde!$D$11:$E$18,Finalrunde!AV74)<>0,\"0\",\"1\")+IF(COUNTIF(Finalrunde!$D$11:$E$18,Finalrunde!AV75)<>0,\"0\",\"1\")+IF(COUNTIF(Finalrunde!$D$11:$E$18,Finalrunde!AV76)<>0,\"0\",\"1\")+IF(COUNTIF(Finalrunde!$D$11:$E$18,Finalrunde!AV77)<>0,\"0\",\"1\")+IF(COUNTIF(Finalrunde!$D$11:$E$18,Finalrunde!AV78)<>0,\"0\",\"1\")+IF(COUNTIF(Finalrunde!$D$11:$E$18,Finalrunde!AV79)<>0,\"0\",\"1\")+IF(COUNTIF(Finalrunde!$D$11:$E$18,Finalrunde!AV80)<>0,\"0\",\"1\")","v":4},null,46,"Lütolf Marc",{"$f":"IF(Finalrunde!$D$20=\"\",0,IF(Finalrunde!$D$20=Finalrunde!AS82,1,0))+IF(Finalrunde!$D$21=\"\",0,IF(Finalrunde!$D$21=Finalrunde!AS83,1,0))+IF(Finalrunde!$D$22=\"\",0,IF(Finalrunde!$D$22=Finalrunde!AS84,1,0))+IF(Finalrunde!$D$23=\"\",0,IF(Finalrunde!$D$23=Finalrunde!AS85,1,0))+IF(Finalrunde!$E$20=\"\",0,IF(Finalrunde!$E$20=Finalrunde!AV82,1,0))+IF(Finalrunde!$E$21=\"\",0,IF(Finalrunde!$E$21=Finalrunde!AV83,1,0))+IF(Finalrunde!$E$22=\"\",0,IF(Finalrunde!$E$22=Finalrunde!AV84,1,0))+IF(Finalrunde!$E$23=\"\",0,IF(Finalrunde!$E$23=Finalrunde!AV85,1,0))","v":4},2,{"$f":"IF(COUNTIF(Finalrunde!$D$20:$E$23,Finalrunde!AS82)<>0,\"0\",\"1\")+IF(COUNTIF(Finalrunde!$D$20:$E$23,Finalrunde!AS83)<>0,\"0\",\"1\")+IF(COUNTIF(Finalrunde!$D$20:$E$23,Finalrunde!AS84)<>0,\"0\",\"1\")+IF(COUNTIF(Finalrunde!$D$20:$E$23,Finalrunde!AS85)<>0,\"0\",\"1\")+IF(COUNTIF(Finalrunde!$D$20:$E$23,Finalrunde!AV82)<>0,\"0\",\"1\")+IF(COUNTIF(Finalrunde!$D$20:$E$23,Finalrunde!AV83)<>0,\"0\",\"1\")+IF(COUNTIF(Finalrunde!$D$20:$E$23,Finalrunde!AV84)<>0,\"0\",\"1\")+IF(COUNTIF(Finalrunde!$D$20:$E$23,Finalrunde!AV85)<>0,\"0\",\"1\")","v":2},null,46,"Lütolf Marc",{"$f":"IF(Finalrunde!$D$25=\"\",0,IF(Finalrunde!$D$25=Finalrunde!AS87,1,0))+IF(Finalrunde!$D$26=\"\",0,IF(Finalrunde!$D$26=Finalrunde!AS88,1,0))+IF(Finalrunde!$E$25=\"\",0,IF(Finalrunde!$E$25=Finalrunde!AV87,1,0))+IF(Finalrunde!$E$26=\"\",0,IF(Finalrunde!$E$26=Finalrunde!AV88,1,0))","v":2},2,{"$f":"IF(COUNTIF(Finalrunde!$D$25:$E$26,Finalrunde!AS87)<>0,\"0\",\"1\")+IF(COUNTIF(Finalrunde!$D$25:$E$26,Finalrunde!AS88)<>0,\"0\",\"1\")+IF(COUNTIF(Finalrunde!$D$25:$E$26,Finalrunde!AV87)<>0,\"0\",\"1\")+IF(COUNTIF(Finalrunde!$D$25:$E$26,Finalrunde!AV88)<>0,\"0\",\"1\")","v":0}]
[{"$f":"Teilnehmerliste!$A$52","v":47},{"$f":"Teilnehmerliste!B52 &\" \"&Teilnehmerliste!C52","v":"Marini Mauro"},{"$f":"IF(Finalrunde!$D$11=\"\",0,IF(Finalrunde!$D$11=Finalrunde!AZ73,1,0))+IF(Finalrunde!$D$12=\"\",0,IF(Finalrunde!$D$12=Finalrunde!AZ74,1,0))+IF(Finalrunde!$D$13=\"\",0,IF(Finalrunde!$D$13=Finalrunde!AZ75,1,0))+IF(Finalrunde!$D$14=\"\",0,IF(Finalrunde!$D$14=Finalrunde!AZ76,1,0))+IF(Finalrunde!$D$15=\"\",0,IF(Finalrunde!$D$15=Finalrunde!AZ77,1,0))+IF(Finalrunde!$D$16=\"\",0,IF(Finalrunde!$D$16=Finalrunde!AZ78,1,0))+IF(Finalrunde!$D$17=\"\",0,IF(Finalrunde!$D$17=Finalrunde!AZ79,1,0))+IF(Finalrunde!$D$18=\"\",0,IF(Finalrunde!$D$18=Finalrunde!AZ80,1,0))+IF(Finalrunde!$E$11=\"\",0,IF(Finalrunde!$E$11=Finalrunde!BC73,1,0))+IF(Finalrunde!$E$12=\"\",0,IF(Finalrunde!$E$12=Finalrunde!BC74,1,0))+IF(Finalrunde!$E$13=\"\",0,IF(Finalrunde!$E$13=Finalrunde!BC75,1,0))+IF(Finalrunde!$E$14=\"\",0,IF(Finalrunde!$E$14=Finalrunde!BC76,1,0))+IF(Finalrunde!$E$15=\"\",0,IF(Finalrunde!$E$15=Finalrunde!BC77,1,0))+IF(Finalrunde!$E$16=\"\",0,IF(Finalrunde!$E$16=Finalrunde!BC78,1,0))+IF(Finalrunde!$E$17=\"\",0,IF(Finalrunde!$E$17=Finalrunde!BC79,1,0))+IF(Finalrunde!$E$18=\"\",0,IF(Finalrunde!$E$18=Finalrunde!BC80,1,0))","v":4},8,{"$f":"IF(COUNTIF(Finalrunde!$D$11:$E$18,Finalrunde!AZ73)<>0,\"0\",\"1\")+IF(COUNTIF(Finalrunde!$D$11:$E$18,Finalrunde!AZ74)<>0,\"0\",\"1\")+IF(COUNTIF(Finalrunde!$D$11:$E$18,Finalrunde!AZ75)<>0,\"0\",\"1\")+IF(COUNTIF(Finalrunde!$D$11:$E$18,Finalrunde!AZ76)<>0,\"0\",\"1\")+IF(COUNTIF(Finalrunde!$D$11:$E$18,Finalrunde!AZ77)<>0,\"0\",\"1\")+IF(COUNTIF(Finalrunde!$D$11:$E$18,Finalrunde!AZ78)<>0,\"0\",\"1\")+IF(COUNTIF(Finalrunde!$D$11:$E$18,Finalrunde!AZ79)<>0,\"0\",\"1\")+IF(COUNTIF(Finalrunde!$D$11:$E$18,Finalrunde!AZ80)<>0,\"0\",\"1\")+IF(COUNTIF(Finalrunde!D$11:E$18,Finalrunde!BC73)<>0,\"0\",\"1\")+IF(COUNTIF(Finalrunde!$D$11:$E$18,Finalrunde!BC74)<>0,\"0\",\"1\")+IF(COUNTIF(Finalrunde!$D$11:$E$18,Finalrunde!BC75)<>0,\"0\",\"1\")+IF(COUNTIF(Finalrunde!$D$11:$E$18,Finalrunde!BC76)<>0,\"0\",\"1\")+IF(COUNTIF(Finalrunde!$D$11:$E$18,Finalrunde!BC77)<>0,\"0\",\"1\")+IF(COUNTIF(Finalrunde!$D$11:$E$18,Finalrunde!BC78)<>0,\"0\",\"1\")+IF(COUNTIF(Finalrunde!$D$11:$E$18,Finalrunde!BC79)<>0,\"0\",\"1\")+IF(COUNTIF(Finalrunde!$D$11:$E$18,Finalrunde!BC80)<>0,\"0\",\"1\")","v":4},null,47,"Marini Mauro",{"$f":"IF(Finalrunde!$D$20=\"\",0,IF(Finalrunde!$D$20=Finalrunde!AZ82,1,0))+IF(Finalrunde!$D$21=\"\",0,IF(Finalrunde!$D$21=Finalrunde!AZ83,1,0))+IF(Finalrunde!$D$22=\"\",0,IF(Finalrunde!$D$22=Finalrunde!AZ84,1,0))+IF(Finalrunde!$D$23=\"\",0,IF(Finalrunde!$D$23=Finalrunde!AZ85,1,0))+IF(Finalrunde!$E$20=\"\",0,IF(Finalrunde!$E$20=Finalrunde!BC82,1,0))+IF(Finalrunde!$E$21=\"\",0,IF(Finalrunde!$E$21=Finalrunde!BC83,1,0))+IF(Finalrunde!$E$22=\"\",0,IF(Finalrunde!$E$22=Finalrunde!BC84,1,0))+IF(Finalrunde!$E$23=\"\",0,IF(Finalrunde!$E$23=Finalrunde!BC85,1,0))","v":2},3,{"$f":"IF(COUNTIF(Finalrunde!$D$20:$E$23,Finalrunde!AZ82)<>0,\"0\",\"1\")+IF(COUNTIF(Finalrunde!$D$20:$E$23,Finalrunde!AZ83)<>0,\"0\",\"1\")+IF(COUNTIF(Finalrunde!$D$20:$E$23,Finalrunde!AZ84)<>0,\"0\",\"1\")+IF(COUNTIF(Finalrunde!$D$20:$E$23,Finalrunde!AZ85)<>0,\"0\",\"1\")+IF(COUNTIF(Finalrunde!$D$20:$E$23,Finalrunde!BC82)<>0,\"0\",\"1\")+IF(COUNTIF(Finalrunde!$D$20:$E$23,Finalrunde!BC83)<>0,\"0\",\"1\")+IF(COUNTIF(Finalrunde!$D$20:$E$23,Finalrunde!BC84)<>0,\"0\",\"1\")+IF(COUNTIF(Finalrunde!$D$20:$E$23,Finalrunde!BC85)<>0,\"0\",\"1\")","v":3},null,47,"Marini Mauro",{"$f":"IF(Finalrunde!$D$25=\"\",0,IF(Finalrunde!$D$25=Finalrunde!AZ87,1,0))+IF(Finalrunde!$D$26=\"\",0,IF(Finalrunde!$D$26=Finalrunde!AZ88,1,0))+IF(Finalrunde!$E$25=\"\",0,IF(Finalrunde!$E$25=Finalrunde!BC87,1,0))+IF(Finalrunde!$E$26=\"\",0,IF(Finalrunde!$E$26=Finalrunde!BC88,1,0))","v":0},1,{"$f":"IF(COUNTIF(Finalrunde!$D$25:$E$26,Finalrunde!AZ87)<>0,\"0\",\"1\")+IF(COUNTIF(Finalrunde!$D$25:$E$26,Finalrunde!AZ88)<>0,\"0\",\"1\")+IF(COUNTIF(Finalrunde!$D$25:$E$26,Finalrunde!BC87)<>0,\"0\",\"1\")+IF(COUNTIF(Finalrunde!$D$25:$E$26,Finalrunde!BC88)<>0,\"0\",\"1\")","v":3}]
[{"$f":"Teilnehmerliste!$A$53","v":48},{"$f":"Teilnehmerliste!B53 &\" \"&Teilnehmerliste!C53","v":"Marthaler Martin"},{"$f":"IF(Finalrunde!$D$11=\"\",0,IF(Finalrunde!$D$11=Finalrunde!BG73,1,0))+IF(Finalrunde!$D$12=\"\",0,IF(Finalrunde!$D$12=Finalrunde!BG74,1,0))+IF(Finalrunde!$D$13=\"\",0,IF(Finalrunde!$D$13=Finalrunde!BG75,1,0))+IF(Finalrunde!$D$14=\"\",0,IF(Finalrunde!$D$14=Finalrunde!BG76,1,0))+IF(Finalrunde!$D$15=\"\",0,IF(Finalrunde!$D$15=Finalrunde!BG77,1,0))+IF(Finalrunde!$D$16=\"\",0,IF(Finalrunde!$D$16=Finalrunde!BG78,1,0))+IF(Finalrunde!$D$17=\"\",0,IF(Finalrunde!$D$17=Finalrunde!BG79,1,0))+IF(Finalrunde!$D$18=\"\",0,IF(Finalrunde!$D$18=Finalrunde!BG80,1,0))+IF(Finalrunde!$E$11=\"\",0,IF(Finalrunde!$E$11=Finalrunde!BJ73,1,0))+IF(Finalrunde!$E$12=\"\",0,IF(Finalrunde!$E$12=Finalrunde!BJ74,1,0))+IF(Finalrunde!$E$13=\"\",0,IF(Finalrunde!$E$13=Finalrunde!BJ75,1,0))+IF(Finalrunde!$E$14=\"\",0,IF(Finalrunde!$E$14=Finalrunde!BJ76,1,0))+IF(Finalrunde!$E$15=\"\",0,IF(Finalrunde!$E$15=Finalrunde!BJ77,1,0))+IF(Finalrunde!$E$16=\"\",0,IF(Finalrunde!$E$16=Finalrunde!BJ78,1,0))+IF(Finalrunde!$E$17=\"\",0,IF(Finalrunde!$E$17=Finalrunde!BJ79,1,0))+IF(Finalrunde!$E$18=\"\",0,IF(Finalrunde!$E$18=Finalrunde!BJ80,1,0))","v":8},4,{"$f":"IF(COUNTIF(Finalrunde!$D$11:$E$18,Finalrunde!BG73)<>0,\"0\",\"1\")+IF(COUNTIF(Finalrunde!$D$11:$E$18,Finalrunde!BG74)<>0,\"0\",\"1\")+IF(COUNTIF(Finalrunde!$D$11:$E$18,Finalrunde!BG75)<>0,\"0\",\"1\")+IF(COUNTIF(Finalrunde!$D$11:$E$18,Finalrunde!BG76)<>0,\"0\",\"1\")+IF(COUNTIF(Finalrunde!$D$11:$E$18,Finalrunde!BG77)<>0,\"0\",\"1\")+IF(COUNTIF(Finalrunde!$D$11:$E$18,Finalrunde!BG78)<>0,\"0\",\"1\")+IF(COUNTIF(Finalrunde!$D$11:$E$18,Finalrunde!BG79)<>0,\"0\",\"1\")+IF(COUNTIF(Finalrunde!$D$11:$E$18,Finalrunde!BG80)<>0,\"0\",\"1\")+IF(COUNTIF(Finalrunde!D$11:E$18,Finalrunde!BJ73)<>0,\"0\",\"1\")+IF(COUNTIF(Finalrunde!$D$11:$E$18,Finalrunde!BJ74)<>0,\"0\",\"1\")+IF(COUNTIF(Finalrunde!$D$11:$E$18,Finalrunde!BJ75)<>0,\"0\",\"1\")+IF(COUNTIF(Finalrunde!$D$11:$E$18,Finalrunde!BJ76)<>0,\"0\",\"1\")+IF(COUNTIF(Finalrunde!$D$11:$E$18,Finalrunde!BJ77)<>0,\"0\",\"1\")+IF(COUNTIF(Finalrunde!$D$11:$E$18,Finalrunde!BJ78)<>0,\"0\",\"1\")+IF(COUNTIF(Finalrunde!$D$11:$E$18,Finalrunde!BJ79)<>0,\"0\",\"1\")+IF(COUNTIF(Finalrunde!$D$11:$E$18,Finalrunde!BJ80)<>0,\"0\",\"1\")","v":4},null,48,"Marthaler Martin",{"$f":"IF(Finalrunde!$D$20=\"\",0,IF(Finalrunde!$D$20=Finalrunde!BG82,1,0))+IF(Finalrunde!$D$21=\"\",0,IF(Finalrunde!$D$21=Finalrunde!BG83,1,0))+IF(Finalrunde!$D$22=\"\",0,IF(Finalrunde!$D$22=Finalrunde!BG84,1,0))+IF(Finalrunde!$D$23=\"\",0,IF(Finalrunde!$D$23=Finalrunde!BG85,1,0))+IF(Finalrunde!$E$20=\"\",0,IF(Finalrunde!$E$20=Finalrunde!BJ82,1,0))+IF(Finalrunde!$E$21=\"\",0,IF(Finalrunde!$E$21=Finalrunde!BJ83,1,0))+IF(Finalrunde!$E$22=\"\",0,IF(Finalrunde!$E$22=Finalrunde!BJ84,1,0))+IF(Finalrunde!$E$23=\"\",0,IF(Finalrunde!$E$23=Finalrunde!BJ85,1,0))","v":4},2,{"$f":"IF(COUNTIF(Finalrunde!$D$20:$E$23,Finalrunde!BG82)<>0,\"0\",\"1\")+IF(COUNTIF(Finalrunde!$D$20:$E$23,Finalrunde!BG83)<>0,\"0\",\"1\")+IF(COUNTIF(Finalrunde!$D$20:$E$23,Finalrunde!BG84)<>0,\"0\",\"1\")+IF(COUNTIF(Finalrunde!$D$20:$E$23,Finalrunde!BG85)<>0,\"0\",\"1\")+IF(COUNTIF(Finalrunde!$D$20:$E$23,Finalrunde!BJ82)<>0,\"0\",\"1\")+IF(COUNTIF(Finalrunde!$D$20:$E$23,Finalrunde!BJ83)<>0,\"0\",\"1\")+IF(COUNTIF(Finalrunde!$D$20:$E$23,Finalrunde!BJ84)<>0,\"0\",\"1\")+IF(COUNTIF(Finalrunde!$D$20:$E$23,Finalrunde!BJ85)<>0,\"0\",\"1\")","v":2},null,48,"Marthaler Martin",{"$f":"IF(Finalrunde!$D$25=\"\",0,IF(Finalrunde!$D$25=Finalrunde!BG87,1,0))+IF(Finalrunde!$D$26=\"\",0,IF(Finalrunde!$D$26=Finalrunde!BG88,1,0))+IF(Finalrunde!$E$25=\"\",0,IF(Finalrunde!$E$25=Finalrunde!BJ87,1,0))+IF(Finalrunde!$E$26=\"\",0,IF(Finalrunde!$E$26=Finalrunde!BJ88,1,0))","v":2},0,{"$f":"IF(COUNTIF(Finalrunde!$D$25:$E$26,Finalrunde!BG87)<>0,\"0\",\"1\")+IF(COUNTIF(Finalrunde!$D$25:$E$26,Finalrunde!BG88)<>0,\"0\",\"1\")+IF(COUNTIF(Finalrunde!$D$25:$E$26,Finalrunde!BJ87)<>0,\"0\",\"1\")+IF(COUNTIF(Finalrunde!$D$25:$E$26,Finalrunde!BJ88)<>0,\"0\",\"1\")","v":2}]
[{"$f":"Teilnehmerliste!$A$54","v":49},{"$f":"Teilnehmerliste!B54 &\" \"&Teilnehmerliste!C54","v":"Oliveira Telmo"},{"$f":"IF(Finalrunde!$D$11=\"\",0,IF(Finalrunde!$D$11=Finalrunde!BN73,1,0))+IF(Finalrunde!$D$12=\"\",0,IF(Finalrunde!$D$12=Finalrunde!BN74,1,0))+IF(Finalrunde!$D$13=\"\",0,IF(Finalrunde!$D$13=Finalrunde!BN75,1,0))+IF(Finalrunde!$D$14=\"\",0,IF(Finalrunde!$D$14=Finalrunde!BN76,1,0))+IF(Finalrunde!$D$15=\"\",0,IF(Finalrunde!$D$15=Finalrunde!BN77,1,0))+IF(Finalrunde!$D$16=\"\",0,IF(Finalrunde!$D$16=Finalrunde!BN78,1,0))+IF(Finalrunde!$D$17=\"\",0,IF(Finalrunde!$D$17=Finalrunde!BN79,1,0))+IF(Finalrunde!$D$18=\"\",0,IF(Finalrunde!$D$18=Finalrunde!BN80,1,0))+IF(Finalrunde!$E$11=\"\",0,IF(Finalrunde!$E$11=Finalrunde!BQ73,1,0))+IF(Finalrunde!$E$12=\"\",0,IF(Finalrunde!$E$12=Finalrunde!BQ74,1,0))+IF(Finalrunde!$E$13=\"\",0,IF(Finalrunde!$E$13=Finalrunde!BQ75,1,0))+IF(Finalrunde!$E$14=\"\",0,IF(Finalrunde!$E$14=Finalrunde!BQ76,1,0))+IF(Finalrunde!$E$15=\"\",0,IF(Finalrunde!$E$15=Finalrunde!BQ77,1,0))+IF(Finalrunde!$E$16=\"\",0,IF(Finalrunde!$E$16=Finalrunde!BQ78,1,0))+IF(Finalrunde!$E$17=\"\",0,IF(Finalrunde!$E$17=Finalrunde!BQ79,1,0))+IF(Finalrunde!$E$18=\"\",0,IF(Finalrunde!$E$18=Finalrunde!BQ80,1,0))","v":6},6,{"$f":"IF(COUNTIF(Finalrunde!$D$11:$E$18,Finalrunde!BN73)<>0,\"0\",\"1\")+IF(COUNTIF(Finalrunde!$D$11:$E$18,Finalrunde!BN74)<>0,\"0\",\"1\")+IF(COUNTIF(Finalrunde!$D$11:$E$18,Finalrunde!BN75)<>0,\"0\",\"1\")+IF(COUNTIF(Finalrunde!$D$11:$E$18,Finalrunde!BN76)<>0,\"0\",\"1\")+IF(COUNTIF(Finalrunde!$D$11:$E$18,Finalrunde!BN77)<>0,\"0\",\"1\")+IF(COUNTIF(Finalrunde!$D$11:$E$18,Finalrunde!BN78)<>0,\"0\",\"1\")+IF(COUNTIF(Finalrunde!$D$11:$E$18,Finalrunde!BN79)<>0,\"0\",\"1\")+IF(COUNTIF(Finalrunde!$D$11:$E$18,Finalrunde!BN80)<>0,\"0\",\"1\")+IF(COUNTIF(Finalrunde!D$11:E$18,Finalrunde!BQ73)<>0,\"0\",\"1\")+IF(COUNTIF(Finalrunde!$D$11:$E$18,Finalrunde!BQ74)<>0,\"0\",\"1\")+IF(COUNTIF(Finalrunde!$D$11:$E$18,Finalrunde!BQ75)<>0,\"0\",\"1\")+IF(COUNTIF(Finalrunde!$D$11:$E$18,Finalrunde!BQ76)<>0,\"0\",\"1\")+IF(COUNTIF(Finalrunde!$D$11:$E$18,Finalrunde!BQ77)<>0,\"0\",\"1\")+IF(COUNTIF(Finalrunde!$D$11:$E$18,Finalrunde!BQ78)<>0,\"0\",\"1\")+IF(COUNTIF(Finalrunde!$D$11:$E$18,Finalrunde!BQ79)<>0,\"0\",\"1\")+IF(COUNTIF(Finalrunde!$D$11:$E$18,Finalrunde!BQ80)<>0,\"0\",\"1\")","v":4},null,49,"Oliveira Telmo",{"$f":"IF(Finalrunde!$D$20=\"\",0,IF(Finalrunde!$D$20=Finalrunde!BN82,1,0))+IF(Finalrunde!$D$21=\"\",0,IF(Finalrunde!$D$21=Finalrunde!BN83,1,0))+IF(Finalrunde!$D$22=\"\",0,IF(Finalrunde!$D$22=Finalrunde!BN84,1,0))+IF(Finalrunde!$D$23=\"\",0,IF(Finalrunde!$D$23=Finalrunde!BN85,1,0))+IF(Finalrunde!$E$20=\"\",0,IF(Finalrunde!$E$20=Finalrunde!BQ82,1,0))+IF(Finalrunde!$E$21=\"\",0,IF(Finalrunde!$E$21=Finalrunde!BQ83,1,0))+IF(Finalrunde!$E$22=\"\",0,IF(Finalrunde!$E$22=Finalrunde!BQ84,1,0))+IF(Finalrunde!$E$23=\"\",0,IF(Finalrunde!$E$23=Finalrunde!BQ85,1,0))","v":4},1,{"$f":"IF(COUNTIF(Finalrunde!$D$20:$E$23,Finalrunde!BN82)<>0,\"0\",\"1\")+IF(COUNTIF(Finalrunde!$D$20:$E$23,Finalrunde!BN83)<>0,\"0\",\"1\")+IF(COUNTIF(Finalrunde!$D$20:$E$23,Finalrunde!BN84)<>0,\"0\",\"1\")+IF(COUNTIF(Finalrunde!$D$20:$E$23,Finalrunde!BN85)<>0,\"0\",\"1\")+IF(COUNTIF(Finalrunde!$D$20:$E$23,Finalrunde!BQ82)<>0,\"0\",\"1\")+IF(COUNTIF(Finalrunde!$D$20:$E$23,Finalrunde!BQ83)<>0,\"0\",\"1\")+IF(COUNTIF(Finalrunde!$D$20:$E$23,Finalrunde!BQ84)<>0,\"0\",\"1\")+IF(COUNTIF(Finalrunde!$D$20:$E$23,Finalrunde!BQ85)<>0,\"0\",\"1\")","v":3},null,49,"Oliveira Telmo",{"$f":"IF(Finalrunde!$D$25=\"\",0,IF(Finalrunde!$D$25=Finalrunde!BN87,1,0))+IF(Finalrunde!$D$26=\"\",0,IF(Finalrunde!$D$26=Finalrunde!BN88,1,0))+IF(Finalrunde!$E$25=\"\",0,IF(Finalrunde!$E$25=Finalrunde!BQ87,1,0))+IF(Finalrunde!$E$26=\"\",0,IF(Finalrunde!$E$26=Finalrunde!BQ88,1,0))","v":1},1,{"$f":"IF(COUNTIF(Finalrunde!$D$25:$E$26,Finalrunde!BN87)<>0,\"0\",\"1\")+IF(COUNTIF(Finalrunde!$D$25:$E$26,Finalrunde!BN88)<>0,\"0\",\"1\")+IF(COUNTIF(Finalrunde!$D$25:$E$26,Finalrunde!BQ87)<>0,\"0\",\"1\")+IF(COUNTIF(Finalrunde!$D$25:$E$26,Finalrunde!BQ88)<>0,\"0\",\"1\")","v":2}]
[{"$f":"Teilnehmerliste!$A$55","v":50},{"$f":"Teilnehmerliste!B55 &\" \"&Teilnehmerliste!C55","v":"Palma Luigi"},{"$f":"IF(Finalrunde!$D$11=\"\",0,IF(Finalrunde!$D$11=Finalrunde!BU73,1,0))+IF(Finalrunde!$D$12=\"\",0,IF(Finalrunde!$D$12=Finalrunde!BU74,1,0))+IF(Finalrunde!$D$13=\"\",0,IF(Finalrunde!$D$13=Finalrunde!BU75,1,0))+IF(Finalrunde!$D$14=\"\",0,IF(Finalrunde!$D$14=Finalrunde!BU76,1,0))+IF(Finalrunde!$D$15=\"\",0,IF(Finalrunde!$D$15=Finalrunde!BU77,1,0))+IF(Finalrunde!$D$16=\"\",0,IF(Finalrunde!$D$16=Finalrunde!BU78,1,0))+IF(Finalrunde!$D$17=\"\",0,IF(Finalrunde!$D$17=Finalrunde!BU79,1,0))+IF(Finalrunde!$D$18=\"\",0,IF(Finalrunde!$D$18=Finalrunde!BU80,1,0))+IF(Finalrunde!$E$11=\"\",0,IF(Finalrunde!$E$11=Finalrunde!BX73,1,0))+IF(Finalrunde!$E$12=\"\",0,IF(Finalrunde!$E$12=Finalrunde!BX74,1,0))+IF(Finalrunde!$E$13=\"\",0,IF(Finalrunde!$E$13=Finalrunde!BX75,1,0))+IF(Finalrunde!$E$14=\"\",0,IF(Finalrunde!$E$14=Finalrunde!BX76,1,0))+IF(Finalrunde!$E$15=\"\",0,IF(Finalrunde!$E$15=Finalrunde!BX77,1,0))+IF(Finalrunde!$E$16=\"\",0,IF(Finalrunde!$E$16=Finalrunde!BX78,1,0))+IF(Finalrunde!$E$17=\"\",0,IF(Finalrunde!$E$17=Finalrunde!BX79,1,0))+IF(Finalrunde!$E$18=\"\",0,IF(Finalrunde!$E$18=Finalrunde!BX80,1,0))","v":4},6,{"$f":"IF(COUNTIF(Finalrunde!$D$11:$E$18,Finalrunde!BU73)<>0,\"0\",\"1\")+IF(COUNTIF(Finalrunde!$D$11:$E$18,Finalrunde!BU74)<>0,\"0\",\"1\")+IF(COUNTIF(Finalrunde!$D$11:$E$18,Finalrunde!BU75)<>0,\"0\",\"1\")+IF(COUNTIF(Finalrunde!$D$11:$E$18,Finalrunde!BU76)<>0,\"0\",\"1\")+IF(COUNTIF(Finalrunde!$D$11:$E$18,Finalrunde!BU77)<>0,\"0\",\"1\")+IF(COUNTIF(Finalrunde!$D$11:$E$18,Finalrunde!BU78)<>0,\"0\",\"1\")+IF(COUNTIF(Finalrunde!$D$11:$E$18,Finalrunde!BU79)<>0,\"0\",\"1\")+IF(COUNTIF(Finalrunde!$D$11:$E$18,Finalrunde!BU80)<>0,\"0\",\"1\")+IF(COUNTIF(Finalrunde!D$11:E$18,Finalrunde!BX73)<>0,\"0\",\"1\")+IF(COUNTIF(Finalrunde!$D$11:$E$18,Finalrunde!BX74)<>0,\"0\",\"1\")+IF(COUNTIF(Finalrunde!$D$11:$E$18,Finalrunde!BX75)<>0,\"0\",\"1\")+IF(COUNTIF(Finalrunde!$D$11:$E$18,Finalrunde!BX76)<>0,\"0\",\"1\")+IF(COUNTIF(Finalrunde!$D$11:$E$18,Finalrunde!BX77)<>0,\"0\",\"1\")+IF(COUNTIF(Finalrunde!$D$11:$E$18,Finalrunde!BX78)<>0,\"0\",\"1\")+IF(COUNTIF(Finalrunde!$D$11:$E$18,Finalrunde!BX79)<>0,\"0\",\"1\")+IF(COUNTIF(Finalrunde!$D$11:$E$18,Finalrunde!BX80)<>0,\"0\",\"1\")","v":6},null,50,"Palma Luigi",{"$f":"IF(Finalrunde!$D$20=\"\",0,IF(Finalrunde!$D$20=Finalrunde!BU82,1,0))+IF(Finalrunde!$D$21=\"\",0,IF(Finalrunde!$D$21=Finalrunde!BU83,1,0))+IF(Finalrunde!$D$22=\"\",0,IF(Finalrunde!$D$22=Finalrunde!BU84,1,0))+IF(Finalrunde!$D$23=\"\",0,IF(Finalrunde!$D$23=Finalrunde!BU85,1,0))+IF(Finalrunde!$E$20=\"\",0,IF(Finalrunde!$E$20=Finalrunde!BX82,1,0))+IF(Finalrunde!$E$21=\"\",0,IF(Finalrunde!$E$21=Finalrunde!BX83,1,0))+IF(Finalrunde!$E$22=\"\",0,IF(Finalrunde!$E$22=Finalrunde!BX84,1,0))+IF(Finalrunde!$E$23=\"\",0,IF(Finalrunde!$E$23=Finalrunde!BX85,1,0))","v":3},2,{"$f":"IF(COUNTIF(Finalrunde!$D$20:$E$23,Finalrunde!BU82)<>0,\"0\",\"1\")+IF(COUNTIF(Finalrunde!$D$20:$E$23,Finalrunde!BU83)<>0,\"0\",\"1\")+IF(COUNTIF(Finalrunde!$D$20:$E$23,Finalrunde!BU84)<>0,\"0\",\"1\")+IF(COUNTIF(Finalrunde!$D$20:$E$23,Finalrunde!BU85)<>0,\"0\",\"1\")+IF(COUNTIF(Finalrunde!$D$20:$E$23,Finalrunde!BX82)<>0,\"0\",\"1\")+IF(COUNTIF(Finalrunde!$D$20:$E$23,Finalrunde!BX83)<>0,\"0\",\"1\")+IF(COUNTIF(Finalrunde!$D$20:$E$23,Finalrunde!BX84)<>0,\"0\",\"1\")+IF(COUNTIF(Finalrunde!$D$20:$E$23,Finalrunde!BX85)<>0,\"0\",\"1\")","v":3},null,50,"Palma Luigi",{"$f":"IF(Finalrunde!$D$25=\"\",0,IF(Finalrunde!$D$25=Finalrunde!BU87,1,0))+IF(Finalrunde!$D$26=\"\",0,IF(Finalrunde!$D$26=Finalrunde!BU88,1,0))+IF(Finalrunde!$E$25=\"\",0,IF(Finalrunde!$E$25=Finalrunde!BX87,1,0))+IF(Finalrunde!$E$26=\"\",0,IF(Finalrunde!$E$26=Finalrunde!BX88,1,0))","v":2},1,{"$f":"IF(COUNTIF(Finalrunde!$D$25:$E$26,Finalrunde!BU87)<>0,\"0\",\"1\")+IF(COUNTIF(Finalrunde!$D$25:$E$26,Finalrunde!BU88)<>0,\"0\",\"1\")+IF(COUNTIF(Finalrunde!$D$25:$E$26,Finalrunde!BX87)<>0,\"0\",\"1\")+IF(COUNTIF(Finalrunde!$D$25:$E$26,Finalrunde!BX88)<>0,\"0\",\"1\")","v":1}]
[{"$f":"Teilnehmerliste!$A$56","v":51},{"$f":"Teilnehmerliste!B56 &\" \"&Teilnehmerliste!C56","v":"Pek Lechena"},{"$f":"IF(Finalrunde!$D$11=\"\",0,IF(Finalrunde!$D$11=Finalrunde!CB73,1,0))+IF(Finalrunde!$D$12=\"\",0,IF(Finalrunde!$D$12=Finalrunde!CB74,1,0))+IF(Finalrunde!$D$13=\"\",0,IF(Finalrunde!$D$13=Finalrunde!CB75,1,0))+IF(Finalrunde!$D$14=\"\",0,IF(Finalrunde!$D$14=Finalrunde!CB76,1,0))+IF(Finalrunde!$D$15=\"\",0,IF(Finalrunde!$D$15=Finalrunde!CB77,1,0))+IF(Finalrunde!$D$16=\"\",0,IF(Finalrunde!$D$16=Finalrunde!CB78,1,0))+IF(Finalrunde!$D$17=\"\",0,IF(Finalrunde!$D$17=Finalrunde!CB79,1,0))+IF(Finalrunde!$D$18=\"\",0,IF(Finalrunde!$D$18=Finalrunde!CB80,1,0))+IF(Finalrunde!$E$11=\"\",0,IF(Finalrunde!$E$11=Finalrunde!CE73,1,0))+IF(Finalrunde!$E$12=\"\",0,IF(Finalrunde!$E$12=Finalrunde!CE74,1,0))+IF(Finalrunde!$E$13=\"\",0,IF(Finalrunde!$E$13=Finalrunde!CE75,1,0))+IF(Finalrunde!$E$14=\"\",0,IF(Finalrunde!$E$14=Finalrunde!CE76,1,0))+IF(Finalrunde!$E$15=\"\",0,IF(Finalrunde!$E$15=Finalrunde!CE77,1,0))+IF(Finalrunde!$E$16=\"\",0,IF(Finalrunde!$E$16=Finalrunde!CE78,1,0))+IF(Finalrunde!$E$17=\"\",0,IF(Finalrunde!$E$17=Finalrunde!CE79,1,0))+IF(Finalrunde!$E$18=\"\",0,IF(Finalrunde!$E$18=Finalrunde!CE80,1,0))","v":8},3,{"$f":"IF(COUNTIF(Finalrunde!$D$11:$E$18,Finalrunde!CB73)<>0,\"0\",\"1\")+IF(COUNTIF(Finalrunde!$D$11:$E$18,Finalrunde!CB74)<>0,\"0\",\"1\")+IF(COUNTIF(Finalrunde!$D$11:$E$18,Finalrunde!CB75)<>0,\"0\",\"1\")+IF(COUNTIF(Finalrunde!$D$11:$E$18,Finalrunde!CB76)<>0,\"0\",\"1\")+IF(COUNTIF(Finalrunde!$D$11:$E$18,Finalrunde!CB77)<>0,\"0\",\"1\")+IF(COUNTIF(Finalrunde!$D$11:$E$18,Finalrunde!CB78)<>0,\"0\",\"1\")+IF(COUNTIF(Finalrunde!$D$11:$E$18,Finalrunde!CB79)<>0,\"0\",\"1\")+IF(COUNTIF(Finalrunde!$D$11:$E$18,Finalrunde!CB80)<>0,\"0\",\"1\")+IF(COUNTIF(Finalrunde!D$11:E$18,Finalrunde!CE73)<>0,\"0\",\"1\")+IF(COUNTIF(Finalrunde!$D$11:$E$18,Finalrunde!CE74)<>0,\"0\",\"1\")+IF(COUNTIF(Finalrunde!$D$11:$E$18,Finalrunde!CE75)<>0,\"0\",\"1\")+IF(COUNTIF(Finalrunde!$D$11:$E$18,Finalrunde!CE76)<>0,\"0\",\"1\")+IF(COUNTIF(Finalrunde!$D$11:$E$18,Finalrunde!CE77)<>0,\"0\",\"1\")+IF(COUNTIF(Finalrunde!$D$11:$E$18,Finalrunde!CE78)<>0,\"0\",\"1\")+IF(COUNTIF(Finalrunde!$D$11:$E$18,Finalrunde!CE79)<>0,\"0\",\"1\")+IF(COUNTIF(Finalrunde!$D$11:$E$18,Finalrunde!CE80)<>0,\"0\",\"1\")","v":5},null,51,"Pek Lechena",{"$f":"IF(Finalrunde!$D$20=\"\",0,IF(Finalrunde!$D$20=Finalrunde!CB82,1,0))+IF(Finalrunde!$D$21=\"\",0,IF(Finalrunde!$D$21=Finalrunde!CB83,1,0))+IF(Finalrunde!$D$22=\"\",0,IF(Finalrunde!$D$22=Finalrunde!CB84,1,0))+IF(Finalrunde!$D$23=\"\",0,IF(Finalrunde!$D$23=Finalrunde!CB85,1,0))+IF(Finalrunde!$E$20=\"\",0,IF(Finalrunde!$E$20=Finalrunde!CE82,1,0))+IF(Finalrunde!$E$21=\"\",0,IF(Finalrunde!$E$21=Finalrunde!CE83,1,0))+IF(Finalrunde!$E$22=\"\",0,IF(Finalrunde!$E$22=Finalrunde!CE84,1,0))+IF(Finalrunde!$E$23=\"\",0,IF(Finalrunde!$E$23=Finalrunde!CE85,1,0))","v":5},2,{"$f":"IF(COUNTIF(Finalrunde!$D$20:$E$23,Finalrunde!CB82)<>0,\"0\",\"1\")+IF(COUNTIF(Finalrunde!$D$20:$E$23,Finalrunde!CB83)<>0,\"0\",\"1\")+IF(COUNTIF(Finalrunde!$D$20:$E$23,Finalrunde!CB84)<>0,\"0\",\"1\")+IF(COUNTIF(Finalrunde!$D$20:$E$23,Finalrunde!CB85)<>0,\"0\",\"1\")+IF(COUNTIF(Finalrunde!$D$20:$E$23,Finalrunde!CE82)<>0,\"0\",\"1\")+IF(COUNTIF(Finalrunde!$D$20:$E$23,Finalrunde!CE83)<>0,\"0\",\"1\")+IF(COUNTIF(Finalrunde!$D$20:$E$23,Finalrunde!CE84)<>0,\"0\",\"1\")+IF(COUNTIF(Finalrunde!$D$20:$E$23,Finalrunde!CE85)<>0,\"0\",\"1\")","v":1},null,51,"Pek Lechena",{"$f":"IF(Finalrunde!$D$25=\"\",0,IF(Finalrunde!$D$25=Finalrunde!CB87,1,0))+IF(Finalrunde!$D$26=\"\",0,IF(Finalrunde!$D$26=Finalrunde!CB88,1,0))+IF(Finalrunde!$E$25=\"\",0,IF(Finalrunde!$E$25=Finalrunde!CE87,1,0))+IF(Finalrunde!$E$26=\"\",0,IF(Finalrunde!$E$26=Finalrunde!CE88,1,0))","v":1},1,{"$f":"IF(COUNTIF(Finalrunde!$D$25:$E$26,Finalrunde!CB87)<>0,\"0\",\"1\")+IF(COUNTIF(Finalrunde!$D$25:$E$26,Finalrunde!CB88)<>0,\"0\",\"1\")+IF(COUNTIF(Finalrunde!$D$25:$E$26,Finalrunde!CE87)<>0,\"0\",\"1\")+IF(COUNTIF(Finalrunde!$D$25:$E$26,Finalrunde!CE88)<>0,\"0\",\"1\")","v":2}]
[{"$f":"Teilnehmerliste!$A$57","v":52},{"$f":"Teilnehmerliste!B57 &\" \"&Teilnehmerliste!C57","v":"Pietzke Jannis"},{"$f":"IF(Finalrunde!$D$11=\"\",0,IF(Finalrunde!$D$11=Finalrunde!CI73,1,0))+IF(Finalrunde!$D$12=\"\",0,IF(Finalrunde!$D$12=Finalrunde!CI74,1,0))+IF(Finalrunde!$D$13=\"\",0,IF(Finalrunde!$D$13=Finalrunde!CI75,1,0))+IF(Finalrunde!$D$14=\"\",0,IF(Finalrunde!$D$14=Finalrunde!CI76,1,0))+IF(Finalrunde!$D$15=\"\",0,IF(Finalrunde!$D$15=Finalrunde!CI77,1,0))+IF(Finalrunde!$D$16=\"\",0,IF(Finalrunde!$D$16=Finalrunde!CI78,1,0))+IF(Finalrunde!$D$17=\"\",0,IF(Finalrunde!$D$17=Finalrunde!CI79,1,0))+IF(Finalrunde!$D$18=\"\",0,IF(Finalrunde!$D$18=Finalrunde!CI80,1,0))+IF(Finalrunde!$E$11=\"\",0,IF(Finalrunde!$E$11=Finalrunde!CL73,1,0))+IF(Finalrunde!$E$12=\"\",0,IF(Finalrunde!$E$12=Finalrunde!CL74,1,0))+IF(Finalrunde!$E$13=\"\",0,IF(Finalrunde!$E$13=Finalrunde!CL75,1,0))+IF(Finalrunde!$E$14=\"\",0,IF(Finalrunde!$E$14=Finalrunde!CL76,1,0))+IF(Finalrunde!$E$15=\"\",0,IF(Finalrunde!$E$15=Finalrunde!CL77,1,0))+IF(Finalrunde!$E$16=\"\",0,IF(Finalrunde!$E$16=Finalrunde!CL78,1,0))+IF(Finalrunde!$E$17=\"\",0,IF(Finalrunde!$E$17=Finalrunde!CL79,1,0))+IF(Finalrunde!$E$18=\"\",0,IF(Finalrunde!$E$18=Finalrunde!CL80,1,0))","v":7},5,{"$f":"IF(COUNTIF(Finalrunde!$D$11:$E$18,Finalrunde!CI73)<>0,\"0\",\"1\")+IF(COUNTIF(Finalrunde!$D$11:$E$18,Finalrunde!CI74)<>0,\"0\",\"1\")+IF(COUNTIF(Finalrunde!$D$11:$E$18,Finalrunde!CI75)<>0,\"0\",\"1\")+IF(COUNTIF(Finalrunde!$D$11:$E$18,Finalrunde!CI76)<>0,\"0\",\"1\")+IF(COUNTIF(Finalrunde!$D$11:$E$18,Finalrunde!CI77)<>0,\"0\",\"1\")+IF(COUNTIF(Finalrunde!$D$11:$E$18,Finalrunde!CI78)<>0,\"0\",\"1\")+IF(COUNTIF(Finalrunde!$D$11:$E$18,Finalrunde!CI79)<>0,\"0\",\"1\")+IF(COUNTIF(Finalrunde!$D$11:$E$18,Finalrunde!CI80)<>0,\"0\",\"1\")+IF(COUNTIF(Finalrunde!D$11:E$18,Finalrunde!CL73)<>0,\"0\",\"1\")+IF(COUNTIF(Finalrunde!$D$11:$E$18,Finalrunde!CL74)<>0,\"0\",\"1\")+IF(COUNTIF(Finalrunde!$D$11:$E$18,Finalrunde!CL75)<>0,\"0\",\"1\")+IF(COUNTIF(Finalrunde!$D$11:$E$18,Finalrunde!CL76)<>0,\"0\",\"1\")+IF(COUNTIF(Finalrunde!$D$11:$E$18,Finalrunde!CL77)<>0,\"0\",\"1\")+IF(COUNTIF(Finalrunde!$D$11:$E$18,Finalrunde!CL78)<>0,\"0\",\"1\")+IF(COUNTIF(Finalrunde!$D$11:$E$18,Finalrunde!CL79)<>0,\"0\",\"1\")+IF(COUNTIF(Finalrunde!$D$11:$E$18,Finalrunde!CL80)<>0,\"0\",\"1\")","v":4},null,52,"Pietzke Jannis",{"$f":"IF(Finalrunde!$D$20=\"\",0,IF(Finalrunde!$D$20=Finalrunde!CI82,1,0))+IF(Finalrunde!$D$21=\"\",0,IF(Finalrunde!$D$21=Finalrunde!CI83,1,0))+IF(Finalrunde!$D$22=\"\",0,IF(Finalrunde!$D$22=Finalrunde!CI84,1,0))+IF(Finalrunde!$D$23=\"\",0,IF(Finalrunde!$D$23=Finalrunde!CI85,1,0))+IF(Finalrunde!$E$20=\"\",0,IF(Finalrunde!$E$20=Finalrunde!CL82,1,0))+IF(Finalrunde!$E$21=\"\",0,IF(Finalrunde!$E$21=Finalrunde!CL83,1,0))+IF(Finalrunde!$E$22=\"\",0,IF(Finalrunde!$E$22=Finalrunde!CL84,1,0))+IF(Finalrunde!$E$23=\"\",0,IF(Finalrunde!$E$23=Finalrunde!CL85,1,0))","v":5},1,{"$f":"IF(COUNTIF(Finalrunde!$D$20:$E$23,Finalrunde!CI82)<>0,\"0\",\"1\")+IF(COUNTIF(Finalrunde!$D$20:$E$23,Finalrunde!CI83)<>0,\"0\",\"1\")+IF(COUNTIF(Finalrunde!$D$20:$E$23,Finalrunde!CI84)<>0,\"0\",\"1\")+IF(COUNTIF(Finalrunde!$D$20:$E$23,Finalrunde!CI85)<>0,\"0\",\"1\")+IF(COUNTIF(Finalrunde!$D$20:$E$23,Finalrunde!CL82)<>0,\"0\",\"1\")+IF(COUNTIF(Finalrunde!$D$20:$E$23,Finalrunde!CL83)<>0,\"0\",\"1\")+IF(COUNTIF(Finalrunde!$D$20:$E$23,Finalrunde!CL84)<>0,\"0\",\"1\")+IF(COUNTIF(Finalrunde!$D$20:$E$23,Finalrunde!CL85)<>0,\"0\",\"1\")","v":2},null,52,"Pietzke Jannis",{"$f":"IF(Finalrunde!$D$25=\"\",0,IF(Finalrunde!$D$25=Finalrunde!CI87,1,0))+IF(Finalrunde!$D$26=\"\",0,IF(Finalrunde!$D$26=Finalrunde!CI88,1,0))+IF(Finalrunde!$E$25=\"\",0,IF(Finalrunde!$E$25=Finalrunde!CL87,1,0))+IF(Finalrunde!$E$26=\"\",0,IF(Finalrunde!$E$26=Finalrunde!CL88,1,0))","v":2},0,{"$f":"IF(COUNTIF(Finalrunde!$D$25:$E$26,Finalrunde!CI87)<>0,\"0\",\"1\")+IF(COUNTIF(Finalrunde!$D$25:$E$26,Finalrunde!CI88)<>0,\"0\",\"1\")+IF(COUNTIF(Finalrunde!$D$25:$E$26,Finalrunde!CL87)<>0,\"0\",\"1\")+IF(COUNTIF(Finalrunde!$D$25:$E$26,Finalrunde!CL88)<>0,\"0\",\"1\")","v":2}]
[{"$f":"Teilnehmerliste!$A$58","v":53},{"$f":"Teilnehmerliste!B58 &\" \"&Teilnehmerliste!C58","v":"Rauscher Petra"},{"$f":"IF(Finalrunde!$D$11=\"\",0,IF(Finalrunde!$D$11=Finalrunde!CP73,1,0))+IF(Finalrunde!$D$12=\"\",0,IF(Finalrunde!$D$12=Finalrunde!CP74,1,0))+IF(Finalrunde!$D$13=\"\",0,IF(Finalrunde!$D$13=Finalrunde!CP75,1,0))+IF(Finalrunde!$D$14=\"\",0,IF(Finalrunde!$D$14=Finalrunde!CP76,1,0))+IF(Finalrunde!$D$15=\"\",0,IF(Finalrunde!$D$15=Finalrunde!CP77,1,0))+IF(Finalrunde!$D$16=\"\",0,IF(Finalrunde!$D$16=Finalrunde!CP78,1,0))+IF(Finalrunde!$D$17=\"\",0,IF(Finalrunde!$D$17=Finalrunde!CP79,1,0))+IF(Finalrunde!$D$18=\"\",0,IF(Finalrunde!$D$18=Finalrunde!CP80,1,0))+IF(Finalrunde!$E$11=\"\",0,IF(Finalrunde!$E$11=Finalrunde!CS73,1,0))+IF(Finalrunde!$E$12=\"\",0,IF(Finalrunde!$E$12=Finalrunde!CS74,1,0))+IF(Finalrunde!$E$13=\"\",0,IF(Finalrunde!$E$13=Finalrunde!CS75,1,0))+IF(Finalrunde!$E$14=\"\",0,IF(Finalrunde!$E$14=Finalrunde!CS76,1,0))+IF(Finalrunde!$E$15=\"\",0,IF(Finalrunde!$E$15=Finalrunde!CS77,1,0))+IF(Finalrunde!$E$16=\"\",0,IF(Finalrunde!$E$16=Finalrunde!CS78,1,0))+IF(Finalrunde!$E$17=\"\",0,IF(Finalrunde!$E$17=Finalrunde!CS79,1,0))+IF(Finalrunde!$E$18=\"\",0,IF(Finalrunde!$E$18=Finalrunde!CS80,1,0))","v":7},5,{"$f":"IF(COUNTIF(Finalrunde!$D$11:$E$18,Finalrunde!CP73)<>0,\"0\",\"1\")+IF(COUNTIF(Finalrunde!$D$11:$E$18,Finalrunde!CP74)<>0,\"0\",\"1\")+IF(COUNTIF(Finalrunde!$D$11:$E$18,Finalrunde!CP75)<>0,\"0\",\"1\")+IF(COUNTIF(Finalrunde!$D$11:$E$18,Finalrunde!CP76)<>0,\"0\",\"1\")+IF(COUNTIF(Finalrunde!$D$11:$E$18,Finalrunde!CP77)<>0,\"0\",\"1\")+IF(COUNTIF(Finalrunde!$D$11:$E$18,Finalrunde!CP78)<>0,\"0\",\"1\")+IF(COUNTIF(Finalrunde!$D$11:$E$18,Finalrunde!CP79)<>0,\"0\",\"1\")+IF(COUNTIF(Finalrunde!$D$11:$E$18,Finalrunde!CP80)<>0,\"0\",\"1\")+IF(COUNTIF(Finalrunde!D$11:E$18,Finalrunde!CS73)<>0,\"0\",\"1\")+IF(COUNTIF(Finalrunde!$D$11:$E$18,Finalrunde!CS74)<>0,\"0\",\"1\")+IF(COUNTIF(Finalrunde!$D$11:$E$18,Finalrunde!CS75)<>0,\"0\",\"1\")+IF(COUNTIF(Finalrunde!$D$11:$E$18,Finalrunde!CS76)<>0,\"0\",\"1\")+IF(COUNTIF(Finalrunde!$D$11:$E$18,Finalrunde!CS77)<>0,\"0\",\"1\")+IF(COUNTIF(Finalrunde!$D$11:$E$18,Finalrunde!CS78)<>0,\"0\",\"1\")+IF(COUNTIF(Finalrunde!$D$11:$E$18,Finalrunde!CS79)<>0,\"0\",\"1\")+IF(COUNTIF(Finalrunde!$D$11:$E$18,Finalrunde!CS80)<>0,\"0\",\"1\")","v":4},null,53,"Rauscher Petra",{"$f":"IF(Finalrunde!$D$20=\"\",0,IF(Finalrunde!$D$20=Finalrunde!CP82,1,0))+IF(Finalrunde!$D$21=\"\",0,IF(Finalrunde!$D$21=Finalrunde!CP83,1,0))+IF(Finalrunde!$D$22=\"\",0,IF(Finalrunde!$D$22=Finalrunde!CP84,1,0))+IF(Finalrunde!$D$23=\"\",0,IF(Finalrunde!$D$23=Finalrunde!CP85,1,0))+IF(Finalrunde!$E$20=\"\",0,IF(Finalrunde!$E$20=Finalrunde!CS82,1,0))+IF(Finalrunde!$E$21=\"\",0,IF(Finalrunde!$E$21=Finalrunde!CS83,1,0))+IF(Finalrunde!$E$22=\"\",0,IF(Finalrunde!$E$22=Finalrunde!CS84,1,0))+IF(Finalrunde!$E$23=\"\",0,IF(Finalrunde!$E$23=Finalrunde!CS85,1,0))","v":4},1,{"$f":"IF(COUNTIF(Finalrunde!$D$20:$E$23,Finalrunde!CP82)<>0,\"0\",\"1\")+IF(COUNTIF(Finalrunde!$D$20:$E$23,Finalrunde!CP83)<>0,\"0\",\"1\")+IF(COUNTIF(Finalrunde!$D$20:$E$23,Finalrunde!CP84)<>0,\"0\",\"1\")+IF(COUNTIF(Finalrunde!$D$20:$E$23,Finalrunde!CP85)<>0,\"0\",\"1\")+IF(COUNTIF(Finalrunde!$D$20:$E$23,Finalrunde!CS82)<>0,\"0\",\"1\")+IF(COUNTIF(Finalrunde!$D$20:$E$23,Finalrunde!CS83)<>0,\"0\",\"1\")+IF(COUNTIF(Finalrunde!$D$20:$E$23,Finalrunde!CS84)<>0,\"0\",\"1\")+IF(COUNTIF(Finalrunde!$D$20:$E$23,Finalrunde!CS85)<>0,\"0\",\"1\")","v":3},null,53,"Rauscher Petra",{"$f":"IF(Finalrunde!$D$25=\"\",0,IF(Finalrunde!$D$25=Finalrunde!CP87,1,0))+IF(Finalrunde!$D$26=\"\",0,IF(Finalrunde!$D$26=Finalrunde!CP88,1,0))+IF(Finalrunde!$E$25=\"\",0,IF(Finalrunde!$E$25=Finalrunde!CS87,1,0))+IF(Finalrunde!$E$26=\"\",0,IF(Finalrunde!$E$26=Finalrunde!CS88,1,0))","v":1},1,{"$f":"IF(COUNTIF(Finalrunde!$D$25:$E$26,Finalrunde!CP87)<>0,\"0\",\"1\")+IF(COUNTIF(Finalrunde!$D$25:$E$26,Finalrunde!CP88)<>0,\"0\",\"1\")+IF(COUNTIF(Finalrunde!$D$25:$E$26,Finalrunde!CS87)<>0,\"0\",\"1\")+IF(COUNTIF(Finalrunde!$D$25:$E$26,Finalrunde!CS88)<>0,\"0\",\"1\")","v":2}]
[{"$f":"Teilnehmerliste!$A$59","v":54},{"$f":"Teilnehmerliste!B59 &\" \"&Teilnehmerliste!C59","v":"Rohner Martin"},{"$f":"IF(Finalrunde!$D$11=\"\",0,IF(Finalrunde!$D$11=Finalrunde!CW73,1,0))+IF(Finalrunde!$D$12=\"\",0,IF(Finalrunde!$D$12=Finalrunde!CW74,1,0))+IF(Finalrunde!$D$13=\"\",0,IF(Finalrunde!$D$13=Finalrunde!CW75,1,0))+IF(Finalrunde!$D$14=\"\",0,IF(Finalrunde!$D$14=Finalrunde!CW76,1,0))+IF(Finalrunde!$D$15=\"\",0,IF(Finalrunde!$D$15=Finalrunde!CW77,1,0))+IF(Finalrunde!$D$16=\"\",0,IF(Finalrunde!$D$16=Finalrunde!CW78,1,0))+IF(Finalrunde!$D$17=\"\",0,IF(Finalrunde!$D$17=Finalrunde!CW79,1,0))+IF(Finalrunde!$D$18=\"\",0,IF(Finalrunde!$D$18=Finalrunde!CW80,1,0))+IF(Finalrunde!$E$11=\"\",0,IF(Finalrunde!$E$11=Finalrunde!CZ73,1,0))+IF(Finalrunde!$E$12=\"\",0,IF(Finalrunde!$E$12=Finalrunde!CZ74,1,0))+IF(Finalrunde!$E$13=\"\",0,IF(Finalrunde!$E$13=Finalrunde!CZ75,1,0))+IF(Finalrunde!$E$14=\"\",0,IF(Finalrunde!$E$14=Finalrunde!CZ76,1,0))+IF(Finalrunde!$E$15=\"\",0,IF(Finalrunde!$E$15=Finalrunde!CZ77,1,0))+IF(Finalrunde!$E$16=\"\",0,IF(Finalrunde!$E$16=Finalrunde!CZ78,1,0))+IF(Finalrunde!$E$17=\"\",0,IF(Finalrunde!$E$17=Finalrunde!CZ79,1,0))+IF(Finalrunde!$E$18=\"\",0,IF(Finalrunde!$E$18=Finalrunde!CZ80,1,0))","v":6},7,{"$f":"IF(COUNTIF(Finalrunde!$D$11:$E$18,Finalrunde!CW73)<>0,\"0\",\"1\")+IF(COUNTIF(Finalrunde!$D$11:$E$18,Finalrunde!CW74)<>0,\"0\",\"1\")+IF(COUNTIF(Finalrunde!$D$11:$E$18,Finalrunde!CW75)<>0,\"0\",\"1\")+IF(COUNTIF(Finalrunde!$D$11:$E$18,Finalrunde!CW76)<>0,\"0\",\"1\")+IF(COUNTIF(Finalrunde!$D$11:$E$18,Finalrunde!CW77)<>0,\"0\",\"1\")+IF(COUNTIF(Finalrunde!$D$11:$E$18,Finalrunde!CW78)<>0,\"0\",\"1\")+IF(COUNTIF(Finalrunde!$D$11:$E$18,Finalrunde!CW79)<>0,\"0\",\"1\")+IF(COUNTIF(Finalrunde!$D$11:$E$18,Finalrunde!CW80)<>0,\"0\",\"1\")+IF(COUNTIF(Finalrunde!D$11:E$18,Finalrunde!CZ73)<>0,\"0\",\"1\")+IF(COUNTIF(Finalrunde!$D$11:$E$18,Finalrunde!CZ74)<>0,\"0\",\"1\")+IF(COUNTIF(Finalrunde!$D$11:$E$18,Finalrunde!CZ75)<>0,\"0\",\"1\")+IF(COUNTIF(Finalrunde!$D$11:$E$18,Finalrunde!CZ76)<>0,\"0\",\"1\")+IF(COUNTIF(Finalrunde!$D$11:$E$18,Finalrunde!CZ77)<>0,\"0\",\"1\")+IF(COUNTIF(Finalrunde!$D$11:$E$18,Finalrunde!CZ78)<>0,\"0\",\"1\")+IF(COUNTIF(Finalrunde!$D$11:$E$18,Finalrunde!CZ79)<>0,\"0\",\"1\")+IF(COUNTIF(Finalrunde!$D$11:$E$18,Finalrunde!CZ80)<>0,\"0\",\"1\")","v":3},null,54,"Rohner Martin",{"$f":"IF(Finalrunde!$D$20=\"\",0,IF(Finalrunde!$D$20=Finalrunde!CW82,1,0))+IF(Finalrunde!$D$21=\"\",0,IF(Finalrunde!$D$21=Finalrunde!CW83,1,0))+IF(Finalrunde!$D$22=\"\",0,IF(Finalrunde!$D$22=Finalrunde!CW84,1,0))+IF(Finalrunde!$D$23=\"\",0,IF(Finalrunde!$D$23=Finalrunde!CW85,1,0))+IF(Finalrunde!$E$20=\"\",0,IF(Finalrunde!$E$20=Finalrunde!CZ82,1,0))+IF(Finalrunde!$E$21=\"\",0,IF(Finalrunde!$E$21=Finalrunde!CZ83,1,0))+IF(Finalrunde!$E$22=\"\",0,IF(Finalrunde!$E$22=Finalrunde!CZ84,1,0))+IF(Finalrunde!$E$23=\"\",0,IF(Finalrunde!$E$23=Finalrunde!CZ85,1,0))","v":5},1,{"$f":"IF(COUNTIF(Finalrunde!$D$20:$E$23,Finalrunde!CW82)<>0,\"0\",\"1\")+IF(COUNTIF(Finalrunde!$D$20:$E$23,Finalrunde!CW83)<>0,\"0\",\"1\")+IF(COUNTIF(Finalrunde!$D$20:$E$23,Finalrunde!CW84)<>0,\"0\",\"1\")+IF(COUNTIF(Finalrunde!$D$20:$E$23,Finalrunde!CW85)<>0,\"0\",\"1\")+IF(COUNTIF(Finalrunde!$D$20:$E$23,Finalrunde!CZ82)<>0,\"0\",\"1\")+IF(COUNTIF(Finalrunde!$D$20:$E$23,Finalrunde!CZ83)<>0,\"0\",\"1\")+IF(COUNTIF(Finalrunde!$D$20:$E$23,Finalrunde!CZ84)<>0,\"0\",\"1\")+IF(COUNTIF(Finalrunde!$D$20:$E$23,Finalrunde!CZ85)<>0,\"0\",\"1\")","v":2},null,54,"Rohner Martin",{"$f":"IF(Finalrunde!$D$25=\"\",0,IF(Finalrunde!$D$25=Finalrunde!CW87,1,0))+IF(Finalrunde!$D$26=\"\",0,IF(Finalrunde!$D$26=Finalrunde!CW88,1,0))+IF(Finalrunde!$E$25=\"\",0,IF(Finalrunde!$E$25=Finalrunde!CZ87,1,0))+IF(Finalrunde!$E$26=\"\",0,IF(Finalrunde!$E$26=Finalrunde!CZ88,1,0))","v":1},1,{"$f":"IF(COUNTIF(Finalrunde!$D$25:$E$26,Finalrunde!CW87)<>0,\"0\",\"1\")+IF(COUNTIF(Finalrunde!$D$25:$E$26,Finalrunde!CW88)<>0,\"0\",\"1\")+IF(COUNTIF(Finalrunde!$D$25:$E$26,Finalrunde!CZ87)<>0,\"0\",\"1\")+IF(COUNTIF(Finalrunde!$D$25:$E$26,Finalrunde!CZ88)<>0,\"0\",\"1\")","v":2}]
[{"$f":"Teilnehmerliste!$A$60","v":55},{"$f":"Teilnehmerliste!B60 &\" \"&Teilnehmerliste!C60","v":"Rüegg Lynn"},{"$f":"IF(Finalrunde!$D$11=\"\",0,IF(Finalrunde!$D$11=Finalrunde!DD73,1,0))+IF(Finalrunde!$D$12=\"\",0,IF(Finalrunde!$D$12=Finalrunde!DD74,1,0))+IF(Finalrunde!$D$13=\"\",0,IF(Finalrunde!$D$13=Finalrunde!DD75,1,0))+IF(Finalrunde!$D$14=\"\",0,IF(Finalrunde!$D$14=Finalrunde!DD76,1,0))+IF(Finalrunde!$D$15=\"\",0,IF(Finalrunde!$D$15=Finalrunde!DD77,1,0))+IF(Finalrunde!$D$16=\"\",0,IF(Finalrunde!$D$16=Finalrunde!DD78,1,0))+IF(Finalrunde!$D$17=\"\",0,IF(Finalrunde!$D$17=Finalrunde!DD79,1,0))+IF(Finalrunde!$D$18=\"\",0,IF(Finalrunde!$D$18=Finalrunde!DD80,1,0))+IF(Finalrunde!$E$11=\"\",0,IF(Finalrunde!$E$11=Finalrunde!DG73,1,0))+IF(Finalrunde!$E$12=\"\",0,IF(Finalrunde!$E$12=Finalrunde!DG74,1,0))+IF(Finalrunde!$E$13=\"\",0,IF(Finalrunde!$E$13=Finalrunde!DG75,1,0))+IF(Finalrunde!$E$14=\"\",0,IF(Finalrunde!$E$14=Finalrunde!DG76,1,0))+IF(Finalrunde!$E$15=\"\",0,IF(Finalrunde!$E$15=Finalrunde!DG77,1,0))+IF(Finalrunde!$E$16=\"\",0,IF(Finalrunde!$E$16=Finalrunde!DG78,1,0))+IF(Finalrunde!$E$17=\"\",0,IF(Finalrunde!$E$17=Finalrunde!DG79,1,0))+IF(Finalrunde!$E$18=\"\",0,IF(Finalrunde!$E$18=Finalrunde!DG80,1,0))","v":4},8,{"$f":"IF(COUNTIF(Finalrunde!$D$11:$E$18,Finalrunde!DD73)<>0,\"0\",\"1\")+IF(COUNTIF(Finalrunde!$D$11:$E$18,Finalrunde!DD74)<>0,\"0\",\"1\")+IF(COUNTIF(Finalrunde!$D$11:$E$18,Finalrunde!DD75)<>0,\"0\",\"1\")+IF(COUNTIF(Finalrunde!$D$11:$E$18,Finalrunde!DD76)<>0,\"0\",\"1\")+IF(COUNTIF(Finalrunde!$D$11:$E$18,Finalrunde!DD77)<>0,\"0\",\"1\")+IF(COUNTIF(Finalrunde!$D$11:$E$18,Finalrunde!DD78)<>0,\"0\",\"1\")+IF(COUNTIF(Finalrunde!$D$11:$E$18,Finalrunde!DD79)<>0,\"0\",\"1\")+IF(COUNTIF(Finalrunde!$D$11:$E$18,Finalrunde!DD80)<>0,\"0\",\"1\")+IF(COUNTIF(Finalrunde!D$11:E$18,Finalrunde!DG73)<>0,\"0\",\"1\")+IF(COUNTIF(Finalrunde!$D$11:$E$18,Finalrunde!DG74)<>0,\"0\",\"1\")+IF(COUNTIF(Finalrunde!$D$11:$E$18,Finalrunde!DG75)<>0,\"0\",\"1\")+IF(COUNTIF(Finalrunde!$D$11:$E$18,Finalrunde!DG76)<>0,\"0\",\"1\")+IF(COUNTIF(Finalrunde!$D$11:$E$18,Finalrunde!DG77)<>0,\"0\",\"1\")+IF(COUNTIF(Finalrunde!$D$11:$E$18,Finalrunde!DG78)<>0,\"0\",\"1\")+IF(COUNTIF(Finalrunde!$D$11:$E$18,Finalrunde!DG79)<>0,\"0\",\"1\")+IF(COUNTIF(Finalrunde!$D$11:$E$18,Finalrunde!DG80)<>0,\"0\",\"1\")","v":4},null,55,"Rüegg Lynn",{"$f":"IF(Finalrunde!$D$20=\"\",0,IF(Finalrunde!$D$20=Finalrunde!DD82,1,0))+IF(Finalrunde!$D$21=\"\",0,IF(Finalrunde!$D$21=Finalrunde!DD83,1,0))+IF(Finalrunde!$D$22=\"\",0,IF(Finalrunde!$D$22=Finalrunde!DD84,1,0))+IF(Finalrunde!$D$23=\"\",0,IF(Finalrunde!$D$23=Finalrunde!DD85,1,0))+IF(Finalrunde!$E$20=\"\",0,IF(Finalrunde!$E$20=Finalrunde!DG82,1,0))+IF(Finalrunde!$E$21=\"\",0,IF(Finalrunde!$E$21=Finalrunde!DG83,1,0))+IF(Finalrunde!$E$22=\"\",0,IF(Finalrunde!$E$22=Finalrunde!DG84,1,0))+IF(Finalrunde!$E$23=\"\",0,IF(Finalrunde!$E$23=Finalrunde!DG85,1,0))","v":3},2,{"$f":"IF(COUNTIF(Finalrunde!$D$20:$E$23,Finalrunde!DD82)<>0,\"0\",\"1\")+IF(COUNTIF(Finalrunde!$D$20:$E$23,Finalrunde!DD83)<>0,\"0\",\"1\")+IF(COUNTIF(Finalrunde!$D$20:$E$23,Finalrunde!DD84)<>0,\"0\",\"1\")+IF(COUNTIF(Finalrunde!$D$20:$E$23,Finalrunde!DD85)<>0,\"0\",\"1\")+IF(COUNTIF(Finalrunde!$D$20:$E$23,Finalrunde!DG82)<>0,\"0\",\"1\")+IF(COUNTIF(Finalrunde!$D$20:$E$23,Finalrunde!DG83)<>0,\"0\",\"1\")+IF(COUNTIF(Finalrunde!$D$20:$E$23,Finalrunde!DG84)<>0,\"0\",\"1\")+IF(COUNTIF(Finalrunde!$D$20:$E$23,Finalrunde!DG85)<>0,\"0\",\"1\")","v":3},null,55,"Rüegg Lynn",{"$f":"IF(Finalrunde!$D$25=\"\",0,IF(Finalrunde!$D$25=Finalrunde!DD87,1,0))+IF(Finalrunde!$D$26=\"\",0,IF(Finalrunde!$D$26=Finalrunde!DD88,1,0))+IF(Finalrunde!$E$25=\"\",0,IF(Finalrunde!$E$25=Finalrunde!DG87,1,0))+IF(Finalrunde!$E$26=\"\",0,IF(Finalrunde!$E$26=Finalrunde!DG88,1,0))","v":1},1,{"$f":"IF(COUNTIF(Finalrunde!$D$25:$E$26,Finalrunde!DD87)<>0,\"0\",\"1\")+IF(COUNTIF(Finalrunde!$D$25:$E$26,Finalrunde!DD88)<>0,\"0\",\"1\")+IF(COUNTIF(Finalrunde!$D$25:$E$26,Finalrunde!DG87)<>0,\"0\",\"1\")+IF(COUNTIF(Finalrunde!$D$25:$E$26,Finalrunde!DG88)<>0,\"0\",\"1\")","v":2}]
[{"$f":"Teilnehmerliste!$A$61","v":56},{"$f":"Teilnehmerliste!B61 &\" \"&Teilnehmerliste!C61","v":"Rüegg Michael"},{"$f":"IF(Finalrunde!$D$11=\"\",0,IF(Finalrunde!$D$11=Finalrunde!DK73,1,0))+IF(Finalrunde!$D$12=\"\",0,IF(Finalrunde!$D$12=Finalrunde!DK74,1,0))+IF(Finalrunde!$D$13=\"\",0,IF(Finalrunde!$D$13=Finalrunde!DK75,1,0))+IF(Finalrunde!$D$14=\"\",0,IF(Finalrunde!$D$14=Finalrunde!DK76,1,0))+IF(Finalrunde!$D$15=\"\",0,IF(Finalrunde!$D$15=Finalrunde!DK77,1,0))+IF(Finalrunde!$D$16=\"\",0,IF(Finalrunde!$D$16=Finalrunde!DK78,1,0))+IF(Finalrunde!$D$17=\"\",0,IF(Finalrunde!$D$17=Finalrunde!DK79,1,0))+IF(Finalrunde!$D$18=\"\",0,IF(Finalrunde!$D$18=Finalrunde!DK80,1,0))+IF(Finalrunde!$E$11=\"\",0,IF(Finalrunde!$E$11=Finalrunde!DN73,1,0))+IF(Finalrunde!$E$12=\"\",0,IF(Finalrunde!$E$12=Finalrunde!DN74,1,0))+IF(Finalrunde!$E$13=\"\",0,IF(Finalrunde!$E$13=Finalrunde!DN75,1,0))+IF(Finalrunde!$E$14=\"\",0,IF(Finalrunde!$E$14=Finalrunde!DN76,1,0))+IF(Finalrunde!$E$15=\"\",0,IF(Finalrunde!$E$15=Finalrunde!DN77,1,0))+IF(Finalrunde!$E$16=\"\",0,IF(Finalrunde!$E$16=Finalrunde!DN78,1,0))+IF(Finalrunde!$E$17=\"\",0,IF(Finalrunde!$E$17=Finalrunde!DN79,1,0))+IF(Finalrunde!$E$18=\"\",0,IF(Finalrunde!$E$18=Finalrunde!DN80,1,0))","v":6},6,{"$f":"IF(COUNTIF(Finalrunde!$D$11:$E$18,Finalrunde!DK73)<>0,\"0\",\"1\")+IF(COUNTIF(Finalrunde!$D$11:$E$18,Finalrunde!DK74)<>0,\"0\",\"1\")+IF(COUNTIF(Finalrunde!$D$11:$E$18,Finalrunde!DK75)<>0,\"0\",\"1\")+IF(COUNTIF(Finalrunde!$D$11:$E$18,Finalrunde!DK76)<>0,\"0\",\"1\")+IF(COUNTIF(Finalrunde!$D$11:$E$18,Finalrunde!DK77)<>0,\"0\",\"1\")+IF(COUNTIF(Finalrunde!$D$11:$E$18,Finalrunde!DK78)<>0,\"0\",\"1\")+IF(COUNTIF(Finalrunde!$D$11:$E$18,Finalrunde!DK79)<>0,\"0\",\"1\")+IF(COUNTIF(Finalrunde!$D$11:$E$18,Finalrunde!DK80)<>0,\"0\",\"1\")+IF(COUNTIF(Finalrunde!D$11:E$18,Finalrunde!DN73)<>0,\"0\",\"1\")+IF(COUNTIF(Finalrunde!$D$11:$E$18,Finalrunde!DN74)<>0,\"0\",\"1\")+IF(COUNTIF(Finalrunde!$D$11:$E$18,Finalrunde!DN75)<>0,\"0\",\"1\")+IF(COUNTIF(Finalrunde!$D$11:$E$18,Finalrunde!DN76)<>0,\"0\",\"1\")+IF(COUNTIF(Finalrunde!$D$11:$E$18,Finalrunde!DN77)<>0,\"0\",\"1\")+IF(COUNTIF(Finalrunde!$D$11:$E$18,Finalrunde!DN78)<>0,\"0\",\"1\")+IF(COUNTIF(Finalrunde!$D$11:$E$18,Finalrunde!DN79)<>0,\"0\",\"1\")+IF(COUNTIF(Finalrunde!$D$11:$E$18,Finalrunde!DN80)<>0,\"0\",\"1\")","v":4},null,56,"Rüegg Michael",{"$f":"IF(Finalrunde!$D$20=\"\",0,IF(Finalrunde!$D$20=Finalrunde!DK82,1,0))+IF(Finalrunde!$D$21=\"\",0,IF(Finalrunde!$D$21=Finalrunde!DK83,1,0))+IF(Finalrunde!$D$22=\"\",0,IF(Finalrunde!$D$22=Finalrunde!DK84,1,0))+IF(Finalrunde!$D$23=\"\",0,IF(Finalrunde!$D$23=Finalrunde!DK85,1,0))+IF(Finalrunde!$E$20=\"\",0,IF(Finalrunde!$E$20=Finalrunde!DN82,1,0))+IF(Finalrunde!$E$21=\"\",0,IF(Finalrunde!$E$21=Finalrunde!DN83,1,0))+IF(Finalrunde!$E$22=\"\",0,IF(Finalrunde!$E$22=Finalrunde!DN84,1,0))+IF(Finalrunde!$E$23=\"\",0,IF(Finalrunde!$E$23=Finalrunde!DN85,1,0))","v":4},1,{"$f":"IF(COUNTIF(Finalrunde!$D$20:$E$23,Finalrunde!DK82)<>0,\"0\",\"1\")+IF(COUNTIF(Finalrunde!$D$20:$E$23,Finalrunde!DK83)<>0,\"0\",\"1\")+IF(COUNTIF(Finalrunde!$D$20:$E$23,Finalrunde!DK84)<>0,\"0\",\"1\")+IF(COUNTIF(Finalrunde!$D$20:$E$23,Finalrunde!DK85)<>0,\"0\",\"1\")+IF(COUNTIF(Finalrunde!$D$20:$E$23,Finalrunde!DN82)<>0,\"0\",\"1\")+IF(COUNTIF(Finalrunde!$D$20:$E$23,Finalrunde!DN83)<>0,\"0\",\"1\")+IF(COUNTIF(Finalrunde!$D$20:$E$23,Finalrunde!DN84)<>0,\"0\",\"1\")+IF(COUNTIF(Finalrunde!$D$20:$E$23,Finalrunde!DN85)<>0,\"0\",\"1\")","v":3},null,56,"Rüegg Michael",{"$f":"IF(Finalrunde!$D$25=\"\",0,IF(Finalrunde!$D$25=Finalrunde!DK87,1,0))+IF(Finalrunde!$D$26=\"\",0,IF(Finalrunde!$D$26=Finalrunde!DK88,1,0))+IF(Finalrunde!$E$25=\"\",0,IF(Finalrunde!$E$25=Finalrunde!DN87,1,0))+IF(Finalrunde!$E$26=\"\",0,IF(Finalrunde!$E$26=Finalrunde!DN88,1,0))","v":1},1,{"$f":"IF(COUNTIF(Finalrunde!$D$25:$E$26,Finalrunde!DK87)<>0,\"0\",\"1\")+IF(COUNTIF(Finalrunde!$D$25:$E$26,Finalrunde!DK88)<>0,\"0\",\"1\")+IF(COUNTIF(Finalrunde!$D$25:$E$26,Finalrunde!DN87)<>0,\"0\",\"1\")+IF(COUNTIF(Finalrunde!$D$25:$E$26,Finalrunde!DN88)<>0,\"0\",\"1\")","v":2}]
[{"$f":"Teilnehmerliste!$A$62","v":57},{"$f":"Teilnehmerliste!B62 &\" \"&Teilnehmerliste!C62","v":"Rüegg Sabine"},{"$f":"IF(Finalrunde!$D$11=\"\",0,IF(Finalrunde!$D$11=Finalrunde!DR73,1,0))+IF(Finalrunde!$D$12=\"\",0,IF(Finalrunde!$D$12=Finalrunde!DR74,1,0))+IF(Finalrunde!$D$13=\"\",0,IF(Finalrunde!$D$13=Finalrunde!DR75,1,0))+IF(Finalrunde!$D$14=\"\",0,IF(Finalrunde!$D$14=Finalrunde!DR76,1,0))+IF(Finalrunde!$D$15=\"\",0,IF(Finalrunde!$D$15=Finalrunde!DR77,1,0))+IF(Finalrunde!$D$16=\"\",0,IF(Finalrunde!$D$16=Finalrunde!DR78,1,0))+IF(Finalrunde!$D$17=\"\",0,IF(Finalrunde!$D$17=Finalrunde!DR79,1,0))+IF(Finalrunde!$D$18=\"\",0,IF(Finalrunde!$D$18=Finalrunde!DR80,1,0))+IF(Finalrunde!$E$11=\"\",0,IF(Finalrunde!$E$11=Finalrunde!DU73,1,0))+IF(Finalrunde!$E$12=\"\",0,IF(Finalrunde!$E$12=Finalrunde!DU74,1,0))+IF(Finalrunde!$E$13=\"\",0,IF(Finalrunde!$E$13=Finalrunde!DU75,1,0))+IF(Finalrunde!$E$14=\"\",0,IF(Finalrunde!$E$14=Finalrunde!DU76,1,0))+IF(Finalrunde!$E$15=\"\",0,IF(Finalrunde!$E$15=Finalrunde!DU77,1,0))+IF(Finalrunde!$E$16=\"\",0,IF(Finalrunde!$E$16=Finalrunde!DU78,1,0))+IF(Finalrunde!$E$17=\"\",0,IF(Finalrunde!$E$17=Finalrunde!DU79,1,0))+IF(Finalrunde!$E$18=\"\",0,IF(Finalrunde!$E$18=Finalrunde!DU80,1,0))","v":5},7,{"$f":"IF(COUNTIF(Finalrunde!$D$11:$E$18,Finalrunde!DR73)<>0,\"0\",\"1\")+IF(COUNTIF(Finalrunde!$D$11:$E$18,Finalrunde!DR74)<>0,\"0\",\"1\")+IF(COUNTIF(Finalrunde!$D$11:$E$18,Finalrunde!DR75)<>0,\"0\",\"1\")+IF(COUNTIF(Finalrunde!$D$11:$E$18,Finalrunde!DR76)<>0,\"0\",\"1\")+IF(COUNTIF(Finalrunde!$D$11:$E$18,Finalrunde!DR77)<>0,\"0\",\"1\")+IF(COUNTIF(Finalrunde!$D$11:$E$18,Finalrunde!DR78)<>0,\"0\",\"1\")+IF(COUNTIF(Finalrunde!$D$11:$E$18,Finalrunde!DR79)<>0,\"0\",\"1\")+IF(COUNTIF(Finalrunde!$D$11:$E$18,Finalrunde!DR80)<>0,\"0\",\"1\")+IF(COUNTIF(Finalrunde!D$11:E$18,Finalrunde!DU73)<>0,\"0\",\"1\")+IF(COUNTIF(Finalrunde!$D$11:$E$18,Finalrunde!DU74)<>0,\"0\",\"1\")+IF(COUNTIF(Finalrunde!$D$11:$E$18,Finalrunde!DU75)<>0,\"0\",\"1\")+IF(COUNTIF(Finalrunde!$D$11:$E$18,Finalrunde!DU76)<>0,\"0\",\"1\")+IF(COUNTIF(Finalrunde!$D$11:$E$18,Finalrunde!DU77)<>0,\"0\",\"1\")+IF(COUNTIF(Finalrunde!$D$11:$E$18,Finalrunde!DU78)<>0,\"0\",\"1\")+IF(COUNTIF(Finalrunde!$D$11:$E$18,Finalrunde!DU79)<>0,\"0\",\"1\")+IF(COUNTIF(Finalrunde!$D$11:$E$18,Finalrunde!DU80)<>0,\"0\",\"1\")","v":4},null,57,"Rüegg Sabine",{"$f":"IF(Finalrunde!$D$20=\"\",0,IF(Finalrunde!$D$20=Finalrunde!DR82,1,0))+IF(Finalrunde!$D$21=\"\",0,IF(Finalrunde!$D$21=Finalrunde!DR83,1,0))+IF(Finalrunde!$D$22=\"\",0,IF(Finalrunde!$D$22=Finalrunde!DR84,1,0))+IF(Finalrunde!$D$23=\"\",0,IF(Finalrunde!$D$23=Finalrunde!DR85,1,0))+IF(Finalrunde!$E$20=\"\",0,IF(Finalrunde!$E$20=Finalrunde!DU82,1,0))+IF(Finalrunde!$E$21=\"\",0,IF(Finalrunde!$E$21=Finalrunde!DU83,1,0))+IF(Finalrunde!$E$22=\"\",0,IF(Finalrunde!$E$22=Finalrunde!DU84,1,0))+IF(Finalrunde!$E$23=\"\",0,IF(Finalrunde!$E$23=Finalrunde!DU85,1,0))","v":3},3,{"$f":"IF(COUNTIF(Finalrunde!$D$20:$E$23,Finalrunde!DR82)<>0,\"0\",\"1\")+IF(COUNTIF(Finalrunde!$D$20:$E$23,Finalrunde!DR83)<>0,\"0\",\"1\")+IF(COUNTIF(Finalrunde!$D$20:$E$23,Finalrunde!DR84)<>0,\"0\",\"1\")+IF(COUNTIF(Finalrunde!$D$20:$E$23,Finalrunde!DR85)<>0,\"0\",\"1\")+IF(COUNTIF(Finalrunde!$D$20:$E$23,Finalrunde!DU82)<>0,\"0\",\"1\")+IF(COUNTIF(Finalrunde!$D$20:$E$23,Finalrunde!DU83)<>0,\"0\",\"1\")+IF(COUNTIF(Finalrunde!$D$20:$E$23,Finalrunde!DU84)<>0,\"0\",\"1\")+IF(COUNTIF(Finalrunde!$D$20:$E$23,Finalrunde!DU85)<>0,\"0\",\"1\")","v":2},null,57,"Rüegg Sabine",{"$f":"IF(Finalrunde!$D$25=\"\",0,IF(Finalrunde!$D$25=Finalrunde!DR87,1,0))+IF(Finalrunde!$D$26=\"\",0,IF(Finalrunde!$D$26=Finalrunde!DR88,1,0))+IF(Finalrunde!$E$25=\"\",0,IF(Finalrunde!$E$25=Finalrunde!DU87,1,0))+IF(Finalrunde!$E$26=\"\",0,IF(Finalrunde!$E$26=Finalrunde!DU88,1,0))","v":1},1,{"$f":"IF(COUNTIF(Finalrunde!$D$25:$E$26,Finalrunde!DR87)<>0,\"0\",\"1\")+IF(COUNTIF(Finalrunde!$D$25:$E$26,Finalrunde!DR88)<>0,\"0\",\"1\")+IF(COUNTIF(Finalrunde!$D$25:$E$26,Finalrunde!DU87)<>0,\"0\",\"1\")+IF(COUNTIF(Finalrunde!$D$25:$E$26,Finalrunde!DU88)<>0,\"0\",\"1\")","v":2}]
[{"$f":"Teilnehmerliste!$A$63","v":58},{"$f":"Teilnehmerliste!B63 &\" \"&Teilnehmerliste!C63","v":"Schommarz Erich"},{"$f":"IF(Finalrunde!$D$11=\"\",0,IF(Finalrunde!$D$11=Finalrunde!DY73,1,0))+IF(Finalrunde!$D$12=\"\",0,IF(Finalrunde!$D$12=Finalrunde!DY74,1,0))+IF(Finalrunde!$D$13=\"\",0,IF(Finalrunde!$D$13=Finalrunde!DY75,1,0))+IF(Finalrunde!$D$14=\"\",0,IF(Finalrunde!$D$14=Finalrunde!DY76,1,0))+IF(Finalrunde!$D$15=\"\",0,IF(Finalrunde!$D$15=Finalrunde!DY77,1,0))+IF(Finalrunde!$D$16=\"\",0,IF(Finalrunde!$D$16=Finalrunde!DY78,1,0))+IF(Finalrunde!$D$17=\"\",0,IF(Finalrunde!$D$17=Finalrunde!DY79,1,0))+IF(Finalrunde!$D$18=\"\",0,IF(Finalrunde!$D$18=Finalrunde!DY80,1,0))+IF(Finalrunde!$E$11=\"\",0,IF(Finalrunde!$E$11=Finalrunde!EB73,1,0))+IF(Finalrunde!$E$12=\"\",0,IF(Finalrunde!$E$12=Finalrunde!EB74,1,0))+IF(Finalrunde!$E$13=\"\",0,IF(Finalrunde!$E$13=Finalrunde!EB75,1,0))+IF(Finalrunde!$E$14=\"\",0,IF(Finalrunde!$E$14=Finalrunde!EB76,1,0))+IF(Finalrunde!$E$15=\"\",0,IF(Finalrunde!$E$15=Finalrunde!EB77,1,0))+IF(Finalrunde!$E$16=\"\",0,IF(Finalrunde!$E$16=Finalrunde!EB78,1,0))+IF(Finalrunde!$E$17=\"\",0,IF(Finalrunde!$E$17=Finalrunde!EB79,1,0))+IF(Finalrunde!$E$18=\"\",0,IF(Finalrunde!$E$18=Finalrunde!EB80,1,0))","v":8},5,{"$f":"IF(COUNTIF(Finalrunde!$D$11:$E$18,Finalrunde!DY73)<>0,\"0\",\"1\")+IF(COUNTIF(Finalrunde!$D$11:$E$18,Finalrunde!DY74)<>0,\"0\",\"1\")+IF(COUNTIF(Finalrunde!$D$11:$E$18,Finalrunde!DY75)<>0,\"0\",\"1\")+IF(COUNTIF(Finalrunde!$D$11:$E$18,Finalrunde!DY76)<>0,\"0\",\"1\")+IF(COUNTIF(Finalrunde!$D$11:$E$18,Finalrunde!DY77)<>0,\"0\",\"1\")+IF(COUNTIF(Finalrunde!$D$11:$E$18,Finalrunde!DY78)<>0,\"0\",\"1\")+IF(COUNTIF(Finalrunde!$D$11:$E$18,Finalrunde!DY79)<>0,\"0\",\"1\")+IF(COUNTIF(Finalrunde!$D$11:$E$18,Finalrunde!DY80)<>0,\"0\",\"1\")+IF(COUNTIF(Finalrunde!D$11:E$18,Finalrunde!EB73)<>0,\"0\",\"1\")+IF(COUNTIF(Finalrunde!$D$11:$E$18,Finalrunde!EB74)<>0,\"0\",\"1\")+IF(COUNTIF(Finalrunde!$D$11:$E$18,Finalrunde!EB75)<>0,\"0\",\"1\")+IF(COUNTIF(Finalrunde!$D$11:$E$18,Finalrunde!EB76)<>0,\"0\",\"1\")+IF(COUNTIF(Finalrunde!$D$11:$E$18,Finalrunde!EB77)<>0,\"0\",\"1\")+IF(COUNTIF(Finalrunde!$D$11:$E$18,Finalrunde!EB78)<>0,\"0\",\"1\")+IF(COUNTIF(Finalrunde!$D$11:$E$18,Finalrunde!EB79)<>0,\"0\",\"1\")+IF(COUNTIF(Finalrunde!$D$11:$E$18,Finalrunde!EB80)<>0,\"0\",\"1\")","v":3},null,58,"Schommarz Erich",{"$f":"IF(Finalrunde!$D$20=\"\",0,IF(Finalrunde!$D$20=Finalrunde!DY82,1,0))+IF(Finalrunde!$D$21=\"\",0,IF(Finalrunde!$D$21=Finalrunde!DY83,1,0))+IF(Finalrunde!$D$22=\"\",0,IF(Finalrunde!$D$22=Finalrunde!DY84,1,0))+IF(Finalrunde!$D$23=\"\",0,IF(Finalrunde!$D$23=Finalrunde!DY85,1,0))+IF(Finalrunde!$E$20=\"\",0,IF(Finalrunde!$E$20=Finalrunde!EB82,1,0))+IF(Finalrunde!$E$21=\"\",0,IF(Finalrunde!$E$21=Finalrunde!EB83,1,0))+IF(Finalrunde!$E$22=\"\",0,IF(Finalrunde!$E$22=Finalrunde!EB84,1,0))+IF(Finalrunde!$E$23=\"\",0,IF(Finalrunde!$E$23=Finalrunde!EB85,1,0))","v":4},2,{"$f":"IF(COUNTIF(Finalrunde!$D$20:$E$23,Finalrunde!DY82)<>0,\"0\",\"1\")+IF(COUNTIF(Finalrunde!$D$20:$E$23,Finalrunde!DY83)<>0,\"0\",\"1\")+IF(COUNTIF(Finalrunde!$D$20:$E$23,Finalrunde!DY84)<>0,\"0\",\"1\")+IF(COUNTIF(Finalrunde!$D$20:$E$23,Finalrunde!DY85)<>0,\"0\",\"1\")+IF(COUNTIF(Finalrunde!$D$20:$E$23,Finalrunde!EB82)<>0,\"0\",\"1\")+IF(COUNTIF(Finalrunde!$D$20:$E$23,Finalrunde!EB83)<>0,\"0\",\"1\")+IF(COUNTIF(Finalrunde!$D$20:$E$23,Finalrunde!EB84)<>0,\"0\",\"1\")+IF(COUNTIF(Finalrunde!$D$20:$E$23,Finalrunde!EB85)<>0,\"0\",\"1\")","v":2},null,58,"Schommarz Erich",{"$f":"IF(Finalrunde!$D$25=\"\",0,IF(Finalrunde!$D$25=Finalrunde!DY87,1,0))+IF(Finalrunde!$D$26=\"\",0,IF(Finalrunde!$D$26=Finalrunde!DY88,1,0))+IF(Finalrunde!$E$25=\"\",0,IF(Finalrunde!$E$25=Finalrunde!EB87,1,0))+IF(Finalrunde!$E$26=\"\",0,IF(Finalrunde!$E$26=Finalrunde!EB88,1,0))","v":1},2,{"$f":"IF(COUNTIF(Finalrunde!$D$25:$E$26,Finalrunde!DY87)<>0,\"0\",\"1\")+IF(COUNTIF(Finalrunde!$D$25:$E$26,Finalrunde!DY88)<>0,\"0\",\"1\")+IF(COUNTIF(Finalrunde!$D$25:$E$26,Finalrunde!EB87)<>0,\"0\",\"1\")+IF(COUNTIF(Finalrunde!$D$25:$E$26,Finalrunde!EB88)<>0,\"0\",\"1\")","v":1}]
[{"$f":"Teilnehmerliste!$A$64","v":59},{"$f":"Teilnehmerliste!B64 &\" \"&Teilnehmerliste!C64","v":"Schuster Ralph"},{"$f":"IF(Finalrunde!$D$11=\"\",0,IF(Finalrunde!$D$11=Finalrunde!EF73,1,0))+IF(Finalrunde!$D$12=\"\",0,IF(Finalrunde!$D$12=Finalrunde!EF74,1,0))+IF(Finalrunde!$D$13=\"\",0,IF(Finalrunde!$D$13=Finalrunde!EF75,1,0))+IF(Finalrunde!$D$14=\"\",0,IF(Finalrunde!$D$14=Finalrunde!EF76,1,0))+IF(Finalrunde!$D$15=\"\",0,IF(Finalrunde!$D$15=Finalrunde!EF77,1,0))+IF(Finalrunde!$D$16=\"\",0,IF(Finalrunde!$D$16=Finalrunde!EF78,1,0))+IF(Finalrunde!$D$17=\"\",0,IF(Finalrunde!$D$17=Finalrunde!EF79,1,0))+IF(Finalrunde!$D$18=\"\",0,IF(Finalrunde!$D$18=Finalrunde!EF80,1,0))+IF(Finalrunde!$E$11=\"\",0,IF(Finalrunde!$E$11=Finalrunde!EI73,1,0))+IF(Finalrunde!$E$12=\"\",0,IF(Finalrunde!$E$12=Finalrunde!EI74,1,0))+IF(Finalrunde!$E$13=\"\",0,IF(Finalrunde!$E$13=Finalrunde!EI75,1,0))+IF(Finalrunde!$E$14=\"\",0,IF(Finalrunde!$E$14=Finalrunde!EI76,1,0))+IF(Finalrunde!$E$15=\"\",0,IF(Finalrunde!$E$15=Finalrunde!EI77,1,0))+IF(Finalrunde!$E$16=\"\",0,IF(Finalrunde!$E$16=Finalrunde!EI78,1,0))+IF(Finalrunde!$E$17=\"\",0,IF(Finalrunde!$E$17=Finalrunde!EI79,1,0))+IF(Finalrunde!$E$18=\"\",0,IF(Finalrunde!$E$18=Finalrunde!EI80,1,0))","v":5},8,{"$f":"IF(COUNTIF(Finalrunde!$D$11:$E$18,Finalrunde!EF73)<>0,\"0\",\"1\")+IF(COUNTIF(Finalrunde!$D$11:$E$18,Finalrunde!EF74)<>0,\"0\",\"1\")+IF(COUNTIF(Finalrunde!$D$11:$E$18,Finalrunde!EF75)<>0,\"0\",\"1\")+IF(COUNTIF(Finalrunde!$D$11:$E$18,Finalrunde!EF76)<>0,\"0\",\"1\")+IF(COUNTIF(Finalrunde!$D$11:$E$18,Finalrunde!EF77)<>0,\"0\",\"1\")+IF(COUNTIF(Finalrunde!$D$11:$E$18,Finalrunde!EF78)<>0,\"0\",\"1\")+IF(COUNTIF(Finalrunde!$D$11:$E$18,Finalrunde!EF79)<>0,\"0\",\"1\")+IF(COUNTIF(Finalrunde!$D$11:$E$18,Finalrunde!EF80)<>0,\"0\",\"1\")+IF(COUNTIF(Finalrunde!D$11:E$18,Finalrunde!EI73)<>0,\"0\",\"1\")+IF(COUNTIF(Finalrunde!$D$11:$E$18,Finalrunde!EI74)<>0,\"0\",\"1\")+IF(COUNTIF(Finalrunde!$D$11:$E$18,Finalrunde!EI75)<>0,\"0\",\"1\")+IF(COUNTIF(Finalrunde!$D$11:$E$18,Finalrunde!EI76)<>0,\"0\",\"1\")+IF(COUNTIF(Finalrunde!$D$11:$E$18,Finalrunde!EI77)<>0,\"0\",\"1\")+IF(COUNTIF(Finalrunde!$D$11:$E$18,Finalrunde!EI78)<>0,\"0\",\"1\")+IF(COUNTIF(Finalrunde!$D$11:$E$18,Finalrunde!EI79)<>0,\"0\",\"1\")+IF(COUNTIF(Finalrunde!$D$11:$E$18,Finalrunde!EI80)<>0,\"0\",\"1\")","v":3},null,59,"Schuster Ralph",{"$f":"IF(Finalrunde!$D$20=\"\",0,IF(Finalrunde!$D$20=Finalrunde!EF82,1,0))+IF(Finalrunde!$D$21=\"\",0,IF(Finalrunde!$D$21=Finalrunde!EF83,1,0))+IF(Finalrunde!$D$22=\"\",0,IF(Finalrunde!$D$22=Finalrunde!EF84,1,0))+IF(Finalrunde!$D$23=\"\",0,IF(Finalrunde!$D$23=Finalrunde!EF85,1,0))+IF(Finalrunde!$E$20=\"\",0,IF(Finalrunde!$E$20=Finalrunde!EI82,1,0))+IF(Finalrunde!$E$21=\"\",0,IF(Finalrunde!$E$21=Finalrunde!EI83,1,0))+IF(Finalrunde!$E$22=\"\",0,IF(Finalrunde!$E$22=Finalrunde!EI84,1,0))+IF(Finalrunde!$E$23=\"\",0,IF(Finalrunde!$E$23=Finalrunde!EI85,1,0))","v":4},3,{"$f":"IF(COUNTIF(Finalrunde!$D$20:$E$23,Finalrunde!EF82)<>0,\"0\",\"1\")+IF(COUNTIF(Finalrunde!$D$20:$E$23,Finalrunde!EF83)<>0,\"0\",\"1\")+IF(COUNTIF(Finalrunde!$D$20:$E$23,Finalrunde!EF84)<>0,\"0\",\"1\")+IF(COUNTIF(Finalrunde!$D$20:$E$23,Finalrunde!EF85)<>0,\"0\",\"1\")+IF(COUNTIF(Finalrunde!$D$20:$E$23,Finalrunde!EI82)<>0,\"0\",\"1\")+IF(COUNTIF(Finalrunde!$D$20:$E$23,Finalrunde!EI83)<>0,\"0\",\"1\")+IF(COUNTIF(Finalrunde!$D$20:$E$23,Finalrunde!EI84)<>0,\"0\",\"1\")+IF(COUNTIF(Finalrunde!$D$20:$E$23,Finalrunde!EI85)<>0,\"0\",\"1\")","v":1},null,59,"Schuster Ralph",{"$f":"IF(Finalrunde!$D$25=\"\",0,IF(Finalrunde!$D$25=Finalrunde!EF87,1,0))+IF(Finalrunde!$D$26=\"\",0,IF(Finalrunde!$D$26=Finalrunde!EF88,1,0))+IF(Finalrunde!$E$25=\"\",0,IF(Finalrunde!$E$25=Finalrunde!EI87,1,0))+IF(Finalrunde!$E$26=\"\",0,IF(Finalrunde!$E$26=Finalrunde!EI88,1,0))","v":1},1,{"$f":"IF(COUNTIF(Finalrunde!$D$25:$E$26,Finalrunde!EF87)<>0,\"0\",\"1\")+IF(COUNTIF(Finalrunde!$D$25:$E$26,Finalrunde!EF88)<>0,\"0\",\"1\")+IF(COUNTIF(Finalrunde!$D$25:$E$26,Finalrunde!EI87)<>0,\"0\",\"1\")+IF(COUNTIF(Finalrunde!$D$25:$E$26,Finalrunde!EI88)<>0,\"0\",\"1\")","v":2}]
[{"$f":"Teilnehmerliste!$A$65","v":60},{"$f":"Teilnehmerliste!B65 &\" \"&Teilnehmerliste!C65","v":"Schwitter Corinne"},{"$f":"IF(Finalrunde!$D$11=\"\",0,IF(Finalrunde!$D$11=Finalrunde!EM73,1,0))+IF(Finalrunde!$D$12=\"\",0,IF(Finalrunde!$D$12=Finalrunde!EM74,1,0))+IF(Finalrunde!$D$13=\"\",0,IF(Finalrunde!$D$13=Finalrunde!EM75,1,0))+IF(Finalrunde!$D$14=\"\",0,IF(Finalrunde!$D$14=Finalrunde!EM76,1,0))+IF(Finalrunde!$D$15=\"\",0,IF(Finalrunde!$D$15=Finalrunde!EM77,1,0))+IF(Finalrunde!$D$16=\"\",0,IF(Finalrunde!$D$16=Finalrunde!EM78,1,0))+IF(Finalrunde!$D$17=\"\",0,IF(Finalrunde!$D$17=Finalrunde!EM79,1,0))+IF(Finalrunde!$D$18=\"\",0,IF(Finalrunde!$D$18=Finalrunde!EM80,1,0))+IF(Finalrunde!$E$11=\"\",0,IF(Finalrunde!$E$11=Finalrunde!EP73,1,0))+IF(Finalrunde!$E$12=\"\",0,IF(Finalrunde!$E$12=Finalrunde!EP74,1,0))+IF(Finalrunde!$E$13=\"\",0,IF(Finalrunde!$E$13=Finalrunde!EP75,1,0))+IF(Finalrunde!$E$14=\"\",0,IF(Finalrunde!$E$14=Finalrunde!EP76,1,0))+IF(Finalrunde!$E$15=\"\",0,IF(Finalrunde!$E$15=Finalrunde!EP77,1,0))+IF(Finalrunde!$E$16=\"\",0,IF(Finalrunde!$E$16=Finalrunde!EP78,1,0))+IF(Finalrunde!$E$17=\"\",0,IF(Finalrunde!$E$17=Finalrunde!EP79,1,0))+IF(Finalrunde!$E$18=\"\",0,IF(Finalrunde!$E$18=Finalrunde!EP80,1,0))","v":5},7,{"$f":"IF(COUNTIF(Finalrunde!$D$11:$E$18,Finalrunde!EM73)<>0,\"0\",\"1\")+IF(COUNTIF(Finalrunde!$D$11:$E$18,Finalrunde!EM74)<>0,\"0\",\"1\")+IF(COUNTIF(Finalrunde!$D$11:$E$18,Finalrunde!EM75)<>0,\"0\",\"1\")+IF(COUNTIF(Finalrunde!$D$11:$E$18,Finalrunde!EM76)<>0,\"0\",\"1\")+IF(COUNTIF(Finalrunde!$D$11:$E$18,Finalrunde!EM77)<>0,\"0\",\"1\")+IF(COUNTIF(Finalrunde!$D$11:$E$18,Finalrunde!EM78)<>0,\"0\",\"1\")+IF(COUNTIF(Finalrunde!$D$11:$E$18,Finalrunde!EM79)<>0,\"0\",\"1\")+IF(COUNTIF(Finalrunde!$D$11:$E$18,Finalrunde!EM80)<>0,\"0\",\"1\")+IF(COUNTIF(Finalrunde!D$11:E$18,Finalrunde!EP73)<>0,\"0\",\"1\")+IF(COUNTIF(Finalrunde!$D$11:$E$18,Finalrunde!EP74)<>0,\"0\",\"1\")+IF(COUNTIF(Finalrunde!$D$11:$E$18,Finalrunde!EP75)<>0,\"0\",\"1\")+IF(COUNTIF(Finalrunde!$D$11:$E$18,Finalrunde!EP76)<>0,\"0\",\"1\")+IF(COUNTIF(Finalrunde!$D$11:$E$18,Finalrunde!EP77)<>0,\"0\",\"1\")+IF(COUNTIF(Finalrunde!$D$11:$E$18,Finalrunde!EP78)<>0,\"0\",\"1\")+IF(COUNTIF(Finalrunde!$D$11:$E$18,Finalrunde!EP79)<>0,\"0\",\"1\")+IF(COUNTIF(Finalrunde!$D$11:$E$18,Finalrunde!EP80)<>0,\"0\",\"1\")","v":4},null,60,"Schwitter Corinne",{"$f":"IF(Finalrunde!$D$20=\"\",0,IF(Finalrunde!$D$20=Finalrunde!EM82,1,0))+IF(Finalrunde!$D$21=\"\",0,IF(Finalrunde!$D$21=Finalrunde!EM83,1,0))+IF(Finalrunde!$D$22=\"\",0,IF(Finalrunde!$D$22=Finalrunde!EM84,1,0))+IF(Finalrunde!$D$23=\"\",0,IF(Finalrunde!$D$23=Finalrunde!EM85,1,0))+IF(Finalrunde!$E$20=\"\",0,IF(Finalrunde!$E$20=Finalrunde!EP82,1,0))+IF(Finalrunde!$E$21=\"\",0,IF(Finalrunde!$E$21=Finalrunde!EP83,1,0))+IF(Finalrunde!$E$22=\"\",0,IF(Finalrunde!$E$22=Finalrunde!EP84,1,0))+IF(Finalrunde!$E$23=\"\",0,IF(Finalrunde!$E$23=Finalrunde!EP85,1,0))","v":3},4,{"$f":"IF(COUNTIF(Finalrunde!$D$20:$E$23,Finalrunde!EM82)<>0,\"0\",\"1\")+IF(COUNTIF(Finalrunde!$D$20:$E$23,Finalrunde!EM83)<>0,\"0\",\"1\")+IF(COUNTIF(Finalrunde!$D$20:$E$23,Finalrunde!EM84)<>0,\"0\",\"1\")+IF(COUNTIF(Finalrunde!$D$20:$E$23,Finalrunde!EM85)<>0,\"0\",\"1\")+IF(COUNTIF(Finalrunde!$D$20:$E$23,Finalrunde!EP82)<>0,\"0\",\"1\")+IF(COUNTIF(Finalrunde!$D$20:$E$23,Finalrunde!EP83)<>0,\"0\",\"1\")+IF(COUNTIF(Finalrunde!$D$20:$E$23,Finalrunde!EP84)<>0,\"0\",\"1\")+IF(COUNTIF(Finalrunde!$D$20:$E$23,Finalrunde!EP85)<>0,\"0\",\"1\")","v":1},null,60,"Schwitter Corinne",{"$f":"IF(Finalrunde!$D$25=\"\",0,IF(Finalrunde!$D$25=Finalrunde!EM87,1,0))+IF(Finalrunde!$D$26=\"\",0,IF(Finalrunde!$D$26=Finalrunde!EM88,1,0))+IF(Finalrunde!$E$25=\"\",0,IF(Finalrunde!$E$25=Finalrunde!EP87,1,0))+IF(Finalrunde!$E$26=\"\",0,IF(Finalrunde!$E$26=Finalrunde!EP88,1,0))","v":1},1,{"$f":"IF(COUNTIF(Finalrunde!$D$25:$E$26,Finalrunde!EM87)<>0,\"0\",\"1\")+IF(COUNTIF(Finalrunde!$D$25:$E$26,Finalrunde!EM88)<>0,\"0\",\"1\")+IF(COUNTIF(Finalrunde!$D$25:$E$26,Finalrunde!EP87)<>0,\"0\",\"1\")+IF(COUNTIF(Finalrunde!$D$25:$E$26,Finalrunde!EP88)<>0,\"0\",\"1\")","v":2}]
[{"$f":"Teilnehmerliste!$A$66","v":61},{"$f":"Teilnehmerliste!B66 &\" \"&Teilnehmerliste!C66","v":"Silva Bruno"},{"$f":"IF(Finalrunde!$D$11=\"\",0,IF(Finalrunde!$D$11=Finalrunde!J104,1,0))+IF(Finalrunde!$D$12=\"\",0,IF(Finalrunde!$D$12=Finalrunde!J105,1,0))+IF(Finalrunde!$D$13=\"\",0,IF(Finalrunde!$D$13=Finalrunde!J106,1,0))+IF(Finalrunde!$D$14=\"\",0,IF(Finalrunde!$D$14=Finalrunde!J107,1,0))+IF(Finalrunde!$D$15=\"\",0,IF(Finalrunde!$D$15=Finalrunde!J108,1,0))+IF(Finalrunde!$D$16=\"\",0,IF(Finalrunde!$D$16=Finalrunde!J109,1,0))+IF(Finalrunde!$D$17=\"\",0,IF(Finalrunde!$D$17=Finalrunde!J110,1,0))+IF(Finalrunde!$D$18=\"\",0,IF(Finalrunde!$D$18=Finalrunde!J111,1,0))+IF(Finalrunde!$E$11=\"\",0,IF(Finalrunde!$E$11=Finalrunde!M104,1,0))+IF(Finalrunde!$E$12=\"\",0,IF(Finalrunde!$E$12=Finalrunde!M105,1,0))+IF(Finalrunde!$E$13=\"\",0,IF(Finalrunde!$E$13=Finalrunde!M106,1,0))+IF(Finalrunde!$E$14=\"\",0,IF(Finalrunde!$E$14=Finalrunde!M107,1,0))+IF(Finalrunde!$E$15=\"\",0,IF(Finalrunde!$E$15=Finalrunde!M108,1,0))+IF(Finalrunde!$E$16=\"\",0,IF(Finalrunde!$E$16=Finalrunde!M109,1,0))+IF(Finalrunde!$E$17=\"\",0,IF(Finalrunde!$E$17=Finalrunde!M110,1,0))+IF(Finalrunde!$E$18=\"\",0,IF(Finalrunde!$E$18=Finalrunde!M111,1,0))","v":5},{"$f":"SUM(16-C65-E65)","v":6},{"$f":"IF(COUNTIF(Finalrunde!$D$11:$E$18,Finalrunde!J104)<>0,\"0\",\"1\")+IF(COUNTIF(Finalrunde!$D$11:$E$18,Finalrunde!J105)<>0,\"0\",\"1\")+IF(COUNTIF(Finalrunde!$D$11:$E$18,Finalrunde!J106)<>0,\"0\",\"1\")+IF(COUNTIF(Finalrunde!$D$11:$E$18,Finalrunde!J107)<>0,\"0\",\"1\")+IF(COUNTIF(Finalrunde!$D$11:$E$18,Finalrunde!J108)<>0,\"0\",\"1\")+IF(COUNTIF(Finalrunde!$D$11:$E$18,Finalrunde!J109)<>0,\"0\",\"1\")+IF(COUNTIF(Finalrunde!$D$11:$E$18,Finalrunde!J110)<>0,\"0\",\"1\")+IF(COUNTIF(Finalrunde!$D$11:$E$18,Finalrunde!J111)<>0,\"0\",\"1\")+IF(COUNTIF(Finalrunde!D$11:E$18,Finalrunde!M104)<>0,\"0\",\"1\")+IF(COUNTIF(Finalrunde!$D$11:$E$18,Finalrunde!M105)<>0,\"0\",\"1\")+IF(COUNTIF(Finalrunde!$D$11:$E$18,Finalrunde!M106)<>0,\"0\",\"1\")+IF(COUNTIF(Finalrunde!$D$11:$E$18,Finalrunde!M107)<>0,\"0\",\"1\")+IF(COUNTIF(Finalrunde!$D$11:$E$18,Finalrunde!M108)<>0,\"0\",\"1\")+IF(COUNTIF(Finalrunde!$D$11:$E$18,Finalrunde!M109)<>0,\"0\",\"1\")+IF(COUNTIF(Finalrunde!$D$11:$E$18,Finalrunde!M110)<>0,\"0\",\"1\")+IF(COUNTIF(Finalrunde!$D$11:$E$18,Finalrunde!M111)<>0,\"0\",\"1\")","v":5},null,61,"Silva Bruno",{"$f":"IF(Finalrunde!$D$20=\"\",0,IF(Finalrunde!$D$20=Finalrunde!J113,1,0))+IF(Finalrunde!$D$21=\"\",0,IF(Finalrunde!$D$21=Finalrunde!J114,1,0))+IF(Finalrunde!$D$22=\"\",0,IF(Finalrunde!$D$22=Finalrunde!J115,1,0))+IF(Finalrunde!$D$23=\"\",0,IF(Finalrunde!$D$23=Finalrunde!J116,1,0))+IF(Finalrunde!$E$20=\"\",0,IF(Finalrunde!$E$20=Finalrunde!M113,1,0))+IF(Finalrunde!$E$21=\"\",0,IF(Finalrunde!$E$21=Finalrunde!M114,1,0))+IF(Finalrunde!$E$22=\"\",0,IF(Finalrunde!$E$22=Finalrunde!M115,1,0))+IF(Finalrunde!$E$23=\"\",0,IF(Finalrunde!$E$23=Finalrunde!M116,1,0))","v":3},3,{"$f":"IF(COUNTIF(Finalrunde!$D$20:$E$23,Finalrunde!J113)<>0,\"0\",\"1\")+IF(COUNTIF(Finalrunde!$D$20:$E$23,Finalrunde!J114)<>0,\"0\",\"1\")+IF(COUNTIF(Finalrunde!$D$20:$E$23,Finalrunde!J115)<>0,\"0\",\"1\")+IF(COUNTIF(Finalrunde!$D$20:$E$23,Finalrunde!J116)<>0,\"0\",\"1\")+IF(COUNTIF(Finalrunde!$D$20:$E$23,Finalrunde!M113)<>0,\"0\",\"1\")+IF(COUNTIF(Finalrunde!$D$20:$E$23,Finalrunde!M114)<>0,\"0\",\"1\")+IF(COUNTIF(Finalrunde!$D$20:$E$23,Finalrunde!M115)<>0,\"0\",\"1\")+IF(COUNTIF(Finalrunde!$D$20:$E$23,Finalrunde!M116)<>0,\"0\",\"1\")","v":2},null,61,"Silva Bruno",{"$f":"IF(Finalrunde!$D$25=\"\",0,IF(Finalrunde!$D$25=Finalrunde!J118,1,0))+IF(Finalrunde!$D$26=\"\",0,IF(Finalrunde!$D$26=Finalrunde!J119,1,0))+IF(Finalrunde!$E$25=\"\",0,IF(Finalrunde!$E$25=Finalrunde!M118,1,0))+IF(Finalrunde!$E$26=\"\",0,IF(Finalrunde!$E$26=Finalrunde!M119,1,0))","v":1},1,{"$f":"IF(COUNTIF(Finalrunde!$D$25:$E$26,Finalrunde!J118)<>0,\"0\",\"1\")+IF(COUNTIF(Finalrunde!$D$25:$E$26,Finalrunde!J119)<>0,\"0\",\"1\")+IF(COUNTIF(Finalrunde!$D$25:$E$26,Finalrunde!M118)<>0,\"0\",\"1\")+IF(COUNTIF(Finalrunde!$D$25:$E$26,Finalrunde!M119)<>0,\"0\",\"1\")","v":2}]
[{"$f":"Teilnehmerliste!$A$67","v":62},{"$f":"Teilnehmerliste!B67 &\" \"&Teilnehmerliste!C67","v":"Sotelo Yermany"},{"$f":"IF(Finalrunde!$D$11=\"\",0,IF(Finalrunde!$D$11=Finalrunde!Q104,1,0))+IF(Finalrunde!$D$12=\"\",0,IF(Finalrunde!$D$12=Finalrunde!Q105,1,0))+IF(Finalrunde!$D$13=\"\",0,IF(Finalrunde!$D$13=Finalrunde!Q106,1,0))+IF(Finalrunde!$D$14=\"\",0,IF(Finalrunde!$D$14=Finalrunde!Q107,1,0))+IF(Finalrunde!$D$15=\"\",0,IF(Finalrunde!$D$15=Finalrunde!Q108,1,0))+IF(Finalrunde!$D$16=\"\",0,IF(Finalrunde!$D$16=Finalrunde!Q109,1,0))+IF(Finalrunde!$D$17=\"\",0,IF(Finalrunde!$D$17=Finalrunde!Q110,1,0))+IF(Finalrunde!$D$18=\"\",0,IF(Finalrunde!$D$18=Finalrunde!Q111,1,0))+IF(Finalrunde!$E$11=\"\",0,IF(Finalrunde!$E$11=Finalrunde!T104,1,0))+IF(Finalrunde!$E$12=\"\",0,IF(Finalrunde!$E$12=Finalrunde!T105,1,0))+IF(Finalrunde!$E$13=\"\",0,IF(Finalrunde!$E$13=Finalrunde!T106,1,0))+IF(Finalrunde!$E$14=\"\",0,IF(Finalrunde!$E$14=Finalrunde!T107,1,0))+IF(Finalrunde!$E$15=\"\",0,IF(Finalrunde!$E$15=Finalrunde!T108,1,0))+IF(Finalrunde!$E$16=\"\",0,IF(Finalrunde!$E$16=Finalrunde!T109,1,0))+IF(Finalrunde!$E$17=\"\",0,IF(Finalrunde!$E$17=Finalrunde!T110,1,0))+IF(Finalrunde!$E$18=\"\",0,IF(Finalrunde!$E$18=Finalrunde!T111,1,0))","v":5},6,{"$f":"IF(COUNTIF(Finalrunde!$D$11:$E$18,Finalrunde!Q104)<>0,\"0\",\"1\")+IF(COUNTIF(Finalrunde!$D$11:$E$18,Finalrunde!Q105)<>0,\"0\",\"1\")+IF(COUNTIF(Finalrunde!$D$11:$E$18,Finalrunde!Q106)<>0,\"0\",\"1\")+IF(COUNTIF(Finalrunde!$D$11:$E$18,Finalrunde!Q107)<>0,\"0\",\"1\")+IF(COUNTIF(Finalrunde!$D$11:$E$18,Finalrunde!Q108)<>0,\"0\",\"1\")+IF(COUNTIF(Finalrunde!$D$11:$E$18,Finalrunde!Q109)<>0,\"0\",\"1\")+IF(COUNTIF(Finalrunde!$D$11:$E$18,Finalrunde!Q110)<>0,\"0\",\"1\")+IF(COUNTIF(Finalrunde!$D$11:$E$18,Finalrunde!Q111)<>0,\"0\",\"1\")+IF(COUNTIF(Finalrunde!D$11:E$18,Finalrunde!T104)<>0,\"0\",\"1\")+IF(COUNTIF(Finalrunde!$D$11:$E$18,Finalrunde!T105)<>0,\"0\",\"1\")+IF(COUNTIF(Finalrunde!$D$11:$E$18,Finalrunde!T106)<>0,\"0\",\"1\")+IF(COUNTIF(Finalrunde!$D$11:$E$18,Finalrunde!T107)<>0,\"0\",\"1\")+IF(COUNTIF(Finalrunde!$D$11:$E$18,Finalrunde!T108)<>0,\"0\",\"1\")+IF(COUNTIF(Finalrunde!$D$11:$E$18,Finalrunde!T109)<>0,\"0\",\"1\")+IF(COUNTIF(Finalrunde!$D$11:$E$18,Finalrunde!T110)<>0,\"0\",\"1\")+IF(COUNTIF(Finalrunde!$D$11:$E$18,Finalrunde!T111)<>0,\"0\",\"1\")","v":5},null,62,"Sotelo Yermany",{"$f":"IF(Finalrunde!$D$20=\"\",0,IF(Finalrunde!$D$20=Finalrunde!Q113,1,0))+IF(Finalrunde!$D$21=\"\",0,IF(Finalrunde!$D$21=Finalrunde!Q114,1,0))+IF(Finalrunde!$D$22=\"\",0,IF(Finalrunde!$D$22=Finalrunde!Q115,1,0))+IF(Finalrunde!$D$23=\"\",0,IF(Finalrunde!$D$23=Finalrunde!Q116,1,0))+IF(Finalrunde!$E$20=\"\",0,IF(Finalrunde!$E$20=Finalrunde!T113,1,0))+IF(Finalrunde!$E$21=\"\",0,IF(Finalrunde!$E$21=Finalrunde!T114,1,0))+IF(Finalrunde!$E$22=\"\",0,IF(Finalrunde!$E$22=Finalrunde!T115,1,0))+IF(Finalrunde!$E$23=\"\",0,IF(Finalrunde!$E$23=Finalrunde!T116,1,0))","v":2},3,{"$f":"IF(COUNTIF(Finalrunde!$D$20:$E$23,Finalrunde!Q113)<>0,\"0\",\"1\")+IF(COUNTIF(Finalrunde!$D$20:$E$23,Finalrunde!Q114)<>0,\"0\",\"1\")+IF(COUNTIF(Finalrunde!$D$20:$E$23,Finalrunde!Q115)<>0,\"0\",\"1\")+IF(COUNTIF(Finalrunde!$D$20:$E$23,Finalrunde!Q116)<>0,\"0\",\"1\")+IF(COUNTIF(Finalrunde!$D$20:$E$23,Finalrunde!T113)<>0,\"0\",\"1\")+IF(COUNTIF(Finalrunde!$D$20:$E$23,Finalrunde!T114)<>0,\"0\",\"1\")+IF(COUNTIF(Finalrunde!$D$20:$E$23,Finalrunde!T115)<>0,\"0\",\"1\")+IF(COUNTIF(Finalrunde!$D$20:$E$23,Finalrunde!T116)<>0,\"0\",\"1\")","v":3},null,62,"Sotelo Yermany",{"$f":"IF(Finalrunde!$D$25=\"\",0,IF(Finalrunde!$D$25=Finalrunde!Q118,1,0))+IF(Finalrunde!$D$26=\"\",0,IF(Finalrunde!$D$26=Finalrunde!Q119,1,0))+IF(Finalrunde!$E$25=\"\",0,IF(Finalrunde!$E$25=Finalrunde!T118,1,0))+IF(Finalrunde!$E$26=\"\",0,IF(Finalrunde!$E$26=Finalrunde!T119,1,0))","v":1},1,{"$f":"IF(COUNTIF(Finalrunde!$D$25:$E$26,Finalrunde!Q118)<>0,\"0\",\"1\")+IF(COUNTIF(Finalrunde!$D$25:$E$26,Finalrunde!Q119)<>0,\"0\",\"1\")+IF(COUNTIF(Finalrunde!$D$25:$E$26,Finalrunde!T118)<>0,\"0\",\"1\")+IF(COUNTIF(Finalrunde!$D$25:$E$26,Finalrunde!T119)<>0,\"0\",\"1\")","v":2}]
[{"$f":"Teilnehmerliste!$A$68","v":63},{"$f":"Teilnehmerliste!B68 &\" \"&Teilnehmerliste!C68","v":"Thormann Armando"},{"$f":"IF(Finalrunde!$D$11=\"\",0,IF(Finalrunde!$D$11=Finalrunde!X104,1,0))+IF(Finalrunde!$D$12=\"\",0,IF(Finalrunde!$D$12=Finalrunde!X105,1,0))+IF(Finalrunde!$D$13=\"\",0,IF(Finalrunde!$D$13=Finalrunde!X106,1,0))+IF(Finalrunde!$D$14=\"\",0,IF(Finalrunde!$D$14=Finalrunde!X107,1,0))+IF(Finalrunde!$D$15=\"\",0,IF(Finalrunde!$D$15=Finalrunde!X108,1,0))+IF(Finalrunde!$D$16=\"\",0,IF(Finalrunde!$D$16=Finalrunde!X109,1,0))+IF(Finalrunde!$D$17=\"\",0,IF(Finalrunde!$D$17=Finalrunde!X110,1,0))+IF(Finalrunde!$D$18=\"\",0,IF(Finalrunde!$D$18=Finalrunde!X111,1,0))+IF(Finalrunde!$E$11=\"\",0,IF(Finalrunde!$E$11=Finalrunde!AA104,1,0))+IF(Finalrunde!$E$12=\"\",0,IF(Finalrunde!$E$12=Finalrunde!AA105,1,0))+IF(Finalrunde!$E$13=\"\",0,IF(Finalrunde!$E$13=Finalrunde!AA106,1,0))+IF(Finalrunde!$E$14=\"\",0,IF(Finalrunde!$E$14=Finalrunde!AA107,1,0))+IF(Finalrunde!$E$15=\"\",0,IF(Finalrunde!$E$15=Finalrunde!AA108,1,0))+IF(Finalrunde!$E$16=\"\",0,IF(Finalrunde!$E$16=Finalrunde!AA109,1,0))+IF(Finalrunde!$E$17=\"\",0,IF(Finalrunde!$E$17=Finalrunde!AA110,1,0))+IF(Finalrunde!$E$18=\"\",0,IF(Finalrunde!$E$18=Finalrunde!AA111,1,0))","v":7},7,{"$f":"IF(COUNTIF(Finalrunde!$D$11:$E$18,Finalrunde!X104)<>0,\"0\",\"1\")+IF(COUNTIF(Finalrunde!$D$11:$E$18,Finalrunde!X105)<>0,\"0\",\"1\")+IF(COUNTIF(Finalrunde!$D$11:$E$18,Finalrunde!X106)<>0,\"0\",\"1\")+IF(COUNTIF(Finalrunde!$D$11:$E$18,Finalrunde!X107)<>0,\"0\",\"1\")+IF(COUNTIF(Finalrunde!$D$11:$E$18,Finalrunde!X108)<>0,\"0\",\"1\")+IF(COUNTIF(Finalrunde!$D$11:$E$18,Finalrunde!X109)<>0,\"0\",\"1\")+IF(COUNTIF(Finalrunde!$D$11:$E$18,Finalrunde!X110)<>0,\"0\",\"1\")+IF(COUNTIF(Finalrunde!$D$11:$E$18,Finalrunde!X111)<>0,\"0\",\"1\")+IF(COUNTIF(Finalrunde!D$11:E$18,Finalrunde!AA104)<>0,\"0\",\"1\")+IF(COUNTIF(Finalrunde!$D$11:$E$18,Finalrunde!AA105)<>0,\"0\",\"1\")+IF(COUNTIF(Finalrunde!$D$11:$E$18,Finalrunde!AA106)<>0,\"0\",\"1\")+IF(COUNTIF(Finalrunde!$D$11:$E$18,Finalrunde!AA107)<>0,\"0\",\"1\")+IF(COUNTIF(Finalrunde!$D$11:$E$18,Finalrunde!AA108)<>0,\"0\",\"1\")+IF(COUNTIF(Finalrunde!$D$11:$E$18,Finalrunde!AA109)<>0,\"0\",\"1\")+IF(COUNTIF(Finalrunde!$D$11:$E$18,Finalrunde!AA110)<>0,\"0\",\"1\")+IF(COUNTIF(Finalrunde!$D$11:$E$18,Finalrunde!AA111)<>0,\"0\",\"1\")","v":2},null,63,"Thormann Armando",{"$f":"IF(Finalrunde!$D$20=\"\",0,IF(Finalrunde!$D$20=Finalrunde!X113,1,0))+IF(Finalrunde!$D$21=\"\",0,IF(Finalrunde!$D$21=Finalrunde!X114,1,0))+IF(Finalrunde!$D$22=\"\",0,IF(Finalrunde!$D$22=Finalrunde!X115,1,0))+IF(Finalrunde!$D$23=\"\",0,IF(Finalrunde!$D$23=Finalrunde!X116,1,0))+IF(Finalrunde!$E$20=\"\",0,IF(Finalrunde!$E$20=Finalrunde!AA113,1,0))+IF(Finalrunde!$E$21=\"\",0,IF(Finalrunde!$E$21=Finalrunde!AA114,1,0))+IF(Finalrunde!$E$22=\"\",0,IF(Finalrunde!$E$22=Finalrunde!AA115,1,0))+IF(Finalrunde!$E$23=\"\",0,IF(Finalrunde!$E$23=Finalrunde!AA116,1,0))","v":4},2,{"$f":"IF(COUNTIF(Finalrunde!$D$20:$E$23,Finalrunde!X113)<>0,\"0\",\"1\")+IF(COUNTIF(Finalrunde!$D$20:$E$23,Finalrunde!X114)<>0,\"0\",\"1\")+IF(COUNTIF(Finalrunde!$D$20:$E$23,Finalrunde!X115)<>0,\"0\",\"1\")+IF(COUNTIF(Finalrunde!$D$20:$E$23,Finalrunde!X116)<>0,\"0\",\"1\")+IF(COUNTIF(Finalrunde!$D$20:$E$23,Finalrunde!AA113)<>0,\"0\",\"1\")+IF(COUNTIF(Finalrunde!$D$20:$E$23,Finalrunde!AA114)<>0,\"0\",\"1\")+IF(COUNTIF(Finalrunde!$D$20:$E$23,Finalrunde!AA115)<>0,\"0\",\"1\")+IF(COUNTIF(Finalrunde!$D$20:$E$23,Finalrunde!AA116)<>0,\"0\",\"1\")","v":2},null,63,"Thormann Armando",{"$f":"IF(Finalrunde!$D$25=\"\",0,IF(Finalrunde!$D$25=Finalrunde!X118,1,0))+IF(Finalrunde!$D$26=\"\",0,IF(Finalrunde!$D$26=Finalrunde!X119,1,0))+IF(Finalrunde!$E$25=\"\",0,IF(Finalrunde!$E$25=Finalrunde!AA118,1,0))+IF(Finalrunde!$E$26=\"\",0,IF(Finalrunde!$E$26=Finalrunde!AA119,1,0))","v":1},1,{"$f":"IF(COUNTIF(Finalrunde!$D$25:$E$26,Finalrunde!X118)<>0,\"0\",\"1\")+IF(COUNTIF(Finalrunde!$D$25:$E$26,Finalrunde!X119)<>0,\"0\",\"1\")+IF(COUNTIF(Finalrunde!$D$25:$E$26,Finalrunde!AA118)<>0,\"0\",\"1\")+IF(COUNTIF(Finalrunde!$D$25:$E$26,Finalrunde!AA119)<>0,\"0\",\"1\")","v":2}]
[{"$f":"Teilnehmerliste!$A$69","v":64},{"$f":"Teilnehmerliste!B69 &\" \"&Teilnehmerliste!C69","v":"Thormann Julia"},{"$f":"IF(Finalrunde!$D$11=\"\",0,IF(Finalrunde!$D$11=Finalrunde!AE104,1,0))+IF(Finalrunde!$D$12=\"\",0,IF(Finalrunde!$D$12=Finalrunde!AE105,1,0))+IF(Finalrunde!$D$13=\"\",0,IF(Finalrunde!$D$13=Finalrunde!AE106,1,0))+IF(Finalrunde!$D$14=\"\",0,IF(Finalrunde!$D$14=Finalrunde!AE107,1,0))+IF(Finalrunde!$D$15=\"\",0,IF(Finalrunde!$D$15=Finalrunde!AE108,1,0))+IF(Finalrunde!$D$16=\"\",0,IF(Finalrunde!$D$16=Finalrunde!AE109,1,0))+IF(Finalrunde!$D$17=\"\",0,IF(Finalrunde!$D$17=Finalrunde!AE110,1,0))+IF(Finalrunde!$D$18=\"\",0,IF(Finalrunde!$D$18=Finalrunde!AE111,1,0))+IF(Finalrunde!$E$11=\"\",0,IF(Finalrunde!$E$11=Finalrunde!AH104,1,0))+IF(Finalrunde!$E$12=\"\",0,IF(Finalrunde!$E$12=Finalrunde!AH105,1,0))+IF(Finalrunde!$E$13=\"\",0,IF(Finalrunde!$E$13=Finalrunde!AH106,1,0))+IF(Finalrunde!$E$14=\"\",0,IF(Finalrunde!$E$14=Finalrunde!AH107,1,0))+IF(Finalrunde!$E$15=\"\",0,IF(Finalrunde!$E$15=Finalrunde!AH108,1,0))+IF(Finalrunde!$E$16=\"\",0,IF(Finalrunde!$E$16=Finalrunde!AH109,1,0))+IF(Finalrunde!$E$17=\"\",0,IF(Finalrunde!$E$17=Finalrunde!AH110,1,0))+IF(Finalrunde!$E$18=\"\",0,IF(Finalrunde!$E$18=Finalrunde!AH111,1,0))","v":6},7,{"$f":"IF(COUNTIF(Finalrunde!$D$11:$E$18,Finalrunde!AE104)<>0,\"0\",\"1\")+IF(COUNTIF(Finalrunde!$D$11:$E$18,Finalrunde!AE105)<>0,\"0\",\"1\")+IF(COUNTIF(Finalrunde!$D$11:$E$18,Finalrunde!AE106)<>0,\"0\",\"1\")+IF(COUNTIF(Finalrunde!$D$11:$E$18,Finalrunde!AE107)<>0,\"0\",\"1\")+IF(COUNTIF(Finalrunde!$D$11:$E$18,Finalrunde!AE108)<>0,\"0\",\"1\")+IF(COUNTIF(Finalrunde!$D$11:$E$18,Finalrunde!AE109)<>0,\"0\",\"1\")+IF(COUNTIF(Finalrunde!$D$11:$E$18,Finalrunde!AE110)<>0,\"0\",\"1\")+IF(COUNTIF(Finalrunde!$D$11:$E$18,Finalrunde!AE111)<>0,\"0\",\"1\")+IF(COUNTIF(Finalrunde!D$11:E$18,Finalrunde!AH104)<>0,\"0\",\"1\")+IF(COUNTIF(Finalrunde!$D$11:$E$18,Finalrunde!AH105)<>0,\"0\",\"1\")+IF(COUNTIF(Finalrunde!$D$11:$E$18,Finalrunde!AH106)<>0,\"0\",\"1\")+IF(COUNTIF(Finalrunde!$D$11:$E$18,Finalrunde!AH107)<>0,\"0\",\"1\")+IF(COUNTIF(Finalrunde!$D$11:$E$18,Finalrunde!AH108)<>0,\"0\",\"1\")+IF(COUNTIF(Finalrunde!$D$11:$E$18,Finalrunde!AH109)<>0,\"0\",\"1\")+IF(COUNTIF(Finalrunde!$D$11:$E$18,Finalrunde!AH110)<>0,\"0\",\"1\")+IF(COUNTIF(Finalrunde!$D$11:$E$18,Finalrunde!AH111)<>0,\"0\",\"1\")","v":3},null,64,"Thormann Julia",{"$f":"IF(Finalrunde!$D$20=\"\",0,IF(Finalrunde!$D$20=Finalrunde!AE113,1,0))+IF(Finalrunde!$D$21=\"\",0,IF(Finalrunde!$D$21=Finalrunde!AE114,1,0))+IF(Finalrunde!$D$22=\"\",0,IF(Finalrunde!$D$22=Finalrunde!AE115,1,0))+IF(Finalrunde!$D$23=\"\",0,IF(Finalrunde!$D$23=Finalrunde!AE116,1,0))+IF(Finalrunde!$E$20=\"\",0,IF(Finalrunde!$E$20=Finalrunde!AH113,1,0))+IF(Finalrunde!$E$21=\"\",0,IF(Finalrunde!$E$21=Finalrunde!AH114,1,0))+IF(Finalrunde!$E$22=\"\",0,IF(Finalrunde!$E$22=Finalrunde!AH115,1,0))+IF(Finalrunde!$E$23=\"\",0,IF(Finalrunde!$E$23=Finalrunde!AH116,1,0))","v":4},2,{"$f":"IF(COUNTIF(Finalrunde!$D$20:$E$23,Finalrunde!AE113)<>0,\"0\",\"1\")+IF(COUNTIF(Finalrunde!$D$20:$E$23,Finalrunde!AE114)<>0,\"0\",\"1\")+IF(COUNTIF(Finalrunde!$D$20:$E$23,Finalrunde!AE115)<>0,\"0\",\"1\")+IF(COUNTIF(Finalrunde!$D$20:$E$23,Finalrunde!AE116)<>0,\"0\",\"1\")+IF(COUNTIF(Finalrunde!$D$20:$E$23,Finalrunde!AH113)<>0,\"0\",\"1\")+IF(COUNTIF(Finalrunde!$D$20:$E$23,Finalrunde!AH114)<>0,\"0\",\"1\")+IF(COUNTIF(Finalrunde!$D$20:$E$23,Finalrunde!AH115)<>0,\"0\",\"1\")+IF(COUNTIF(Finalrunde!$D$20:$E$23,Finalrunde!AH116)<>0,\"0\",\"1\")","v":2},null,64,"Thormann Julia",{"$f":"IF(Finalrunde!$D$25=\"\",0,IF(Finalrunde!$D$25=Finalrunde!AE118,1,0))+IF(Finalrunde!$D$26=\"\",0,IF(Finalrunde!$D$26=Finalrunde!AE119,1,0))+IF(Finalrunde!$E$25=\"\",0,IF(Finalrunde!$E$25=Finalrunde!AH118,1,0))+IF(Finalrunde!$E$26=\"\",0,IF(Finalrunde!$E$26=Finalrunde!AH119,1,0))","v":3},0,{"$f":"IF(COUNTIF(Finalrunde!$D$25:$E$26,Finalrunde!AE118)<>0,\"0\",\"1\")+IF(COUNTIF(Finalrunde!$D$25:$E$26,Finalrunde!AE119)<>0,\"0\",\"1\")+IF(COUNTIF(Finalrunde!$D$25:$E$26,Finalrunde!AH118)<>0,\"0\",\"1\")+IF(COUNTIF(Finalrunde!$D$25:$E$26,Finalrunde!AH119)<>0,\"0\",\"1\")","v":1}]
[{"$f":"Teilnehmerliste!$A$70","v":65},{"$f":"Teilnehmerliste!B70 &\" \"&Teilnehmerliste!C70","v":"Treichler Lea"},{"$f":"IF(Finalrunde!$D$11=\"\",0,IF(Finalrunde!$D$11=Finalrunde!AL104,1,0))+IF(Finalrunde!$D$12=\"\",0,IF(Finalrunde!$D$12=Finalrunde!AL105,1,0))+IF(Finalrunde!$D$13=\"\",0,IF(Finalrunde!$D$13=Finalrunde!AL106,1,0))+IF(Finalrunde!$D$14=\"\",0,IF(Finalrunde!$D$14=Finalrunde!AL107,1,0))+IF(Finalrunde!$D$15=\"\",0,IF(Finalrunde!$D$15=Finalrunde!AL108,1,0))+IF(Finalrunde!$D$16=\"\",0,IF(Finalrunde!$D$16=Finalrunde!AL109,1,0))+IF(Finalrunde!$D$17=\"\",0,IF(Finalrunde!$D$17=Finalrunde!AL110,1,0))+IF(Finalrunde!$D$18=\"\",0,IF(Finalrunde!$D$18=Finalrunde!AL111,1,0))+IF(Finalrunde!$E$11=\"\",0,IF(Finalrunde!$E$11=Finalrunde!AO104,1,0))+IF(Finalrunde!$E$12=\"\",0,IF(Finalrunde!$E$12=Finalrunde!AO105,1,0))+IF(Finalrunde!$E$13=\"\",0,IF(Finalrunde!$E$13=Finalrunde!AO106,1,0))+IF(Finalrunde!$E$14=\"\",0,IF(Finalrunde!$E$14=Finalrunde!AO107,1,0))+IF(Finalrunde!$E$15=\"\",0,IF(Finalrunde!$E$15=Finalrunde!AO108,1,0))+IF(Finalrunde!$E$16=\"\",0,IF(Finalrunde!$E$16=Finalrunde!AO109,1,0))+IF(Finalrunde!$E$17=\"\",0,IF(Finalrunde!$E$17=Finalrunde!AO110,1,0))+IF(Finalrunde!$E$18=\"\",0,IF(Finalrunde!$E$18=Finalrunde!AO111,1,0))","v":8},4,{"$f":"IF(COUNTIF(Finalrunde!$D$11:$E$18,Finalrunde!AL104)<>0,\"0\",\"1\")+IF(COUNTIF(Finalrunde!$D$11:$E$18,Finalrunde!AL105)<>0,\"0\",\"1\")+IF(COUNTIF(Finalrunde!$D$11:$E$18,Finalrunde!AL106)<>0,\"0\",\"1\")+IF(COUNTIF(Finalrunde!$D$11:$E$18,Finalrunde!AL107)<>0,\"0\",\"1\")+IF(COUNTIF(Finalrunde!$D$11:$E$18,Finalrunde!AL108)<>0,\"0\",\"1\")+IF(COUNTIF(Finalrunde!$D$11:$E$18,Finalrunde!AL109)<>0,\"0\",\"1\")+IF(COUNTIF(Finalrunde!$D$11:$E$18,Finalrunde!AL110)<>0,\"0\",\"1\")+IF(COUNTIF(Finalrunde!$D$11:$E$18,Finalrunde!AL111)<>0,\"0\",\"1\")+IF(COUNTIF(Finalrunde!D$11:E$18,Finalrunde!AO104)<>0,\"0\",\"1\")+IF(COUNTIF(Finalrunde!$D$11:$E$18,Finalrunde!AO105)<>0,\"0\",\"1\")+IF(COUNTIF(Finalrunde!$D$11:$E$18,Finalrunde!AO106)<>0,\"0\",\"1\")+IF(COUNTIF(Finalrunde!$D$11:$E$18,Finalrunde!AO107)<>0,\"0\",\"1\")+IF(COUNTIF(Finalrunde!$D$11:$E$18,Finalrunde!AO108)<>0,\"0\",\"1\")+IF(COUNTIF(Finalrunde!$D$11:$E$18,Finalrunde!AO109)<>0,\"0\",\"1\")+IF(COUNTIF(Finalrunde!$D$11:$E$18,Finalrunde!AO110)<>0,\"0\",\"1\")+IF(COUNTIF(Finalrunde!$D$11:$E$18,Finalrunde!AO111)<>0,\"0\",\"1\")","v":4},null,65,"Treichler Lea",{"$f":"IF(Finalrunde!$D$20=\"\",0,IF(Finalrunde!$D$20=Finalrunde!AL113,1,0))+IF(Finalrunde!$D$21=\"\",0,IF(Finalrunde!$D$21=Finalrunde!AL114,1,0))+IF(Finalrunde!$D$22=\"\",0,IF(Finalrunde!$D$22=Finalrunde!AL115,1,0))+IF(Finalrunde!$D$23=\"\",0,IF(Finalrunde!$D$23=Finalrunde!AL116,1,0))+IF(Finalrunde!$E$20=\"\",0,IF(Finalrunde!$E$20=Finalrunde!AO113,1,0))+IF(Finalrunde!$E$21=\"\",0,IF(Finalrunde!$E$21=Finalrunde!AO114,1,0))+IF(Finalrunde!$E$22=\"\",0,IF(Finalrunde!$E$22=Finalrunde!AO115,1,0))+IF(Finalrunde!$E$23=\"\",0,IF(Finalrunde!$E$23=Finalrunde!AO116,1,0))","v":4},1,{"$f":"IF(COUNTIF(Finalrunde!$D$20:$E$23,Finalrunde!AL113)<>0,\"0\",\"1\")+IF(COUNTIF(Finalrunde!$D$20:$E$23,Finalrunde!AL114)<>0,\"0\",\"1\")+IF(COUNTIF(Finalrunde!$D$20:$E$23,Finalrunde!AL115)<>0,\"0\",\"1\")+IF(COUNTIF(Finalrunde!$D$20:$E$23,Finalrunde!AL116)<>0,\"0\",\"1\")+IF(COUNTIF(Finalrunde!$D$20:$E$23,Finalrunde!AO113)<>0,\"0\",\"1\")+IF(COUNTIF(Finalrunde!$D$20:$E$23,Finalrunde!AO114)<>0,\"0\",\"1\")+IF(COUNTIF(Finalrunde!$D$20:$E$23,Finalrunde!AO115)<>0,\"0\",\"1\")+IF(COUNTIF(Finalrunde!$D$20:$E$23,Finalrunde!AO116)<>0,\"0\",\"1\")","v":3},null,65,"Treichler Lea",{"$f":"IF(Finalrunde!$D$25=\"\",0,IF(Finalrunde!$D$25=Finalrunde!AL118,1,0))+IF(Finalrunde!$D$26=\"\",0,IF(Finalrunde!$D$26=Finalrunde!AL119,1,0))+IF(Finalrunde!$E$25=\"\",0,IF(Finalrunde!$E$25=Finalrunde!AO118,1,0))+IF(Finalrunde!$E$26=\"\",0,IF(Finalrunde!$E$26=Finalrunde!AO119,1,0))","v":1},1,{"$f":"IF(COUNTIF(Finalrunde!$D$25:$E$26,Finalrunde!AL118)<>0,\"0\",\"1\")+IF(COUNTIF(Finalrunde!$D$25:$E$26,Finalrunde!AL119)<>0,\"0\",\"1\")+IF(COUNTIF(Finalrunde!$D$25:$E$26,Finalrunde!AO118)<>0,\"0\",\"1\")+IF(COUNTIF(Finalrunde!$D$25:$E$26,Finalrunde!AO119)<>0,\"0\",\"1\")","v":2}]
[{"$f":"Teilnehmerliste!$A$71","v":66},{"$f":"Teilnehmerliste!B71 &\" \"&Teilnehmerliste!C71","v":"Treichler Reto"},{"$f":"IF(Finalrunde!$D$11=\"\",0,IF(Finalrunde!$D$11=Finalrunde!AS104,1,0))+IF(Finalrunde!$D$12=\"\",0,IF(Finalrunde!$D$12=Finalrunde!AS105,1,0))+IF(Finalrunde!$D$13=\"\",0,IF(Finalrunde!$D$13=Finalrunde!AS106,1,0))+IF(Finalrunde!$D$14=\"\",0,IF(Finalrunde!$D$14=Finalrunde!AS107,1,0))+IF(Finalrunde!$D$15=\"\",0,IF(Finalrunde!$D$15=Finalrunde!AS108,1,0))+IF(Finalrunde!$D$16=\"\",0,IF(Finalrunde!$D$16=Finalrunde!AS109,1,0))+IF(Finalrunde!$D$17=\"\",0,IF(Finalrunde!$D$17=Finalrunde!AS110,1,0))+IF(Finalrunde!$D$18=\"\",0,IF(Finalrunde!$D$18=Finalrunde!AS111,1,0))+IF(Finalrunde!$E$11=\"\",0,IF(Finalrunde!$E$11=Finalrunde!AV104,1,0))+IF(Finalrunde!$E$12=\"\",0,IF(Finalrunde!$E$12=Finalrunde!AV105,1,0))+IF(Finalrunde!$E$13=\"\",0,IF(Finalrunde!$E$13=Finalrunde!AV106,1,0))+IF(Finalrunde!$E$14=\"\",0,IF(Finalrunde!$E$14=Finalrunde!AV107,1,0))+IF(Finalrunde!$E$15=\"\",0,IF(Finalrunde!$E$15=Finalrunde!AV108,1,0))+IF(Finalrunde!$E$16=\"\",0,IF(Finalrunde!$E$16=Finalrunde!AV109,1,0))+IF(Finalrunde!$E$17=\"\",0,IF(Finalrunde!$E$17=Finalrunde!AV110,1,0))+IF(Finalrunde!$E$18=\"\",0,IF(Finalrunde!$E$18=Finalrunde!AV111,1,0))","v":6},5,{"$f":"IF(COUNTIF(Finalrunde!$D$11:$E$18,Finalrunde!AS104)<>0,\"0\",\"1\")+IF(COUNTIF(Finalrunde!$D$11:$E$18,Finalrunde!AS105)<>0,\"0\",\"1\")+IF(COUNTIF(Finalrunde!$D$11:$E$18,Finalrunde!AS106)<>0,\"0\",\"1\")+IF(COUNTIF(Finalrunde!$D$11:$E$18,Finalrunde!AS107)<>0,\"0\",\"1\")+IF(COUNTIF(Finalrunde!$D$11:$E$18,Finalrunde!AS108)<>0,\"0\",\"1\")+IF(COUNTIF(Finalrunde!$D$11:$E$18,Finalrunde!AS109)<>0,\"0\",\"1\")+IF(COUNTIF(Finalrunde!$D$11:$E$18,Finalrunde!AS110)<>0,\"0\",\"1\")+IF(COUNTIF(Finalrunde!$D$11:$E$18,Finalrunde!AS111)<>0,\"0\",\"1\")+IF(COUNTIF(Finalrunde!D$11:E$18,Finalrunde!AV104)<>0,\"0\",\"1\")+IF(COUNTIF(Finalrunde!$D$11:$E$18,Finalrunde!AV105)<>0,\"0\",\"1\")+IF(COUNTIF(Finalrunde!$D$11:$E$18,Finalrunde!AV106)<>0,\"0\",\"1\")+IF(COUNTIF(Finalrunde!$D$11:$E$18,Finalrunde!AV107)<>0,\"0\",\"1\")+IF(COUNTIF(Finalrunde!$D$11:$E$18,Finalrunde!AV108)<>0,\"0\",\"1\")+IF(COUNTIF(Finalrunde!$D$11:$E$18,Finalrunde!AV109)<>0,\"0\",\"1\")+IF(COUNTIF(Finalrunde!$D$11:$E$18,Finalrunde!AV110)<>0,\"0\",\"1\")+IF(COUNTIF(Finalrunde!$D$11:$E$18,Finalrunde!AV111)<>0,\"0\",\"1\")","v":5},null,{"$f":"A70","v":66},{"$f":"B70","v":"Treichler Reto"},{"$f":"IF(Finalrunde!$D$20=\"\",0,IF(Finalrunde!$D$20=Finalrunde!AS113,1,0))+IF(Finalrunde!$D$21=\"\",0,IF(Finalrunde!$D$21=Finalrunde!AS114,1,0))+IF(Finalrunde!$D$22=\"\",0,IF(Finalrunde!$D$22=Finalrunde!AS115,1,0))+IF(Finalrunde!$D$23=\"\",0,IF(Finalrunde!$D$23=Finalrunde!AS116,1,0))+IF(Finalrunde!$E$20=\"\",0,IF(Finalrunde!$E$20=Finalrunde!AV113,1,0))+IF(Finalrunde!$E$21=\"\",0,IF(Finalrunde!$E$21=Finalrunde!AV114,1,0))+IF(Finalrunde!$E$22=\"\",0,IF(Finalrunde!$E$22=Finalrunde!AV115,1,0))+IF(Finalrunde!$E$23=\"\",0,IF(Finalrunde!$E$23=Finalrunde!AV116,1,0))","v":4},2,{"$f":"IF(COUNTIF(Finalrunde!$D$20:$E$23,Finalrunde!AS113)<>0,\"0\",\"1\")+IF(COUNTIF(Finalrunde!$D$20:$E$23,Finalrunde!AS114)<>0,\"0\",\"1\")+IF(COUNTIF(Finalrunde!$D$20:$E$23,Finalrunde!AS115)<>0,\"0\",\"1\")+IF(COUNTIF(Finalrunde!$D$20:$E$23,Finalrunde!AS116)<>0,\"0\",\"1\")+IF(COUNTIF(Finalrunde!$D$20:$E$23,Finalrunde!AV113)<>0,\"0\",\"1\")+IF(COUNTIF(Finalrunde!$D$20:$E$23,Finalrunde!AV114)<>0,\"0\",\"1\")+IF(COUNTIF(Finalrunde!$D$20:$E$23,Finalrunde!AV115)<>0,\"0\",\"1\")+IF(COUNTIF(Finalrunde!$D$20:$E$23,Finalrunde!AV116)<>0,\"0\",\"1\")","v":2},null,{"$f":"G70","v":66},{"$f":"H70","v":"Treichler Reto"},{"$f":"IF(Finalrunde!$D$25=\"\",0,IF(Finalrunde!$D$25=Finalrunde!AS118,1,0))+IF(Finalrunde!$D$26=\"\",0,IF(Finalrunde!$D$26=Finalrunde!AS119,1,0))+IF(Finalrunde!$E$25=\"\",0,IF(Finalrunde!$E$25=Finalrunde!AV118,1,0))+IF(Finalrunde!$E$26=\"\",0,IF(Finalrunde!$E$26=Finalrunde!AV119,1,0))","v":1},{"$f":"SUM(4-O70-Q70)","v":1},{"$f":"IF(COUNTIF(Finalrunde!$D$25:$E$26,Finalrunde!AS118)<>0,\"0\",\"1\")+IF(COUNTIF(Finalrunde!$D$25:$E$26,Finalrunde!AS119)<>0,\"0\",\"1\")+IF(COUNTIF(Finalrunde!$D$25:$E$26,Finalrunde!AV118)<>0,\"0\",\"1\")+IF(COUNTIF(Finalrunde!$D$25:$E$26,Finalrunde!AV119)<>0,\"0\",\"1\")","v":2}]
[{"$f":"Teilnehmerliste!$A$72","v":67},{"$f":"Teilnehmerliste!B72 &\" \"&Teilnehmerliste!C72","v":"Wälti Christoph"},{"$f":"IF(Finalrunde!$D$11=\"\",0,IF(Finalrunde!$D$11=Finalrunde!AZ104,1,0))+IF(Finalrunde!$D$12=\"\",0,IF(Finalrunde!$D$12=Finalrunde!AZ105,1,0))+IF(Finalrunde!$D$13=\"\",0,IF(Finalrunde!$D$13=Finalrunde!AZ106,1,0))+IF(Finalrunde!$D$14=\"\",0,IF(Finalrunde!$D$14=Finalrunde!AZ107,1,0))+IF(Finalrunde!$D$15=\"\",0,IF(Finalrunde!$D$15=Finalrunde!AZ108,1,0))+IF(Finalrunde!$D$16=\"\",0,IF(Finalrunde!$D$16=Finalrunde!AZ109,1,0))+IF(Finalrunde!$D$17=\"\",0,IF(Finalrunde!$D$17=Finalrunde!AZ110,1,0))+IF(Finalrunde!$D$18=\"\",0,IF(Finalrunde!$D$18=Finalrunde!AZ111,1,0))+IF(Finalrunde!$E$11=\"\",0,IF(Finalrunde!$E$11=Finalrunde!BC104,1,0))+IF(Finalrunde!$E$12=\"\",0,IF(Finalrunde!$E$12=Finalrunde!BC105,1,0))+IF(Finalrunde!$E$13=\"\",0,IF(Finalrunde!$E$13=Finalrunde!BC106,1,0))+IF(Finalrunde!$E$14=\"\",0,IF(Finalrunde!$E$14=Finalrunde!BC107,1,0))+IF(Finalrunde!$E$15=\"\",0,IF(Finalrunde!$E$15=Finalrunde!BC108,1,0))+IF(Finalrunde!$E$16=\"\",0,IF(Finalrunde!$E$16=Finalrunde!BC109,1,0))+IF(Finalrunde!$E$17=\"\",0,IF(Finalrunde!$E$17=Finalrunde!BC110,1,0))+IF(Finalrunde!$E$18=\"\",0,IF(Finalrunde!$E$18=Finalrunde!BC111,1,0))","v":7},6,{"$f":"IF(COUNTIF(Finalrunde!$D$11:$E$18,Finalrunde!AZ104)<>0,\"0\",\"1\")+IF(COUNTIF(Finalrunde!$D$11:$E$18,Finalrunde!AZ105)<>0,\"0\",\"1\")+IF(COUNTIF(Finalrunde!$D$11:$E$18,Finalrunde!AZ106)<>0,\"0\",\"1\")+IF(COUNTIF(Finalrunde!$D$11:$E$18,Finalrunde!AZ107)<>0,\"0\",\"1\")+IF(COUNTIF(Finalrunde!$D$11:$E$18,Finalrunde!AZ108)<>0,\"0\",\"1\")+IF(COUNTIF(Finalrunde!$D$11:$E$18,Finalrunde!AZ109)<>0,\"0\",\"1\")+IF(COUNTIF(Finalrunde!$D$11:$E$18,Finalrunde!AZ110)<>0,\"0\",\"1\")+IF(COUNTIF(Finalrunde!$D$11:$E$18,Finalrunde!AZ111)<>0,\"0\",\"1\")+IF(COUNTIF(Finalrunde!D$11:E$18,Finalrunde!BC104)<>0,\"0\",\"1\")+IF(COUNTIF(Finalrunde!$D$11:$E$18,Finalrunde!BC105)<>0,\"0\",\"1\")+IF(COUNTIF(Finalrunde!$D$11:$E$18,Finalrunde!BC106)<>0,\"0\",\"1\")+IF(COUNTIF(Finalrunde!$D$11:$E$18,Finalrunde!BC107)<>0,\"0\",\"1\")+IF(COUNTIF(Finalrunde!$D$11:$E$18,Finalrunde!BC108)<>0,\"0\",\"1\")+IF(COUNTIF(Finalrunde!$D$11:$E$18,Finalrunde!BC109)<>0,\"0\",\"1\")+IF(COUNTIF(Finalrunde!$D$11:$E$18,Finalrunde!BC110)<>0,\"0\",\"1\")+IF(COUNTIF(Finalrunde!$D$11:$E$18,Finalrunde!BC111)<>0,\"0\",\"1\")","v":3},null,67,"Wälti Christoph",{"$f":"IF(Finalrunde!$D$20=\"\",0,IF(Finalrunde!$D$20=Finalrunde!AZ113,1,0))+IF(Finalrunde!$D$21=\"\",0,IF(Finalrunde!$D$21=Finalrunde!AZ114,1,0))+IF(Finalrunde!$D$22=\"\",0,IF(Finalrunde!$D$22=Finalrunde!AZ115,1,0))+IF(Finalrunde!$D$23=\"\",0,IF(Finalrunde!$D$23=Finalrunde!AZ116,1,0))+IF(Finalrunde!$E$20=\"\",0,IF(Finalrunde!$E$20=Finalrunde!BC113,1,0))+IF(Finalrunde!$E$21=\"\",0,IF(Finalrunde!$E$21=Finalrunde!BC114,1,0))+IF(Finalrunde!$E$22=\"\",0,IF(Finalrunde!$E$22=Finalrunde!BC115,1,0))+IF(Finalrunde!$E$23=\"\",0,IF(Finalrunde!$E$23=Finalrunde!BC116,1,0))","v":4},2,{"$f":"IF(COUNTIF(Finalrunde!$D$20:$E$23,Finalrunde!AZ113)<>0,\"0\",\"1\")+IF(COUNTIF(Finalrunde!$D$20:$E$23,Finalrunde!AZ114)<>0,\"0\",\"1\")+IF(COUNTIF(Finalrunde!$D$20:$E$23,Finalrunde!AZ115)<>0,\"0\",\"1\")+IF(COUNTIF(Finalrunde!$D$20:$E$23,Finalrunde!AZ116)<>0,\"0\",\"1\")+IF(COUNTIF(Finalrunde!$D$20:$E$23,Finalrunde!BC113)<>0,\"0\",\"1\")+IF(COUNTIF(Finalrunde!$D$20:$E$23,Finalrunde!BC114)<>0,\"0\",\"1\")+IF(COUNTIF(Finalrunde!$D$20:$E$23,Finalrunde!BC115)<>0,\"0\",\"1\")+IF(COUNTIF(Finalrunde!$D$20:$E$23,Finalrunde!BC116)<>0,\"0\",\"1\")","v":2},null,67,"Wälti Christoph",{"$f":"IF(Finalrunde!$D$25=\"\",0,IF(Finalrunde!$D$25=Finalrunde!AZ118,1,0))+IF(Finalrunde!$D$26=\"\",0,IF(Finalrunde!$D$26=Finalrunde!AZ119,1,0))+IF(Finalrunde!$E$25=\"\",0,IF(Finalrunde!$E$25=Finalrunde!BC118,1,0))+IF(Finalrunde!$E$26=\"\",0,IF(Finalrunde!$E$26=Finalrunde!BC119,1,0))","v":2},2,{"$f":"IF(COUNTIF(Finalrunde!$D$25:$E$26,Finalrunde!AZ118)<>0,\"0\",\"1\")+IF(COUNTIF(Finalrunde!$D$25:$E$26,Finalrunde!AZ119)<>0,\"0\",\"1\")+IF(COUNTIF(Finalrunde!$D$25:$E$26,Finalrunde!BC118)<>0,\"0\",\"1\")+IF(COUNTIF(Finalrunde!$D$25:$E$26,Finalrunde!BC119)<>0,\"0\",\"1\")","v":0}]
[{"$f":"Teilnehmerliste!$A$73","v":68},{"$f":"Teilnehmerliste!B73 &\" \"&Teilnehmerliste!C73","v":"Wagner Markus"},{"$f":"IF(Finalrunde!$D$11=\"\",0,IF(Finalrunde!$D$11=Finalrunde!BG104,1,0))+IF(Finalrunde!$D$12=\"\",0,IF(Finalrunde!$D$12=Finalrunde!BG105,1,0))+IF(Finalrunde!$D$13=\"\",0,IF(Finalrunde!$D$13=Finalrunde!BG106,1,0))+IF(Finalrunde!$D$14=\"\",0,IF(Finalrunde!$D$14=Finalrunde!BG107,1,0))+IF(Finalrunde!$D$15=\"\",0,IF(Finalrunde!$D$15=Finalrunde!BG108,1,0))+IF(Finalrunde!$D$16=\"\",0,IF(Finalrunde!$D$16=Finalrunde!BG109,1,0))+IF(Finalrunde!$D$17=\"\",0,IF(Finalrunde!$D$17=Finalrunde!BG110,1,0))+IF(Finalrunde!$D$18=\"\",0,IF(Finalrunde!$D$18=Finalrunde!BG111,1,0))+IF(Finalrunde!$E$11=\"\",0,IF(Finalrunde!$E$11=Finalrunde!BJ104,1,0))+IF(Finalrunde!$E$12=\"\",0,IF(Finalrunde!$E$12=Finalrunde!BJ105,1,0))+IF(Finalrunde!$E$13=\"\",0,IF(Finalrunde!$E$13=Finalrunde!BJ106,1,0))+IF(Finalrunde!$E$14=\"\",0,IF(Finalrunde!$E$14=Finalrunde!BJ107,1,0))+IF(Finalrunde!$E$15=\"\",0,IF(Finalrunde!$E$15=Finalrunde!BJ108,1,0))+IF(Finalrunde!$E$16=\"\",0,IF(Finalrunde!$E$16=Finalrunde!BJ109,1,0))+IF(Finalrunde!$E$17=\"\",0,IF(Finalrunde!$E$17=Finalrunde!BJ110,1,0))+IF(Finalrunde!$E$18=\"\",0,IF(Finalrunde!$E$18=Finalrunde!BJ111,1,0))","v":5},8,{"$f":"IF(COUNTIF(Finalrunde!$D$11:$E$18,Finalrunde!BG104)<>0,\"0\",\"1\")+IF(COUNTIF(Finalrunde!$D$11:$E$18,Finalrunde!BG105)<>0,\"0\",\"1\")+IF(COUNTIF(Finalrunde!$D$11:$E$18,Finalrunde!BG106)<>0,\"0\",\"1\")+IF(COUNTIF(Finalrunde!$D$11:$E$18,Finalrunde!BG107)<>0,\"0\",\"1\")+IF(COUNTIF(Finalrunde!$D$11:$E$18,Finalrunde!BG108)<>0,\"0\",\"1\")+IF(COUNTIF(Finalrunde!$D$11:$E$18,Finalrunde!BG109)<>0,\"0\",\"1\")+IF(COUNTIF(Finalrunde!$D$11:$E$18,Finalrunde!BG110)<>0,\"0\",\"1\")+IF(COUNTIF(Finalrunde!$D$11:$E$18,Finalrunde!BG111)<>0,\"0\",\"1\")+IF(COUNTIF(Finalrunde!D$11:E$18,Finalrunde!BJ104)<>0,\"0\",\"1\")+IF(COUNTIF(Finalrunde!$D$11:$E$18,Finalrunde!BJ105)<>0,\"0\",\"1\")+IF(COUNTIF(Finalrunde!$D$11:$E$18,Finalrunde!BJ106)<>0,\"0\",\"1\")+IF(COUNTIF(Finalrunde!$D$11:$E$18,Finalrunde!BJ107)<>0,\"0\",\"1\")+IF(COUNTIF(Finalrunde!$D$11:$E$18,Finalrunde!BJ108)<>0,\"0\",\"1\")+IF(COUNTIF(Finalrunde!$D$11:$E$18,Finalrunde!BJ109)<>0,\"0\",\"1\")+IF(COUNTIF(Finalrunde!$D$11:$E$18,Finalrunde!BJ110)<>0,\"0\",\"1\")+IF(COUNTIF(Finalrunde!$D$11:$E$18,Finalrunde!BJ111)<>0,\"0\",\"1\")","v":3},null,68,"Wagner Markus",{"$f":"IF(Finalrunde!$D$20=\"\",0,IF(Finalrunde!$D$20=Finalrunde!BG113,1,0))+IF(Finalrunde!$D$21=\"\",0,IF(Finalrunde!$D$21=Finalrunde!BG114,1,0))+IF(Finalrunde!$D$22=\"\",0,IF(Finalrunde!$D$22=Finalrunde!BG115,1,0))+IF(Finalrunde!$D$23=\"\",0,IF(Finalrunde!$D$23=Finalrunde!BG116,1,0))+IF(Finalrunde!$E$20=\"\",0,IF(Finalrunde!$E$20=Finalrunde!BJ113,1,0))+IF(Finalrunde!$E$21=\"\",0,IF(Finalrunde!$E$21=Finalrunde!BJ114,1,0))+IF(Finalrunde!$E$22=\"\",0,IF(Finalrunde!$E$22=Finalrunde!BJ115,1,0))+IF(Finalrunde!$E$23=\"\",0,IF(Finalrunde!$E$23=Finalrunde!BJ116,1,0))","v":3},2,{"$f":"IF(COUNTIF(Finalrunde!$D$20:$E$23,Finalrunde!BG113)<>0,\"0\",\"1\")+IF(COUNTIF(Finalrunde!$D$20:$E$23,Finalrunde!BG114)<>0,\"0\",\"1\")+IF(COUNTIF(Finalrunde!$D$20:$E$23,Finalrunde!BG115)<>0,\"0\",\"1\")+IF(COUNTIF(Finalrunde!$D$20:$E$23,Finalrunde!BG116)<>0,\"0\",\"1\")+IF(COUNTIF(Finalrunde!$D$20:$E$23,Finalrunde!BJ113)<>0,\"0\",\"1\")+IF(COUNTIF(Finalrunde!$D$20:$E$23,Finalrunde!BJ114)<>0,\"0\",\"1\")+IF(COUNTIF(Finalrunde!$D$20:$E$23,Finalrunde!BJ115)<>0,\"0\",\"1\")+IF(COUNTIF(Finalrunde!$D$20:$E$23,Finalrunde!BJ116)<>0,\"0\",\"1\")","v":3},null,68,"Wagner Markus",{"$f":"IF(Finalrunde!$D$25=\"\",0,IF(Finalrunde!$D$25=Finalrunde!BG118,1,0))+IF(Finalrunde!$D$26=\"\",0,IF(Finalrunde!$D$26=Finalrunde!BG119,1,0))+IF(Finalrunde!$E$25=\"\",0,IF(Finalrunde!$E$25=Finalrunde!BJ118,1,0))+IF(Finalrunde!$E$26=\"\",0,IF(Finalrunde!$E$26=Finalrunde!BJ119,1,0))","v":1},1,{"$f":"IF(COUNTIF(Finalrunde!$D$25:$E$26,Finalrunde!BG118)<>0,\"0\",\"1\")+IF(COUNTIF(Finalrunde!$D$25:$E$26,Finalrunde!BG119)<>0,\"0\",\"1\")+IF(COUNTIF(Finalrunde!$D$25:$E$26,Finalrunde!BJ118)<>0,\"0\",\"1\")+IF(COUNTIF(Finalrunde!$D$25:$E$26,Finalrunde!BJ119)<>0,\"0\",\"1\")","v":2}]
[{"$f":"Teilnehmerliste!$A$74","v":69},{"$f":"Teilnehmerliste!B74 &\" \"&Teilnehmerliste!C74","v":"Walser Stefan"},{"$f":"IF(Finalrunde!$D$11=\"\",0,IF(Finalrunde!$D$11=Finalrunde!BN104,1,0))+IF(Finalrunde!$D$12=\"\",0,IF(Finalrunde!$D$12=Finalrunde!BN105,1,0))+IF(Finalrunde!$D$13=\"\",0,IF(Finalrunde!$D$13=Finalrunde!BN106,1,0))+IF(Finalrunde!$D$14=\"\",0,IF(Finalrunde!$D$14=Finalrunde!BN107,1,0))+IF(Finalrunde!$D$15=\"\",0,IF(Finalrunde!$D$15=Finalrunde!BN108,1,0))+IF(Finalrunde!$D$16=\"\",0,IF(Finalrunde!$D$16=Finalrunde!BN109,1,0))+IF(Finalrunde!$D$17=\"\",0,IF(Finalrunde!$D$17=Finalrunde!BN110,1,0))+IF(Finalrunde!$D$18=\"\",0,IF(Finalrunde!$D$18=Finalrunde!BN111,1,0))+IF(Finalrunde!$E$11=\"\",0,IF(Finalrunde!$E$11=Finalrunde!BQ104,1,0))+IF(Finalrunde!$E$12=\"\",0,IF(Finalrunde!$E$12=Finalrunde!BQ105,1,0))+IF(Finalrunde!$E$13=\"\",0,IF(Finalrunde!$E$13=Finalrunde!BQ106,1,0))+IF(Finalrunde!$E$14=\"\",0,IF(Finalrunde!$E$14=Finalrunde!BQ107,1,0))+IF(Finalrunde!$E$15=\"\",0,IF(Finalrunde!$E$15=Finalrunde!BQ108,1,0))+IF(Finalrunde!$E$16=\"\",0,IF(Finalrunde!$E$16=Finalrunde!BQ109,1,0))+IF(Finalrunde!$E$17=\"\",0,IF(Finalrunde!$E$17=Finalrunde!BQ110,1,0))+IF(Finalrunde!$E$18=\"\",0,IF(Finalrunde!$E$18=Finalrunde!BQ111,1,0))","v":7},5,{"$f":"IF(COUNTIF(Finalrunde!$D$11:$E$18,Finalrunde!BN104)<>0,\"0\",\"1\")+IF(COUNTIF(Finalrunde!$D$11:$E$18,Finalrunde!BN105)<>0,\"0\",\"1\")+IF(COUNTIF(Finalrunde!$D$11:$E$18,Finalrunde!BN106)<>0,\"0\",\"1\")+IF(COUNTIF(Finalrunde!$D$11:$E$18,Finalrunde!BN107)<>0,\"0\",\"1\")+IF(COUNTIF(Finalrunde!$D$11:$E$18,Finalrunde!BN108)<>0,\"0\",\"1\")+IF(COUNTIF(Finalrunde!$D$11:$E$18,Finalrunde!BN109)<>0,\"0\",\"1\")+IF(COUNTIF(Finalrunde!$D$11:$E$18,Finalrunde!BN110)<>0,\"0\",\"1\")+IF(COUNTIF(Finalrunde!$D$11:$E$18,Finalrunde!BN111)<>0,\"0\",\"1\")+IF(COUNTIF(Finalrunde!D$11:E$18,Finalrunde!BQ104)<>0,\"0\",\"1\")+IF(COUNTIF(Finalrunde!$D$11:$E$18,Finalrunde!BQ105)<>0,\"0\",\"1\")+IF(COUNTIF(Finalrunde!$D$11:$E$18,Finalrunde!BQ106)<>0,\"0\",\"1\")+IF(COUNTIF(Finalrunde!$D$11:$E$18,Finalrunde!BQ107)<>0,\"0\",\"1\")+IF(COUNTIF(Finalrunde!$D$11:$E$18,Finalrunde!BQ108)<>0,\"0\",\"1\")+IF(COUNTIF(Finalrunde!$D$11:$E$18,Finalrunde!BQ109)<>0,\"0\",\"1\")+IF(COUNTIF(Finalrunde!$D$11:$E$18,Finalrunde!BQ110)<>0,\"0\",\"1\")+IF(COUNTIF(Finalrunde!$D$11:$E$18,Finalrunde!BQ111)<>0,\"0\",\"1\")","v":4},null,69,"Walser Stefan",{"$f":"IF(Finalrunde!$D$20=\"\",0,IF(Finalrunde!$D$20=Finalrunde!BN113,1,0))+IF(Finalrunde!$D$21=\"\",0,IF(Finalrunde!$D$21=Finalrunde!BN114,1,0))+IF(Finalrunde!$D$22=\"\",0,IF(Finalrunde!$D$22=Finalrunde!BN115,1,0))+IF(Finalrunde!$D$23=\"\",0,IF(Finalrunde!$D$23=Finalrunde!BN116,1,0))+IF(Finalrunde!$E$20=\"\",0,IF(Finalrunde!$E$20=Finalrunde!BQ113,1,0))+IF(Finalrunde!$E$21=\"\",0,IF(Finalrunde!$E$21=Finalrunde!BQ114,1,0))+IF(Finalrunde!$E$22=\"\",0,IF(Finalrunde!$E$22=Finalrunde!BQ115,1,0))+IF(Finalrunde!$E$23=\"\",0,IF(Finalrunde!$E$23=Finalrunde!BQ116,1,0))","v":4},2,{"$f":"IF(COUNTIF(Finalrunde!$D$20:$E$23,Finalrunde!BN113)<>0,\"0\",\"1\")+IF(COUNTIF(Finalrunde!$D$20:$E$23,Finalrunde!BN114)<>0,\"0\",\"1\")+IF(COUNTIF(Finalrunde!$D$20:$E$23,Finalrunde!BN115)<>0,\"0\",\"1\")+IF(COUNTIF(Finalrunde!$D$20:$E$23,Finalrunde!BN116)<>0,\"0\",\"1\")+IF(COUNTIF(Finalrunde!$D$20:$E$23,Finalrunde!BQ113)<>0,\"0\",\"1\")+IF(COUNTIF(Finalrunde!$D$20:$E$23,Finalrunde!BQ114)<>0,\"0\",\"1\")+IF(COUNTIF(Finalrunde!$D$20:$E$23,Finalrunde!BQ115)<>0,\"0\",\"1\")+IF(COUNTIF(Finalrunde!$D$20:$E$23,Finalrunde!BQ116)<>0,\"0\",\"1\")","v":2},null,69,"Walser Stefan",{"$f":"IF(Finalrunde!$D$25=\"\",0,IF(Finalrunde!$D$25=Finalrunde!BN118,1,0))+IF(Finalrunde!$D$26=\"\",0,IF(Finalrunde!$D$26=Finalrunde!BN119,1,0))+IF(Finalrunde!$E$25=\"\",0,IF(Finalrunde!$E$25=Finalrunde!BQ118,1,0))+IF(Finalrunde!$E$26=\"\",0,IF(Finalrunde!$E$26=Finalrunde!BQ119,1,0))","v":1},2,{"$f":"IF(COUNTIF(Finalrunde!$D$25:$E$26,Finalrunde!BN118)<>0,\"0\",\"1\")+IF(COUNTIF(Finalrunde!$D$25:$E$26,Finalrunde!BN119)<>0,\"0\",\"1\")+IF(COUNTIF(Finalrunde!$D$25:$E$26,Finalrunde!BQ118)<>0,\"0\",\"1\")+IF(COUNTIF(Finalrunde!$D$25:$E$26,Finalrunde!BQ119)<>0,\"0\",\"1\")","v":1}]
[{"$f":"Teilnehmerliste!$A$75","v":70},{"$f":"Teilnehmerliste!B75 &\" \"&Teilnehmerliste!C75","v":"Wang Jingwen"},{"$f":"IF(Finalrunde!$D$11=\"\",0,IF(Finalrunde!$D$11=Finalrunde!BU104,1,0))+IF(Finalrunde!$D$12=\"\",0,IF(Finalrunde!$D$12=Finalrunde!BU105,1,0))+IF(Finalrunde!$D$13=\"\",0,IF(Finalrunde!$D$13=Finalrunde!BU106,1,0))+IF(Finalrunde!$D$14=\"\",0,IF(Finalrunde!$D$14=Finalrunde!BU107,1,0))+IF(Finalrunde!$D$15=\"\",0,IF(Finalrunde!$D$15=Finalrunde!BU108,1,0))+IF(Finalrunde!$D$16=\"\",0,IF(Finalrunde!$D$16=Finalrunde!BU109,1,0))+IF(Finalrunde!$D$17=\"\",0,IF(Finalrunde!$D$17=Finalrunde!BU110,1,0))+IF(Finalrunde!$D$18=\"\",0,IF(Finalrunde!$D$18=Finalrunde!BU111,1,0))+IF(Finalrunde!$E$11=\"\",0,IF(Finalrunde!$E$11=Finalrunde!BX104,1,0))+IF(Finalrunde!$E$12=\"\",0,IF(Finalrunde!$E$12=Finalrunde!BX105,1,0))+IF(Finalrunde!$E$13=\"\",0,IF(Finalrunde!$E$13=Finalrunde!BX106,1,0))+IF(Finalrunde!$E$14=\"\",0,IF(Finalrunde!$E$14=Finalrunde!BX107,1,0))+IF(Finalrunde!$E$15=\"\",0,IF(Finalrunde!$E$15=Finalrunde!BX108,1,0))+IF(Finalrunde!$E$16=\"\",0,IF(Finalrunde!$E$16=Finalrunde!BX109,1,0))+IF(Finalrunde!$E$17=\"\",0,IF(Finalrunde!$E$17=Finalrunde!BX110,1,0))+IF(Finalrunde!$E$18=\"\",0,IF(Finalrunde!$E$18=Finalrunde!BX111,1,0))","v":6},7,{"$f":"IF(COUNTIF(Finalrunde!$D$11:$E$18,Finalrunde!BU104)<>0,\"0\",\"1\")+IF(COUNTIF(Finalrunde!$D$11:$E$18,Finalrunde!BU105)<>0,\"0\",\"1\")+IF(COUNTIF(Finalrunde!$D$11:$E$18,Finalrunde!BU106)<>0,\"0\",\"1\")+IF(COUNTIF(Finalrunde!$D$11:$E$18,Finalrunde!BU107)<>0,\"0\",\"1\")+IF(COUNTIF(Finalrunde!$D$11:$E$18,Finalrunde!BU108)<>0,\"0\",\"1\")+IF(COUNTIF(Finalrunde!$D$11:$E$18,Finalrunde!BU109)<>0,\"0\",\"1\")+IF(COUNTIF(Finalrunde!$D$11:$E$18,Finalrunde!BU110)<>0,\"0\",\"1\")+IF(COUNTIF(Finalrunde!$D$11:$E$18,Finalrunde!BU111)<>0,\"0\",\"1\")+IF(COUNTIF(Finalrunde!D$11:E$18,Finalrunde!BX104)<>0,\"0\",\"1\")+IF(COUNTIF(Finalrunde!$D$11:$E$18,Finalrunde!BX105)<>0,\"0\",\"1\")+IF(COUNTIF(Finalrunde!$D$11:$E$18,Finalrunde!BX106)<>0,\"0\",\"1\")+IF(COUNTIF(Finalrunde!$D$11:$E$18,Finalrunde!BX107)<>0,\"0\",\"1\")+IF(COUNTIF(Finalrunde!$D$11:$E$18,Finalrunde!BX108)<>0,\"0\",\"1\")+IF(COUNTIF(Finalrunde!$D$11:$E$18,Finalrunde!BX109)<>0,\"0\",\"1\")+IF(COUNTIF(Finalrunde!$D$11:$E$18,Finalrunde!BX110)<>0,\"0\",\"1\")+IF(COUNTIF(Finalrunde!$D$11:$E$18,Finalrunde!BX111)<>0,\"0\",\"1\")","v":3},null,70,"Wang Jingwen",{"$f":"IF(Finalrunde!$D$20=\"\",0,IF(Finalrunde!$D$20=Finalrunde!BU113,1,0))+IF(Finalrunde!$D$21=\"\",0,IF(Finalrunde!$D$21=Finalrunde!BU114,1,0))+IF(Finalrunde!$D$22=\"\",0,IF(Finalrunde!$D$22=Finalrunde!BU115,1,0))+IF(Finalrunde!$D$23=\"\",0,IF(Finalrunde!$D$23=Finalrunde!BU116,1,0))+IF(Finalrunde!$E$20=\"\",0,IF(Finalrunde!$E$20=Finalrunde!BX113,1,0))+IF(Finalrunde!$E$21=\"\",0,IF(Finalrunde!$E$21=Finalrunde!BX114,1,0))+IF(Finalrunde!$E$22=\"\",0,IF(Finalrunde!$E$22=Finalrunde!BX115,1,0))+IF(Finalrunde!$E$23=\"\",0,IF(Finalrunde!$E$23=Finalrunde!BX116,1,0))","v":4},2,{"$f":"IF(COUNTIF(Finalrunde!$D$20:$E$23,Finalrunde!BU113)<>0,\"0\",\"1\")+IF(COUNTIF(Finalrunde!$D$20:$E$23,Finalrunde!BU114)<>0,\"0\",\"1\")+IF(COUNTIF(Finalrunde!$D$20:$E$23,Finalrunde!BU115)<>0,\"0\",\"1\")+IF(COUNTIF(Finalrunde!$D$20:$E$23,Finalrunde!BU116)<>0,\"0\",\"1\")+IF(COUNTIF(Finalrunde!$D$20:$E$23,Finalrunde!BX113)<>0,\"0\",\"1\")+IF(COUNTIF(Finalrunde!$D$20:$E$23,Finalrunde!BX114)<>0,\"0\",\"1\")+IF(COUNTIF(Finalrunde!$D$20:$E$23,Finalrunde!BX115)<>0,\"0\",\"1\")+IF(COUNTIF(Finalrunde!$D$20:$E$23,Finalrunde!BX116)<>0,\"0\",\"1\")","v":2},null,70,"Wang Jingwen",{"$f":"IF(Finalrunde!$D$25=\"\",0,IF(Finalrunde!$D$25=Finalrunde!BU118,1,0))+IF(Finalrunde!$D$26=\"\",0,IF(Finalrunde!$D$26=Finalrunde!BU119,1,0))+IF(Finalrunde!$E$25=\"\",0,IF(Finalrunde!$E$25=Finalrunde!BX118,1,0))+IF(Finalrunde!$E$26=\"\",0,IF(Finalrunde!$E$26=Finalrunde!BX119,1,0))","v":1},1,{"$f":"IF(COUNTIF(Finalrunde!$D$25:$E$26,Finalrunde!BU118)<>0,\"0\",\"1\")+IF(COUNTIF(Finalrunde!$D$25:$E$26,Finalrunde!BU119)<>0,\"0\",\"1\")+IF(COUNTIF(Finalrunde!$D$25:$E$26,Finalrunde!BX118)<>0,\"0\",\"1\")+IF(COUNTIF(Finalrunde!$D$25:$E$26,Finalrunde!BX119)<>0,\"0\",\"1\")","v":2}]
[{"$f":"Teilnehmerliste!$A$76","v":71},{"$f":"Teilnehmerliste!B76 &\" \"&Teilnehmerliste!C76","v":"Wullschleger Stefan"},{"$f":"IF(Finalrunde!$D$11=\"\",0,IF(Finalrunde!$D$11=Finalrunde!CB104,1,0))+IF(Finalrunde!$D$12=\"\",0,IF(Finalrunde!$D$12=Finalrunde!CB105,1,0))+IF(Finalrunde!$D$13=\"\",0,IF(Finalrunde!$D$13=Finalrunde!CB106,1,0))+IF(Finalrunde!$D$14=\"\",0,IF(Finalrunde!$D$14=Finalrunde!CB107,1,0))+IF(Finalrunde!$D$15=\"\",0,IF(Finalrunde!$D$15=Finalrunde!CB108,1,0))+IF(Finalrunde!$D$16=\"\",0,IF(Finalrunde!$D$16=Finalrunde!CB109,1,0))+IF(Finalrunde!$D$17=\"\",0,IF(Finalrunde!$D$17=Finalrunde!CB110,1,0))+IF(Finalrunde!$D$18=\"\",0,IF(Finalrunde!$D$18=Finalrunde!CB111,1,0))+IF(Finalrunde!$E$11=\"\",0,IF(Finalrunde!$E$11=Finalrunde!CE104,1,0))+IF(Finalrunde!$E$12=\"\",0,IF(Finalrunde!$E$12=Finalrunde!CE105,1,0))+IF(Finalrunde!$E$13=\"\",0,IF(Finalrunde!$E$13=Finalrunde!CE106,1,0))+IF(Finalrunde!$E$14=\"\",0,IF(Finalrunde!$E$14=Finalrunde!CE107,1,0))+IF(Finalrunde!$E$15=\"\",0,IF(Finalrunde!$E$15=Finalrunde!CE108,1,0))+IF(Finalrunde!$E$16=\"\",0,IF(Finalrunde!$E$16=Finalrunde!CE109,1,0))+IF(Finalrunde!$E$17=\"\",0,IF(Finalrunde!$E$17=Finalrunde!CE110,1,0))+IF(Finalrunde!$E$18=\"\",0,IF(Finalrunde!$E$18=Finalrunde!CE111,1,0))","v":7},5,{"$f":"IF(COUNTIF(Finalrunde!$D$11:$E$18,Finalrunde!CB104)<>0,\"0\",\"1\")+IF(COUNTIF(Finalrunde!$D$11:$E$18,Finalrunde!CB105)<>0,\"0\",\"1\")+IF(COUNTIF(Finalrunde!$D$11:$E$18,Finalrunde!CB106)<>0,\"0\",\"1\")+IF(COUNTIF(Finalrunde!$D$11:$E$18,Finalrunde!CB107)<>0,\"0\",\"1\")+IF(COUNTIF(Finalrunde!$D$11:$E$18,Finalrunde!CB108)<>0,\"0\",\"1\")+IF(COUNTIF(Finalrunde!$D$11:$E$18,Finalrunde!CB109)<>0,\"0\",\"1\")+IF(COUNTIF(Finalrunde!$D$11:$E$18,Finalrunde!CB110)<>0,\"0\",\"1\")+IF(COUNTIF(Finalrunde!$D$11:$E$18,Finalrunde!CB111)<>0,\"0\",\"1\")+IF(COUNTIF(Finalrunde!D$11:E$18,Finalrunde!CE104)<>0,\"0\",\"1\")+IF(COUNTIF(Finalrunde!$D$11:$E$18,Finalrunde!CE105)<>0,\"0\",\"1\")+IF(COUNTIF(Finalrunde!$D$11:$E$18,Finalrunde!CE106)<>0,\"0\",\"1\")+IF(COUNTIF(Finalrunde!$D$11:$E$18,Finalrunde!CE107)<>0,\"0\",\"1\")+IF(COUNTIF(Finalrunde!$D$11:$E$18,Finalrunde!CE108)<>0,\"0\",\"1\")+IF(COUNTIF(Finalrunde!$D$11:$E$18,Finalrunde!CE109)<>0,\"0\",\"1\")+IF(COUNTIF(Finalrunde!$D$11:$E$18,Finalrunde!CE110)<>0,\"0\",\"1\")+IF(COUNTIF(Finalrunde!$D$11:$E$18,Finalrunde!CE111)<>0,\"0\",\"1\")","v":4},null,71,"Wullschleger Stefan",{"$f":"IF(Finalrunde!$D$20=\"\",0,IF(Finalrunde!$D$20=Finalrunde!CB113,1,0))+IF(Finalrunde!$D$21=\"\",0,IF(Finalrunde!$D$21=Finalrunde!CB114,1,0))+IF(Finalrunde!$D$22=\"\",0,IF(Finalrunde!$D$22=Finalrunde!CB115,1,0))+IF(Finalrunde!$D$23=\"\",0,IF(Finalrunde!$D$23=Finalrunde!CB116,1,0))+IF(Finalrunde!$E$20=\"\",0,IF(Finalrunde!$E$20=Finalrunde!CE113,1,0))+IF(Finalrunde!$E$21=\"\",0,IF(Finalrunde!$E$21=Finalrunde!CE114,1,0))+IF(Finalrunde!$E$22=\"\",0,IF(Finalrunde!$E$22=Finalrunde!CE115,1,0))+IF(Finalrunde!$E$23=\"\",0,IF(Finalrunde!$E$23=Finalrunde!CE116,1,0))","v":4},2,{"$f":"IF(COUNTIF(Finalrunde!$D$20:$E$23,Finalrunde!CB113)<>0,\"0\",\"1\")+IF(COUNTIF(Finalrunde!$D$20:$E$23,Finalrunde!CB114)<>0,\"0\",\"1\")+IF(COUNTIF(Finalrunde!$D$20:$E$23,Finalrunde!CB115)<>0,\"0\",\"1\")+IF(COUNTIF(Finalrunde!$D$20:$E$23,Finalrunde!CB116)<>0,\"0\",\"1\")+IF(COUNTIF(Finalrunde!$D$20:$E$23,Finalrunde!CE113)<>0,\"0\",\"1\")+IF(COUNTIF(Finalrunde!$D$20:$E$23,Finalrunde!CE114)<>0,\"0\",\"1\")+IF(COUNTIF(Finalrunde!$D$20:$E$23,Finalrunde!CE115)<>0,\"0\",\"1\")+IF(COUNTIF(Finalrunde!$D$20:$E$23,Finalrunde!CE116)<>0,\"0\",\"1\")","v":2},null,71,"Wullschleger Stefan",{"$f":"IF(Finalrunde!$D$25=\"\",0,IF(Finalrunde!$D$25=Finalrunde!CB118,1,0))+IF(Finalrunde!$D$26=\"\",0,IF(Finalrunde!$D$26=Finalrunde!CB119,1,0))+IF(Finalrunde!$E$25=\"\",0,IF(Finalrunde!$E$25=Finalrunde!CE118,1,0))+IF(Finalrunde!$E$26=\"\",0,IF(Finalrunde!$E$26=Finalrunde!CE119,1,0))","v":1},1,{"$f":"IF(COUNTIF(Finalrunde!$D$25:$E$26,Finalrunde!CB118)<>0,\"0\",\"1\")+IF(COUNTIF(Finalrunde!$D$25:$E$26,Finalrunde!CB119)<>0,\"0\",\"1\")+IF(COUNTIF(Finalrunde!$D$25:$E$26,Finalrunde!CE118)<>0,\"0\",\"1\")+IF(COUNTIF(Finalrunde!$D$25:$E$26,Finalrunde!CE119)<>0,\"0\",\"1\")","v":2}]
[{"$f":"Teilnehmerliste!$A$77","v":72},{"$f":"Teilnehmerliste!B77 &\" \"&Teilnehmerliste!C77","v":"Zachmann Jasmine"},{"$f":"IF(Finalrunde!$D$11=\"\",0,IF(Finalrunde!$D$11=Finalrunde!CI104,1,0))+IF(Finalrunde!$D$12=\"\",0,IF(Finalrunde!$D$12=Finalrunde!CI105,1,0))+IF(Finalrunde!$D$13=\"\",0,IF(Finalrunde!$D$13=Finalrunde!CI106,1,0))+IF(Finalrunde!$D$14=\"\",0,IF(Finalrunde!$D$14=Finalrunde!CI107,1,0))+IF(Finalrunde!$D$15=\"\",0,IF(Finalrunde!$D$15=Finalrunde!CI108,1,0))+IF(Finalrunde!$D$16=\"\",0,IF(Finalrunde!$D$16=Finalrunde!CI109,1,0))+IF(Finalrunde!$D$17=\"\",0,IF(Finalrunde!$D$17=Finalrunde!CI110,1,0))+IF(Finalrunde!$D$18=\"\",0,IF(Finalrunde!$D$18=Finalrunde!CI111,1,0))+IF(Finalrunde!$E$11=\"\",0,IF(Finalrunde!$E$11=Finalrunde!CL104,1,0))+IF(Finalrunde!$E$12=\"\",0,IF(Finalrunde!$E$12=Finalrunde!CL105,1,0))+IF(Finalrunde!$E$13=\"\",0,IF(Finalrunde!$E$13=Finalrunde!CL106,1,0))+IF(Finalrunde!$E$14=\"\",0,IF(Finalrunde!$E$14=Finalrunde!CL107,1,0))+IF(Finalrunde!$E$15=\"\",0,IF(Finalrunde!$E$15=Finalrunde!CL108,1,0))+IF(Finalrunde!$E$16=\"\",0,IF(Finalrunde!$E$16=Finalrunde!CL109,1,0))+IF(Finalrunde!$E$17=\"\",0,IF(Finalrunde!$E$17=Finalrunde!CL110,1,0))+IF(Finalrunde!$E$18=\"\",0,IF(Finalrunde!$E$18=Finalrunde!CL111,1,0))","v":7},5,{"$f":"IF(COUNTIF(Finalrunde!$D$11:$E$18,Finalrunde!CI104)<>0,\"0\",\"1\")+IF(COUNTIF(Finalrunde!$D$11:$E$18,Finalrunde!CI105)<>0,\"0\",\"1\")+IF(COUNTIF(Finalrunde!$D$11:$E$18,Finalrunde!CI106)<>0,\"0\",\"1\")+IF(COUNTIF(Finalrunde!$D$11:$E$18,Finalrunde!CI107)<>0,\"0\",\"1\")+IF(COUNTIF(Finalrunde!$D$11:$E$18,Finalrunde!CI108)<>0,\"0\",\"1\")+IF(COUNTIF(Finalrunde!$D$11:$E$18,Finalrunde!CI109)<>0,\"0\",\"1\")+IF(COUNTIF(Finalrunde!$D$11:$E$18,Finalrunde!CI110)<>0,\"0\",\"1\")+IF(COUNTIF(Finalrunde!$D$11:$E$18,Finalrunde!CI111)<>0,\"0\",\"1\")+IF(COUNTIF(Finalrunde!D$11:E$18,Finalrunde!CL104)<>0,\"0\",\"1\")+IF(COUNTIF(Finalrunde!$D$11:$E$18,Finalrunde!CL105)<>0,\"0\",\"1\")+IF(COUNTIF(Finalrunde!$D$11:$E$18,Finalrunde!CL106)<>0,\"0\",\"1\")+IF(COUNTIF(Finalrunde!$D$11:$E$18,Finalrunde!CL107)<>0,\"0\",\"1\")+IF(COUNTIF(Finalrunde!$D$11:$E$18,Finalrunde!CL108)<>0,\"0\",\"1\")+IF(COUNTIF(Finalrunde!$D$11:$E$18,Finalrunde!CL109)<>0,\"0\",\"1\")+IF(COUNTIF(Finalrunde!$D$11:$E$18,Finalrunde!CL110)<>0,\"0\",\"1\")+IF(COUNTIF(Finalrunde!$D$11:$E$18,Finalrunde!CL111)<>0,\"0\",\"1\")","v":4},null,72,"Zachmann Jasmine",{"$f":"IF(Finalrunde!$D$20=\"\",0,IF(Finalrunde!$D$20=Finalrunde!CI113,1,0))+IF(Finalrunde!$D$21=\"\",0,IF(Finalrunde!$D$21=Finalrunde!CI114,1,0))+IF(Finalrunde!$D$22=\"\",0,IF(Finalrunde!$D$22=Finalrunde!CI115,1,0))+IF(Finalrunde!$D$23=\"\",0,IF(Finalrunde!$D$23=Finalrunde!CI116,1,0))+IF(Finalrunde!$E$20=\"\",0,IF(Finalrunde!$E$20=Finalrunde!CL113,1,0))+IF(Finalrunde!$E$21=\"\",0,IF(Finalrunde!$E$21=Finalrunde!CL114,1,0))+IF(Finalrunde!$E$22=\"\",0,IF(Finalrunde!$E$22=Finalrunde!CL115,1,0))+IF(Finalrunde!$E$23=\"\",0,IF(Finalrunde!$E$23=Finalrunde!CL116,1,0))","v":3},2,{"$f":"IF(COUNTIF(Finalrunde!$D$20:$E$23,Finalrunde!CI113)<>0,\"0\",\"1\")+IF(COUNTIF(Finalrunde!$D$20:$E$23,Finalrunde!CI114)<>0,\"0\",\"1\")+IF(COUNTIF(Finalrunde!$D$20:$E$23,Finalrunde!CI115)<>0,\"0\",\"1\")+IF(COUNTIF(Finalrunde!$D$20:$E$23,Finalrunde!CI116)<>0,\"0\",\"1\")+IF(COUNTIF(Finalrunde!$D$20:$E$23,Finalrunde!CL113)<>0,\"0\",\"1\")+IF(COUNTIF(Finalrunde!$D$20:$E$23,Finalrunde!CL114)<>0,\"0\",\"1\")+IF(COUNTIF(Finalrunde!$D$20:$E$23,Finalrunde!CL115)<>0,\"0\",\"1\")+IF(COUNTIF(Finalrunde!$D$20:$E$23,Finalrunde!CL116)<>0,\"0\",\"1\")","v":3},null,72,"Zachmann Jasmine",{"$f":"IF(Finalrunde!$D$25=\"\",0,IF(Finalrunde!$D$25=Finalrunde!CI118,1,0))+IF(Finalrunde!$D$26=\"\",0,IF(Finalrunde!$D$26=Finalrunde!CI119,1,0))+IF(Finalrunde!$E$25=\"\",0,IF(Finalrunde!$E$25=Finalrunde!CL118,1,0))+IF(Finalrunde!$E$26=\"\",0,IF(Finalrunde!$E$26=Finalrunde!CL119,1,0))","v":1},2,{"$f":"IF(COUNTIF(Finalrunde!$D$25:$E$26,Finalrunde!CI118)<>0,\"0\",\"1\")+IF(COUNTIF(Finalrunde!$D$25:$E$26,Finalrunde!CI119)<>0,\"0\",\"1\")+IF(COUNTIF(Finalrunde!$D$25:$E$26,Finalrunde!CL118)<>0,\"0\",\"1\")+IF(COUNTIF(Finalrunde!$D$25:$E$26,Finalrunde!CL119)<>0,\"0\",\"1\")","v":1}]
[{"$f":"Teilnehmerliste!$A$78","v":73},{"$f":"Teilnehmerliste!B78 &\" \"&Teilnehmerliste!C78","v":"Zachmann Stefan"},{"$f":"IF(Finalrunde!$D$11=\"\",0,IF(Finalrunde!$D$11=Finalrunde!CP104,1,0))+IF(Finalrunde!$D$12=\"\",0,IF(Finalrunde!$D$12=Finalrunde!CP105,1,0))+IF(Finalrunde!$D$13=\"\",0,IF(Finalrunde!$D$13=Finalrunde!CP106,1,0))+IF(Finalrunde!$D$14=\"\",0,IF(Finalrunde!$D$14=Finalrunde!CP107,1,0))+IF(Finalrunde!$D$15=\"\",0,IF(Finalrunde!$D$15=Finalrunde!CP108,1,0))+IF(Finalrunde!$D$16=\"\",0,IF(Finalrunde!$D$16=Finalrunde!CP109,1,0))+IF(Finalrunde!$D$17=\"\",0,IF(Finalrunde!$D$17=Finalrunde!CP110,1,0))+IF(Finalrunde!$D$18=\"\",0,IF(Finalrunde!$D$18=Finalrunde!CP111,1,0))+IF(Finalrunde!$E$11=\"\",0,IF(Finalrunde!$E$11=Finalrunde!CS104,1,0))+IF(Finalrunde!$E$12=\"\",0,IF(Finalrunde!$E$12=Finalrunde!CS105,1,0))+IF(Finalrunde!$E$13=\"\",0,IF(Finalrunde!$E$13=Finalrunde!CS106,1,0))+IF(Finalrunde!$E$14=\"\",0,IF(Finalrunde!$E$14=Finalrunde!CS107,1,0))+IF(Finalrunde!$E$15=\"\",0,IF(Finalrunde!$E$15=Finalrunde!CS108,1,0))+IF(Finalrunde!$E$16=\"\",0,IF(Finalrunde!$E$16=Finalrunde!CS109,1,0))+IF(Finalrunde!$E$17=\"\",0,IF(Finalrunde!$E$17=Finalrunde!CS110,1,0))+IF(Finalrunde!$E$18=\"\",0,IF(Finalrunde!$E$18=Finalrunde!CS111,1,0))","v":5},5,{"$f":"IF(COUNTIF(Finalrunde!$D$11:$E$18,Finalrunde!CP104)<>0,\"0\",\"1\")+IF(COUNTIF(Finalrunde!$D$11:$E$18,Finalrunde!CP105)<>0,\"0\",\"1\")+IF(COUNTIF(Finalrunde!$D$11:$E$18,Finalrunde!CP106)<>0,\"0\",\"1\")+IF(COUNTIF(Finalrunde!$D$11:$E$18,Finalrunde!CP107)<>0,\"0\",\"1\")+IF(COUNTIF(Finalrunde!$D$11:$E$18,Finalrunde!CP108)<>0,\"0\",\"1\")+IF(COUNTIF(Finalrunde!$D$11:$E$18,Finalrunde!CP109)<>0,\"0\",\"1\")+IF(COUNTIF(Finalrunde!$D$11:$E$18,Finalrunde!CP110)<>0,\"0\",\"1\")+IF(COUNTIF(Finalrunde!$D$11:$E$18,Finalrunde!CP111)<>0,\"0\",\"1\")+IF(COUNTIF(Finalrunde!D$11:E$18,Finalrunde!CS104)<>0,\"0\",\"1\")+IF(COUNTIF(Finalrunde!$D$11:$E$18,Finalrunde!CS105)<>0,\"0\",\"1\")+IF(COUNTIF(Finalrunde!$D$11:$E$18,Finalrunde!CS106)<>0,\"0\",\"1\")+IF(COUNTIF(Finalrunde!$D$11:$E$18,Finalrunde!CS107)<>0,\"0\",\"1\")+IF(COUNTIF(Finalrunde!$D$11:$E$18,Finalrunde!CS108)<>0,\"0\",\"1\")+IF(COUNTIF(Finalrunde!$D$11:$E$18,Finalrunde!CS109)<>0,\"0\",\"1\")+IF(COUNTIF(Finalrunde!$D$11:$E$18,Finalrunde!CS110)<>0,\"0\",\"1\")+IF(COUNTIF(Finalrunde!$D$11:$E$18,Finalrunde!CS111)<>0,\"0\",\"1\")","v":6},null,73,"Zachmann Stefan",{"$f":"IF(Finalrunde!$D$20=\"\",0,IF(Finalrunde!$D$20=Finalrunde!CP113,1,0))+IF(Finalrunde!$D$21=\"\",0,IF(Finalrunde!$D$21=Finalrunde!CP114,1,0))+IF(Finalrunde!$D$22=\"\",0,IF(Finalrunde!$D$22=Finalrunde!CP115,1,0))+IF(Finalrunde!$D$23=\"\",0,IF(Finalrunde!$D$23=Finalrunde!CP116,1,0))+IF(Finalrunde!$E$20=\"\",0,IF(Finalrunde!$E$20=Finalrunde!CS113,1,0))+IF(Finalrunde!$E$21=\"\",0,IF(Finalrunde!$E$21=Finalrunde!CS114,1,0))+IF(Finalrunde!$E$22=\"\",0,IF(Finalrunde!$E$22=Finalrunde!CS115,1,0))+IF(Finalrunde!$E$23=\"\",0,IF(Finalrunde!$E$23=Finalrunde!CS116,1,0))","v":4},1,{"$f":"IF(COUNTIF(Finalrunde!$D$20:$E$23,Finalrunde!CP113)<>0,\"0\",\"1\")+IF(COUNTIF(Finalrunde!$D$20:$E$23,Finalrunde!CP114)<>0,\"0\",\"1\")+IF(COUNTIF(Finalrunde!$D$20:$E$23,Finalrunde!CP115)<>0,\"0\",\"1\")+IF(COUNTIF(Finalrunde!$D$20:$E$23,Finalrunde!CP116)<>0,\"0\",\"1\")+IF(COUNTIF(Finalrunde!$D$20:$E$23,Finalrunde!CS113)<>0,\"0\",\"1\")+IF(COUNTIF(Finalrunde!$D$20:$E$23,Finalrunde!CS114)<>0,\"0\",\"1\")+IF(COUNTIF(Finalrunde!$D$20:$E$23,Finalrunde!CS115)<>0,\"0\",\"1\")+IF(COUNTIF(Finalrunde!$D$20:$E$23,Finalrunde!CS116)<>0,\"0\",\"1\")","v":3},null,73,"Zachmann Stefan",{"$f":"IF(Finalrunde!$D$25=\"\",0,IF(Finalrunde!$D$25=Finalrunde!CP118,1,0))+IF(Finalrunde!$D$26=\"\",0,IF(Finalrunde!$D$26=Finalrunde!CP119,1,0))+IF(Finalrunde!$E$25=\"\",0,IF(Finalrunde!$E$25=Finalrunde!CS118,1,0))+IF(Finalrunde!$E$26=\"\",0,IF(Finalrunde!$E$26=Finalrunde!CS119,1,0))","v":0},0,{"$f":"IF(COUNTIF(Finalrunde!$D$25:$E$26,Finalrunde!CP118)<>0,\"0\",\"1\")+IF(COUNTIF(Finalrunde!$D$25:$E$26,Finalrunde!CP119)<>0,\"0\",\"1\")+IF(COUNTIF(Finalrunde!$D$25:$E$26,Finalrunde!CS118)<>0,\"0\",\"1\")+IF(COUNTIF(Finalrunde!$D$25:$E$26,Finalrunde!CS119)<>0,\"0\",\"1\")","v":4}]
[{"$f":"Teilnehmerliste!$A$79","v":74},{"$f":"Teilnehmerliste!B79 &\" \"&Teilnehmerliste!C79","v":"Babic Mario"},{"$f":"IF(Finalrunde!$D$11=\"\",0,IF(Finalrunde!$D$11=Finalrunde!CW104,1,0))+IF(Finalrunde!$D$12=\"\",0,IF(Finalrunde!$D$12=Finalrunde!CW105,1,0))+IF(Finalrunde!$D$13=\"\",0,IF(Finalrunde!$D$13=Finalrunde!CW106,1,0))+IF(Finalrunde!$D$14=\"\",0,IF(Finalrunde!$D$14=Finalrunde!CW107,1,0))+IF(Finalrunde!$D$15=\"\",0,IF(Finalrunde!$D$15=Finalrunde!CW108,1,0))+IF(Finalrunde!$D$16=\"\",0,IF(Finalrunde!$D$16=Finalrunde!CW109,1,0))+IF(Finalrunde!$D$17=\"\",0,IF(Finalrunde!$D$17=Finalrunde!CW110,1,0))+IF(Finalrunde!$D$18=\"\",0,IF(Finalrunde!$D$18=Finalrunde!CW111,1,0))+IF(Finalrunde!$E$11=\"\",0,IF(Finalrunde!$E$11=Finalrunde!CZ104,1,0))+IF(Finalrunde!$E$12=\"\",0,IF(Finalrunde!$E$12=Finalrunde!CZ105,1,0))+IF(Finalrunde!$E$13=\"\",0,IF(Finalrunde!$E$13=Finalrunde!CZ106,1,0))+IF(Finalrunde!$E$14=\"\",0,IF(Finalrunde!$E$14=Finalrunde!CZ107,1,0))+IF(Finalrunde!$E$15=\"\",0,IF(Finalrunde!$E$15=Finalrunde!CZ108,1,0))+IF(Finalrunde!$E$16=\"\",0,IF(Finalrunde!$E$16=Finalrunde!CZ109,1,0))+IF(Finalrunde!$E$17=\"\",0,IF(Finalrunde!$E$17=Finalrunde!CZ110,1,0))+IF(Finalrunde!$E$18=\"\",0,IF(Finalrunde!$E$18=Finalrunde!CZ111,1,0))","v":5},8,{"$f":"IF(COUNTIF(Finalrunde!$D$11:$E$18,Finalrunde!CW104)<>0,\"0\",\"1\")+IF(COUNTIF(Finalrunde!$D$11:$E$18,Finalrunde!CW105)<>0,\"0\",\"1\")+IF(COUNTIF(Finalrunde!$D$11:$E$18,Finalrunde!CW106)<>0,\"0\",\"1\")+IF(COUNTIF(Finalrunde!$D$11:$E$18,Finalrunde!CW107)<>0,\"0\",\"1\")+IF(COUNTIF(Finalrunde!$D$11:$E$18,Finalrunde!CW108)<>0,\"0\",\"1\")+IF(COUNTIF(Finalrunde!$D$11:$E$18,Finalrunde!CW109)<>0,\"0\",\"1\")+IF(COUNTIF(Finalrunde!$D$11:$E$18,Finalrunde!CW110)<>0,\"0\",\"1\")+IF(COUNTIF(Finalrunde!$D$11:$E$18,Finalrunde!CW111)<>0,\"0\",\"1\")+IF(COUNTIF(Finalrunde!D$11:E$18,Finalrunde!CZ104)<>0,\"0\",\"1\")+IF(COUNTIF(Finalrunde!$D$11:$E$18,Finalrunde!CZ105)<>0,\"0\",\"1\")+IF(COUNTIF(Finalrunde!$D$11:$E$18,Finalrunde!CZ106)<>0,\"0\",\"1\")+IF(COUNTIF(Finalrunde!$D$11:$E$18,Finalrunde!CZ107)<>0,\"0\",\"1\")+IF(COUNTIF(Finalrunde!$D$11:$E$18,Finalrunde!CZ108)<>0,\"0\",\"1\")+IF(COUNTIF(Finalrunde!$D$11:$E$18,Finalrunde!CZ109)<>0,\"0\",\"1\")+IF(COUNTIF(Finalrunde!$D$11:$E$18,Finalrunde!CZ110)<>0,\"0\",\"1\")+IF(COUNTIF(Finalrunde!$D$11:$E$18,Finalrunde!CZ111)<>0,\"0\",\"1\")","v":3},null,74,"Babic Mario",{"$f":"IF(Finalrunde!$D$20=\"\",0,IF(Finalrunde!$D$20=Finalrunde!CW113,1,0))+IF(Finalrunde!$D$21=\"\",0,IF(Finalrunde!$D$21=Finalrunde!CW114,1,0))+IF(Finalrunde!$D$22=\"\",0,IF(Finalrunde!$D$22=Finalrunde!CW115,1,0))+IF(Finalrunde!$D$23=\"\",0,IF(Finalrunde!$D$23=Finalrunde!CW116,1,0))+IF(Finalrunde!$E$20=\"\",0,IF(Finalrunde!$E$20=Finalrunde!CZ113,1,0))+IF(Finalrunde!$E$21=\"\",0,IF(Finalrunde!$E$21=Finalrunde!CZ114,1,0))+IF(Finalrunde!$E$22=\"\",0,IF(Finalrunde!$E$22=Finalrunde!CZ115,1,0))+IF(Finalrunde!$E$23=\"\",0,IF(Finalrunde!$E$23=Finalrunde!CZ116,1,0))","v":3},3,{"$f":"IF(COUNTIF(Finalrunde!$D$20:$E$23,Finalrunde!CW113)<>0,\"0\",\"1\")+IF(COUNTIF(Finalrunde!$D$20:$E$23,Finalrunde!CW114)<>0,\"0\",\"1\")+IF(COUNTIF(Finalrunde!$D$20:$E$23,Finalrunde!CW115)<>0,\"0\",\"1\")+IF(COUNTIF(Finalrunde!$D$20:$E$23,Finalrunde!CW116)<>0,\"0\",\"1\")+IF(COUNTIF(Finalrunde!$D$20:$E$23,Finalrunde!CZ113)<>0,\"0\",\"1\")+IF(COUNTIF(Finalrunde!$D$20:$E$23,Finalrunde!CZ114)<>0,\"0\",\"1\")+IF(COUNTIF(Finalrunde!$D$20:$E$23,Finalrunde!CZ115)<>0,\"0\",\"1\")+IF(COUNTIF(Finalrunde!$D$20:$E$23,Finalrunde!CZ116)<>0,\"0\",\"1\")","v":2},null,74,"Babic Mario",{"$f":"IF(Finalrunde!$D$25=\"\",0,IF(Finalrunde!$D$25=Finalrunde!CW118,1,0))+IF(Finalrunde!$D$26=\"\",0,IF(Finalrunde!$D$26=Finalrunde!CW119,1,0))+IF(Finalrunde!$E$25=\"\",0,IF(Finalrunde!$E$25=Finalrunde!CZ118,1,0))+IF(Finalrunde!$E$26=\"\",0,IF(Finalrunde!$E$26=Finalrunde!CZ119,1,0))","v":0},3,{"$f":"IF(COUNTIF(Finalrunde!$D$25:$E$26,Finalrunde!CW118)<>0,\"0\",\"1\")+IF(COUNTIF(Finalrunde!$D$25:$E$26,Finalrunde!CW119)<>0,\"0\",\"1\")+IF(COUNTIF(Finalrunde!$D$25:$E$26,Finalrunde!CZ118)<>0,\"0\",\"1\")+IF(COUNTIF(Finalrunde!$D$25:$E$26,Finalrunde!CZ119)<>0,\"0\",\"1\")","v":1}]
[{"$f":"Teilnehmerliste!$A$80","v":75},{"$f":"Teilnehmerliste!B80 &\" \"&Teilnehmerliste!C80","v":"Megdiche Nidhal"},{"$f":"IF(Finalrunde!$D$11=\"\",0,IF(Finalrunde!$D$11=Finalrunde!DD104,1,0))+IF(Finalrunde!$D$12=\"\",0,IF(Finalrunde!$D$12=Finalrunde!DD105,1,0))+IF(Finalrunde!$D$13=\"\",0,IF(Finalrunde!$D$13=Finalrunde!DD106,1,0))+IF(Finalrunde!$D$14=\"\",0,IF(Finalrunde!$D$14=Finalrunde!DD107,1,0))+IF(Finalrunde!$D$15=\"\",0,IF(Finalrunde!$D$15=Finalrunde!DD108,1,0))+IF(Finalrunde!$D$16=\"\",0,IF(Finalrunde!$D$16=Finalrunde!DD109,1,0))+IF(Finalrunde!$D$17=\"\",0,IF(Finalrunde!$D$17=Finalrunde!DD110,1,0))+IF(Finalrunde!$D$18=\"\",0,IF(Finalrunde!$D$18=Finalrunde!DD111,1,0))+IF(Finalrunde!$E$11=\"\",0,IF(Finalrunde!$E$11=Finalrunde!DG104,1,0))+IF(Finalrunde!$E$12=\"\",0,IF(Finalrunde!$E$12=Finalrunde!DG105,1,0))+IF(Finalrunde!$E$13=\"\",0,IF(Finalrunde!$E$13=Finalrunde!DG106,1,0))+IF(Finalrunde!$E$14=\"\",0,IF(Finalrunde!$E$14=Finalrunde!DG107,1,0))+IF(Finalrunde!$E$15=\"\",0,IF(Finalrunde!$E$15=Finalrunde!DG108,1,0))+IF(Finalrunde!$E$16=\"\",0,IF(Finalrunde!$E$16=Finalrunde!DG109,1,0))+IF(Finalrunde!$E$17=\"\",0,IF(Finalrunde!$E$17=Finalrunde!DG110,1,0))+IF(Finalrunde!$E$18=\"\",0,IF(Finalrunde!$E$18=Finalrunde!DG111,1,0))","v":6},7,{"$f":"IF(COUNTIF(Finalrunde!$D$11:$E$18,Finalrunde!DD104)<>0,\"0\",\"1\")+IF(COUNTIF(Finalrunde!$D$11:$E$18,Finalrunde!DD105)<>0,\"0\",\"1\")+IF(COUNTIF(Finalrunde!$D$11:$E$18,Finalrunde!DD106)<>0,\"0\",\"1\")+IF(COUNTIF(Finalrunde!$D$11:$E$18,Finalrunde!DD107)<>0,\"0\",\"1\")+IF(COUNTIF(Finalrunde!$D$11:$E$18,Finalrunde!DD108)<>0,\"0\",\"1\")+IF(COUNTIF(Finalrunde!$D$11:$E$18,Finalrunde!DD109)<>0,\"0\",\"1\")+IF(COUNTIF(Finalrunde!$D$11:$E$18,Finalrunde!DD110)<>0,\"0\",\"1\")+IF(COUNTIF(Finalrunde!$D$11:$E$18,Finalrunde!DD111)<>0,\"0\",\"1\")+IF(COUNTIF(Finalrunde!D$11:E$18,Finalrunde!DG104)<>0,\"0\",\"1\")+IF(COUNTIF(Finalrunde!$D$11:$E$18,Finalrunde!DG105)<>0,\"0\",\"1\")+IF(COUNTIF(Finalrunde!$D$11:$E$18,Finalrunde!DG106)<>0,\"0\",\"1\")+IF(COUNTIF(Finalrunde!$D$11:$E$18,Finalrunde!DG107)<>0,\"0\",\"1\")+IF(COUNTIF(Finalrunde!$D$11:$E$18,Finalrunde!DG108)<>0,\"0\",\"1\")+IF(COUNTIF(Finalrunde!$D$11:$E$18,Finalrunde!DG109)<>0,\"0\",\"1\")+IF(COUNTIF(Finalrunde!$D$11:$E$18,Finalrunde!DG110)<>0,\"0\",\"1\")+IF(COUNTIF(Finalrunde!$D$11:$E$18,Finalrunde!DG111)<>0,\"0\",\"1\")","v":3},null,75,"Megdiche Nidhal",{"$f":"IF(Finalrunde!$D$20=\"\",0,IF(Finalrunde!$D$20=Finalrunde!DD113,1,0))+IF(Finalrunde!$D$21=\"\",0,IF(Finalrunde!$D$21=Finalrunde!DD114,1,0))+IF(Finalrunde!$D$22=\"\",0,IF(Finalrunde!$D$22=Finalrunde!DD115,1,0))+IF(Finalrunde!$D$23=\"\",0,IF(Finalrunde!$D$23=Finalrunde!DD116,1,0))+IF(Finalrunde!$E$20=\"\",0,IF(Finalrunde!$E$20=Finalrunde!DG113,1,0))+IF(Finalrunde!$E$21=\"\",0,IF(Finalrunde!$E$21=Finalrunde!DG114,1,0))+IF(Finalrunde!$E$22=\"\",0,IF(Finalrunde!$E$22=Finalrunde!DG115,1,0))+IF(Finalrunde!$E$23=\"\",0,IF(Finalrunde!$E$23=Finalrunde!DG116,1,0))","v":3},3,{"$f":"IF(COUNTIF(Finalrunde!$D$20:$E$23,Finalrunde!DD113)<>0,\"0\",\"1\")+IF(COUNTIF(Finalrunde!$D$20:$E$23,Finalrunde!DD114)<>0,\"0\",\"1\")+IF(COUNTIF(Finalrunde!$D$20:$E$23,Finalrunde!DD115)<>0,\"0\",\"1\")+IF(COUNTIF(Finalrunde!$D$20:$E$23,Finalrunde!DD116)<>0,\"0\",\"1\")+IF(COUNTIF(Finalrunde!$D$20:$E$23,Finalrunde!DG113)<>0,\"0\",\"1\")+IF(COUNTIF(Finalrunde!$D$20:$E$23,Finalrunde!DG114)<>0,\"0\",\"1\")+IF(COUNTIF(Finalrunde!$D$20:$E$23,Finalrunde!DG115)<>0,\"0\",\"1\")+IF(COUNTIF(Finalrunde!$D$20:$E$23,Finalrunde!DG116)<>0,\"0\",\"1\")","v":2},null,75,"Megdiche Nidhal",{"$f":"IF(Finalrunde!$D$25=\"\",0,IF(Finalrunde!$D$25=Finalrunde!DD118,1,0))+IF(Finalrunde!$D$26=\"\",0,IF(Finalrunde!$D$26=Finalrunde!DD119,1,0))+IF(Finalrunde!$E$25=\"\",0,IF(Finalrunde!$E$25=Finalrunde!DG118,1,0))+IF(Finalrunde!$E$26=\"\",0,IF(Finalrunde!$E$26=Finalrunde!DG119,1,0))","v":1},1,{"$f":"IF(COUNTIF(Finalrunde!$D$25:$E$26,Finalrunde!DD118)<>0,\"0\",\"1\")+IF(COUNTIF(Finalrunde!$D$25:$E$26,Finalrunde!DD119)<>0,\"0\",\"1\")+IF(COUNTIF(Finalrunde!$D$25:$E$26,Finalrunde!DG118)<>0,\"0\",\"1\")+IF(COUNTIF(Finalrunde!$D$25:$E$26,Finalrunde!DG119)<>0,\"0\",\"1\")","v":2}]
[{"$f":"Teilnehmerliste!$A$81","v":76},{"$f":"Teilnehmerliste!B81 &\" \"&Teilnehmerliste!C81","v":"Städelin Hanspeter"},{"$f":"IF(Finalrunde!$D$11=\"\",0,IF(Finalrunde!$D$11=Finalrunde!DK104,1,0))+IF(Finalrunde!$D$12=\"\",0,IF(Finalrunde!$D$12=Finalrunde!DK105,1,0))+IF(Finalrunde!$D$13=\"\",0,IF(Finalrunde!$D$13=Finalrunde!DK106,1,0))+IF(Finalrunde!$D$14=\"\",0,IF(Finalrunde!$D$14=Finalrunde!DK107,1,0))+IF(Finalrunde!$D$15=\"\",0,IF(Finalrunde!$D$15=Finalrunde!DK108,1,0))+IF(Finalrunde!$D$16=\"\",0,IF(Finalrunde!$D$16=Finalrunde!DK109,1,0))+IF(Finalrunde!$D$17=\"\",0,IF(Finalrunde!$D$17=Finalrunde!DK110,1,0))+IF(Finalrunde!$D$18=\"\",0,IF(Finalrunde!$D$18=Finalrunde!DK111,1,0))+IF(Finalrunde!$E$11=\"\",0,IF(Finalrunde!$E$11=Finalrunde!DN104,1,0))+IF(Finalrunde!$E$12=\"\",0,IF(Finalrunde!$E$12=Finalrunde!DN105,1,0))+IF(Finalrunde!$E$13=\"\",0,IF(Finalrunde!$E$13=Finalrunde!DN106,1,0))+IF(Finalrunde!$E$14=\"\",0,IF(Finalrunde!$E$14=Finalrunde!DN107,1,0))+IF(Finalrunde!$E$15=\"\",0,IF(Finalrunde!$E$15=Finalrunde!DN108,1,0))+IF(Finalrunde!$E$16=\"\",0,IF(Finalrunde!$E$16=Finalrunde!DN109,1,0))+IF(Finalrunde!$E$17=\"\",0,IF(Finalrunde!$E$17=Finalrunde!DN110,1,0))+IF(Finalrunde!$E$18=\"\",0,IF(Finalrunde!$E$18=Finalrunde!DN111,1,0))","v":6},6,{"$f":"IF(COUNTIF(Finalrunde!$D$11:$E$18,Finalrunde!DK104)<>0,\"0\",\"1\")+IF(COUNTIF(Finalrunde!$D$11:$E$18,Finalrunde!DK105)<>0,\"0\",\"1\")+IF(COUNTIF(Finalrunde!$D$11:$E$18,Finalrunde!DK106)<>0,\"0\",\"1\")+IF(COUNTIF(Finalrunde!$D$11:$E$18,Finalrunde!DK107)<>0,\"0\",\"1\")+IF(COUNTIF(Finalrunde!$D$11:$E$18,Finalrunde!DK108)<>0,\"0\",\"1\")+IF(COUNTIF(Finalrunde!$D$11:$E$18,Finalrunde!DK109)<>0,\"0\",\"1\")+IF(COUNTIF(Finalrunde!$D$11:$E$18,Finalrunde!DK110)<>0,\"0\",\"1\")+IF(COUNTIF(Finalrunde!$D$11:$E$18,Finalrunde!DK111)<>0,\"0\",\"1\")+IF(COUNTIF(Finalrunde!D$11:E$18,Finalrunde!DN104)<>0,\"0\",\"1\")+IF(COUNTIF(Finalrunde!$D$11:$E$18,Finalrunde!DN105)<>0,\"0\",\"1\")+IF(COUNTIF(Finalrunde!$D$11:$E$18,Finalrunde!DN106)<>0,\"0\",\"1\")+IF(COUNTIF(Finalrunde!$D$11:$E$18,Finalrunde!DN107)<>0,\"0\",\"1\")+IF(COUNTIF(Finalrunde!$D$11:$E$18,Finalrunde!DN108)<>0,\"0\",\"1\")+IF(COUNTIF(Finalrunde!$D$11:$E$18,Finalrunde!DN109)<>0,\"0\",\"1\")+IF(COUNTIF(Finalrunde!$D$11:$E$18,Finalrunde!DN110)<>0,\"0\",\"1\")+IF(COUNTIF(Finalrunde!$D$11:$E$18,Finalrunde!DN111)<>0,\"0\",\"1\")","v":4},null,76,"Städelin Hanspeter",{"$f":"IF(Finalrunde!$D$20=\"\",0,IF(Finalrunde!$D$20=Finalrunde!DK113,1,0))+IF(Finalrunde!$D$21=\"\",0,IF(Finalrunde!$D$21=Finalrunde!DK114,1,0))+IF(Finalrunde!$D$22=\"\",0,IF(Finalrunde!$D$22=Finalrunde!DK115,1,0))+IF(Finalrunde!$D$23=\"\",0,IF(Finalrunde!$D$23=Finalrunde!DK116,1,0))+IF(Finalrunde!$E$20=\"\",0,IF(Finalrunde!$E$20=Finalrunde!DN113,1,0))+IF(Finalrunde!$E$21=\"\",0,IF(Finalrunde!$E$21=Finalrunde!DN114,1,0))+IF(Finalrunde!$E$22=\"\",0,IF(Finalrunde!$E$22=Finalrunde!DN115,1,0))+IF(Finalrunde!$E$23=\"\",0,IF(Finalrunde!$E$23=Finalrunde!DN116,1,0))","v":2},3,{"$f":"IF(COUNTIF(Finalrunde!$D$20:$E$23,Finalrunde!DK113)<>0,\"0\",\"1\")+IF(COUNTIF(Finalrunde!$D$20:$E$23,Finalrunde!DK114)<>0,\"0\",\"1\")+IF(COUNTIF(Finalrunde!$D$20:$E$23,Finalrunde!DK115)<>0,\"0\",\"1\")+IF(COUNTIF(Finalrunde!$D$20:$E$23,Finalrunde!DK116)<>0,\"0\",\"1\")+IF(COUNTIF(Finalrunde!$D$20:$E$23,Finalrunde!DN113)<>0,\"0\",\"1\")+IF(COUNTIF(Finalrunde!$D$20:$E$23,Finalrunde!DN114)<>0,\"0\",\"1\")+IF(COUNTIF(Finalrunde!$D$20:$E$23,Finalrunde!DN115)<>0,\"0\",\"1\")+IF(COUNTIF(Finalrunde!$D$20:$E$23,Finalrunde!DN116)<>0,\"0\",\"1\")","v":3},null,76,"Städelin Hanspeter",{"$f":"IF(Finalrunde!$D$25=\"\",0,IF(Finalrunde!$D$25=Finalrunde!DK118,1,0))+IF(Finalrunde!$D$26=\"\",0,IF(Finalrunde!$D$26=Finalrunde!DK119,1,0))+IF(Finalrunde!$E$25=\"\",0,IF(Finalrunde!$E$25=Finalrunde!DN118,1,0))+IF(Finalrunde!$E$26=\"\",0,IF(Finalrunde!$E$26=Finalrunde!DN119,1,0))","v":1},1,{"$f":"IF(COUNTIF(Finalrunde!$D$25:$E$26,Finalrunde!DK118)<>0,\"0\",\"1\")+IF(COUNTIF(Finalrunde!$D$25:$E$26,Finalrunde!DK119)<>0,\"0\",\"1\")+IF(COUNTIF(Finalrunde!$D$25:$E$26,Finalrunde!DN118)<>0,\"0\",\"1\")+IF(COUNTIF(Finalrunde!$D$25:$E$26,Finalrunde!DN119)<>0,\"0\",\"1\")","v":2}]
[{"$f":"Teilnehmerliste!$A$82","v":77},{"$f":"Teilnehmerliste!B82 &\" \"&Teilnehmerliste!C82","v":" "},{"$f":"IF(Finalrunde!$D$11=\"\",0,IF(Finalrunde!$D$11=Finalrunde!DR104,1,0))+IF(Finalrunde!$D$12=\"\",0,IF(Finalrunde!$D$12=Finalrunde!DR105,1,0))+IF(Finalrunde!$D$13=\"\",0,IF(Finalrunde!$D$13=Finalrunde!DR106,1,0))+IF(Finalrunde!$D$14=\"\",0,IF(Finalrunde!$D$14=Finalrunde!DR107,1,0))+IF(Finalrunde!$D$15=\"\",0,IF(Finalrunde!$D$15=Finalrunde!DR108,1,0))+IF(Finalrunde!$D$16=\"\",0,IF(Finalrunde!$D$16=Finalrunde!DR109,1,0))+IF(Finalrunde!$D$17=\"\",0,IF(Finalrunde!$D$17=Finalrunde!DR110,1,0))+IF(Finalrunde!$D$18=\"\",0,IF(Finalrunde!$D$18=Finalrunde!DR111,1,0))+IF(Finalrunde!$E$11=\"\",0,IF(Finalrunde!$E$11=Finalrunde!DU104,1,0))+IF(Finalrunde!$E$12=\"\",0,IF(Finalrunde!$E$12=Finalrunde!DU105,1,0))+IF(Finalrunde!$E$13=\"\",0,IF(Finalrunde!$E$13=Finalrunde!DU106,1,0))+IF(Finalrunde!$E$14=\"\",0,IF(Finalrunde!$E$14=Finalrunde!DU107,1,0))+IF(Finalrunde!$E$15=\"\",0,IF(Finalrunde!$E$15=Finalrunde!DU108,1,0))+IF(Finalrunde!$E$16=\"\",0,IF(Finalrunde!$E$16=Finalrunde!DU109,1,0))+IF(Finalrunde!$E$17=\"\",0,IF(Finalrunde!$E$17=Finalrunde!DU110,1,0))+IF(Finalrunde!$E$18=\"\",0,IF(Finalrunde!$E$18=Finalrunde!DU111,1,0))","v":0},0,{"$f":"IF(COUNTIF(Finalrunde!$D$11:$E$18,Finalrunde!DR104)<>0,\"0\",\"1\")+IF(COUNTIF(Finalrunde!$D$11:$E$18,Finalrunde!DR105)<>0,\"0\",\"1\")+IF(COUNTIF(Finalrunde!$D$11:$E$18,Finalrunde!DR106)<>0,\"0\",\"1\")+IF(COUNTIF(Finalrunde!$D$11:$E$18,Finalrunde!DR107)<>0,\"0\",\"1\")+IF(COUNTIF(Finalrunde!$D$11:$E$18,Finalrunde!DR108)<>0,\"0\",\"1\")+IF(COUNTIF(Finalrunde!$D$11:$E$18,Finalrunde!DR109)<>0,\"0\",\"1\")+IF(COUNTIF(Finalrunde!$D$11:$E$18,Finalrunde!DR110)<>0,\"0\",\"1\")+IF(COUNTIF(Finalrunde!$D$11:$E$18,Finalrunde!DR111)<>0,\"0\",\"1\")+IF(COUNTIF(Finalrunde!D$11:E$18,Finalrunde!DU104)<>0,\"0\",\"1\")+IF(COUNTIF(Finalrunde!$D$11:$E$18,Finalrunde!DU105)<>0,\"0\",\"1\")+IF(COUNTIF(Finalrunde!$D$11:$E$18,Finalrunde!DU106)<>0,\"0\",\"1\")+IF(COUNTIF(Finalrunde!$D$11:$E$18,Finalrunde!DU107)<>0,\"0\",\"1\")+IF(COUNTIF(Finalrunde!$D$11:$E$18,Finalrunde!DU108)<>0,\"0\",\"1\")+IF(COUNTIF(Finalrunde!$D$11:$E$18,Finalrunde!DU109)<>0,\"0\",\"1\")+IF(COUNTIF(Finalrunde!$D$11:$E$18,Finalrunde!DU110)<>0,\"0\",\"1\")+IF(COUNTIF(Finalrunde!$D$11:$E$18,Finalrunde!DU111)<>0,\"0\",\"1\")","v":16},null,77," ",{"$f":"IF(Finalrunde!$D$20=\"\",0,IF(Finalrunde!$D$20=Finalrunde!DR113,1,0))+IF(Finalrunde!$D$21=\"\",0,IF(Finalrunde!$D$21=Finalrunde!DR114,1,0))+IF(Finalrunde!$D$22=\"\",0,IF(Finalrunde!$D$22=Finalrunde!DR115,1,0))+IF(Finalrunde!$D$23=\"\",0,IF(Finalrunde!$D$23=Finalrunde!DR116,1,0))+IF(Finalrunde!$E$20=\"\",0,IF(Finalrunde!$E$20=Finalrunde!DU113,1,0))+IF(Finalrunde!$E$21=\"\",0,IF(Finalrunde!$E$21=Finalrunde!DU114,1,0))+IF(Finalrunde!$E$22=\"\",0,IF(Finalrunde!$E$22=Finalrunde!DU115,1,0))+IF(Finalrunde!$E$23=\"\",0,IF(Finalrunde!$E$23=Finalrunde!DU116,1,0))","v":0},0,{"$f":"IF(COUNTIF(Finalrunde!$D$20:$E$23,Finalrunde!DR113)<>0,\"0\",\"1\")+IF(COUNTIF(Finalrunde!$D$20:$E$23,Finalrunde!DR114)<>0,\"0\",\"1\")+IF(COUNTIF(Finalrunde!$D$20:$E$23,Finalrunde!DR115)<>0,\"0\",\"1\")+IF(COUNTIF(Finalrunde!$D$20:$E$23,Finalrunde!DR116)<>0,\"0\",\"1\")+IF(COUNTIF(Finalrunde!$D$20:$E$23,Finalrunde!DU113)<>0,\"0\",\"1\")+IF(COUNTIF(Finalrunde!$D$20:$E$23,Finalrunde!DU114)<>0,\"0\",\"1\")+IF(COUNTIF(Finalrunde!$D$20:$E$23,Finalrunde!DU115)<>0,\"0\",\"1\")+IF(COUNTIF(Finalrunde!$D$20:$E$23,Finalrunde!DU116)<>0,\"0\",\"1\")","v":8},null,77," ",{"$f":"IF(Finalrunde!$D$25=\"\",0,IF(Finalrunde!$D$25=Finalrunde!DR118,1,0))+IF(Finalrunde!$D$26=\"\",0,IF(Finalrunde!$D$26=Finalrunde!DR119,1,0))+IF(Finalrunde!$E$25=\"\",0,IF(Finalrunde!$E$25=Finalrunde!DU118,1,0))+IF(Finalrunde!$E$26=\"\",0,IF(Finalrunde!$E$26=Finalrunde!DU119,1,0))","v":0},0,{"$f":"IF(COUNTIF(Finalrunde!$D$25:$E$26,Finalrunde!DR118)<>0,\"0\",\"1\")+IF(COUNTIF(Finalrunde!$D$25:$E$26,Finalrunde!DR119)<>0,\"0\",\"1\")+IF(COUNTIF(Finalrunde!$D$25:$E$26,Finalrunde!DU118)<>0,\"0\",\"1\")+IF(COUNTIF(Finalrunde!$D$25:$E$26,Finalrunde!DU119)<>0,\"0\",\"1\")","v":4}]
[{"$f":"Teilnehmerliste!$A$83","v":78},{"$f":"Teilnehmerliste!B83 &\" \"&Teilnehmerliste!C83","v":" "},{"$f":"IF(Finalrunde!$D$11=\"\",0,IF(Finalrunde!$D$11=Finalrunde!DY104,1,0))+IF(Finalrunde!$D$12=\"\",0,IF(Finalrunde!$D$12=Finalrunde!DY105,1,0))+IF(Finalrunde!$D$13=\"\",0,IF(Finalrunde!$D$13=Finalrunde!DY106,1,0))+IF(Finalrunde!$D$14=\"\",0,IF(Finalrunde!$D$14=Finalrunde!DY107,1,0))+IF(Finalrunde!$D$15=\"\",0,IF(Finalrunde!$D$15=Finalrunde!DY108,1,0))+IF(Finalrunde!$D$16=\"\",0,IF(Finalrunde!$D$16=Finalrunde!DY109,1,0))+IF(Finalrunde!$D$17=\"\",0,IF(Finalrunde!$D$17=Finalrunde!DY110,1,0))+IF(Finalrunde!$D$18=\"\",0,IF(Finalrunde!$D$18=Finalrunde!DY111,1,0))+IF(Finalrunde!$E$11=\"\",0,IF(Finalrunde!$E$11=Finalrunde!EB104,1,0))+IF(Finalrunde!$E$12=\"\",0,IF(Finalrunde!$E$12=Finalrunde!EB105,1,0))+IF(Finalrunde!$E$13=\"\",0,IF(Finalrunde!$E$13=Finalrunde!EB106,1,0))+IF(Finalrunde!$E$14=\"\",0,IF(Finalrunde!$E$14=Finalrunde!EB107,1,0))+IF(Finalrunde!$E$15=\"\",0,IF(Finalrunde!$E$15=Finalrunde!EB108,1,0))+IF(Finalrunde!$E$16=\"\",0,IF(Finalrunde!$E$16=Finalrunde!EB109,1,0))+IF(Finalrunde!$E$17=\"\",0,IF(Finalrunde!$E$17=Finalrunde!EB110,1,0))+IF(Finalrunde!$E$18=\"\",0,IF(Finalrunde!$E$18=Finalrunde!EB111,1,0))","v":0},0,{"$f":"IF(COUNTIF(Finalrunde!$D$11:$E$18,Finalrunde!DY104)<>0,\"0\",\"1\")+IF(COUNTIF(Finalrunde!$D$11:$E$18,Finalrunde!DY105)<>0,\"0\",\"1\")+IF(COUNTIF(Finalrunde!$D$11:$E$18,Finalrunde!DY106)<>0,\"0\",\"1\")+IF(COUNTIF(Finalrunde!$D$11:$E$18,Finalrunde!DY107)<>0,\"0\",\"1\")+IF(COUNTIF(Finalrunde!$D$11:$E$18,Finalrunde!DY108)<>0,\"0\",\"1\")+IF(COUNTIF(Finalrunde!$D$11:$E$18,Finalrunde!DY109)<>0,\"0\",\"1\")+IF(COUNTIF(Finalrunde!$D$11:$E$18,Finalrunde!DY110)<>0,\"0\",\"1\")+IF(COUNTIF(Finalrunde!$D$11:$E$18,Finalrunde!DY111)<>0,\"0\",\"1\")+IF(COUNTIF(Finalrunde!D$11:E$18,Finalrunde!EB104)<>0,\"0\",\"1\")+IF(COUNTIF(Finalrunde!$D$11:$E$18,Finalrunde!EB105)<>0,\"0\",\"1\")+IF(COUNTIF(Finalrunde!$D$11:$E$18,Finalrunde!EB106)<>0,\"0\",\"1\")+IF(COUNTIF(Finalrunde!$D$11:$E$18,Finalrunde!EB107)<>0,\"0\",\"1\")+IF(COUNTIF(Finalrunde!$D$11:$E$18,Finalrunde!EB108)<>0,\"0\",\"1\")+IF(COUNTIF(Finalrunde!$D$11:$E$18,Finalrunde!EB109)<>0,\"0\",\"1\")+IF(COUNTIF(Finalrunde!$D$11:$E$18,Finalrunde!EB110)<>0,\"0\",\"1\")+IF(COUNTIF(Finalrunde!$D$11:$E$18,Finalrunde!EB111)<>0,\"0\",\"1\")","v":16},null,78," ",{"$f":"IF(Finalrunde!$D$20=\"\",0,IF(Finalrunde!$D$20=Finalrunde!DY113,1,0))+IF(Finalrunde!$D$21=\"\",0,IF(Finalrunde!$D$21=Finalrunde!DY114,1,0))+IF(Finalrunde!$D$22=\"\",0,IF(Finalrunde!$D$22=Finalrunde!DY115,1,0))+IF(Finalrunde!$D$23=\"\",0,IF(Finalrunde!$D$23=Finalrunde!DY116,1,0))+IF(Finalrunde!$E$20=\"\",0,IF(Finalrunde!$E$20=Finalrunde!EB113,1,0))+IF(Finalrunde!$E$21=\"\",0,IF(Finalrunde!$E$21=Finalrunde!EB114,1,0))+IF(Finalrunde!$E$22=\"\",0,IF(Finalrunde!$E$22=Finalrunde!EB115,1,0))+IF(Finalrunde!$E$23=\"\",0,IF(Finalrunde!$E$23=Finalrunde!EB116,1,0))","v":0},0,{"$f":"IF(COUNTIF(Finalrunde!$D$20:$E$23,Finalrunde!DY113)<>0,\"0\",\"1\")+IF(COUNTIF(Finalrunde!$D$20:$E$23,Finalrunde!DY114)<>0,\"0\",\"1\")+IF(COUNTIF(Finalrunde!$D$20:$E$23,Finalrunde!DY115)<>0,\"0\",\"1\")+IF(COUNTIF(Finalrunde!$D$20:$E$23,Finalrunde!DY116)<>0,\"0\",\"1\")+IF(COUNTIF(Finalrunde!$D$20:$E$23,Finalrunde!EB113)<>0,\"0\",\"1\")+IF(COUNTIF(Finalrunde!$D$20:$E$23,Finalrunde!EB114)<>0,\"0\",\"1\")+IF(COUNTIF(Finalrunde!$D$20:$E$23,Finalrunde!EB115)<>0,\"0\",\"1\")+IF(COUNTIF(Finalrunde!$D$20:$E$23,Finalrunde!EB116)<>0,\"0\",\"1\")","v":8},null,78," ",{"$f":"IF(Finalrunde!$D$25=\"\",0,IF(Finalrunde!$D$25=Finalrunde!DY118,1,0))+IF(Finalrunde!$D$26=\"\",0,IF(Finalrunde!$D$26=Finalrunde!DY119,1,0))+IF(Finalrunde!$E$25=\"\",0,IF(Finalrunde!$E$25=Finalrunde!EB118,1,0))+IF(Finalrunde!$E$26=\"\",0,IF(Finalrunde!$E$26=Finalrunde!EB119,1,0))","v":0},0,{"$f":"IF(COUNTIF(Finalrunde!$D$25:$E$26,Finalrunde!DY118)<>0,\"0\",\"1\")+IF(COUNTIF(Finalrunde!$D$25:$E$26,Finalrunde!DY119)<>0,\"0\",\"1\")+IF(COUNTIF(Finalrunde!$D$25:$E$26,Finalrunde!EB118)<>0,\"0\",\"1\")+IF(COUNTIF(Finalrunde!$D$25:$E$26,Finalrunde!EB119)<>0,\"0\",\"1\")","v":4}]
[{"$f":"Teilnehmerliste!$A$84","v":79},{"$f":"Teilnehmerliste!B84 &\" \"&Teilnehmerliste!C84","v":" "},{"$f":"IF(Finalrunde!$D$11=\"\",0,IF(Finalrunde!$D$11=Finalrunde!EF104,1,0))+IF(Finalrunde!$D$12=\"\",0,IF(Finalrunde!$D$12=Finalrunde!EF105,1,0))+IF(Finalrunde!$D$13=\"\",0,IF(Finalrunde!$D$13=Finalrunde!EF106,1,0))+IF(Finalrunde!$D$14=\"\",0,IF(Finalrunde!$D$14=Finalrunde!EF107,1,0))+IF(Finalrunde!$D$15=\"\",0,IF(Finalrunde!$D$15=Finalrunde!EF108,1,0))+IF(Finalrunde!$D$16=\"\",0,IF(Finalrunde!$D$16=Finalrunde!EF109,1,0))+IF(Finalrunde!$D$17=\"\",0,IF(Finalrunde!$D$17=Finalrunde!EF110,1,0))+IF(Finalrunde!$D$18=\"\",0,IF(Finalrunde!$D$18=Finalrunde!EF111,1,0))+IF(Finalrunde!$E$11=\"\",0,IF(Finalrunde!$E$11=Finalrunde!EI104,1,0))+IF(Finalrunde!$E$12=\"\",0,IF(Finalrunde!$E$12=Finalrunde!EI105,1,0))+IF(Finalrunde!$E$13=\"\",0,IF(Finalrunde!$E$13=Finalrunde!EI106,1,0))+IF(Finalrunde!$E$14=\"\",0,IF(Finalrunde!$E$14=Finalrunde!EI107,1,0))+IF(Finalrunde!$E$15=\"\",0,IF(Finalrunde!$E$15=Finalrunde!EI108,1,0))+IF(Finalrunde!$E$16=\"\",0,IF(Finalrunde!$E$16=Finalrunde!EI109,1,0))+IF(Finalrunde!$E$17=\"\",0,IF(Finalrunde!$E$17=Finalrunde!EI110,1,0))+IF(Finalrunde!$E$18=\"\",0,IF(Finalrunde!$E$18=Finalrunde!EI111,1,0))","v":0},0,{"$f":"IF(COUNTIF(Finalrunde!$D$11:$E$18,Finalrunde!EF104)<>0,\"0\",\"1\")+IF(COUNTIF(Finalrunde!$D$11:$E$18,Finalrunde!EF105)<>0,\"0\",\"1\")+IF(COUNTIF(Finalrunde!$D$11:$E$18,Finalrunde!EF106)<>0,\"0\",\"1\")+IF(COUNTIF(Finalrunde!$D$11:$E$18,Finalrunde!EF107)<>0,\"0\",\"1\")+IF(COUNTIF(Finalrunde!$D$11:$E$18,Finalrunde!EF108)<>0,\"0\",\"1\")+IF(COUNTIF(Finalrunde!$D$11:$E$18,Finalrunde!EF109)<>0,\"0\",\"1\")+IF(COUNTIF(Finalrunde!$D$11:$E$18,Finalrunde!EF110)<>0,\"0\",\"1\")+IF(COUNTIF(Finalrunde!$D$11:$E$18,Finalrunde!EF111)<>0,\"0\",\"1\")+IF(COUNTIF(Finalrunde!D$11:E$18,Finalrunde!EI104)<>0,\"0\",\"1\")+IF(COUNTIF(Finalrunde!$D$11:$E$18,Finalrunde!EI105)<>0,\"0\",\"1\")+IF(COUNTIF(Finalrunde!$D$11:$E$18,Finalrunde!EI106)<>0,\"0\",\"1\")+IF(COUNTIF(Finalrunde!$D$11:$E$18,Finalrunde!EI107)<>0,\"0\",\"1\")+IF(COUNTIF(Finalrunde!$D$11:$E$18,Finalrunde!EI108)<>0,\"0\",\"1\")+IF(COUNTIF(Finalrunde!$D$11:$E$18,Finalrunde!EI109)<>0,\"0\",\"1\")+IF(COUNTIF(Finalrunde!$D$11:$E$18,Finalrunde!EI110)<>0,\"0\",\"1\")+IF(COUNTIF(Finalrunde!$D$11:$E$18,Finalrunde!EI111)<>0,\"0\",\"1\")","v":16},null,79," ",{"$f":"IF(Finalrunde!$D$20=\"\",0,IF(Finalrunde!$D$20=Finalrunde!EF113,1,0))+IF(Finalrunde!$D$21=\"\",0,IF(Finalrunde!$D$21=Finalrunde!EF114,1,0))+IF(Finalrunde!$D$22=\"\",0,IF(Finalrunde!$D$22=Finalrunde!EF115,1,0))+IF(Finalrunde!$D$23=\"\",0,IF(Finalrunde!$D$23=Finalrunde!EF116,1,0))+IF(Finalrunde!$E$20=\"\",0,IF(Finalrunde!$E$20=Finalrunde!EI113,1,0))+IF(Finalrunde!$E$21=\"\",0,IF(Finalrunde!$E$21=Finalrunde!EI114,1,0))+IF(Finalrunde!$E$22=\"\",0,IF(Finalrunde!$E$22=Finalrunde!EI115,1,0))+IF(Finalrunde!$E$23=\"\",0,IF(Finalrunde!$E$23=Finalrunde!EI116,1,0))","v":0},0,{"$f":"IF(COUNTIF(Finalrunde!$D$20:$E$23,Finalrunde!EF113)<>0,\"0\",\"1\")+IF(COUNTIF(Finalrunde!$D$20:$E$23,Finalrunde!EF114)<>0,\"0\",\"1\")+IF(COUNTIF(Finalrunde!$D$20:$E$23,Finalrunde!EF115)<>0,\"0\",\"1\")+IF(COUNTIF(Finalrunde!$D$20:$E$23,Finalrunde!EF116)<>0,\"0\",\"1\")+IF(COUNTIF(Finalrunde!$D$20:$E$23,Finalrunde!EI113)<>0,\"0\",\"1\")+IF(COUNTIF(Finalrunde!$D$20:$E$23,Finalrunde!EI114)<>0,\"0\",\"1\")+IF(COUNTIF(Finalrunde!$D$20:$E$23,Finalrunde!EI115)<>0,\"0\",\"1\")+IF(COUNTIF(Finalrunde!$D$20:$E$23,Finalrunde!EI116)<>0,\"0\",\"1\")","v":8},null,79," ",{"$f":"IF(Finalrunde!$D$25=\"\",0,IF(Finalrunde!$D$25=Finalrunde!EF118,1,0))+IF(Finalrunde!$D$26=\"\",0,IF(Finalrunde!$D$26=Finalrunde!EF119,1,0))+IF(Finalrunde!$E$25=\"\",0,IF(Finalrunde!$E$25=Finalrunde!EI118,1,0))+IF(Finalrunde!$E$26=\"\",0,IF(Finalrunde!$E$26=Finalrunde!EI119,1,0))","v":0},0,{"$f":"IF(COUNTIF(Finalrunde!$D$25:$E$26,Finalrunde!EF118)<>0,\"0\",\"1\")+IF(COUNTIF(Finalrunde!$D$25:$E$26,Finalrunde!EF119)<>0,\"0\",\"1\")+IF(COUNTIF(Finalrunde!$D$25:$E$26,Finalrunde!EI118)<>0,\"0\",\"1\")+IF(COUNTIF(Finalrunde!$D$25:$E$26,Finalrunde!EI119)<>0,\"0\",\"1\")","v":4}]
[{"$f":"Teilnehmerliste!$A$85","v":80},{"$f":"Teilnehmerliste!B85 &\" \"&Teilnehmerliste!C85","v":" "},{"$f":"IF(Finalrunde!$D$11=\"\",0,IF(Finalrunde!$D$11=Finalrunde!EM104,1,0))+IF(Finalrunde!$D$12=\"\",0,IF(Finalrunde!$D$12=Finalrunde!EM105,1,0))+IF(Finalrunde!$D$13=\"\",0,IF(Finalrunde!$D$13=Finalrunde!EM106,1,0))+IF(Finalrunde!$D$14=\"\",0,IF(Finalrunde!$D$14=Finalrunde!EM107,1,0))+IF(Finalrunde!$D$15=\"\",0,IF(Finalrunde!$D$15=Finalrunde!EM108,1,0))+IF(Finalrunde!$D$16=\"\",0,IF(Finalrunde!$D$16=Finalrunde!EM109,1,0))+IF(Finalrunde!$D$17=\"\",0,IF(Finalrunde!$D$17=Finalrunde!EM110,1,0))+IF(Finalrunde!$D$18=\"\",0,IF(Finalrunde!$D$18=Finalrunde!EM111,1,0))+IF(Finalrunde!$E$11=\"\",0,IF(Finalrunde!$E$11=Finalrunde!EP104,1,0))+IF(Finalrunde!$E$12=\"\",0,IF(Finalrunde!$E$12=Finalrunde!EP105,1,0))+IF(Finalrunde!$E$13=\"\",0,IF(Finalrunde!$E$13=Finalrunde!EP106,1,0))+IF(Finalrunde!$E$14=\"\",0,IF(Finalrunde!$E$14=Finalrunde!EP107,1,0))+IF(Finalrunde!$E$15=\"\",0,IF(Finalrunde!$E$15=Finalrunde!EP108,1,0))+IF(Finalrunde!$E$16=\"\",0,IF(Finalrunde!$E$16=Finalrunde!EP109,1,0))+IF(Finalrunde!$E$17=\"\",0,IF(Finalrunde!$E$17=Finalrunde!EP110,1,0))+IF(Finalrunde!$E$18=\"\",0,IF(Finalrunde!$E$18=Finalrunde!EP111,1,0))","v":0},0,{"$f":"IF(COUNTIF(Finalrunde!$D$11:$E$18,Finalrunde!EM104)<>0,\"0\",\"1\")+IF(COUNTIF(Finalrunde!$D$11:$E$18,Finalrunde!EM105)<>0,\"0\",\"1\")+IF(COUNTIF(Finalrunde!$D$11:$E$18,Finalrunde!EM106)<>0,\"0\",\"1\")+IF(COUNTIF(Finalrunde!$D$11:$E$18,Finalrunde!EM107)<>0,\"0\",\"1\")+IF(COUNTIF(Finalrunde!$D$11:$E$18,Finalrunde!EM108)<>0,\"0\",\"1\")+IF(COUNTIF(Finalrunde!$D$11:$E$18,Finalrunde!EM109)<>0,\"0\",\"1\")+IF(COUNTIF(Finalrunde!$D$11:$E$18,Finalrunde!EM110)<>0,\"0\",\"1\")+IF(COUNTIF(Finalrunde!$D$11:$E$18,Finalrunde!EM111)<>0,\"0\",\"1\")+IF(COUNTIF(Finalrunde!D$11:E$18,Finalrunde!EP104)<>0,\"0\",\"1\")+IF(COUNTIF(Finalrunde!$D$11:$E$18,Finalrunde!EP105)<>0,\"0\",\"1\")+IF(COUNTIF(Finalrunde!$D$11:$E$18,Finalrunde!EP106)<>0,\"0\",\"1\")+IF(COUNTIF(Finalrunde!$D$11:$E$18,Finalrunde!EP107)<>0,\"0\",\"1\")+IF(COUNTIF(Finalrunde!$D$11:$E$18,Finalrunde!EP108)<>0,\"0\",\"1\")+IF(COUNTIF(Finalrunde!$D$11:$E$18,Finalrunde!EP109)<>0,\"0\",\"1\")+IF(COUNTIF(Finalrunde!$D$11:$E$18,Finalrunde!EP110)<>0,\"0\",\"1\")+IF(COUNTIF(Finalrunde!$D$11:$E$18,Finalrunde!EP111)<>0,\"0\",\"1\")","v":16},null,80," ",{"$f":"IF(Finalrunde!$D$20=\"\",0,IF(Finalrunde!$D$20=Finalrunde!EM113,1,0))+IF(Finalrunde!$D$21=\"\",0,IF(Finalrunde!$D$21=Finalrunde!EM114,1,0))+IF(Finalrunde!$D$22=\"\",0,IF(Finalrunde!$D$22=Finalrunde!EM115,1,0))+IF(Finalrunde!$D$23=\"\",0,IF(Finalrunde!$D$23=Finalrunde!EM116,1,0))+IF(Finalrunde!$E$20=\"\",0,IF(Finalrunde!$E$20=Finalrunde!EP113,1,0))+IF(Finalrunde!$E$21=\"\",0,IF(Finalrunde!$E$21=Finalrunde!EP114,1,0))+IF(Finalrunde!$E$22=\"\",0,IF(Finalrunde!$E$22=Finalrunde!EP115,1,0))+IF(Finalrunde!$E$23=\"\",0,IF(Finalrunde!$E$23=Finalrunde!EP116,1,0))","v":0},0,{"$f":"IF(COUNTIF(Finalrunde!$D$20:$E$23,Finalrunde!EM113)<>0,\"0\",\"1\")+IF(COUNTIF(Finalrunde!$D$20:$E$23,Finalrunde!EM114)<>0,\"0\",\"1\")+IF(COUNTIF(Finalrunde!$D$20:$E$23,Finalrunde!EM115)<>0,\"0\",\"1\")+IF(COUNTIF(Finalrunde!$D$20:$E$23,Finalrunde!EM116)<>0,\"0\",\"1\")+IF(COUNTIF(Finalrunde!$D$20:$E$23,Finalrunde!EP113)<>0,\"0\",\"1\")+IF(COUNTIF(Finalrunde!$D$20:$E$23,Finalrunde!EP114)<>0,\"0\",\"1\")+IF(COUNTIF(Finalrunde!$D$20:$E$23,Finalrunde!EP115)<>0,\"0\",\"1\")+IF(COUNTIF(Finalrunde!$D$20:$E$23,Finalrunde!EP116)<>0,\"0\",\"1\")","v":8},null,80," ",{"$f":"IF(Finalrunde!$D$25=\"\",0,IF(Finalrunde!$D$25=Finalrunde!EM118,1,0))+IF(Finalrunde!$D$26=\"\",0,IF(Finalrunde!$D$26=Finalrunde!EM119,1,0))+IF(Finalrunde!$E$25=\"\",0,IF(Finalrunde!$E$25=Finalrunde!EP118,1,0))+IF(Finalrunde!$E$26=\"\",0,IF(Finalrunde!$E$26=Finalrunde!EP119,1,0))","v":0},0,{"$f":"IF(COUNTIF(Finalrunde!$D$25:$E$26,Finalrunde!EM118)<>0,\"0\",\"1\")+IF(COUNTIF(Finalrunde!$D$25:$E$26,Finalrunde!EM119)<>0,\"0\",\"1\")+IF(COUNTIF(Finalrunde!$D$25:$E$26,Finalrunde!EP118)<>0,\"0\",\"1\")+IF(COUNTIF(Finalrunde!$D$25:$E$26,Finalrunde!EP119)<>0,\"0\",\"1\")","v":4}]
[{"$f":"Teilnehmerliste!$A$86","v":81},{"$f":"Teilnehmerliste!B86 &\" \"&Teilnehmerliste!C86","v":" "},{"$f":"IF(Finalrunde!$D$11=\"\",0,IF(Finalrunde!$D$11=Finalrunde!J135,1,0))+IF(Finalrunde!$D$12=\"\",0,IF(Finalrunde!$D$12=Finalrunde!J136,1,0))+IF(Finalrunde!$D$13=\"\",0,IF(Finalrunde!$D$13=Finalrunde!J137,1,0))+IF(Finalrunde!$D$14=\"\",0,IF(Finalrunde!$D$14=Finalrunde!J138,1,0))+IF(Finalrunde!$D$15=\"\",0,IF(Finalrunde!$D$15=Finalrunde!J139,1,0))+IF(Finalrunde!$D$16=\"\",0,IF(Finalrunde!$D$16=Finalrunde!J140,1,0))+IF(Finalrunde!$D$17=\"\",0,IF(Finalrunde!$D$17=Finalrunde!J141,1,0))+IF(Finalrunde!$D$18=\"\",0,IF(Finalrunde!$D$18=Finalrunde!J142,1,0))+IF(Finalrunde!$E$11=\"\",0,IF(Finalrunde!$E$11=Finalrunde!M135,1,0))+IF(Finalrunde!$E$12=\"\",0,IF(Finalrunde!$E$12=Finalrunde!M136,1,0))+IF(Finalrunde!$E$13=\"\",0,IF(Finalrunde!$E$13=Finalrunde!M137,1,0))+IF(Finalrunde!$E$14=\"\",0,IF(Finalrunde!$E$14=Finalrunde!M138,1,0))+IF(Finalrunde!$E$15=\"\",0,IF(Finalrunde!$E$15=Finalrunde!M139,1,0))+IF(Finalrunde!$E$16=\"\",0,IF(Finalrunde!$E$16=Finalrunde!M140,1,0))+IF(Finalrunde!$E$17=\"\",0,IF(Finalrunde!$E$17=Finalrunde!M141,1,0))+IF(Finalrunde!$E$18=\"\",0,IF(Finalrunde!$E$18=Finalrunde!M142,1,0))","v":0},0,{"$f":"IF(COUNTIF(Finalrunde!$D$11:$E$18,Finalrunde!J135)<>0,\"0\",\"1\")+IF(COUNTIF(Finalrunde!$D$11:$E$18,Finalrunde!J136)<>0,\"0\",\"1\")+IF(COUNTIF(Finalrunde!$D$11:$E$18,Finalrunde!J137)<>0,\"0\",\"1\")+IF(COUNTIF(Finalrunde!$D$11:$E$18,Finalrunde!J138)<>0,\"0\",\"1\")+IF(COUNTIF(Finalrunde!$D$11:$E$18,Finalrunde!J139)<>0,\"0\",\"1\")+IF(COUNTIF(Finalrunde!$D$11:$E$18,Finalrunde!J140)<>0,\"0\",\"1\")+IF(COUNTIF(Finalrunde!$D$11:$E$18,Finalrunde!J141)<>0,\"0\",\"1\")+IF(COUNTIF(Finalrunde!$D$11:$E$18,Finalrunde!J142)<>0,\"0\",\"1\")+IF(COUNTIF(Finalrunde!D$11:E$18,Finalrunde!M135)<>0,\"0\",\"1\")+IF(COUNTIF(Finalrunde!$D$11:$E$18,Finalrunde!M136)<>0,\"0\",\"1\")+IF(COUNTIF(Finalrunde!$D$11:$E$18,Finalrunde!M137)<>0,\"0\",\"1\")+IF(COUNTIF(Finalrunde!$D$11:$E$18,Finalrunde!M138)<>0,\"0\",\"1\")+IF(COUNTIF(Finalrunde!$D$11:$E$18,Finalrunde!M139)<>0,\"0\",\"1\")+IF(COUNTIF(Finalrunde!$D$11:$E$18,Finalrunde!M140)<>0,\"0\",\"1\")+IF(COUNTIF(Finalrunde!$D$11:$E$18,Finalrunde!M141)<>0,\"0\",\"1\")+IF(COUNTIF(Finalrunde!$D$11:$E$18,Finalrunde!M142)<>0,\"0\",\"1\")","v":16},null,81," ",{"$f":"IF(Finalrunde!$D$20=\"\",0,IF(Finalrunde!$D$20=Finalrunde!J144,1,0))+IF(Finalrunde!$D$21=\"\",0,IF(Finalrunde!$D$21=Finalrunde!J145,1,0))+IF(Finalrunde!$D$22=\"\",0,IF(Finalrunde!$D$22=Finalrunde!J146,1,0))+IF(Finalrunde!$D$23=\"\",0,IF(Finalrunde!$D$23=Finalrunde!J147,1,0))+IF(Finalrunde!$E$20=\"\",0,IF(Finalrunde!$E$20=Finalrunde!M144,1,0))+IF(Finalrunde!$E$21=\"\",0,IF(Finalrunde!$E$21=Finalrunde!M145,1,0))+IF(Finalrunde!$E$22=\"\",0,IF(Finalrunde!$E$22=Finalrunde!M146,1,0))+IF(Finalrunde!$E$23=\"\",0,IF(Finalrunde!$E$23=Finalrunde!M147,1,0))","v":0},0,{"$f":"IF(COUNTIF(Finalrunde!$D$20:$E$23,Finalrunde!J144)<>0,\"0\",\"1\")+IF(COUNTIF(Finalrunde!$D$20:$E$23,Finalrunde!J145)<>0,\"0\",\"1\")+IF(COUNTIF(Finalrunde!$D$20:$E$23,Finalrunde!J146)<>0,\"0\",\"1\")+IF(COUNTIF(Finalrunde!$D$20:$E$23,Finalrunde!J147)<>0,\"0\",\"1\")+IF(COUNTIF(Finalrunde!$D$20:$E$23,Finalrunde!M144)<>0,\"0\",\"1\")+IF(COUNTIF(Finalrunde!$D$20:$E$23,Finalrunde!M145)<>0,\"0\",\"1\")+IF(COUNTIF(Finalrunde!$D$20:$E$23,Finalrunde!M146)<>0,\"0\",\"1\")+IF(COUNTIF(Finalrunde!$D$20:$E$23,Finalrunde!M147)<>0,\"0\",\"1\")","v":8},null,81," ",{"$f":"IF(Finalrunde!$D$25=\"\",0,IF(Finalrunde!$D$25=Finalrunde!J149,1,0))+IF(Finalrunde!$D$26=\"\",0,IF(Finalrunde!$D$26=Finalrunde!J150,1,0))+IF(Finalrunde!$E$25=\"\",0,IF(Finalrunde!$E$25=Finalrunde!M149,1,0))+IF(Finalrunde!$E$26=\"\",0,IF(Finalrunde!$E$26=Finalrunde!M150,1,0))","v":0},0,{"$f":"IF(COUNTIF(Finalrunde!$D$25:$E$26,Finalrunde!J149)<>0,\"0\",\"1\")+IF(COUNTIF(Finalrunde!$D$25:$E$26,Finalrunde!J150)<>0,\"0\",\"1\")+IF(COUNTIF(Finalrunde!$D$25:$E$26,Finalrunde!M149)<>0,\"0\",\"1\")+IF(COUNTIF(Finalrunde!$D$25:$E$26,Finalrunde!M150)<>0,\"0\",\"1\")","v":4}]
[{"$f":"Teilnehmerliste!$A$87","v":82},{"$f":"Teilnehmerliste!B87 &\" \"&Teilnehmerliste!C87","v":" "},{"$f":"IF(Finalrunde!$D$11=\"\",0,IF(Finalrunde!$D$11=Finalrunde!Q135,1,0))+IF(Finalrunde!$D$12=\"\",0,IF(Finalrunde!$D$12=Finalrunde!Q136,1,0))+IF(Finalrunde!$D$13=\"\",0,IF(Finalrunde!$D$13=Finalrunde!Q137,1,0))+IF(Finalrunde!$D$14=\"\",0,IF(Finalrunde!$D$14=Finalrunde!Q138,1,0))+IF(Finalrunde!$D$15=\"\",0,IF(Finalrunde!$D$15=Finalrunde!Q139,1,0))+IF(Finalrunde!$D$16=\"\",0,IF(Finalrunde!$D$16=Finalrunde!Q140,1,0))+IF(Finalrunde!$D$17=\"\",0,IF(Finalrunde!$D$17=Finalrunde!Q141,1,0))+IF(Finalrunde!$D$18=\"\",0,IF(Finalrunde!$D$18=Finalrunde!Q142,1,0))+IF(Finalrunde!$E$11=\"\",0,IF(Finalrunde!$E$11=Finalrunde!T135,1,0))+IF(Finalrunde!$E$12=\"\",0,IF(Finalrunde!$E$12=Finalrunde!T136,1,0))+IF(Finalrunde!$E$13=\"\",0,IF(Finalrunde!$E$13=Finalrunde!T137,1,0))+IF(Finalrunde!$E$14=\"\",0,IF(Finalrunde!$E$14=Finalrunde!T138,1,0))+IF(Finalrunde!$E$15=\"\",0,IF(Finalrunde!$E$15=Finalrunde!T139,1,0))+IF(Finalrunde!$E$16=\"\",0,IF(Finalrunde!$E$16=Finalrunde!T140,1,0))+IF(Finalrunde!$E$17=\"\",0,IF(Finalrunde!$E$17=Finalrunde!T141,1,0))+IF(Finalrunde!$E$18=\"\",0,IF(Finalrunde!$E$18=Finalrunde!T142,1,0))","v":0},0,{"$f":"IF(COUNTIF(Finalrunde!$D$11:$E$18,Finalrunde!Q135)<>0,\"0\",\"1\")+IF(COUNTIF(Finalrunde!$D$11:$E$18,Finalrunde!Q136)<>0,\"0\",\"1\")+IF(COUNTIF(Finalrunde!$D$11:$E$18,Finalrunde!Q137)<>0,\"0\",\"1\")+IF(COUNTIF(Finalrunde!$D$11:$E$18,Finalrunde!Q138)<>0,\"0\",\"1\")+IF(COUNTIF(Finalrunde!$D$11:$E$18,Finalrunde!Q139)<>0,\"0\",\"1\")+IF(COUNTIF(Finalrunde!$D$11:$E$18,Finalrunde!Q140)<>0,\"0\",\"1\")+IF(COUNTIF(Finalrunde!$D$11:$E$18,Finalrunde!Q141)<>0,\"0\",\"1\")+IF(COUNTIF(Finalrunde!$D$11:$E$18,Finalrunde!Q142)<>0,\"0\",\"1\")+IF(COUNTIF(Finalrunde!D$11:E$18,Finalrunde!T135)<>0,\"0\",\"1\")+IF(COUNTIF(Finalrunde!$D$11:$E$18,Finalrunde!T136)<>0,\"0\",\"1\")+IF(COUNTIF(Finalrunde!$D$11:$E$18,Finalrunde!T137)<>0,\"0\",\"1\")+IF(COUNTIF(Finalrunde!$D$11:$E$18,Finalrunde!T138)<>0,\"0\",\"1\")+IF(COUNTIF(Finalrunde!$D$11:$E$18,Finalrunde!T139)<>0,\"0\",\"1\")+IF(COUNTIF(Finalrunde!$D$11:$E$18,Finalrunde!T140)<>0,\"0\",\"1\")+IF(COUNTIF(Finalrunde!$D$11:$E$18,Finalrunde!T141)<>0,\"0\",\"1\")+IF(COUNTIF(Finalrunde!$D$11:$E$18,Finalrunde!T142)<>0,\"0\",\"1\")","v":16},null,82," ",{"$f":"IF(Finalrunde!$D$20=\"\",0,IF(Finalrunde!$D$20=Finalrunde!Q144,1,0))+IF(Finalrunde!$D$21=\"\",0,IF(Finalrunde!$D$21=Finalrunde!Q145,1,0))+IF(Finalrunde!$D$22=\"\",0,IF(Finalrunde!$D$22=Finalrunde!Q146,1,0))+IF(Finalrunde!$D$23=\"\",0,IF(Finalrunde!$D$23=Finalrunde!Q147,1,0))+IF(Finalrunde!$E$20=\"\",0,IF(Finalrunde!$E$20=Finalrunde!T144,1,0))+IF(Finalrunde!$E$21=\"\",0,IF(Finalrunde!$E$21=Finalrunde!T145,1,0))+IF(Finalrunde!$E$22=\"\",0,IF(Finalrunde!$E$22=Finalrunde!T146,1,0))+IF(Finalrunde!$E$23=\"\",0,IF(Finalrunde!$E$23=Finalrunde!T147,1,0))","v":0},0,{"$f":"IF(COUNTIF(Finalrunde!$D$20:$E$23,Finalrunde!Q144)<>0,\"0\",\"1\")+IF(COUNTIF(Finalrunde!$D$20:$E$23,Finalrunde!Q145)<>0,\"0\",\"1\")+IF(COUNTIF(Finalrunde!$D$20:$E$23,Finalrunde!Q146)<>0,\"0\",\"1\")+IF(COUNTIF(Finalrunde!$D$20:$E$23,Finalrunde!Q147)<>0,\"0\",\"1\")+IF(COUNTIF(Finalrunde!$D$20:$E$23,Finalrunde!T144)<>0,\"0\",\"1\")+IF(COUNTIF(Finalrunde!$D$20:$E$23,Finalrunde!T145)<>0,\"0\",\"1\")+IF(COUNTIF(Finalrunde!$D$20:$E$23,Finalrunde!T146)<>0,\"0\",\"1\")+IF(COUNTIF(Finalrunde!$D$20:$E$23,Finalrunde!T147)<>0,\"0\",\"1\")","v":8},null,82," ",{"$f":"IF(Finalrunde!$D$25=\"\",0,IF(Finalrunde!$D$25=Finalrunde!Q149,1,0))+IF(Finalrunde!$D$26=\"\",0,IF(Finalrunde!$D$26=Finalrunde!Q150,1,0))+IF(Finalrunde!$E$25=\"\",0,IF(Finalrunde!$E$25=Finalrunde!T149,1,0))+IF(Finalrunde!$E$26=\"\",0,IF(Finalrunde!$E$26=Finalrunde!T150,1,0))","v":0},0,{"$f":"IF(COUNTIF(Finalrunde!$D$25:$E$26,Finalrunde!Q149)<>0,\"0\",\"1\")+IF(COUNTIF(Finalrunde!$D$25:$E$26,Finalrunde!Q150)<>0,\"0\",\"1\")+IF(COUNTIF(Finalrunde!$D$25:$E$26,Finalrunde!T149)<>0,\"0\",\"1\")+IF(COUNTIF(Finalrunde!$D$25:$E$26,Finalrunde!T150)<>0,\"0\",\"1\")","v":4}]
[{"$f":"Teilnehmerliste!$A$88","v":83},{"$f":"Teilnehmerliste!B88 &\" \"&Teilnehmerliste!C88","v":" "},{"$f":"IF(Finalrunde!$D$11=\"\",0,IF(Finalrunde!$D$11=Finalrunde!X135,1,0))+IF(Finalrunde!$D$12=\"\",0,IF(Finalrunde!$D$12=Finalrunde!X136,1,0))+IF(Finalrunde!$D$13=\"\",0,IF(Finalrunde!$D$13=Finalrunde!X137,1,0))+IF(Finalrunde!$D$14=\"\",0,IF(Finalrunde!$D$14=Finalrunde!X138,1,0))+IF(Finalrunde!$D$15=\"\",0,IF(Finalrunde!$D$15=Finalrunde!X139,1,0))+IF(Finalrunde!$D$16=\"\",0,IF(Finalrunde!$D$16=Finalrunde!X140,1,0))+IF(Finalrunde!$D$17=\"\",0,IF(Finalrunde!$D$17=Finalrunde!X141,1,0))+IF(Finalrunde!$D$18=\"\",0,IF(Finalrunde!$D$18=Finalrunde!X142,1,0))+IF(Finalrunde!$E$11=\"\",0,IF(Finalrunde!$E$11=Finalrunde!AA135,1,0))+IF(Finalrunde!$E$12=\"\",0,IF(Finalrunde!$E$12=Finalrunde!AA136,1,0))+IF(Finalrunde!$E$13=\"\",0,IF(Finalrunde!$E$13=Finalrunde!AA137,1,0))+IF(Finalrunde!$E$14=\"\",0,IF(Finalrunde!$E$14=Finalrunde!AA138,1,0))+IF(Finalrunde!$E$15=\"\",0,IF(Finalrunde!$E$15=Finalrunde!AA139,1,0))+IF(Finalrunde!$E$16=\"\",0,IF(Finalrunde!$E$16=Finalrunde!AA140,1,0))+IF(Finalrunde!$E$17=\"\",0,IF(Finalrunde!$E$17=Finalrunde!AA141,1,0))+IF(Finalrunde!$E$18=\"\",0,IF(Finalrunde!$E$18=Finalrunde!AA142,1,0))","v":0},0,{"$f":"IF(COUNTIF(Finalrunde!$D$11:$E$18,Finalrunde!X135)<>0,\"0\",\"1\")+IF(COUNTIF(Finalrunde!$D$11:$E$18,Finalrunde!X136)<>0,\"0\",\"1\")+IF(COUNTIF(Finalrunde!$D$11:$E$18,Finalrunde!X137)<>0,\"0\",\"1\")+IF(COUNTIF(Finalrunde!$D$11:$E$18,Finalrunde!X138)<>0,\"0\",\"1\")+IF(COUNTIF(Finalrunde!$D$11:$E$18,Finalrunde!X139)<>0,\"0\",\"1\")+IF(COUNTIF(Finalrunde!$D$11:$E$18,Finalrunde!X140)<>0,\"0\",\"1\")+IF(COUNTIF(Finalrunde!$D$11:$E$18,Finalrunde!X141)<>0,\"0\",\"1\")+IF(COUNTIF(Finalrunde!$D$11:$E$18,Finalrunde!X142)<>0,\"0\",\"1\")+IF(COUNTIF(Finalrunde!D$11:E$18,Finalrunde!AA135)<>0,\"0\",\"1\")+IF(COUNTIF(Finalrunde!$D$11:$E$18,Finalrunde!AA136)<>0,\"0\",\"1\")+IF(COUNTIF(Finalrunde!$D$11:$E$18,Finalrunde!AA137)<>0,\"0\",\"1\")+IF(COUNTIF(Finalrunde!$D$11:$E$18,Finalrunde!AA138)<>0,\"0\",\"1\")+IF(COUNTIF(Finalrunde!$D$11:$E$18,Finalrunde!AA139)<>0,\"0\",\"1\")+IF(COUNTIF(Finalrunde!$D$11:$E$18,Finalrunde!AA140)<>0,\"0\",\"1\")+IF(COUNTIF(Finalrunde!$D$11:$E$18,Finalrunde!AA141)<>0,\"0\",\"1\")+IF(COUNTIF(Finalrunde!$D$11:$E$18,Finalrunde!AA142)<>0,\"0\",\"1\")","v":16},null,83," ",{"$f":"IF(Finalrunde!$D$20=\"\",0,IF(Finalrunde!$D$20=Finalrunde!X144,1,0))+IF(Finalrunde!$D$21=\"\",0,IF(Finalrunde!$D$21=Finalrunde!X145,1,0))+IF(Finalrunde!$D$22=\"\",0,IF(Finalrunde!$D$22=Finalrunde!X146,1,0))+IF(Finalrunde!$D$23=\"\",0,IF(Finalrunde!$D$23=Finalrunde!X147,1,0))+IF(Finalrunde!$E$20=\"\",0,IF(Finalrunde!$E$20=Finalrunde!AA144,1,0))+IF(Finalrunde!$E$21=\"\",0,IF(Finalrunde!$E$21=Finalrunde!AA145,1,0))+IF(Finalrunde!$E$22=\"\",0,IF(Finalrunde!$E$22=Finalrunde!AA146,1,0))+IF(Finalrunde!$E$23=\"\",0,IF(Finalrunde!$E$23=Finalrunde!AA147,1,0))","v":0},0,{"$f":"IF(COUNTIF(Finalrunde!$D$20:$E$23,Finalrunde!X144)<>0,\"0\",\"1\")+IF(COUNTIF(Finalrunde!$D$20:$E$23,Finalrunde!X145)<>0,\"0\",\"1\")+IF(COUNTIF(Finalrunde!$D$20:$E$23,Finalrunde!X146)<>0,\"0\",\"1\")+IF(COUNTIF(Finalrunde!$D$20:$E$23,Finalrunde!X147)<>0,\"0\",\"1\")+IF(COUNTIF(Finalrunde!$D$20:$E$23,Finalrunde!AA144)<>0,\"0\",\"1\")+IF(COUNTIF(Finalrunde!$D$20:$E$23,Finalrunde!AA145)<>0,\"0\",\"1\")+IF(COUNTIF(Finalrunde!$D$20:$E$23,Finalrunde!AA146)<>0,\"0\",\"1\")+IF(COUNTIF(Finalrunde!$D$20:$E$23,Finalrunde!AA147)<>0,\"0\",\"1\")","v":8},null,83," ",{"$f":"IF(Finalrunde!$D$25=\"\",0,IF(Finalrunde!$D$25=Finalrunde!X149,1,0))+IF(Finalrunde!$D$26=\"\",0,IF(Finalrunde!$D$26=Finalrunde!X150,1,0))+IF(Finalrunde!$E$25=\"\",0,IF(Finalrunde!$E$25=Finalrunde!AA149,1,0))+IF(Finalrunde!$E$26=\"\",0,IF(Finalrunde!$E$26=Finalrunde!AA150,1,0))","v":0},0,{"$f":"IF(COUNTIF(Finalrunde!$D$25:$E$26,Finalrunde!X149)<>0,\"0\",\"1\")+IF(COUNTIF(Finalrunde!$D$25:$E$26,Finalrunde!X150)<>0,\"0\",\"1\")+IF(COUNTIF(Finalrunde!$D$25:$E$26,Finalrunde!AA149)<>0,\"0\",\"1\")+IF(COUNTIF(Finalrunde!$D$25:$E$26,Finalrunde!AA150)<>0,\"0\",\"1\")","v":4}]
[{"$f":"Teilnehmerliste!$A$89","v":84},{"$f":"Teilnehmerliste!B89 &\" \"&Teilnehmerliste!C89","v":" "},{"$f":"IF(Finalrunde!$D$11=\"\",0,IF(Finalrunde!$D$11=Finalrunde!AE135,1,0))+IF(Finalrunde!$D$12=\"\",0,IF(Finalrunde!$D$12=Finalrunde!AE136,1,0))+IF(Finalrunde!$D$13=\"\",0,IF(Finalrunde!$D$13=Finalrunde!AE137,1,0))+IF(Finalrunde!$D$14=\"\",0,IF(Finalrunde!$D$14=Finalrunde!AE138,1,0))+IF(Finalrunde!$D$15=\"\",0,IF(Finalrunde!$D$15=Finalrunde!AE139,1,0))+IF(Finalrunde!$D$16=\"\",0,IF(Finalrunde!$D$16=Finalrunde!AE140,1,0))+IF(Finalrunde!$D$17=\"\",0,IF(Finalrunde!$D$17=Finalrunde!AE141,1,0))+IF(Finalrunde!$D$18=\"\",0,IF(Finalrunde!$D$18=Finalrunde!AE142,1,0))+IF(Finalrunde!$E$11=\"\",0,IF(Finalrunde!$E$11=Finalrunde!AH135,1,0))+IF(Finalrunde!$E$12=\"\",0,IF(Finalrunde!$E$12=Finalrunde!AH136,1,0))+IF(Finalrunde!$E$13=\"\",0,IF(Finalrunde!$E$13=Finalrunde!AH137,1,0))+IF(Finalrunde!$E$14=\"\",0,IF(Finalrunde!$E$14=Finalrunde!AH138,1,0))+IF(Finalrunde!$E$15=\"\",0,IF(Finalrunde!$E$15=Finalrunde!AH139,1,0))+IF(Finalrunde!$E$16=\"\",0,IF(Finalrunde!$E$16=Finalrunde!AH140,1,0))+IF(Finalrunde!$E$17=\"\",0,IF(Finalrunde!$E$17=Finalrunde!AH141,1,0))+IF(Finalrunde!$E$18=\"\",0,IF(Finalrunde!$E$18=Finalrunde!AH142,1,0))","v":0},0,{"$f":"IF(COUNTIF(Finalrunde!$D$11:$E$18,Finalrunde!AE135)<>0,\"0\",\"1\")+IF(COUNTIF(Finalrunde!$D$11:$E$18,Finalrunde!AE136)<>0,\"0\",\"1\")+IF(COUNTIF(Finalrunde!$D$11:$E$18,Finalrunde!AE137)<>0,\"0\",\"1\")+IF(COUNTIF(Finalrunde!$D$11:$E$18,Finalrunde!AE138)<>0,\"0\",\"1\")+IF(COUNTIF(Finalrunde!$D$11:$E$18,Finalrunde!AE139)<>0,\"0\",\"1\")+IF(COUNTIF(Finalrunde!$D$11:$E$18,Finalrunde!AE140)<>0,\"0\",\"1\")+IF(COUNTIF(Finalrunde!$D$11:$E$18,Finalrunde!AE141)<>0,\"0\",\"1\")+IF(COUNTIF(Finalrunde!$D$11:$E$18,Finalrunde!AE142)<>0,\"0\",\"1\")+IF(COUNTIF(Finalrunde!D$11:E$18,Finalrunde!AH135)<>0,\"0\",\"1\")+IF(COUNTIF(Finalrunde!$D$11:$E$18,Finalrunde!AH136)<>0,\"0\",\"1\")+IF(COUNTIF(Finalrunde!$D$11:$E$18,Finalrunde!AH137)<>0,\"0\",\"1\")+IF(COUNTIF(Finalrunde!$D$11:$E$18,Finalrunde!AH138)<>0,\"0\",\"1\")+IF(COUNTIF(Finalrunde!$D$11:$E$18,Finalrunde!AH139)<>0,\"0\",\"1\")+IF(COUNTIF(Finalrunde!$D$11:$E$18,Finalrunde!AH140)<>0,\"0\",\"1\")+IF(COUNTIF(Finalrunde!$D$11:$E$18,Finalrunde!AH141)<>0,\"0\",\"1\")+IF(COUNTIF(Finalrunde!$D$11:$E$18,Finalrunde!AH142)<>0,\"0\",\"1\")","v":16},null,84," ",{"$f":"IF(Finalrunde!$D$20=\"\",0,IF(Finalrunde!$D$20=Finalrunde!AE144,1,0))+IF(Finalrunde!$D$21=\"\",0,IF(Finalrunde!$D$21=Finalrunde!AE145,1,0))+IF(Finalrunde!$D$22=\"\",0,IF(Finalrunde!$D$22=Finalrunde!AE146,1,0))+IF(Finalrunde!$D$23=\"\",0,IF(Finalrunde!$D$23=Finalrunde!AE147,1,0))+IF(Finalrunde!$E$20=\"\",0,IF(Finalrunde!$E$20=Finalrunde!AH144,1,0))+IF(Finalrunde!$E$21=\"\",0,IF(Finalrunde!$E$21=Finalrunde!AH145,1,0))+IF(Finalrunde!$E$22=\"\",0,IF(Finalrunde!$E$22=Finalrunde!AH146,1,0))+IF(Finalrunde!$E$23=\"\",0,IF(Finalrunde!$E$23=Finalrunde!AH147,1,0))","v":0},0,{"$f":"IF(COUNTIF(Finalrunde!$D$20:$E$23,Finalrunde!AE144)<>0,\"0\",\"1\")+IF(COUNTIF(Finalrunde!$D$20:$E$23,Finalrunde!AE145)<>0,\"0\",\"1\")+IF(COUNTIF(Finalrunde!$D$20:$E$23,Finalrunde!AE146)<>0,\"0\",\"1\")+IF(COUNTIF(Finalrunde!$D$20:$E$23,Finalrunde!AE147)<>0,\"0\",\"1\")+IF(COUNTIF(Finalrunde!$D$20:$E$23,Finalrunde!AH144)<>0,\"0\",\"1\")+IF(COUNTIF(Finalrunde!$D$20:$E$23,Finalrunde!AH145)<>0,\"0\",\"1\")+IF(COUNTIF(Finalrunde!$D$20:$E$23,Finalrunde!AH146)<>0,\"0\",\"1\")+IF(COUNTIF(Finalrunde!$D$20:$E$23,Finalrunde!AH147)<>0,\"0\",\"1\")","v":8},null,84," ",{"$f":"IF(Finalrunde!$D$25=\"\",0,IF(Finalrunde!$D$25=Finalrunde!AE149,1,0))+IF(Finalrunde!$D$26=\"\",0,IF(Finalrunde!$D$26=Finalrunde!AE150,1,0))+IF(Finalrunde!$E$25=\"\",0,IF(Finalrunde!$E$25=Finalrunde!AH149,1,0))+IF(Finalrunde!$E$26=\"\",0,IF(Finalrunde!$E$26=Finalrunde!AH150,1,0))","v":0},0,{"$f":"IF(COUNTIF(Finalrunde!$D$25:$E$26,Finalrunde!AE149)<>0,\"0\",\"1\")+IF(COUNTIF(Finalrunde!$D$25:$E$26,Finalrunde!AE150)<>0,\"0\",\"1\")+IF(COUNTIF(Finalrunde!$D$25:$E$26,Finalrunde!AH149)<>0,\"0\",\"1\")+IF(COUNTIF(Finalrunde!$D$25:$E$26,Finalrunde!AH150)<>0,\"0\",\"1\")","v":4}]
[{"$f":"Teilnehmerliste!$A$90","v":85},{"$f":"Teilnehmerliste!B90 &\" \"&Teilnehmerliste!C90","v":" "},{"$f":"IF(Finalrunde!$D$11=\"\",0,IF(Finalrunde!$D$11=Finalrunde!AL135,1,0))+IF(Finalrunde!$D$12=\"\",0,IF(Finalrunde!$D$12=Finalrunde!AL136,1,0))+IF(Finalrunde!$D$13=\"\",0,IF(Finalrunde!$D$13=Finalrunde!AL137,1,0))+IF(Finalrunde!$D$14=\"\",0,IF(Finalrunde!$D$14=Finalrunde!AL138,1,0))+IF(Finalrunde!$D$15=\"\",0,IF(Finalrunde!$D$15=Finalrunde!AL139,1,0))+IF(Finalrunde!$D$16=\"\",0,IF(Finalrunde!$D$16=Finalrunde!AL140,1,0))+IF(Finalrunde!$D$17=\"\",0,IF(Finalrunde!$D$17=Finalrunde!AL141,1,0))+IF(Finalrunde!$D$18=\"\",0,IF(Finalrunde!$D$18=Finalrunde!AL142,1,0))+IF(Finalrunde!$E$11=\"\",0,IF(Finalrunde!$E$11=Finalrunde!AO135,1,0))+IF(Finalrunde!$E$12=\"\",0,IF(Finalrunde!$E$12=Finalrunde!AO136,1,0))+IF(Finalrunde!$E$13=\"\",0,IF(Finalrunde!$E$13=Finalrunde!AO137,1,0))+IF(Finalrunde!$E$14=\"\",0,IF(Finalrunde!$E$14=Finalrunde!AO138,1,0))+IF(Finalrunde!$E$15=\"\",0,IF(Finalrunde!$E$15=Finalrunde!AO139,1,0))+IF(Finalrunde!$E$16=\"\",0,IF(Finalrunde!$E$16=Finalrunde!AO140,1,0))+IF(Finalrunde!$E$17=\"\",0,IF(Finalrunde!$E$17=Finalrunde!AO141,1,0))+IF(Finalrunde!$E$18=\"\",0,IF(Finalrunde!$E$18=Finalrunde!AO142,1,0))","v":0},0,{"$f":"IF(COUNTIF(Finalrunde!$D$11:$E$18,Finalrunde!AL135)<>0,\"0\",\"1\")+IF(COUNTIF(Finalrunde!$D$11:$E$18,Finalrunde!AL136)<>0,\"0\",\"1\")+IF(COUNTIF(Finalrunde!$D$11:$E$18,Finalrunde!AL137)<>0,\"0\",\"1\")+IF(COUNTIF(Finalrunde!$D$11:$E$18,Finalrunde!AL138)<>0,\"0\",\"1\")+IF(COUNTIF(Finalrunde!$D$11:$E$18,Finalrunde!AL139)<>0,\"0\",\"1\")+IF(COUNTIF(Finalrunde!$D$11:$E$18,Finalrunde!AL140)<>0,\"0\",\"1\")+IF(COUNTIF(Finalrunde!$D$11:$E$18,Finalrunde!AL141)<>0,\"0\",\"1\")+IF(COUNTIF(Finalrunde!$D$11:$E$18,Finalrunde!AL142)<>0,\"0\",\"1\")+IF(COUNTIF(Finalrunde!D$11:E$18,Finalrunde!AO135)<>0,\"0\",\"1\")+IF(COUNTIF(Finalrunde!$D$11:$E$18,Finalrunde!AO136)<>0,\"0\",\"1\")+IF(COUNTIF(Finalrunde!$D$11:$E$18,Finalrunde!AO137)<>0,\"0\",\"1\")+IF(COUNTIF(Finalrunde!$D$11:$E$18,Finalrunde!AO138)<>0,\"0\",\"1\")+IF(COUNTIF(Finalrunde!$D$11:$E$18,Finalrunde!AO139)<>0,\"0\",\"1\")+IF(COUNTIF(Finalrunde!$D$11:$E$18,Finalrunde!AO140)<>0,\"0\",\"1\")+IF(COUNTIF(Finalrunde!$D$11:$E$18,Finalrunde!AO141)<>0,\"0\",\"1\")+IF(COUNTIF(Finalrunde!$D$11:$E$18,Finalrunde!AO142)<>0,\"0\",\"1\")","v":16},null,85," ",{"$f":"IF(Finalrunde!$D$20=\"\",0,IF(Finalrunde!$D$20=Finalrunde!AL144,1,0))+IF(Finalrunde!$D$21=\"\",0,IF(Finalrunde!$D$21=Finalrunde!AL145,1,0))+IF(Finalrunde!$D$22=\"\",0,IF(Finalrunde!$D$22=Finalrunde!AL146,1,0))+IF(Finalrunde!$D$23=\"\",0,IF(Finalrunde!$D$23=Finalrunde!AL147,1,0))+IF(Finalrunde!$E$20=\"\",0,IF(Finalrunde!$E$20=Finalrunde!AO144,1,0))+IF(Finalrunde!$E$21=\"\",0,IF(Finalrunde!$E$21=Finalrunde!AO145,1,0))+IF(Finalrunde!$E$22=\"\",0,IF(Finalrunde!$E$22=Finalrunde!AO146,1,0))+IF(Finalrunde!$E$23=\"\",0,IF(Finalrunde!$E$23=Finalrunde!AO147,1,0))","v":0},0,{"$f":"IF(COUNTIF(Finalrunde!$D$20:$E$23,Finalrunde!AL144)<>0,\"0\",\"1\")+IF(COUNTIF(Finalrunde!$D$20:$E$23,Finalrunde!AL145)<>0,\"0\",\"1\")+IF(COUNTIF(Finalrunde!$D$20:$E$23,Finalrunde!AL146)<>0,\"0\",\"1\")+IF(COUNTIF(Finalrunde!$D$20:$E$23,Finalrunde!AL147)<>0,\"0\",\"1\")+IF(COUNTIF(Finalrunde!$D$20:$E$23,Finalrunde!AO144)<>0,\"0\",\"1\")+IF(COUNTIF(Finalrunde!$D$20:$E$23,Finalrunde!AO145)<>0,\"0\",\"1\")+IF(COUNTIF(Finalrunde!$D$20:$E$23,Finalrunde!AO146)<>0,\"0\",\"1\")+IF(COUNTIF(Finalrunde!$D$20:$E$23,Finalrunde!AO147)<>0,\"0\",\"1\")","v":8},null,85," ",{"$f":"IF(Finalrunde!$D$25=\"\",0,IF(Finalrunde!$D$25=Finalrunde!AL149,1,0))+IF(Finalrunde!$D$26=\"\",0,IF(Finalrunde!$D$26=Finalrunde!AL150,1,0))+IF(Finalrunde!$E$25=\"\",0,IF(Finalrunde!$E$25=Finalrunde!AO149,1,0))+IF(Finalrunde!$E$26=\"\",0,IF(Finalrunde!$E$26=Finalrunde!AO150,1,0))","v":0},0,{"$f":"IF(COUNTIF(Finalrunde!$D$25:$E$26,Finalrunde!AL149)<>0,\"0\",\"1\")+IF(COUNTIF(Finalrunde!$D$25:$E$26,Finalrunde!AL150)<>0,\"0\",\"1\")+IF(COUNTIF(Finalrunde!$D$25:$E$26,Finalrunde!AO149)<>0,\"0\",\"1\")+IF(COUNTIF(Finalrunde!$D$25:$E$26,Finalrunde!AO150)<>0,\"0\",\"1\")","v":4}]
[{"$f":"Teilnehmerliste!$A$91","v":86},{"$f":"Teilnehmerliste!B91 &\" \"&Teilnehmerliste!C91","v":" "},{"$f":"IF(Finalrunde!$D$11=\"\",0,IF(Finalrunde!$D$11=Finalrunde!AS135,1,0))+IF(Finalrunde!$D$12=\"\",0,IF(Finalrunde!$D$12=Finalrunde!AS136,1,0))+IF(Finalrunde!$D$13=\"\",0,IF(Finalrunde!$D$13=Finalrunde!AS137,1,0))+IF(Finalrunde!$D$14=\"\",0,IF(Finalrunde!$D$14=Finalrunde!AS138,1,0))+IF(Finalrunde!$D$15=\"\",0,IF(Finalrunde!$D$15=Finalrunde!AS139,1,0))+IF(Finalrunde!$D$16=\"\",0,IF(Finalrunde!$D$16=Finalrunde!AS140,1,0))+IF(Finalrunde!$D$17=\"\",0,IF(Finalrunde!$D$17=Finalrunde!AS141,1,0))+IF(Finalrunde!$D$18=\"\",0,IF(Finalrunde!$D$18=Finalrunde!AS142,1,0))+IF(Finalrunde!$E$11=\"\",0,IF(Finalrunde!$E$11=Finalrunde!AV135,1,0))+IF(Finalrunde!$E$12=\"\",0,IF(Finalrunde!$E$12=Finalrunde!AV136,1,0))+IF(Finalrunde!$E$13=\"\",0,IF(Finalrunde!$E$13=Finalrunde!AV137,1,0))+IF(Finalrunde!$E$14=\"\",0,IF(Finalrunde!$E$14=Finalrunde!AV138,1,0))+IF(Finalrunde!$E$15=\"\",0,IF(Finalrunde!$E$15=Finalrunde!AV139,1,0))+IF(Finalrunde!$E$16=\"\",0,IF(Finalrunde!$E$16=Finalrunde!AV140,1,0))+IF(Finalrunde!$E$17=\"\",0,IF(Finalrunde!$E$17=Finalrunde!AV141,1,0))+IF(Finalrunde!$E$18=\"\",0,IF(Finalrunde!$E$18=Finalrunde!AV142,1,0))","v":0},0,{"$f":"IF(COUNTIF(Finalrunde!$D$11:$E$18,Finalrunde!AS135)<>0,\"0\",\"1\")+IF(COUNTIF(Finalrunde!$D$11:$E$18,Finalrunde!AS136)<>0,\"0\",\"1\")+IF(COUNTIF(Finalrunde!$D$11:$E$18,Finalrunde!AS137)<>0,\"0\",\"1\")+IF(COUNTIF(Finalrunde!$D$11:$E$18,Finalrunde!AS138)<>0,\"0\",\"1\")+IF(COUNTIF(Finalrunde!$D$11:$E$18,Finalrunde!AS139)<>0,\"0\",\"1\")+IF(COUNTIF(Finalrunde!$D$11:$E$18,Finalrunde!AS140)<>0,\"0\",\"1\")+IF(COUNTIF(Finalrunde!$D$11:$E$18,Finalrunde!AS141)<>0,\"0\",\"1\")+IF(COUNTIF(Finalrunde!$D$11:$E$18,Finalrunde!AS142)<>0,\"0\",\"1\")+IF(COUNTIF(Finalrunde!D$11:E$18,Finalrunde!AV135)<>0,\"0\",\"1\")+IF(COUNTIF(Finalrunde!$D$11:$E$18,Finalrunde!AV136)<>0,\"0\",\"1\")+IF(COUNTIF(Finalrunde!$D$11:$E$18,Finalrunde!AV137)<>0,\"0\",\"1\")+IF(COUNTIF(Finalrunde!$D$11:$E$18,Finalrunde!AV138)<>0,\"0\",\"1\")+IF(COUNTIF(Finalrunde!$D$11:$E$18,Finalrunde!AV139)<>0,\"0\",\"1\")+IF(COUNTIF(Finalrunde!$D$11:$E$18,Finalrunde!AV140)<>0,\"0\",\"1\")+IF(COUNTIF(Finalrunde!$D$11:$E$18,Finalrunde!AV141)<>0,\"0\",\"1\")+IF(COUNTIF(Finalrunde!$D$11:$E$18,Finalrunde!AV142)<>0,\"0\",\"1\")","v":16},null,86," ",{"$f":"IF(Finalrunde!$D$20=\"\",0,IF(Finalrunde!$D$20=Finalrunde!AS144,1,0))+IF(Finalrunde!$D$21=\"\",0,IF(Finalrunde!$D$21=Finalrunde!AS145,1,0))+IF(Finalrunde!$D$22=\"\",0,IF(Finalrunde!$D$22=Finalrunde!AS146,1,0))+IF(Finalrunde!$D$23=\"\",0,IF(Finalrunde!$D$23=Finalrunde!AS147,1,0))+IF(Finalrunde!$E$20=\"\",0,IF(Finalrunde!$E$20=Finalrunde!AV144,1,0))+IF(Finalrunde!$E$21=\"\",0,IF(Finalrunde!$E$21=Finalrunde!AV145,1,0))+IF(Finalrunde!$E$22=\"\",0,IF(Finalrunde!$E$22=Finalrunde!AV146,1,0))+IF(Finalrunde!$E$23=\"\",0,IF(Finalrunde!$E$23=Finalrunde!AV147,1,0))","v":0},{"$f":"SUM(8-I90-K90)","v":0},{"$f":"IF(COUNTIF(Finalrunde!$D$20:$E$23,Finalrunde!AS144)<>0,\"0\",\"1\")+IF(COUNTIF(Finalrunde!$D$20:$E$23,Finalrunde!AS145)<>0,\"0\",\"1\")+IF(COUNTIF(Finalrunde!$D$20:$E$23,Finalrunde!AS146)<>0,\"0\",\"1\")+IF(COUNTIF(Finalrunde!$D$20:$E$23,Finalrunde!AS147)<>0,\"0\",\"1\")+IF(COUNTIF(Finalrunde!$D$20:$E$23,Finalrunde!AV144)<>0,\"0\",\"1\")+IF(COUNTIF(Finalrunde!$D$20:$E$23,Finalrunde!AV145)<>0,\"0\",\"1\")+IF(COUNTIF(Finalrunde!$D$20:$E$23,Finalrunde!AV146)<>0,\"0\",\"1\")+IF(COUNTIF(Finalrunde!$D$20:$E$23,Finalrunde!AV147)<>0,\"0\",\"1\")","v":8},null,86," ",{"$f":"IF(Finalrunde!$D$25=\"\",0,IF(Finalrunde!$D$25=Finalrunde!AS149,1,0))+IF(Finalrunde!$D$26=\"\",0,IF(Finalrunde!$D$26=Finalrunde!AS150,1,0))+IF(Finalrunde!$E$25=\"\",0,IF(Finalrunde!$E$25=Finalrunde!AV149,1,0))+IF(Finalrunde!$E$26=\"\",0,IF(Finalrunde!$E$26=Finalrunde!AV150,1,0))","v":0},0,{"$f":"IF(COUNTIF(Finalrunde!$D$25:$E$26,Finalrunde!AS149)<>0,\"0\",\"1\")+IF(COUNTIF(Finalrunde!$D$25:$E$26,Finalrunde!AS150)<>0,\"0\",\"1\")+IF(COUNTIF(Finalrunde!$D$25:$E$26,Finalrunde!AV149)<>0,\"0\",\"1\")+IF(COUNTIF(Finalrunde!$D$25:$E$26,Finalrunde!AV150)<>0,\"0\",\"1\")","v":4}]
[{"$f":"Teilnehmerliste!$A$92","v":87},{"$f":"Teilnehmerliste!B92 &\" \"&Teilnehmerliste!C92","v":" "},{"$f":"IF(Finalrunde!$D$11=\"\",0,IF(Finalrunde!$D$11=Finalrunde!AZ135,1,0))+IF(Finalrunde!$D$12=\"\",0,IF(Finalrunde!$D$12=Finalrunde!AZ136,1,0))+IF(Finalrunde!$D$13=\"\",0,IF(Finalrunde!$D$13=Finalrunde!AZ137,1,0))+IF(Finalrunde!$D$14=\"\",0,IF(Finalrunde!$D$14=Finalrunde!AZ138,1,0))+IF(Finalrunde!$D$15=\"\",0,IF(Finalrunde!$D$15=Finalrunde!AZ139,1,0))+IF(Finalrunde!$D$16=\"\",0,IF(Finalrunde!$D$16=Finalrunde!AZ140,1,0))+IF(Finalrunde!$D$17=\"\",0,IF(Finalrunde!$D$17=Finalrunde!AZ141,1,0))+IF(Finalrunde!$D$18=\"\",0,IF(Finalrunde!$D$18=Finalrunde!AZ142,1,0))+IF(Finalrunde!$E$11=\"\",0,IF(Finalrunde!$E$11=Finalrunde!BC135,1,0))+IF(Finalrunde!$E$12=\"\",0,IF(Finalrunde!$E$12=Finalrunde!BC136,1,0))+IF(Finalrunde!$E$13=\"\",0,IF(Finalrunde!$E$13=Finalrunde!BC137,1,0))+IF(Finalrunde!$E$14=\"\",0,IF(Finalrunde!$E$14=Finalrunde!BC138,1,0))+IF(Finalrunde!$E$15=\"\",0,IF(Finalrunde!$E$15=Finalrunde!BC139,1,0))+IF(Finalrunde!$E$16=\"\",0,IF(Finalrunde!$E$16=Finalrunde!BC140,1,0))+IF(Finalrunde!$E$17=\"\",0,IF(Finalrunde!$E$17=Finalrunde!BC141,1,0))+IF(Finalrunde!$E$18=\"\",0,IF(Finalrunde!$E$18=Finalrunde!BC142,1,0))","v":0},0,{"$f":"IF(COUNTIF(Finalrunde!$D$11:$E$18,Finalrunde!AZ135)<>0,\"0\",\"1\")+IF(COUNTIF(Finalrunde!$D$11:$E$18,Finalrunde!AZ136)<>0,\"0\",\"1\")+IF(COUNTIF(Finalrunde!$D$11:$E$18,Finalrunde!AZ137)<>0,\"0\",\"1\")+IF(COUNTIF(Finalrunde!$D$11:$E$18,Finalrunde!AZ138)<>0,\"0\",\"1\")+IF(COUNTIF(Finalrunde!$D$11:$E$18,Finalrunde!AZ139)<>0,\"0\",\"1\")+IF(COUNTIF(Finalrunde!$D$11:$E$18,Finalrunde!AZ140)<>0,\"0\",\"1\")+IF(COUNTIF(Finalrunde!$D$11:$E$18,Finalrunde!AZ141)<>0,\"0\",\"1\")+IF(COUNTIF(Finalrunde!$D$11:$E$18,Finalrunde!AZ142)<>0,\"0\",\"1\")+IF(COUNTIF(Finalrunde!D$11:E$18,Finalrunde!BC135)<>0,\"0\",\"1\")+IF(COUNTIF(Finalrunde!$D$11:$E$18,Finalrunde!BC136)<>0,\"0\",\"1\")+IF(COUNTIF(Finalrunde!$D$11:$E$18,Finalrunde!BC137)<>0,\"0\",\"1\")+IF(COUNTIF(Finalrunde!$D$11:$E$18,Finalrunde!BC138)<>0,\"0\",\"1\")+IF(COUNTIF(Finalrunde!$D$11:$E$18,Finalrunde!BC139)<>0,\"0\",\"1\")+IF(COUNTIF(Finalrunde!$D$11:$E$18,Finalrunde!BC140)<>0,\"0\",\"1\")+IF(COUNTIF(Finalrunde!$D$11:$E$18,Finalrunde!BC141)<>0,\"0\",\"1\")+IF(COUNTIF(Finalrunde!$D$11:$E$18,Finalrunde!BC142)<>0,\"0\",\"1\")","v":16},null,87," ",{"$f":"IF(Finalrunde!$D$20=\"\",0,IF(Finalrunde!$D$20=Finalrunde!AZ144,1,0))+IF(Finalrunde!$D$21=\"\",0,IF(Finalrunde!$D$21=Finalrunde!AZ145,1,0))+IF(Finalrunde!$D$22=\"\",0,IF(Finalrunde!$D$22=Finalrunde!AZ146,1,0))+IF(Finalrunde!$D$23=\"\",0,IF(Finalrunde!$D$23=Finalrunde!AZ147,1,0))+IF(Finalrunde!$E$20=\"\",0,IF(Finalrunde!$E$20=Finalrunde!BC144,1,0))+IF(Finalrunde!$E$21=\"\",0,IF(Finalrunde!$E$21=Finalrunde!BC145,1,0))+IF(Finalrunde!$E$22=\"\",0,IF(Finalrunde!$E$22=Finalrunde!BC146,1,0))+IF(Finalrunde!$E$23=\"\",0,IF(Finalrunde!$E$23=Finalrunde!BC147,1,0))","v":0},0,{"$f":"IF(COUNTIF(Finalrunde!$D$20:$E$23,Finalrunde!AZ144)<>0,\"0\",\"1\")+IF(COUNTIF(Finalrunde!$D$20:$E$23,Finalrunde!AZ145)<>0,\"0\",\"1\")+IF(COUNTIF(Finalrunde!$D$20:$E$23,Finalrunde!AZ146)<>0,\"0\",\"1\")+IF(COUNTIF(Finalrunde!$D$20:$E$23,Finalrunde!AZ147)<>0,\"0\",\"1\")+IF(COUNTIF(Finalrunde!$D$20:$E$23,Finalrunde!BC144)<>0,\"0\",\"1\")+IF(COUNTIF(Finalrunde!$D$20:$E$23,Finalrunde!BC145)<>0,\"0\",\"1\")+IF(COUNTIF(Finalrunde!$D$20:$E$23,Finalrunde!BC146)<>0,\"0\",\"1\")+IF(COUNTIF(Finalrunde!$D$20:$E$23,Finalrunde!BC147)<>0,\"0\",\"1\")","v":8},null,87," ",{"$f":"IF(Finalrunde!$D$25=\"\",0,IF(Finalrunde!$D$25=Finalrunde!AZ149,1,0))+IF(Finalrunde!$D$26=\"\",0,IF(Finalrunde!$D$26=Finalrunde!AZ150,1,0))+IF(Finalrunde!$E$25=\"\",0,IF(Finalrunde!$E$25=Finalrunde!BC149,1,0))+IF(Finalrunde!$E$26=\"\",0,IF(Finalrunde!$E$26=Finalrunde!BC150,1,0))","v":0},0,{"$f":"IF(COUNTIF(Finalrunde!$D$25:$E$26,Finalrunde!AZ149)<>0,\"0\",\"1\")+IF(COUNTIF(Finalrunde!$D$25:$E$26,Finalrunde!AZ150)<>0,\"0\",\"1\")+IF(COUNTIF(Finalrunde!$D$25:$E$26,Finalrunde!BC149)<>0,\"0\",\"1\")+IF(COUNTIF(Finalrunde!$D$25:$E$26,Finalrunde!BC150)<>0,\"0\",\"1\")","v":4}]
[{"$f":"Teilnehmerliste!$A$93","v":88},{"$f":"Teilnehmerliste!B93 &\" \"&Teilnehmerliste!C93","v":" "},{"$f":"IF(Finalrunde!$D$11=\"\",0,IF(Finalrunde!$D$11=Finalrunde!BG135,1,0))+IF(Finalrunde!$D$12=\"\",0,IF(Finalrunde!$D$12=Finalrunde!BG136,1,0))+IF(Finalrunde!$D$13=\"\",0,IF(Finalrunde!$D$13=Finalrunde!BG137,1,0))+IF(Finalrunde!$D$14=\"\",0,IF(Finalrunde!$D$14=Finalrunde!BG138,1,0))+IF(Finalrunde!$D$15=\"\",0,IF(Finalrunde!$D$15=Finalrunde!BG139,1,0))+IF(Finalrunde!$D$16=\"\",0,IF(Finalrunde!$D$16=Finalrunde!BG140,1,0))+IF(Finalrunde!$D$17=\"\",0,IF(Finalrunde!$D$17=Finalrunde!BG141,1,0))+IF(Finalrunde!$D$18=\"\",0,IF(Finalrunde!$D$18=Finalrunde!BG142,1,0))+IF(Finalrunde!$E$11=\"\",0,IF(Finalrunde!$E$11=Finalrunde!BJ135,1,0))+IF(Finalrunde!$E$12=\"\",0,IF(Finalrunde!$E$12=Finalrunde!BJ136,1,0))+IF(Finalrunde!$E$13=\"\",0,IF(Finalrunde!$E$13=Finalrunde!BJ137,1,0))+IF(Finalrunde!$E$14=\"\",0,IF(Finalrunde!$E$14=Finalrunde!BJ138,1,0))+IF(Finalrunde!$E$15=\"\",0,IF(Finalrunde!$E$15=Finalrunde!BJ139,1,0))+IF(Finalrunde!$E$16=\"\",0,IF(Finalrunde!$E$16=Finalrunde!BJ140,1,0))+IF(Finalrunde!$E$17=\"\",0,IF(Finalrunde!$E$17=Finalrunde!BJ141,1,0))+IF(Finalrunde!$E$18=\"\",0,IF(Finalrunde!$E$18=Finalrunde!BJ142,1,0))","v":0},0,{"$f":"IF(COUNTIF(Finalrunde!$D$11:$E$18,Finalrunde!BG135)<>0,\"0\",\"1\")+IF(COUNTIF(Finalrunde!$D$11:$E$18,Finalrunde!BG136)<>0,\"0\",\"1\")+IF(COUNTIF(Finalrunde!$D$11:$E$18,Finalrunde!BG137)<>0,\"0\",\"1\")+IF(COUNTIF(Finalrunde!$D$11:$E$18,Finalrunde!BG138)<>0,\"0\",\"1\")+IF(COUNTIF(Finalrunde!$D$11:$E$18,Finalrunde!BG139)<>0,\"0\",\"1\")+IF(COUNTIF(Finalrunde!$D$11:$E$18,Finalrunde!BG140)<>0,\"0\",\"1\")+IF(COUNTIF(Finalrunde!$D$11:$E$18,Finalrunde!BG141)<>0,\"0\",\"1\")+IF(COUNTIF(Finalrunde!$D$11:$E$18,Finalrunde!BG142)<>0,\"0\",\"1\")+IF(COUNTIF(Finalrunde!D$11:E$18,Finalrunde!BJ135)<>0,\"0\",\"1\")+IF(COUNTIF(Finalrunde!$D$11:$E$18,Finalrunde!BJ136)<>0,\"0\",\"1\")+IF(COUNTIF(Finalrunde!$D$11:$E$18,Finalrunde!BJ137)<>0,\"0\",\"1\")+IF(COUNTIF(Finalrunde!$D$11:$E$18,Finalrunde!BJ138)<>0,\"0\",\"1\")+IF(COUNTIF(Finalrunde!$D$11:$E$18,Finalrunde!BJ139)<>0,\"0\",\"1\")+IF(COUNTIF(Finalrunde!$D$11:$E$18,Finalrunde!BJ140)<>0,\"0\",\"1\")+IF(COUNTIF(Finalrunde!$D$11:$E$18,Finalrunde!BJ141)<>0,\"0\",\"1\")+IF(COUNTIF(Finalrunde!$D$11:$E$18,Finalrunde!BJ142)<>0,\"0\",\"1\")","v":16},null,88," ",{"$f":"IF(Finalrunde!$D$20=\"\",0,IF(Finalrunde!$D$20=Finalrunde!BG144,1,0))+IF(Finalrunde!$D$21=\"\",0,IF(Finalrunde!$D$21=Finalrunde!BG145,1,0))+IF(Finalrunde!$D$22=\"\",0,IF(Finalrunde!$D$22=Finalrunde!BG146,1,0))+IF(Finalrunde!$D$23=\"\",0,IF(Finalrunde!$D$23=Finalrunde!BG147,1,0))+IF(Finalrunde!$E$20=\"\",0,IF(Finalrunde!$E$20=Finalrunde!BJ144,1,0))+IF(Finalrunde!$E$21=\"\",0,IF(Finalrunde!$E$21=Finalrunde!BJ145,1,0))+IF(Finalrunde!$E$22=\"\",0,IF(Finalrunde!$E$22=Finalrunde!BJ146,1,0))+IF(Finalrunde!$E$23=\"\",0,IF(Finalrunde!$E$23=Finalrunde!BJ147,1,0))","v":0},0,{"$f":"IF(COUNTIF(Finalrunde!$D$20:$E$23,Finalrunde!BG144)<>0,\"0\",\"1\")+IF(COUNTIF(Finalrunde!$D$20:$E$23,Finalrunde!BG145)<>0,\"0\",\"1\")+IF(COUNTIF(Finalrunde!$D$20:$E$23,Finalrunde!BG146)<>0,\"0\",\"1\")+IF(COUNTIF(Finalrunde!$D$20:$E$23,Finalrunde!BG147)<>0,\"0\",\"1\")+IF(COUNTIF(Finalrunde!$D$20:$E$23,Finalrunde!BJ144)<>0,\"0\",\"1\")+IF(COUNTIF(Finalrunde!$D$20:$E$23,Finalrunde!BJ145)<>0,\"0\",\"1\")+IF(COUNTIF(Finalrunde!$D$20:$E$23,Finalrunde!BJ146)<>0,\"0\",\"1\")+IF(COUNTIF(Finalrunde!$D$20:$E$23,Finalrunde!BJ147)<>0,\"0\",\"1\")","v":8},null,88," ",{"$f":"IF(Finalrunde!$D$25=\"\",0,IF(Finalrunde!$D$25=Finalrunde!BG149,1,0))+IF(Finalrunde!$D$26=\"\",0,IF(Finalrunde!$D$26=Finalrunde!BG150,1,0))+IF(Finalrunde!$E$25=\"\",0,IF(Finalrunde!$E$25=Finalrunde!BJ149,1,0))+IF(Finalrunde!$E$26=\"\",0,IF(Finalrunde!$E$26=Finalrunde!BJ150,1,0))","v":0},0,{"$f":"IF(COUNTIF(Finalrunde!$D$25:$E$26,Finalrunde!BG149)<>0,\"0\",\"1\")+IF(COUNTIF(Finalrunde!$D$25:$E$26,Finalrunde!BG150)<>0,\"0\",\"1\")+IF(COUNTIF(Finalrunde!$D$25:$E$26,Finalrunde!BJ149)<>0,\"0\",\"1\")+IF(COUNTIF(Finalrunde!$D$25:$E$26,Finalrunde!BJ150)<>0,\"0\",\"1\")","v":4}]
[{"$f":"Teilnehmerliste!$A$94","v":89},{"$f":"Teilnehmerliste!B94 &\" \"&Teilnehmerliste!C94","v":" "},{"$f":"IF(Finalrunde!$D$11=\"\",0,IF(Finalrunde!$D$11=Finalrunde!BN135,1,0))+IF(Finalrunde!$D$12=\"\",0,IF(Finalrunde!$D$12=Finalrunde!BN136,1,0))+IF(Finalrunde!$D$13=\"\",0,IF(Finalrunde!$D$13=Finalrunde!BN137,1,0))+IF(Finalrunde!$D$14=\"\",0,IF(Finalrunde!$D$14=Finalrunde!BN138,1,0))+IF(Finalrunde!$D$15=\"\",0,IF(Finalrunde!$D$15=Finalrunde!BN139,1,0))+IF(Finalrunde!$D$16=\"\",0,IF(Finalrunde!$D$16=Finalrunde!BN140,1,0))+IF(Finalrunde!$D$17=\"\",0,IF(Finalrunde!$D$17=Finalrunde!BN141,1,0))+IF(Finalrunde!$D$18=\"\",0,IF(Finalrunde!$D$18=Finalrunde!BN142,1,0))+IF(Finalrunde!$E$11=\"\",0,IF(Finalrunde!$E$11=Finalrunde!BQ135,1,0))+IF(Finalrunde!$E$12=\"\",0,IF(Finalrunde!$E$12=Finalrunde!BQ136,1,0))+IF(Finalrunde!$E$13=\"\",0,IF(Finalrunde!$E$13=Finalrunde!BQ137,1,0))+IF(Finalrunde!$E$14=\"\",0,IF(Finalrunde!$E$14=Finalrunde!BQ138,1,0))+IF(Finalrunde!$E$15=\"\",0,IF(Finalrunde!$E$15=Finalrunde!BQ139,1,0))+IF(Finalrunde!$E$16=\"\",0,IF(Finalrunde!$E$16=Finalrunde!BQ140,1,0))+IF(Finalrunde!$E$17=\"\",0,IF(Finalrunde!$E$17=Finalrunde!BQ141,1,0))+IF(Finalrunde!$E$18=\"\",0,IF(Finalrunde!$E$18=Finalrunde!BQ142,1,0))","v":0},0,{"$f":"IF(COUNTIF(Finalrunde!$D$11:$E$18,Finalrunde!BN135)<>0,\"0\",\"1\")+IF(COUNTIF(Finalrunde!$D$11:$E$18,Finalrunde!BN136)<>0,\"0\",\"1\")+IF(COUNTIF(Finalrunde!$D$11:$E$18,Finalrunde!BN137)<>0,\"0\",\"1\")+IF(COUNTIF(Finalrunde!$D$11:$E$18,Finalrunde!BN138)<>0,\"0\",\"1\")+IF(COUNTIF(Finalrunde!$D$11:$E$18,Finalrunde!BN139)<>0,\"0\",\"1\")+IF(COUNTIF(Finalrunde!$D$11:$E$18,Finalrunde!BN140)<>0,\"0\",\"1\")+IF(COUNTIF(Finalrunde!$D$11:$E$18,Finalrunde!BN141)<>0,\"0\",\"1\")+IF(COUNTIF(Finalrunde!$D$11:$E$18,Finalrunde!BN142)<>0,\"0\",\"1\")+IF(COUNTIF(Finalrunde!D$11:E$18,Finalrunde!BQ135)<>0,\"0\",\"1\")+IF(COUNTIF(Finalrunde!$D$11:$E$18,Finalrunde!BQ136)<>0,\"0\",\"1\")+IF(COUNTIF(Finalrunde!$D$11:$E$18,Finalrunde!BQ137)<>0,\"0\",\"1\")+IF(COUNTIF(Finalrunde!$D$11:$E$18,Finalrunde!BQ138)<>0,\"0\",\"1\")+IF(COUNTIF(Finalrunde!$D$11:$E$18,Finalrunde!BQ139)<>0,\"0\",\"1\")+IF(COUNTIF(Finalrunde!$D$11:$E$18,Finalrunde!BQ140)<>0,\"0\",\"1\")+IF(COUNTIF(Finalrunde!$D$11:$E$18,Finalrunde!BQ141)<>0,\"0\",\"1\")+IF(COUNTIF(Finalrunde!$D$11:$E$18,Finalrunde!BQ142)<>0,\"0\",\"1\")","v":16},null,89," ",{"$f":"IF(Finalrunde!$D$20=\"\",0,IF(Finalrunde!$D$20=Finalrunde!BN144,1,0))+IF(Finalrunde!$D$21=\"\",0,IF(Finalrunde!$D$21=Finalrunde!BN145,1,0))+IF(Finalrunde!$D$22=\"\",0,IF(Finalrunde!$D$22=Finalrunde!BN146,1,0))+IF(Finalrunde!$D$23=\"\",0,IF(Finalrunde!$D$23=Finalrunde!BN147,1,0))+IF(Finalrunde!$E$20=\"\",0,IF(Finalrunde!$E$20=Finalrunde!BQ144,1,0))+IF(Finalrunde!$E$21=\"\",0,IF(Finalrunde!$E$21=Finalrunde!BQ145,1,0))+IF(Finalrunde!$E$22=\"\",0,IF(Finalrunde!$E$22=Finalrunde!BQ146,1,0))+IF(Finalrunde!$E$23=\"\",0,IF(Finalrunde!$E$23=Finalrunde!BQ147,1,0))","v":0},0,{"$f":"IF(COUNTIF(Finalrunde!$D$20:$E$23,Finalrunde!BN144)<>0,\"0\",\"1\")+IF(COUNTIF(Finalrunde!$D$20:$E$23,Finalrunde!BN145)<>0,\"0\",\"1\")+IF(COUNTIF(Finalrunde!$D$20:$E$23,Finalrunde!BN146)<>0,\"0\",\"1\")+IF(COUNTIF(Finalrunde!$D$20:$E$23,Finalrunde!BN147)<>0,\"0\",\"1\")+IF(COUNTIF(Finalrunde!$D$20:$E$23,Finalrunde!BQ144)<>0,\"0\",\"1\")+IF(COUNTIF(Finalrunde!$D$20:$E$23,Finalrunde!BQ145)<>0,\"0\",\"1\")+IF(COUNTIF(Finalrunde!$D$20:$E$23,Finalrunde!BQ146)<>0,\"0\",\"1\")+IF(COUNTIF(Finalrunde!$D$20:$E$23,Finalrunde!BQ147)<>0,\"0\",\"1\")","v":8},null,89," ",{"$f":"IF(Finalrunde!$D$25=\"\",0,IF(Finalrunde!$D$25=Finalrunde!BN149,1,0))+IF(Finalrunde!$D$26=\"\",0,IF(Finalrunde!$D$26=Finalrunde!BN150,1,0))+IF(Finalrunde!$E$25=\"\",0,IF(Finalrunde!$E$25=Finalrunde!BQ149,1,0))+IF(Finalrunde!$E$26=\"\",0,IF(Finalrunde!$E$26=Finalrunde!BQ150,1,0))","v":0},0,{"$f":"IF(COUNTIF(Finalrunde!$D$25:$E$26,Finalrunde!BN149)<>0,\"0\",\"1\")+IF(COUNTIF(Finalrunde!$D$25:$E$26,Finalrunde!BN150)<>0,\"0\",\"1\")+IF(COUNTIF(Finalrunde!$D$25:$E$26,Finalrunde!BQ149)<>0,\"0\",\"1\")+IF(COUNTIF(Finalrunde!$D$25:$E$26,Finalrunde!BQ150)<>0,\"0\",\"1\")","v":4}]
[{"$f":"Teilnehmerliste!$A$95","v":90},{"$f":"Teilnehmerliste!B95 &\" \"&Teilnehmerliste!C95","v":" "},{"$f":"IF(Finalrunde!$D$11=\"\",0,IF(Finalrunde!$D$11=Finalrunde!BU135,1,0))+IF(Finalrunde!$D$12=\"\",0,IF(Finalrunde!$D$12=Finalrunde!BU136,1,0))+IF(Finalrunde!$D$13=\"\",0,IF(Finalrunde!$D$13=Finalrunde!BU137,1,0))+IF(Finalrunde!$D$14=\"\",0,IF(Finalrunde!$D$14=Finalrunde!BU138,1,0))+IF(Finalrunde!$D$15=\"\",0,IF(Finalrunde!$D$15=Finalrunde!BU139,1,0))+IF(Finalrunde!$D$16=\"\",0,IF(Finalrunde!$D$16=Finalrunde!BU140,1,0))+IF(Finalrunde!$D$17=\"\",0,IF(Finalrunde!$D$17=Finalrunde!BU141,1,0))+IF(Finalrunde!$D$18=\"\",0,IF(Finalrunde!$D$18=Finalrunde!BU142,1,0))+IF(Finalrunde!$E$11=\"\",0,IF(Finalrunde!$E$11=Finalrunde!BX135,1,0))+IF(Finalrunde!$E$12=\"\",0,IF(Finalrunde!$E$12=Finalrunde!BX136,1,0))+IF(Finalrunde!$E$13=\"\",0,IF(Finalrunde!$E$13=Finalrunde!BX137,1,0))+IF(Finalrunde!$E$14=\"\",0,IF(Finalrunde!$E$14=Finalrunde!BX138,1,0))+IF(Finalrunde!$E$15=\"\",0,IF(Finalrunde!$E$15=Finalrunde!BX139,1,0))+IF(Finalrunde!$E$16=\"\",0,IF(Finalrunde!$E$16=Finalrunde!BX140,1,0))+IF(Finalrunde!$E$17=\"\",0,IF(Finalrunde!$E$17=Finalrunde!BX141,1,0))+IF(Finalrunde!$E$18=\"\",0,IF(Finalrunde!$E$18=Finalrunde!BX142,1,0))","v":0},0,{"$f":"IF(COUNTIF(Finalrunde!$D$11:$E$18,Finalrunde!BU135)<>0,\"0\",\"1\")+IF(COUNTIF(Finalrunde!$D$11:$E$18,Finalrunde!BU136)<>0,\"0\",\"1\")+IF(COUNTIF(Finalrunde!$D$11:$E$18,Finalrunde!BU137)<>0,\"0\",\"1\")+IF(COUNTIF(Finalrunde!$D$11:$E$18,Finalrunde!BU138)<>0,\"0\",\"1\")+IF(COUNTIF(Finalrunde!$D$11:$E$18,Finalrunde!BU139)<>0,\"0\",\"1\")+IF(COUNTIF(Finalrunde!$D$11:$E$18,Finalrunde!BU140)<>0,\"0\",\"1\")+IF(COUNTIF(Finalrunde!$D$11:$E$18,Finalrunde!BU141)<>0,\"0\",\"1\")+IF(COUNTIF(Finalrunde!$D$11:$E$18,Finalrunde!BU142)<>0,\"0\",\"1\")+IF(COUNTIF(Finalrunde!D$11:E$18,Finalrunde!BX135)<>0,\"0\",\"1\")+IF(COUNTIF(Finalrunde!$D$11:$E$18,Finalrunde!BX136)<>0,\"0\",\"1\")+IF(COUNTIF(Finalrunde!$D$11:$E$18,Finalrunde!BX137)<>0,\"0\",\"1\")+IF(COUNTIF(Finalrunde!$D$11:$E$18,Finalrunde!BX138)<>0,\"0\",\"1\")+IF(COUNTIF(Finalrunde!$D$11:$E$18,Finalrunde!BX139)<>0,\"0\",\"1\")+IF(COUNTIF(Finalrunde!$D$11:$E$18,Finalrunde!BX140)<>0,\"0\",\"1\")+IF(COUNTIF(Finalrunde!$D$11:$E$18,Finalrunde!BX141)<>0,\"0\",\"1\")+IF(COUNTIF(Finalrunde!$D$11:$E$18,Finalrunde!BX142)<>0,\"0\",\"1\")","v":16},null,90," ",{"$f":"IF(Finalrunde!$D$20=\"\",0,IF(Finalrunde!$D$20=Finalrunde!BU144,1,0))+IF(Finalrunde!$D$21=\"\",0,IF(Finalrunde!$D$21=Finalrunde!BU145,1,0))+IF(Finalrunde!$D$22=\"\",0,IF(Finalrunde!$D$22=Finalrunde!BU146,1,0))+IF(Finalrunde!$D$23=\"\",0,IF(Finalrunde!$D$23=Finalrunde!BU147,1,0))+IF(Finalrunde!$E$20=\"\",0,IF(Finalrunde!$E$20=Finalrunde!BX144,1,0))+IF(Finalrunde!$E$21=\"\",0,IF(Finalrunde!$E$21=Finalrunde!BX145,1,0))+IF(Finalrunde!$E$22=\"\",0,IF(Finalrunde!$E$22=Finalrunde!BX146,1,0))+IF(Finalrunde!$E$23=\"\",0,IF(Finalrunde!$E$23=Finalrunde!BX147,1,0))","v":0},0,{"$f":"IF(COUNTIF(Finalrunde!$D$20:$E$23,Finalrunde!BU144)<>0,\"0\",\"1\")+IF(COUNTIF(Finalrunde!$D$20:$E$23,Finalrunde!BU145)<>0,\"0\",\"1\")+IF(COUNTIF(Finalrunde!$D$20:$E$23,Finalrunde!BU146)<>0,\"0\",\"1\")+IF(COUNTIF(Finalrunde!$D$20:$E$23,Finalrunde!BU147)<>0,\"0\",\"1\")+IF(COUNTIF(Finalrunde!$D$20:$E$23,Finalrunde!BX144)<>0,\"0\",\"1\")+IF(COUNTIF(Finalrunde!$D$20:$E$23,Finalrunde!BX145)<>0,\"0\",\"1\")+IF(COUNTIF(Finalrunde!$D$20:$E$23,Finalrunde!BX146)<>0,\"0\",\"1\")+IF(COUNTIF(Finalrunde!$D$20:$E$23,Finalrunde!BX147)<>0,\"0\",\"1\")","v":8},null,90," ",{"$f":"IF(Finalrunde!$D$25=\"\",0,IF(Finalrunde!$D$25=Finalrunde!BU149,1,0))+IF(Finalrunde!$D$26=\"\",0,IF(Finalrunde!$D$26=Finalrunde!BU150,1,0))+IF(Finalrunde!$E$25=\"\",0,IF(Finalrunde!$E$25=Finalrunde!BX149,1,0))+IF(Finalrunde!$E$26=\"\",0,IF(Finalrunde!$E$26=Finalrunde!BX150,1,0))","v":0},0,{"$f":"IF(COUNTIF(Finalrunde!$D$25:$E$26,Finalrunde!BU149)<>0,\"0\",\"1\")+IF(COUNTIF(Finalrunde!$D$25:$E$26,Finalrunde!BU150)<>0,\"0\",\"1\")+IF(COUNTIF(Finalrunde!$D$25:$E$26,Finalrunde!BX149)<>0,\"0\",\"1\")+IF(COUNTIF(Finalrunde!$D$25:$E$26,Finalrunde!BX150)<>0,\"0\",\"1\")","v":4}]
[{"$f":"Teilnehmerliste!$A$96","v":91},{"$f":"Teilnehmerliste!B96 &\" \"&Teilnehmerliste!C96","v":" "},{"$f":"IF(Finalrunde!$D$11=\"\",0,IF(Finalrunde!$D$11=Finalrunde!CB135,1,0))+IF(Finalrunde!$D$12=\"\",0,IF(Finalrunde!$D$12=Finalrunde!CB136,1,0))+IF(Finalrunde!$D$13=\"\",0,IF(Finalrunde!$D$13=Finalrunde!CB137,1,0))+IF(Finalrunde!$D$14=\"\",0,IF(Finalrunde!$D$14=Finalrunde!CB138,1,0))+IF(Finalrunde!$D$15=\"\",0,IF(Finalrunde!$D$15=Finalrunde!CB139,1,0))+IF(Finalrunde!$D$16=\"\",0,IF(Finalrunde!$D$16=Finalrunde!CB140,1,0))+IF(Finalrunde!$D$17=\"\",0,IF(Finalrunde!$D$17=Finalrunde!CB141,1,0))+IF(Finalrunde!$D$18=\"\",0,IF(Finalrunde!$D$18=Finalrunde!CB142,1,0))+IF(Finalrunde!$E$11=\"\",0,IF(Finalrunde!$E$11=Finalrunde!CE135,1,0))+IF(Finalrunde!$E$12=\"\",0,IF(Finalrunde!$E$12=Finalrunde!CE136,1,0))+IF(Finalrunde!$E$13=\"\",0,IF(Finalrunde!$E$13=Finalrunde!CE137,1,0))+IF(Finalrunde!$E$14=\"\",0,IF(Finalrunde!$E$14=Finalrunde!CE138,1,0))+IF(Finalrunde!$E$15=\"\",0,IF(Finalrunde!$E$15=Finalrunde!CE139,1,0))+IF(Finalrunde!$E$16=\"\",0,IF(Finalrunde!$E$16=Finalrunde!CE140,1,0))+IF(Finalrunde!$E$17=\"\",0,IF(Finalrunde!$E$17=Finalrunde!CE141,1,0))+IF(Finalrunde!$E$18=\"\",0,IF(Finalrunde!$E$18=Finalrunde!CE142,1,0))","v":0},0,{"$f":"IF(COUNTIF(Finalrunde!$D$11:$E$18,Finalrunde!CB135)<>0,\"0\",\"1\")+IF(COUNTIF(Finalrunde!$D$11:$E$18,Finalrunde!CB136)<>0,\"0\",\"1\")+IF(COUNTIF(Finalrunde!$D$11:$E$18,Finalrunde!CB137)<>0,\"0\",\"1\")+IF(COUNTIF(Finalrunde!$D$11:$E$18,Finalrunde!CB138)<>0,\"0\",\"1\")+IF(COUNTIF(Finalrunde!$D$11:$E$18,Finalrunde!CB139)<>0,\"0\",\"1\")+IF(COUNTIF(Finalrunde!$D$11:$E$18,Finalrunde!CB140)<>0,\"0\",\"1\")+IF(COUNTIF(Finalrunde!$D$11:$E$18,Finalrunde!CB141)<>0,\"0\",\"1\")+IF(COUNTIF(Finalrunde!$D$11:$E$18,Finalrunde!CB142)<>0,\"0\",\"1\")+IF(COUNTIF(Finalrunde!D$11:E$18,Finalrunde!CE135)<>0,\"0\",\"1\")+IF(COUNTIF(Finalrunde!$D$11:$E$18,Finalrunde!CE136)<>0,\"0\",\"1\")+IF(COUNTIF(Finalrunde!$D$11:$E$18,Finalrunde!CE137)<>0,\"0\",\"1\")+IF(COUNTIF(Finalrunde!$D$11:$E$18,Finalrunde!CE138)<>0,\"0\",\"1\")+IF(COUNTIF(Finalrunde!$D$11:$E$18,Finalrunde!CE139)<>0,\"0\",\"1\")+IF(COUNTIF(Finalrunde!$D$11:$E$18,Finalrunde!CE140)<>0,\"0\",\"1\")+IF(COUNTIF(Finalrunde!$D$11:$E$18,Finalrunde!CE141)<>0,\"0\",\"1\")+IF(COUNTIF(Finalrunde!$D$11:$E$18,Finalrunde!CE142)<>0,\"0\",\"1\")","v":16},null,91," ",{"$f":"IF(Finalrunde!$D$20=\"\",0,IF(Finalrunde!$D$20=Finalrunde!CB144,1,0))+IF(Finalrunde!$D$21=\"\",0,IF(Finalrunde!$D$21=Finalrunde!CB145,1,0))+IF(Finalrunde!$D$22=\"\",0,IF(Finalrunde!$D$22=Finalrunde!CB146,1,0))+IF(Finalrunde!$D$23=\"\",0,IF(Finalrunde!$D$23=Finalrunde!CB147,1,0))+IF(Finalrunde!$E$20=\"\",0,IF(Finalrunde!$E$20=Finalrunde!CE144,1,0))+IF(Finalrunde!$E$21=\"\",0,IF(Finalrunde!$E$21=Finalrunde!CE145,1,0))+IF(Finalrunde!$E$22=\"\",0,IF(Finalrunde!$E$22=Finalrunde!CE146,1,0))+IF(Finalrunde!$E$23=\"\",0,IF(Finalrunde!$E$23=Finalrunde!CE147,1,0))","v":0},0,{"$f":"IF(COUNTIF(Finalrunde!$D$20:$E$23,Finalrunde!CB144)<>0,\"0\",\"1\")+IF(COUNTIF(Finalrunde!$D$20:$E$23,Finalrunde!CB145)<>0,\"0\",\"1\")+IF(COUNTIF(Finalrunde!$D$20:$E$23,Finalrunde!CB146)<>0,\"0\",\"1\")+IF(COUNTIF(Finalrunde!$D$20:$E$23,Finalrunde!CB147)<>0,\"0\",\"1\")+IF(COUNTIF(Finalrunde!$D$20:$E$23,Finalrunde!CE144)<>0,\"0\",\"1\")+IF(COUNTIF(Finalrunde!$D$20:$E$23,Finalrunde!CE145)<>0,\"0\",\"1\")+IF(COUNTIF(Finalrunde!$D$20:$E$23,Finalrunde!CE146)<>0,\"0\",\"1\")+IF(COUNTIF(Finalrunde!$D$20:$E$23,Finalrunde!CE147)<>0,\"0\",\"1\")","v":8},null,91," ",{"$f":"IF(Finalrunde!$D$25=\"\",0,IF(Finalrunde!$D$25=Finalrunde!CB149,1,0))+IF(Finalrunde!$D$26=\"\",0,IF(Finalrunde!$D$26=Finalrunde!CB150,1,0))+IF(Finalrunde!$E$25=\"\",0,IF(Finalrunde!$E$25=Finalrunde!CE149,1,0))+IF(Finalrunde!$E$26=\"\",0,IF(Finalrunde!$E$26=Finalrunde!CE150,1,0))","v":0},0,{"$f":"IF(COUNTIF(Finalrunde!$D$25:$E$26,Finalrunde!CB149)<>0,\"0\",\"1\")+IF(COUNTIF(Finalrunde!$D$25:$E$26,Finalrunde!CB150)<>0,\"0\",\"1\")+IF(COUNTIF(Finalrunde!$D$25:$E$26,Finalrunde!CE149)<>0,\"0\",\"1\")+IF(COUNTIF(Finalrunde!$D$25:$E$26,Finalrunde!CE150)<>0,\"0\",\"1\")","v":4}]
[{"$f":"Teilnehmerliste!$A$97","v":92},{"$f":"Teilnehmerliste!B97 &\" \"&Teilnehmerliste!C97","v":" "},{"$f":"IF(Finalrunde!$D$11=\"\",0,IF(Finalrunde!$D$11=Finalrunde!CI135,1,0))+IF(Finalrunde!$D$12=\"\",0,IF(Finalrunde!$D$12=Finalrunde!CI136,1,0))+IF(Finalrunde!$D$13=\"\",0,IF(Finalrunde!$D$13=Finalrunde!CI137,1,0))+IF(Finalrunde!$D$14=\"\",0,IF(Finalrunde!$D$14=Finalrunde!CI138,1,0))+IF(Finalrunde!$D$15=\"\",0,IF(Finalrunde!$D$15=Finalrunde!CI139,1,0))+IF(Finalrunde!$D$16=\"\",0,IF(Finalrunde!$D$16=Finalrunde!CI140,1,0))+IF(Finalrunde!$D$17=\"\",0,IF(Finalrunde!$D$17=Finalrunde!CI141,1,0))+IF(Finalrunde!$D$18=\"\",0,IF(Finalrunde!$D$18=Finalrunde!CI142,1,0))+IF(Finalrunde!$E$11=\"\",0,IF(Finalrunde!$E$11=Finalrunde!CL135,1,0))+IF(Finalrunde!$E$12=\"\",0,IF(Finalrunde!$E$12=Finalrunde!CL136,1,0))+IF(Finalrunde!$E$13=\"\",0,IF(Finalrunde!$E$13=Finalrunde!CL137,1,0))+IF(Finalrunde!$E$14=\"\",0,IF(Finalrunde!$E$14=Finalrunde!CL138,1,0))+IF(Finalrunde!$E$15=\"\",0,IF(Finalrunde!$E$15=Finalrunde!CL139,1,0))+IF(Finalrunde!$E$16=\"\",0,IF(Finalrunde!$E$16=Finalrunde!CL140,1,0))+IF(Finalrunde!$E$17=\"\",0,IF(Finalrunde!$E$17=Finalrunde!CL141,1,0))+IF(Finalrunde!$E$18=\"\",0,IF(Finalrunde!$E$18=Finalrunde!CL142,1,0))","v":0},0,{"$f":"IF(COUNTIF(Finalrunde!$D$11:$E$18,Finalrunde!CI135)<>0,\"0\",\"1\")+IF(COUNTIF(Finalrunde!$D$11:$E$18,Finalrunde!CI136)<>0,\"0\",\"1\")+IF(COUNTIF(Finalrunde!$D$11:$E$18,Finalrunde!CI137)<>0,\"0\",\"1\")+IF(COUNTIF(Finalrunde!$D$11:$E$18,Finalrunde!CI138)<>0,\"0\",\"1\")+IF(COUNTIF(Finalrunde!$D$11:$E$18,Finalrunde!CI139)<>0,\"0\",\"1\")+IF(COUNTIF(Finalrunde!$D$11:$E$18,Finalrunde!CI140)<>0,\"0\",\"1\")+IF(COUNTIF(Finalrunde!$D$11:$E$18,Finalrunde!CI141)<>0,\"0\",\"1\")+IF(COUNTIF(Finalrunde!$D$11:$E$18,Finalrunde!CI142)<>0,\"0\",\"1\")+IF(COUNTIF(Finalrunde!D$11:E$18,Finalrunde!CL135)<>0,\"0\",\"1\")+IF(COUNTIF(Finalrunde!$D$11:$E$18,Finalrunde!CL136)<>0,\"0\",\"1\")+IF(COUNTIF(Finalrunde!$D$11:$E$18,Finalrunde!CL137)<>0,\"0\",\"1\")+IF(COUNTIF(Finalrunde!$D$11:$E$18,Finalrunde!CL138)<>0,\"0\",\"1\")+IF(COUNTIF(Finalrunde!$D$11:$E$18,Finalrunde!CL139)<>0,\"0\",\"1\")+IF(COUNTIF(Finalrunde!$D$11:$E$18,Finalrunde!CL140)<>0,\"0\",\"1\")+IF(COUNTIF(Finalrunde!$D$11:$E$18,Finalrunde!CL141)<>0,\"0\",\"1\")+IF(COUNTIF(Finalrunde!$D$11:$E$18,Finalrunde!CL142)<>0,\"0\",\"1\")","v":16},null,92," ",{"$f":"IF(Finalrunde!$D$20=\"\",0,IF(Finalrunde!$D$20=Finalrunde!CI144,1,0))+IF(Finalrunde!$D$21=\"\",0,IF(Finalrunde!$D$21=Finalrunde!CI145,1,0))+IF(Finalrunde!$D$22=\"\",0,IF(Finalrunde!$D$22=Finalrunde!CI146,1,0))+IF(Finalrunde!$D$23=\"\",0,IF(Finalrunde!$D$23=Finalrunde!CI147,1,0))+IF(Finalrunde!$E$20=\"\",0,IF(Finalrunde!$E$20=Finalrunde!CL144,1,0))+IF(Finalrunde!$E$21=\"\",0,IF(Finalrunde!$E$21=Finalrunde!CL145,1,0))+IF(Finalrunde!$E$22=\"\",0,IF(Finalrunde!$E$22=Finalrunde!CL146,1,0))+IF(Finalrunde!$E$23=\"\",0,IF(Finalrunde!$E$23=Finalrunde!CL147,1,0))","v":0},0,{"$f":"IF(COUNTIF(Finalrunde!$D$20:$E$23,Finalrunde!CI144)<>0,\"0\",\"1\")+IF(COUNTIF(Finalrunde!$D$20:$E$23,Finalrunde!CI145)<>0,\"0\",\"1\")+IF(COUNTIF(Finalrunde!$D$20:$E$23,Finalrunde!CI146)<>0,\"0\",\"1\")+IF(COUNTIF(Finalrunde!$D$20:$E$23,Finalrunde!CI147)<>0,\"0\",\"1\")+IF(COUNTIF(Finalrunde!$D$20:$E$23,Finalrunde!CL144)<>0,\"0\",\"1\")+IF(COUNTIF(Finalrunde!$D$20:$E$23,Finalrunde!CL145)<>0,\"0\",\"1\")+IF(COUNTIF(Finalrunde!$D$20:$E$23,Finalrunde!CL146)<>0,\"0\",\"1\")+IF(COUNTIF(Finalrunde!$D$20:$E$23,Finalrunde!CL147)<>0,\"0\",\"1\")","v":8},null,92," ",{"$f":"IF(Finalrunde!$D$25=\"\",0,IF(Finalrunde!$D$25=Finalrunde!CI149,1,0))+IF(Finalrunde!$D$26=\"\",0,IF(Finalrunde!$D$26=Finalrunde!CI150,1,0))+IF(Finalrunde!$E$25=\"\",0,IF(Finalrunde!$E$25=Finalrunde!CL149,1,0))+IF(Finalrunde!$E$26=\"\",0,IF(Finalrunde!$E$26=Finalrunde!CL150,1,0))","v":0},0,{"$f":"IF(COUNTIF(Finalrunde!$D$25:$E$26,Finalrunde!CI149)<>0,\"0\",\"1\")+IF(COUNTIF(Finalrunde!$D$25:$E$26,Finalrunde!CI150)<>0,\"0\",\"1\")+IF(COUNTIF(Finalrunde!$D$25:$E$26,Finalrunde!CL149)<>0,\"0\",\"1\")+IF(COUNTIF(Finalrunde!$D$25:$E$26,Finalrunde!CL150)<>0,\"0\",\"1\")","v":4}]
[{"$f":"Teilnehmerliste!$A$98","v":93},{"$f":"Teilnehmerliste!B98 &\" \"&Teilnehmerliste!C98","v":" "},{"$f":"IF(Finalrunde!$D$11=\"\",0,IF(Finalrunde!$D$11=Finalrunde!CP135,1,0))+IF(Finalrunde!$D$12=\"\",0,IF(Finalrunde!$D$12=Finalrunde!CP136,1,0))+IF(Finalrunde!$D$13=\"\",0,IF(Finalrunde!$D$13=Finalrunde!CP137,1,0))+IF(Finalrunde!$D$14=\"\",0,IF(Finalrunde!$D$14=Finalrunde!CP138,1,0))+IF(Finalrunde!$D$15=\"\",0,IF(Finalrunde!$D$15=Finalrunde!CP139,1,0))+IF(Finalrunde!$D$16=\"\",0,IF(Finalrunde!$D$16=Finalrunde!CP140,1,0))+IF(Finalrunde!$D$17=\"\",0,IF(Finalrunde!$D$17=Finalrunde!CP141,1,0))+IF(Finalrunde!$D$18=\"\",0,IF(Finalrunde!$D$18=Finalrunde!CP142,1,0))+IF(Finalrunde!$E$11=\"\",0,IF(Finalrunde!$E$11=Finalrunde!CS135,1,0))+IF(Finalrunde!$E$12=\"\",0,IF(Finalrunde!$E$12=Finalrunde!CS136,1,0))+IF(Finalrunde!$E$13=\"\",0,IF(Finalrunde!$E$13=Finalrunde!CS137,1,0))+IF(Finalrunde!$E$14=\"\",0,IF(Finalrunde!$E$14=Finalrunde!CS138,1,0))+IF(Finalrunde!$E$15=\"\",0,IF(Finalrunde!$E$15=Finalrunde!CS139,1,0))+IF(Finalrunde!$E$16=\"\",0,IF(Finalrunde!$E$16=Finalrunde!CS140,1,0))+IF(Finalrunde!$E$17=\"\",0,IF(Finalrunde!$E$17=Finalrunde!CS141,1,0))+IF(Finalrunde!$E$18=\"\",0,IF(Finalrunde!$E$18=Finalrunde!CS142,1,0))","v":0},0,{"$f":"IF(COUNTIF(Finalrunde!$D$11:$E$18,Finalrunde!CP135)<>0,\"0\",\"1\")+IF(COUNTIF(Finalrunde!$D$11:$E$18,Finalrunde!CP136)<>0,\"0\",\"1\")+IF(COUNTIF(Finalrunde!$D$11:$E$18,Finalrunde!CP137)<>0,\"0\",\"1\")+IF(COUNTIF(Finalrunde!$D$11:$E$18,Finalrunde!CP138)<>0,\"0\",\"1\")+IF(COUNTIF(Finalrunde!$D$11:$E$18,Finalrunde!CP139)<>0,\"0\",\"1\")+IF(COUNTIF(Finalrunde!$D$11:$E$18,Finalrunde!CP140)<>0,\"0\",\"1\")+IF(COUNTIF(Finalrunde!$D$11:$E$18,Finalrunde!CP141)<>0,\"0\",\"1\")+IF(COUNTIF(Finalrunde!$D$11:$E$18,Finalrunde!CP142)<>0,\"0\",\"1\")+IF(COUNTIF(Finalrunde!D$11:E$18,Finalrunde!CS135)<>0,\"0\",\"1\")+IF(COUNTIF(Finalrunde!$D$11:$E$18,Finalrunde!CS136)<>0,\"0\",\"1\")+IF(COUNTIF(Finalrunde!$D$11:$E$18,Finalrunde!CS137)<>0,\"0\",\"1\")+IF(COUNTIF(Finalrunde!$D$11:$E$18,Finalrunde!CS138)<>0,\"0\",\"1\")+IF(COUNTIF(Finalrunde!$D$11:$E$18,Finalrunde!CS139)<>0,\"0\",\"1\")+IF(COUNTIF(Finalrunde!$D$11:$E$18,Finalrunde!CS140)<>0,\"0\",\"1\")+IF(COUNTIF(Finalrunde!$D$11:$E$18,Finalrunde!CS141)<>0,\"0\",\"1\")+IF(COUNTIF(Finalrunde!$D$11:$E$18,Finalrunde!CS142)<>0,\"0\",\"1\")","v":16},null,93," ",{"$f":"IF(Finalrunde!$D$20=\"\",0,IF(Finalrunde!$D$20=Finalrunde!CP144,1,0))+IF(Finalrunde!$D$21=\"\",0,IF(Finalrunde!$D$21=Finalrunde!CP145,1,0))+IF(Finalrunde!$D$22=\"\",0,IF(Finalrunde!$D$22=Finalrunde!CP146,1,0))+IF(Finalrunde!$D$23=\"\",0,IF(Finalrunde!$D$23=Finalrunde!CP147,1,0))+IF(Finalrunde!$E$20=\"\",0,IF(Finalrunde!$E$20=Finalrunde!CS144,1,0))+IF(Finalrunde!$E$21=\"\",0,IF(Finalrunde!$E$21=Finalrunde!CS145,1,0))+IF(Finalrunde!$E$22=\"\",0,IF(Finalrunde!$E$22=Finalrunde!CS146,1,0))+IF(Finalrunde!$E$23=\"\",0,IF(Finalrunde!$E$23=Finalrunde!CS147,1,0))","v":0},0,{"$f":"IF(COUNTIF(Finalrunde!$D$20:$E$23,Finalrunde!CP144)<>0,\"0\",\"1\")+IF(COUNTIF(Finalrunde!$D$20:$E$23,Finalrunde!CP145)<>0,\"0\",\"1\")+IF(COUNTIF(Finalrunde!$D$20:$E$23,Finalrunde!CP146)<>0,\"0\",\"1\")+IF(COUNTIF(Finalrunde!$D$20:$E$23,Finalrunde!CP147)<>0,\"0\",\"1\")+IF(COUNTIF(Finalrunde!$D$20:$E$23,Finalrunde!CS144)<>0,\"0\",\"1\")+IF(COUNTIF(Finalrunde!$D$20:$E$23,Finalrunde!CS145)<>0,\"0\",\"1\")+IF(COUNTIF(Finalrunde!$D$20:$E$23,Finalrunde!CS146)<>0,\"0\",\"1\")+IF(COUNTIF(Finalrunde!$D$20:$E$23,Finalrunde!CS147)<>0,\"0\",\"1\")","v":8},null,93," ",{"$f":"IF(Finalrunde!$D$25=\"\",0,IF(Finalrunde!$D$25=Finalrunde!CP149,1,0))+IF(Finalrunde!$D$26=\"\",0,IF(Finalrunde!$D$26=Finalrunde!CP150,1,0))+IF(Finalrunde!$E$25=\"\",0,IF(Finalrunde!$E$25=Finalrunde!CS149,1,0))+IF(Finalrunde!$E$26=\"\",0,IF(Finalrunde!$E$26=Finalrunde!CS150,1,0))","v":0},0,{"$f":"IF(COUNTIF(Finalrunde!$D$25:$E$26,Finalrunde!CP149)<>0,\"0\",\"1\")+IF(COUNTIF(Finalrunde!$D$25:$E$26,Finalrunde!CP150)<>0,\"0\",\"1\")+IF(COUNTIF(Finalrunde!$D$25:$E$26,Finalrunde!CS149)<>0,\"0\",\"1\")+IF(COUNTIF(Finalrunde!$D$25:$E$26,Finalrunde!CS150)<>0,\"0\",\"1\")","v":4}]
[{"$f":"Teilnehmerliste!$A$99","v":94},{"$f":"Teilnehmerliste!B99 &\" \"&Teilnehmerliste!C99","v":" "},{"$f":"IF(Finalrunde!$D$11=\"\",0,IF(Finalrunde!$D$11=Finalrunde!CW135,1,0))+IF(Finalrunde!$D$12=\"\",0,IF(Finalrunde!$D$12=Finalrunde!CW136,1,0))+IF(Finalrunde!$D$13=\"\",0,IF(Finalrunde!$D$13=Finalrunde!CW137,1,0))+IF(Finalrunde!$D$14=\"\",0,IF(Finalrunde!$D$14=Finalrunde!CW138,1,0))+IF(Finalrunde!$D$15=\"\",0,IF(Finalrunde!$D$15=Finalrunde!CW139,1,0))+IF(Finalrunde!$D$16=\"\",0,IF(Finalrunde!$D$16=Finalrunde!CW140,1,0))+IF(Finalrunde!$D$17=\"\",0,IF(Finalrunde!$D$17=Finalrunde!CW141,1,0))+IF(Finalrunde!$D$18=\"\",0,IF(Finalrunde!$D$18=Finalrunde!CW142,1,0))+IF(Finalrunde!$E$11=\"\",0,IF(Finalrunde!$E$11=Finalrunde!CZ135,1,0))+IF(Finalrunde!$E$12=\"\",0,IF(Finalrunde!$E$12=Finalrunde!CZ136,1,0))+IF(Finalrunde!$E$13=\"\",0,IF(Finalrunde!$E$13=Finalrunde!CZ137,1,0))+IF(Finalrunde!$E$14=\"\",0,IF(Finalrunde!$E$14=Finalrunde!CZ138,1,0))+IF(Finalrunde!$E$15=\"\",0,IF(Finalrunde!$E$15=Finalrunde!CZ139,1,0))+IF(Finalrunde!$E$16=\"\",0,IF(Finalrunde!$E$16=Finalrunde!CZ140,1,0))+IF(Finalrunde!$E$17=\"\",0,IF(Finalrunde!$E$17=Finalrunde!CZ141,1,0))+IF(Finalrunde!$E$18=\"\",0,IF(Finalrunde!$E$18=Finalrunde!CZ142,1,0))","v":0},0,{"$f":"IF(COUNTIF(Finalrunde!$D$11:$E$18,Finalrunde!CW135)<>0,\"0\",\"1\")+IF(COUNTIF(Finalrunde!$D$11:$E$18,Finalrunde!CW136)<>0,\"0\",\"1\")+IF(COUNTIF(Finalrunde!$D$11:$E$18,Finalrunde!CW137)<>0,\"0\",\"1\")+IF(COUNTIF(Finalrunde!$D$11:$E$18,Finalrunde!CW138)<>0,\"0\",\"1\")+IF(COUNTIF(Finalrunde!$D$11:$E$18,Finalrunde!CW139)<>0,\"0\",\"1\")+IF(COUNTIF(Finalrunde!$D$11:$E$18,Finalrunde!CW140)<>0,\"0\",\"1\")+IF(COUNTIF(Finalrunde!$D$11:$E$18,Finalrunde!CW141)<>0,\"0\",\"1\")+IF(COUNTIF(Finalrunde!$D$11:$E$18,Finalrunde!CW142)<>0,\"0\",\"1\")+IF(COUNTIF(Finalrunde!D$11:E$18,Finalrunde!CZ135)<>0,\"0\",\"1\")+IF(COUNTIF(Finalrunde!$D$11:$E$18,Finalrunde!CZ136)<>0,\"0\",\"1\")+IF(COUNTIF(Finalrunde!$D$11:$E$18,Finalrunde!CZ137)<>0,\"0\",\"1\")+IF(COUNTIF(Finalrunde!$D$11:$E$18,Finalrunde!CZ138)<>0,\"0\",\"1\")+IF(COUNTIF(Finalrunde!$D$11:$E$18,Finalrunde!CZ139)<>0,\"0\",\"1\")+IF(COUNTIF(Finalrunde!$D$11:$E$18,Finalrunde!CZ140)<>0,\"0\",\"1\")+IF(COUNTIF(Finalrunde!$D$11:$E$18,Finalrunde!CZ141)<>0,\"0\",\"1\")+IF(COUNTIF(Finalrunde!$D$11:$E$18,Finalrunde!CZ142)<>0,\"0\",\"1\")","v":16},null,94," ",{"$f":"IF(Finalrunde!$D$20=\"\",0,IF(Finalrunde!$D$20=Finalrunde!CW144,1,0))+IF(Finalrunde!$D$21=\"\",0,IF(Finalrunde!$D$21=Finalrunde!CW145,1,0))+IF(Finalrunde!$D$22=\"\",0,IF(Finalrunde!$D$22=Finalrunde!CW146,1,0))+IF(Finalrunde!$D$23=\"\",0,IF(Finalrunde!$D$23=Finalrunde!CW147,1,0))+IF(Finalrunde!$E$20=\"\",0,IF(Finalrunde!$E$20=Finalrunde!CZ144,1,0))+IF(Finalrunde!$E$21=\"\",0,IF(Finalrunde!$E$21=Finalrunde!CZ145,1,0))+IF(Finalrunde!$E$22=\"\",0,IF(Finalrunde!$E$22=Finalrunde!CZ146,1,0))+IF(Finalrunde!$E$23=\"\",0,IF(Finalrunde!$E$23=Finalrunde!CZ147,1,0))","v":0},0,{"$f":"IF(COUNTIF(Finalrunde!$D$20:$E$23,Finalrunde!CW144)<>0,\"0\",\"1\")+IF(COUNTIF(Finalrunde!$D$20:$E$23,Finalrunde!CW145)<>0,\"0\",\"1\")+IF(COUNTIF(Finalrunde!$D$20:$E$23,Finalrunde!CW146)<>0,\"0\",\"1\")+IF(COUNTIF(Finalrunde!$D$20:$E$23,Finalrunde!CW147)<>0,\"0\",\"1\")+IF(COUNTIF(Finalrunde!$D$20:$E$23,Finalrunde!CZ144)<>0,\"0\",\"1\")+IF(COUNTIF(Finalrunde!$D$20:$E$23,Finalrunde!CZ145)<>0,\"0\",\"1\")+IF(COUNTIF(Finalrunde!$D$20:$E$23,Finalrunde!CZ146)<>0,\"0\",\"1\")+IF(COUNTIF(Finalrunde!$D$20:$E$23,Finalrunde!CZ147)<>0,\"0\",\"1\")","v":8},null,94," ",{"$f":"IF(Finalrunde!$D$25=\"\",0,IF(Finalrunde!$D$25=Finalrunde!CW149,1,0))+IF(Finalrunde!$D$26=\"\",0,IF(Finalrunde!$D$26=Finalrunde!CW150,1,0))+IF(Finalrunde!$E$25=\"\",0,IF(Finalrunde!$E$25=Finalrunde!CZ149,1,0))+IF(Finalrunde!$E$26=\"\",0,IF(Finalrunde!$E$26=Finalrunde!CZ150,1,0))","v":0},0,{"$f":"IF(COUNTIF(Finalrunde!$D$25:$E$26,Finalrunde!CW149)<>0,\"0\",\"1\")+IF(COUNTIF(Finalrunde!$D$25:$E$26,Finalrunde!CW150)<>0,\"0\",\"1\")+IF(COUNTIF(Finalrunde!$D$25:$E$26,Finalrunde!CZ149)<>0,\"0\",\"1\")+IF(COUNTIF(Finalrunde!$D$25:$E$26,Finalrunde!CZ150)<>0,\"0\",\"1\")","v":4}]
[{"$f":"Teilnehmerliste!$A$100","v":95},{"$f":"Teilnehmerliste!B100 &\" \"&Teilnehmerliste!C100","v":" "},{"$f":"IF(Finalrunde!$D$11=\"\",0,IF(Finalrunde!$D$11=Finalrunde!DD135,1,0))+IF(Finalrunde!$D$12=\"\",0,IF(Finalrunde!$D$12=Finalrunde!DD136,1,0))+IF(Finalrunde!$D$13=\"\",0,IF(Finalrunde!$D$13=Finalrunde!DD137,1,0))+IF(Finalrunde!$D$14=\"\",0,IF(Finalrunde!$D$14=Finalrunde!DD138,1,0))+IF(Finalrunde!$D$15=\"\",0,IF(Finalrunde!$D$15=Finalrunde!DD139,1,0))+IF(Finalrunde!$D$16=\"\",0,IF(Finalrunde!$D$16=Finalrunde!DD140,1,0))+IF(Finalrunde!$D$17=\"\",0,IF(Finalrunde!$D$17=Finalrunde!DD141,1,0))+IF(Finalrunde!$D$18=\"\",0,IF(Finalrunde!$D$18=Finalrunde!DD142,1,0))+IF(Finalrunde!$E$11=\"\",0,IF(Finalrunde!$E$11=Finalrunde!DG135,1,0))+IF(Finalrunde!$E$12=\"\",0,IF(Finalrunde!$E$12=Finalrunde!DG136,1,0))+IF(Finalrunde!$E$13=\"\",0,IF(Finalrunde!$E$13=Finalrunde!DG137,1,0))+IF(Finalrunde!$E$14=\"\",0,IF(Finalrunde!$E$14=Finalrunde!DG138,1,0))+IF(Finalrunde!$E$15=\"\",0,IF(Finalrunde!$E$15=Finalrunde!DG139,1,0))+IF(Finalrunde!$E$16=\"\",0,IF(Finalrunde!$E$16=Finalrunde!DG140,1,0))+IF(Finalrunde!$E$17=\"\",0,IF(Finalrunde!$E$17=Finalrunde!DG141,1,0))+IF(Finalrunde!$E$18=\"\",0,IF(Finalrunde!$E$18=Finalrunde!DG142,1,0))","v":0},0,{"$f":"IF(COUNTIF(Finalrunde!$D$11:$E$18,Finalrunde!DD135)<>0,\"0\",\"1\")+IF(COUNTIF(Finalrunde!$D$11:$E$18,Finalrunde!DD136)<>0,\"0\",\"1\")+IF(COUNTIF(Finalrunde!$D$11:$E$18,Finalrunde!DD137)<>0,\"0\",\"1\")+IF(COUNTIF(Finalrunde!$D$11:$E$18,Finalrunde!DD138)<>0,\"0\",\"1\")+IF(COUNTIF(Finalrunde!$D$11:$E$18,Finalrunde!DD139)<>0,\"0\",\"1\")+IF(COUNTIF(Finalrunde!$D$11:$E$18,Finalrunde!DD140)<>0,\"0\",\"1\")+IF(COUNTIF(Finalrunde!$D$11:$E$18,Finalrunde!DD141)<>0,\"0\",\"1\")+IF(COUNTIF(Finalrunde!$D$11:$E$18,Finalrunde!DD142)<>0,\"0\",\"1\")+IF(COUNTIF(Finalrunde!D$11:E$18,Finalrunde!DG135)<>0,\"0\",\"1\")+IF(COUNTIF(Finalrunde!$D$11:$E$18,Finalrunde!DG136)<>0,\"0\",\"1\")+IF(COUNTIF(Finalrunde!$D$11:$E$18,Finalrunde!DG137)<>0,\"0\",\"1\")+IF(COUNTIF(Finalrunde!$D$11:$E$18,Finalrunde!DG138)<>0,\"0\",\"1\")+IF(COUNTIF(Finalrunde!$D$11:$E$18,Finalrunde!DG139)<>0,\"0\",\"1\")+IF(COUNTIF(Finalrunde!$D$11:$E$18,Finalrunde!DG140)<>0,\"0\",\"1\")+IF(COUNTIF(Finalrunde!$D$11:$E$18,Finalrunde!DG141)<>0,\"0\",\"1\")+IF(COUNTIF(Finalrunde!$D$11:$E$18,Finalrunde!DG142)<>0,\"0\",\"1\")","v":16},null,95," ",{"$f":"IF(Finalrunde!$D$20=\"\",0,IF(Finalrunde!$D$20=Finalrunde!DD144,1,0))+IF(Finalrunde!$D$21=\"\",0,IF(Finalrunde!$D$21=Finalrunde!DD145,1,0))+IF(Finalrunde!$D$22=\"\",0,IF(Finalrunde!$D$22=Finalrunde!DD146,1,0))+IF(Finalrunde!$D$23=\"\",0,IF(Finalrunde!$D$23=Finalrunde!DD147,1,0))+IF(Finalrunde!$E$20=\"\",0,IF(Finalrunde!$E$20=Finalrunde!DG144,1,0))+IF(Finalrunde!$E$21=\"\",0,IF(Finalrunde!$E$21=Finalrunde!DG145,1,0))+IF(Finalrunde!$E$22=\"\",0,IF(Finalrunde!$E$22=Finalrunde!DG146,1,0))+IF(Finalrunde!$E$23=\"\",0,IF(Finalrunde!$E$23=Finalrunde!DG147,1,0))","v":0},0,{"$f":"IF(COUNTIF(Finalrunde!$D$20:$E$23,Finalrunde!DD144)<>0,\"0\",\"1\")+IF(COUNTIF(Finalrunde!$D$20:$E$23,Finalrunde!DD145)<>0,\"0\",\"1\")+IF(COUNTIF(Finalrunde!$D$20:$E$23,Finalrunde!DD146)<>0,\"0\",\"1\")+IF(COUNTIF(Finalrunde!$D$20:$E$23,Finalrunde!DD147)<>0,\"0\",\"1\")+IF(COUNTIF(Finalrunde!$D$20:$E$23,Finalrunde!DG144)<>0,\"0\",\"1\")+IF(COUNTIF(Finalrunde!$D$20:$E$23,Finalrunde!DG145)<>0,\"0\",\"1\")+IF(COUNTIF(Finalrunde!$D$20:$E$23,Finalrunde!DG146)<>0,\"0\",\"1\")+IF(COUNTIF(Finalrunde!$D$20:$E$23,Finalrunde!DG147)<>0,\"0\",\"1\")","v":8},null,95," ",{"$f":"IF(Finalrunde!$D$25=\"\",0,IF(Finalrunde!$D$25=Finalrunde!DD149,1,0))+IF(Finalrunde!$D$26=\"\",0,IF(Finalrunde!$D$26=Finalrunde!DD150,1,0))+IF(Finalrunde!$E$25=\"\",0,IF(Finalrunde!$E$25=Finalrunde!DG149,1,0))+IF(Finalrunde!$E$26=\"\",0,IF(Finalrunde!$E$26=Finalrunde!DG150,1,0))","v":0},0,{"$f":"IF(COUNTIF(Finalrunde!$D$25:$E$26,Finalrunde!DD149)<>0,\"0\",\"1\")+IF(COUNTIF(Finalrunde!$D$25:$E$26,Finalrunde!DD150)<>0,\"0\",\"1\")+IF(COUNTIF(Finalrunde!$D$25:$E$26,Finalrunde!DG149)<>0,\"0\",\"1\")+IF(COUNTIF(Finalrunde!$D$25:$E$26,Finalrunde!DG150)<>0,\"0\",\"1\")","v":4}]
[{"$f":"Teilnehmerliste!$A$101","v":96},{"$f":"Teilnehmerliste!B101 &\" \"&Teilnehmerliste!C101","v":" "},{"$f":"IF(Finalrunde!$D$11=\"\",0,IF(Finalrunde!$D$11=Finalrunde!DK135,1,0))+IF(Finalrunde!$D$12=\"\",0,IF(Finalrunde!$D$12=Finalrunde!DK136,1,0))+IF(Finalrunde!$D$13=\"\",0,IF(Finalrunde!$D$13=Finalrunde!DK137,1,0))+IF(Finalrunde!$D$14=\"\",0,IF(Finalrunde!$D$14=Finalrunde!DK138,1,0))+IF(Finalrunde!$D$15=\"\",0,IF(Finalrunde!$D$15=Finalrunde!DK139,1,0))+IF(Finalrunde!$D$16=\"\",0,IF(Finalrunde!$D$16=Finalrunde!DK140,1,0))+IF(Finalrunde!$D$17=\"\",0,IF(Finalrunde!$D$17=Finalrunde!DK141,1,0))+IF(Finalrunde!$D$18=\"\",0,IF(Finalrunde!$D$18=Finalrunde!DK142,1,0))+IF(Finalrunde!$E$11=\"\",0,IF(Finalrunde!$E$11=Finalrunde!DN135,1,0))+IF(Finalrunde!$E$12=\"\",0,IF(Finalrunde!$E$12=Finalrunde!DN136,1,0))+IF(Finalrunde!$E$13=\"\",0,IF(Finalrunde!$E$13=Finalrunde!DN137,1,0))+IF(Finalrunde!$E$14=\"\",0,IF(Finalrunde!$E$14=Finalrunde!DN138,1,0))+IF(Finalrunde!$E$15=\"\",0,IF(Finalrunde!$E$15=Finalrunde!DN139,1,0))+IF(Finalrunde!$E$16=\"\",0,IF(Finalrunde!$E$16=Finalrunde!DN140,1,0))+IF(Finalrunde!$E$17=\"\",0,IF(Finalrunde!$E$17=Finalrunde!DN141,1,0))+IF(Finalrunde!$E$18=\"\",0,IF(Finalrunde!$E$18=Finalrunde!DN142,1,0))","v":0},0,{"$f":"IF(COUNTIF(Finalrunde!$D$11:$E$18,Finalrunde!DK135)<>0,\"0\",\"1\")+IF(COUNTIF(Finalrunde!$D$11:$E$18,Finalrunde!DK136)<>0,\"0\",\"1\")+IF(COUNTIF(Finalrunde!$D$11:$E$18,Finalrunde!DK137)<>0,\"0\",\"1\")+IF(COUNTIF(Finalrunde!$D$11:$E$18,Finalrunde!DK138)<>0,\"0\",\"1\")+IF(COUNTIF(Finalrunde!$D$11:$E$18,Finalrunde!DK139)<>0,\"0\",\"1\")+IF(COUNTIF(Finalrunde!$D$11:$E$18,Finalrunde!DK140)<>0,\"0\",\"1\")+IF(COUNTIF(Finalrunde!$D$11:$E$18,Finalrunde!DK141)<>0,\"0\",\"1\")+IF(COUNTIF(Finalrunde!$D$11:$E$18,Finalrunde!DK142)<>0,\"0\",\"1\")+IF(COUNTIF(Finalrunde!D$11:E$18,Finalrunde!DN135)<>0,\"0\",\"1\")+IF(COUNTIF(Finalrunde!$D$11:$E$18,Finalrunde!DN136)<>0,\"0\",\"1\")+IF(COUNTIF(Finalrunde!$D$11:$E$18,Finalrunde!DN137)<>0,\"0\",\"1\")+IF(COUNTIF(Finalrunde!$D$11:$E$18,Finalrunde!DN138)<>0,\"0\",\"1\")+IF(COUNTIF(Finalrunde!$D$11:$E$18,Finalrunde!DN139)<>0,\"0\",\"1\")+IF(COUNTIF(Finalrunde!$D$11:$E$18,Finalrunde!DN140)<>0,\"0\",\"1\")+IF(COUNTIF(Finalrunde!$D$11:$E$18,Finalrunde!DN141)<>0,\"0\",\"1\")+IF(COUNTIF(Finalrunde!$D$11:$E$18,Finalrunde!DN142)<>0,\"0\",\"1\")","v":16},null,96," ",{"$f":"IF(Finalrunde!$D$20=\"\",0,IF(Finalrunde!$D$20=Finalrunde!DK144,1,0))+IF(Finalrunde!$D$21=\"\",0,IF(Finalrunde!$D$21=Finalrunde!DK145,1,0))+IF(Finalrunde!$D$22=\"\",0,IF(Finalrunde!$D$22=Finalrunde!DK146,1,0))+IF(Finalrunde!$D$23=\"\",0,IF(Finalrunde!$D$23=Finalrunde!DK147,1,0))+IF(Finalrunde!$E$20=\"\",0,IF(Finalrunde!$E$20=Finalrunde!DN144,1,0))+IF(Finalrunde!$E$21=\"\",0,IF(Finalrunde!$E$21=Finalrunde!DN145,1,0))+IF(Finalrunde!$E$22=\"\",0,IF(Finalrunde!$E$22=Finalrunde!DN146,1,0))+IF(Finalrunde!$E$23=\"\",0,IF(Finalrunde!$E$23=Finalrunde!DN147,1,0))","v":0},0,{"$f":"IF(COUNTIF(Finalrunde!$D$20:$E$23,Finalrunde!DK144)<>0,\"0\",\"1\")+IF(COUNTIF(Finalrunde!$D$20:$E$23,Finalrunde!DK145)<>0,\"0\",\"1\")+IF(COUNTIF(Finalrunde!$D$20:$E$23,Finalrunde!DK146)<>0,\"0\",\"1\")+IF(COUNTIF(Finalrunde!$D$20:$E$23,Finalrunde!DK147)<>0,\"0\",\"1\")+IF(COUNTIF(Finalrunde!$D$20:$E$23,Finalrunde!DN144)<>0,\"0\",\"1\")+IF(COUNTIF(Finalrunde!$D$20:$E$23,Finalrunde!DN145)<>0,\"0\",\"1\")+IF(COUNTIF(Finalrunde!$D$20:$E$23,Finalrunde!DN146)<>0,\"0\",\"1\")+IF(COUNTIF(Finalrunde!$D$20:$E$23,Finalrunde!DN147)<>0,\"0\",\"1\")","v":8},null,96," ",{"$f":"IF(Finalrunde!$D$25=\"\",0,IF(Finalrunde!$D$25=Finalrunde!DK149,1,0))+IF(Finalrunde!$D$26=\"\",0,IF(Finalrunde!$D$26=Finalrunde!DK150,1,0))+IF(Finalrunde!$E$25=\"\",0,IF(Finalrunde!$E$25=Finalrunde!DN149,1,0))+IF(Finalrunde!$E$26=\"\",0,IF(Finalrunde!$E$26=Finalrunde!DN150,1,0))","v":0},0,{"$f":"IF(COUNTIF(Finalrunde!$D$25:$E$26,Finalrunde!DK149)<>0,\"0\",\"1\")+IF(COUNTIF(Finalrunde!$D$25:$E$26,Finalrunde!DK150)<>0,\"0\",\"1\")+IF(COUNTIF(Finalrunde!$D$25:$E$26,Finalrunde!DN149)<>0,\"0\",\"1\")+IF(COUNTIF(Finalrunde!$D$25:$E$26,Finalrunde!DN150)<>0,\"0\",\"1\")","v":4}]
[{"$f":"Teilnehmerliste!$A$102","v":97},{"$f":"Teilnehmerliste!B102 &\" \"&Teilnehmerliste!C102","v":" "},{"$f":"IF(Finalrunde!$D$11=\"\",0,IF(Finalrunde!$D$11=Finalrunde!DR135,1,0))+IF(Finalrunde!$D$12=\"\",0,IF(Finalrunde!$D$12=Finalrunde!DR136,1,0))+IF(Finalrunde!$D$13=\"\",0,IF(Finalrunde!$D$13=Finalrunde!DR137,1,0))+IF(Finalrunde!$D$14=\"\",0,IF(Finalrunde!$D$14=Finalrunde!DR138,1,0))+IF(Finalrunde!$D$15=\"\",0,IF(Finalrunde!$D$15=Finalrunde!DR139,1,0))+IF(Finalrunde!$D$16=\"\",0,IF(Finalrunde!$D$16=Finalrunde!DR140,1,0))+IF(Finalrunde!$D$17=\"\",0,IF(Finalrunde!$D$17=Finalrunde!DR141,1,0))+IF(Finalrunde!$D$18=\"\",0,IF(Finalrunde!$D$18=Finalrunde!DR142,1,0))+IF(Finalrunde!$E$11=\"\",0,IF(Finalrunde!$E$11=Finalrunde!DU135,1,0))+IF(Finalrunde!$E$12=\"\",0,IF(Finalrunde!$E$12=Finalrunde!DU136,1,0))+IF(Finalrunde!$E$13=\"\",0,IF(Finalrunde!$E$13=Finalrunde!DU137,1,0))+IF(Finalrunde!$E$14=\"\",0,IF(Finalrunde!$E$14=Finalrunde!DU138,1,0))+IF(Finalrunde!$E$15=\"\",0,IF(Finalrunde!$E$15=Finalrunde!DU139,1,0))+IF(Finalrunde!$E$16=\"\",0,IF(Finalrunde!$E$16=Finalrunde!DU140,1,0))+IF(Finalrunde!$E$17=\"\",0,IF(Finalrunde!$E$17=Finalrunde!DU141,1,0))+IF(Finalrunde!$E$18=\"\",0,IF(Finalrunde!$E$18=Finalrunde!DU142,1,0))","v":0},0,{"$f":"IF(COUNTIF(Finalrunde!$D$11:$E$18,Finalrunde!DR135)<>0,\"0\",\"1\")+IF(COUNTIF(Finalrunde!$D$11:$E$18,Finalrunde!DR136)<>0,\"0\",\"1\")+IF(COUNTIF(Finalrunde!$D$11:$E$18,Finalrunde!DR137)<>0,\"0\",\"1\")+IF(COUNTIF(Finalrunde!$D$11:$E$18,Finalrunde!DR138)<>0,\"0\",\"1\")+IF(COUNTIF(Finalrunde!$D$11:$E$18,Finalrunde!DR139)<>0,\"0\",\"1\")+IF(COUNTIF(Finalrunde!$D$11:$E$18,Finalrunde!DR140)<>0,\"0\",\"1\")+IF(COUNTIF(Finalrunde!$D$11:$E$18,Finalrunde!DR141)<>0,\"0\",\"1\")+IF(COUNTIF(Finalrunde!$D$11:$E$18,Finalrunde!DR142)<>0,\"0\",\"1\")+IF(COUNTIF(Finalrunde!D$11:E$18,Finalrunde!DU135)<>0,\"0\",\"1\")+IF(COUNTIF(Finalrunde!$D$11:$E$18,Finalrunde!DU136)<>0,\"0\",\"1\")+IF(COUNTIF(Finalrunde!$D$11:$E$18,Finalrunde!DU137)<>0,\"0\",\"1\")+IF(COUNTIF(Finalrunde!$D$11:$E$18,Finalrunde!DU138)<>0,\"0\",\"1\")+IF(COUNTIF(Finalrunde!$D$11:$E$18,Finalrunde!DU139)<>0,\"0\",\"1\")+IF(COUNTIF(Finalrunde!$D$11:$E$18,Finalrunde!DU140)<>0,\"0\",\"1\")+IF(COUNTIF(Finalrunde!$D$11:$E$18,Finalrunde!DU141)<>0,\"0\",\"1\")+IF(COUNTIF(Finalrunde!$D$11:$E$18,Finalrunde!DU142)<>0,\"0\",\"1\")","v":16},null,97," ",{"$f":"IF(Finalrunde!$D$20=\"\",0,IF(Finalrunde!$D$20=Finalrunde!DR144,1,0))+IF(Finalrunde!$D$21=\"\",0,IF(Finalrunde!$D$21=Finalrunde!DR145,1,0))+IF(Finalrunde!$D$22=\"\",0,IF(Finalrunde!$D$22=Finalrunde!DR146,1,0))+IF(Finalrunde!$D$23=\"\",0,IF(Finalrunde!$D$23=Finalrunde!DR147,1,0))+IF(Finalrunde!$E$20=\"\",0,IF(Finalrunde!$E$20=Finalrunde!DU144,1,0))+IF(Finalrunde!$E$21=\"\",0,IF(Finalrunde!$E$21=Finalrunde!DU145,1,0))+IF(Finalrunde!$E$22=\"\",0,IF(Finalrunde!$E$22=Finalrunde!DU146,1,0))+IF(Finalrunde!$E$23=\"\",0,IF(Finalrunde!$E$23=Finalrunde!DU147,1,0))","v":0},0,{"$f":"IF(COUNTIF(Finalrunde!$D$20:$E$23,Finalrunde!DR144)<>0,\"0\",\"1\")+IF(COUNTIF(Finalrunde!$D$20:$E$23,Finalrunde!DR145)<>0,\"0\",\"1\")+IF(COUNTIF(Finalrunde!$D$20:$E$23,Finalrunde!DR146)<>0,\"0\",\"1\")+IF(COUNTIF(Finalrunde!$D$20:$E$23,Finalrunde!DR147)<>0,\"0\",\"1\")+IF(COUNTIF(Finalrunde!$D$20:$E$23,Finalrunde!DU144)<>0,\"0\",\"1\")+IF(COUNTIF(Finalrunde!$D$20:$E$23,Finalrunde!DU145)<>0,\"0\",\"1\")+IF(COUNTIF(Finalrunde!$D$20:$E$23,Finalrunde!DU146)<>0,\"0\",\"1\")+IF(COUNTIF(Finalrunde!$D$20:$E$23,Finalrunde!DU147)<>0,\"0\",\"1\")","v":8},null,97," ",{"$f":"IF(Finalrunde!$D$25=\"\",0,IF(Finalrunde!$D$25=Finalrunde!DR149,1,0))+IF(Finalrunde!$D$26=\"\",0,IF(Finalrunde!$D$26=Finalrunde!DR150,1,0))+IF(Finalrunde!$E$25=\"\",0,IF(Finalrunde!$E$25=Finalrunde!DU149,1,0))+IF(Finalrunde!$E$26=\"\",0,IF(Finalrunde!$E$26=Finalrunde!DU150,1,0))","v":0},0,{"$f":"IF(COUNTIF(Finalrunde!$D$25:$E$26,Finalrunde!DR149)<>0,\"0\",\"1\")+IF(COUNTIF(Finalrunde!$D$25:$E$26,Finalrunde!DR150)<>0,\"0\",\"1\")+IF(COUNTIF(Finalrunde!$D$25:$E$26,Finalrunde!DU149)<>0,\"0\",\"1\")+IF(COUNTIF(Finalrunde!$D$25:$E$26,Finalrunde!DU150)<>0,\"0\",\"1\")","v":4}]
[{"$f":"Teilnehmerliste!$A$103","v":98},{"$f":"Teilnehmerliste!B103 &\" \"&Teilnehmerliste!C103","v":" "},{"$f":"IF(Finalrunde!$D$11=\"\",0,IF(Finalrunde!$D$11=Finalrunde!DY135,1,0))+IF(Finalrunde!$D$12=\"\",0,IF(Finalrunde!$D$12=Finalrunde!DY136,1,0))+IF(Finalrunde!$D$13=\"\",0,IF(Finalrunde!$D$13=Finalrunde!DY137,1,0))+IF(Finalrunde!$D$14=\"\",0,IF(Finalrunde!$D$14=Finalrunde!DY138,1,0))+IF(Finalrunde!$D$15=\"\",0,IF(Finalrunde!$D$15=Finalrunde!DY139,1,0))+IF(Finalrunde!$D$16=\"\",0,IF(Finalrunde!$D$16=Finalrunde!DY140,1,0))+IF(Finalrunde!$D$17=\"\",0,IF(Finalrunde!$D$17=Finalrunde!DY141,1,0))+IF(Finalrunde!$D$18=\"\",0,IF(Finalrunde!$D$18=Finalrunde!DY142,1,0))+IF(Finalrunde!$E$11=\"\",0,IF(Finalrunde!$E$11=Finalrunde!EB135,1,0))+IF(Finalrunde!$E$12=\"\",0,IF(Finalrunde!$E$12=Finalrunde!EB136,1,0))+IF(Finalrunde!$E$13=\"\",0,IF(Finalrunde!$E$13=Finalrunde!EB137,1,0))+IF(Finalrunde!$E$14=\"\",0,IF(Finalrunde!$E$14=Finalrunde!EB138,1,0))+IF(Finalrunde!$E$15=\"\",0,IF(Finalrunde!$E$15=Finalrunde!EB139,1,0))+IF(Finalrunde!$E$16=\"\",0,IF(Finalrunde!$E$16=Finalrunde!EB140,1,0))+IF(Finalrunde!$E$17=\"\",0,IF(Finalrunde!$E$17=Finalrunde!EB141,1,0))+IF(Finalrunde!$E$18=\"\",0,IF(Finalrunde!$E$18=Finalrunde!EB142,1,0))","v":0},0,{"$f":"IF(COUNTIF(Finalrunde!$D$11:$E$18,Finalrunde!DY135)<>0,\"0\",\"1\")+IF(COUNTIF(Finalrunde!$D$11:$E$18,Finalrunde!DY136)<>0,\"0\",\"1\")+IF(COUNTIF(Finalrunde!$D$11:$E$18,Finalrunde!DY137)<>0,\"0\",\"1\")+IF(COUNTIF(Finalrunde!$D$11:$E$18,Finalrunde!DY138)<>0,\"0\",\"1\")+IF(COUNTIF(Finalrunde!$D$11:$E$18,Finalrunde!DY139)<>0,\"0\",\"1\")+IF(COUNTIF(Finalrunde!$D$11:$E$18,Finalrunde!DY140)<>0,\"0\",\"1\")+IF(COUNTIF(Finalrunde!$D$11:$E$18,Finalrunde!DY141)<>0,\"0\",\"1\")+IF(COUNTIF(Finalrunde!$D$11:$E$18,Finalrunde!DY142)<>0,\"0\",\"1\")+IF(COUNTIF(Finalrunde!D$11:E$18,Finalrunde!EB135)<>0,\"0\",\"1\")+IF(COUNTIF(Finalrunde!$D$11:$E$18,Finalrunde!EB136)<>0,\"0\",\"1\")+IF(COUNTIF(Finalrunde!$D$11:$E$18,Finalrunde!EB137)<>0,\"0\",\"1\")+IF(COUNTIF(Finalrunde!$D$11:$E$18,Finalrunde!EB138)<>0,\"0\",\"1\")+IF(COUNTIF(Finalrunde!$D$11:$E$18,Finalrunde!EB139)<>0,\"0\",\"1\")+IF(COUNTIF(Finalrunde!$D$11:$E$18,Finalrunde!EB140)<>0,\"0\",\"1\")+IF(COUNTIF(Finalrunde!$D$11:$E$18,Finalrunde!EB141)<>0,\"0\",\"1\")+IF(COUNTIF(Finalrunde!$D$11:$E$18,Finalrunde!EB142)<>0,\"0\",\"1\")","v":16},null,98," ",{"$f":"IF(Finalrunde!$D$20=\"\",0,IF(Finalrunde!$D$20=Finalrunde!DY144,1,0))+IF(Finalrunde!$D$21=\"\",0,IF(Finalrunde!$D$21=Finalrunde!DY145,1,0))+IF(Finalrunde!$D$22=\"\",0,IF(Finalrunde!$D$22=Finalrunde!DY146,1,0))+IF(Finalrunde!$D$23=\"\",0,IF(Finalrunde!$D$23=Finalrunde!DY147,1,0))+IF(Finalrunde!$E$20=\"\",0,IF(Finalrunde!$E$20=Finalrunde!EB144,1,0))+IF(Finalrunde!$E$21=\"\",0,IF(Finalrunde!$E$21=Finalrunde!EB145,1,0))+IF(Finalrunde!$E$22=\"\",0,IF(Finalrunde!$E$22=Finalrunde!EB146,1,0))+IF(Finalrunde!$E$23=\"\",0,IF(Finalrunde!$E$23=Finalrunde!EB147,1,0))","v":0},0,{"$f":"IF(COUNTIF(Finalrunde!$D$20:$E$23,Finalrunde!DY144)<>0,\"0\",\"1\")+IF(COUNTIF(Finalrunde!$D$20:$E$23,Finalrunde!DY145)<>0,\"0\",\"1\")+IF(COUNTIF(Finalrunde!$D$20:$E$23,Finalrunde!DY146)<>0,\"0\",\"1\")+IF(COUNTIF(Finalrunde!$D$20:$E$23,Finalrunde!DY147)<>0,\"0\",\"1\")+IF(COUNTIF(Finalrunde!$D$20:$E$23,Finalrunde!EB144)<>0,\"0\",\"1\")+IF(COUNTIF(Finalrunde!$D$20:$E$23,Finalrunde!EB145)<>0,\"0\",\"1\")+IF(COUNTIF(Finalrunde!$D$20:$E$23,Finalrunde!EB146)<>0,\"0\",\"1\")+IF(COUNTIF(Finalrunde!$D$20:$E$23,Finalrunde!EB147)<>0,\"0\",\"1\")","v":8},null,98," ",{"$f":"IF(Finalrunde!$D$25=\"\",0,IF(Finalrunde!$D$25=Finalrunde!DY149,1,0))+IF(Finalrunde!$D$26=\"\",0,IF(Finalrunde!$D$26=Finalrunde!DY150,1,0))+IF(Finalrunde!$E$25=\"\",0,IF(Finalrunde!$E$25=Finalrunde!EB149,1,0))+IF(Finalrunde!$E$26=\"\",0,IF(Finalrunde!$E$26=Finalrunde!EB150,1,0))","v":0},0,{"$f":"IF(COUNTIF(Finalrunde!$D$25:$E$26,Finalrunde!DY149)<>0,\"0\",\"1\")+IF(COUNTIF(Finalrunde!$D$25:$E$26,Finalrunde!DY150)<>0,\"0\",\"1\")+IF(COUNTIF(Finalrunde!$D$25:$E$26,Finalrunde!EB149)<>0,\"0\",\"1\")+IF(COUNTIF(Finalrunde!$D$25:$E$26,Finalrunde!EB150)<>0,\"0\",\"1\")","v":4}]
[{"$f":"Teilnehmerliste!$A$104","v":99},{"$f":"Teilnehmerliste!B104 &\" \"&Teilnehmerliste!C104","v":" "},{"$f":"IF(Finalrunde!$D$11=\"\",0,IF(Finalrunde!$D$11=Finalrunde!EF135,1,0))+IF(Finalrunde!$D$12=\"\",0,IF(Finalrunde!$D$12=Finalrunde!EF136,1,0))+IF(Finalrunde!$D$13=\"\",0,IF(Finalrunde!$D$13=Finalrunde!EF137,1,0))+IF(Finalrunde!$D$14=\"\",0,IF(Finalrunde!$D$14=Finalrunde!EF138,1,0))+IF(Finalrunde!$D$15=\"\",0,IF(Finalrunde!$D$15=Finalrunde!EF139,1,0))+IF(Finalrunde!$D$16=\"\",0,IF(Finalrunde!$D$16=Finalrunde!EF140,1,0))+IF(Finalrunde!$D$17=\"\",0,IF(Finalrunde!$D$17=Finalrunde!EF141,1,0))+IF(Finalrunde!$D$18=\"\",0,IF(Finalrunde!$D$18=Finalrunde!EF142,1,0))+IF(Finalrunde!$E$11=\"\",0,IF(Finalrunde!$E$11=Finalrunde!EI135,1,0))+IF(Finalrunde!$E$12=\"\",0,IF(Finalrunde!$E$12=Finalrunde!EI136,1,0))+IF(Finalrunde!$E$13=\"\",0,IF(Finalrunde!$E$13=Finalrunde!EI137,1,0))+IF(Finalrunde!$E$14=\"\",0,IF(Finalrunde!$E$14=Finalrunde!EI138,1,0))+IF(Finalrunde!$E$15=\"\",0,IF(Finalrunde!$E$15=Finalrunde!EI139,1,0))+IF(Finalrunde!$E$16=\"\",0,IF(Finalrunde!$E$16=Finalrunde!EI140,1,0))+IF(Finalrunde!$E$17=\"\",0,IF(Finalrunde!$E$17=Finalrunde!EI141,1,0))+IF(Finalrunde!$E$18=\"\",0,IF(Finalrunde!$E$18=Finalrunde!EI142,1,0))","v":0},0,{"$f":"IF(COUNTIF(Finalrunde!$D$11:$E$18,Finalrunde!EF135)<>0,\"0\",\"1\")+IF(COUNTIF(Finalrunde!$D$11:$E$18,Finalrunde!EF136)<>0,\"0\",\"1\")+IF(COUNTIF(Finalrunde!$D$11:$E$18,Finalrunde!EF137)<>0,\"0\",\"1\")+IF(COUNTIF(Finalrunde!$D$11:$E$18,Finalrunde!EF138)<>0,\"0\",\"1\")+IF(COUNTIF(Finalrunde!$D$11:$E$18,Finalrunde!EF139)<>0,\"0\",\"1\")+IF(COUNTIF(Finalrunde!$D$11:$E$18,Finalrunde!EF140)<>0,\"0\",\"1\")+IF(COUNTIF(Finalrunde!$D$11:$E$18,Finalrunde!EF141)<>0,\"0\",\"1\")+IF(COUNTIF(Finalrunde!$D$11:$E$18,Finalrunde!EF142)<>0,\"0\",\"1\")+IF(COUNTIF(Finalrunde!D$11:E$18,Finalrunde!EI135)<>0,\"0\",\"1\")+IF(COUNTIF(Finalrunde!$D$11:$E$18,Finalrunde!EI136)<>0,\"0\",\"1\")+IF(COUNTIF(Finalrunde!$D$11:$E$18,Finalrunde!EI137)<>0,\"0\",\"1\")+IF(COUNTIF(Finalrunde!$D$11:$E$18,Finalrunde!EI138)<>0,\"0\",\"1\")+IF(COUNTIF(Finalrunde!$D$11:$E$18,Finalrunde!EI139)<>0,\"0\",\"1\")+IF(COUNTIF(Finalrunde!$D$11:$E$18,Finalrunde!EI140)<>0,\"0\",\"1\")+IF(COUNTIF(Finalrunde!$D$11:$E$18,Finalrunde!EI141)<>0,\"0\",\"1\")+IF(COUNTIF(Finalrunde!$D$11:$E$18,Finalrunde!EI142)<>0,\"0\",\"1\")","v":16},null,99," ",{"$f":"IF(Finalrunde!$D$20=\"\",0,IF(Finalrunde!$D$20=Finalrunde!EF144,1,0))+IF(Finalrunde!$D$21=\"\",0,IF(Finalrunde!$D$21=Finalrunde!EF145,1,0))+IF(Finalrunde!$D$22=\"\",0,IF(Finalrunde!$D$22=Finalrunde!EF146,1,0))+IF(Finalrunde!$D$23=\"\",0,IF(Finalrunde!$D$23=Finalrunde!EF147,1,0))+IF(Finalrunde!$E$20=\"\",0,IF(Finalrunde!$E$20=Finalrunde!EI144,1,0))+IF(Finalrunde!$E$21=\"\",0,IF(Finalrunde!$E$21=Finalrunde!EI145,1,0))+IF(Finalrunde!$E$22=\"\",0,IF(Finalrunde!$E$22=Finalrunde!EI146,1,0))+IF(Finalrunde!$E$23=\"\",0,IF(Finalrunde!$E$23=Finalrunde!EI147,1,0))","v":0},0,{"$f":"IF(COUNTIF(Finalrunde!$D$20:$E$23,Finalrunde!EF144)<>0,\"0\",\"1\")+IF(COUNTIF(Finalrunde!$D$20:$E$23,Finalrunde!EF145)<>0,\"0\",\"1\")+IF(COUNTIF(Finalrunde!$D$20:$E$23,Finalrunde!EF146)<>0,\"0\",\"1\")+IF(COUNTIF(Finalrunde!$D$20:$E$23,Finalrunde!EF147)<>0,\"0\",\"1\")+IF(COUNTIF(Finalrunde!$D$20:$E$23,Finalrunde!EI144)<>0,\"0\",\"1\")+IF(COUNTIF(Finalrunde!$D$20:$E$23,Finalrunde!EI145)<>0,\"0\",\"1\")+IF(COUNTIF(Finalrunde!$D$20:$E$23,Finalrunde!EI146)<>0,\"0\",\"1\")+IF(COUNTIF(Finalrunde!$D$20:$E$23,Finalrunde!EI147)<>0,\"0\",\"1\")","v":8},null,99," ",{"$f":"IF(Finalrunde!$D$25=\"\",0,IF(Finalrunde!$D$25=Finalrunde!EF149,1,0))+IF(Finalrunde!$D$26=\"\",0,IF(Finalrunde!$D$26=Finalrunde!EF150,1,0))+IF(Finalrunde!$E$25=\"\",0,IF(Finalrunde!$E$25=Finalrunde!EI149,1,0))+IF(Finalrunde!$E$26=\"\",0,IF(Finalrunde!$E$26=Finalrunde!EI150,1,0))","v":0},0,{"$f":"IF(COUNTIF(Finalrunde!$D$25:$E$26,Finalrunde!EF149)<>0,\"0\",\"1\")+IF(COUNTIF(Finalrunde!$D$25:$E$26,Finalrunde!EF150)<>0,\"0\",\"1\")+IF(COUNTIF(Finalrunde!$D$25:$E$26,Finalrunde!EI149)<>0,\"0\",\"1\")+IF(COUNTIF(Finalrunde!$D$25:$E$26,Finalrunde!EI150)<>0,\"0\",\"1\")","v":4}]
[{"$f":"Teilnehmerliste!$A$105","v":100},{"$f":"Teilnehmerliste!B105 &\" \"&Teilnehmerliste!C105","v":" "},{"$f":"IF(Finalrunde!$D$11=\"\",0,IF(Finalrunde!$D$11=Finalrunde!EM135,1,0))+IF(Finalrunde!$D$12=\"\",0,IF(Finalrunde!$D$12=Finalrunde!EM136,1,0))+IF(Finalrunde!$D$13=\"\",0,IF(Finalrunde!$D$13=Finalrunde!EM137,1,0))+IF(Finalrunde!$D$14=\"\",0,IF(Finalrunde!$D$14=Finalrunde!EM138,1,0))+IF(Finalrunde!$D$15=\"\",0,IF(Finalrunde!$D$15=Finalrunde!EM139,1,0))+IF(Finalrunde!$D$16=\"\",0,IF(Finalrunde!$D$16=Finalrunde!EM140,1,0))+IF(Finalrunde!$D$17=\"\",0,IF(Finalrunde!$D$17=Finalrunde!EM141,1,0))+IF(Finalrunde!$D$18=\"\",0,IF(Finalrunde!$D$18=Finalrunde!EM142,1,0))+IF(Finalrunde!$E$11=\"\",0,IF(Finalrunde!$E$11=Finalrunde!EP135,1,0))+IF(Finalrunde!$E$12=\"\",0,IF(Finalrunde!$E$12=Finalrunde!EP136,1,0))+IF(Finalrunde!$E$13=\"\",0,IF(Finalrunde!$E$13=Finalrunde!EP137,1,0))+IF(Finalrunde!$E$14=\"\",0,IF(Finalrunde!$E$14=Finalrunde!EP138,1,0))+IF(Finalrunde!$E$15=\"\",0,IF(Finalrunde!$E$15=Finalrunde!EP139,1,0))+IF(Finalrunde!$E$16=\"\",0,IF(Finalrunde!$E$16=Finalrunde!EP140,1,0))+IF(Finalrunde!$E$17=\"\",0,IF(Finalrunde!$E$17=Finalrunde!EP141,1,0))+IF(Finalrunde!$E$18=\"\",0,IF(Finalrunde!$E$18=Finalrunde!EP142,1,0))","v":0},0,{"$f":"IF(COUNTIF(Finalrunde!$D$11:$E$18,Finalrunde!EM135)<>0,\"0\",\"1\")+IF(COUNTIF(Finalrunde!$D$11:$E$18,Finalrunde!EM136)<>0,\"0\",\"1\")+IF(COUNTIF(Finalrunde!$D$11:$E$18,Finalrunde!EM137)<>0,\"0\",\"1\")+IF(COUNTIF(Finalrunde!$D$11:$E$18,Finalrunde!EM138)<>0,\"0\",\"1\")+IF(COUNTIF(Finalrunde!$D$11:$E$18,Finalrunde!EM139)<>0,\"0\",\"1\")+IF(COUNTIF(Finalrunde!$D$11:$E$18,Finalrunde!EM140)<>0,\"0\",\"1\")+IF(COUNTIF(Finalrunde!$D$11:$E$18,Finalrunde!EM141)<>0,\"0\",\"1\")+IF(COUNTIF(Finalrunde!$D$11:$E$18,Finalrunde!EM142)<>0,\"0\",\"1\")+IF(COUNTIF(Finalrunde!D$11:E$18,Finalrunde!EP135)<>0,\"0\",\"1\")+IF(COUNTIF(Finalrunde!$D$11:$E$18,Finalrunde!EP136)<>0,\"0\",\"1\")+IF(COUNTIF(Finalrunde!$D$11:$E$18,Finalrunde!EP137)<>0,\"0\",\"1\")+IF(COUNTIF(Finalrunde!$D$11:$E$18,Finalrunde!EP138)<>0,\"0\",\"1\")+IF(COUNTIF(Finalrunde!$D$11:$E$18,Finalrunde!EP139)<>0,\"0\",\"1\")+IF(COUNTIF(Finalrunde!$D$11:$E$18,Finalrunde!EP140)<>0,\"0\",\"1\")+IF(COUNTIF(Finalrunde!$D$11:$E$18,Finalrunde!EP141)<>0,\"0\",\"1\")+IF(COUNTIF(Finalrunde!$D$11:$E$18,Finalrunde!EP142)<>0,\"0\",\"1\")","v":16},null,{"$f":"A104","v":100}," ",{"$f":"IF(Finalrunde!$D$20=\"\",0,IF(Finalrunde!$D$20=Finalrunde!EM144,1,0))+IF(Finalrunde!$D$21=\"\",0,IF(Finalrunde!$D$21=Finalrunde!EM145,1,0))+IF(Finalrunde!$D$22=\"\",0,IF(Finalrunde!$D$22=Finalrunde!EM146,1,0))+IF(Finalrunde!$D$23=\"\",0,IF(Finalrunde!$D$23=Finalrunde!EM147,1,0))+IF(Finalrunde!$E$20=\"\",0,IF(Finalrunde!$E$20=Finalrunde!EP144,1,0))+IF(Finalrunde!$E$21=\"\",0,IF(Finalrunde!$E$21=Finalrunde!EP145,1,0))+IF(Finalrunde!$E$22=\"\",0,IF(Finalrunde!$E$22=Finalrunde!EP146,1,0))+IF(Finalrunde!$E$23=\"\",0,IF(Finalrunde!$E$23=Finalrunde!EP147,1,0))","v":0},0,{"$f":"IF(COUNTIF(Finalrunde!$D$20:$E$23,Finalrunde!EM144)<>0,\"0\",\"1\")+IF(COUNTIF(Finalrunde!$D$20:$E$23,Finalrunde!EM145)<>0,\"0\",\"1\")+IF(COUNTIF(Finalrunde!$D$20:$E$23,Finalrunde!EM146)<>0,\"0\",\"1\")+IF(COUNTIF(Finalrunde!$D$20:$E$23,Finalrunde!EM147)<>0,\"0\",\"1\")+IF(COUNTIF(Finalrunde!$D$20:$E$23,Finalrunde!EP144)<>0,\"0\",\"1\")+IF(COUNTIF(Finalrunde!$D$20:$E$23,Finalrunde!EP145)<>0,\"0\",\"1\")+IF(COUNTIF(Finalrunde!$D$20:$E$23,Finalrunde!EP146)<>0,\"0\",\"1\")+IF(COUNTIF(Finalrunde!$D$20:$E$23,Finalrunde!EP147)<>0,\"0\",\"1\")","v":8},null,{"$f":"G104","v":100}," ",{"$f":"IF(Finalrunde!$D$25=\"\",0,IF(Finalrunde!$D$25=Finalrunde!EM149,1,0))+IF(Finalrunde!$D$26=\"\",0,IF(Finalrunde!$D$26=Finalrunde!EM150,1,0))+IF(Finalrunde!$E$25=\"\",0,IF(Finalrunde!$E$25=Finalrunde!EP149,1,0))+IF(Finalrunde!$E$26=\"\",0,IF(Finalrunde!$E$26=Finalrunde!EP150,1,0))","v":0},0,{"$f":"IF(COUNTIF(Finalrunde!$D$25:$E$26,Finalrunde!EM149)<>0,\"0\",\"1\")+IF(COUNTIF(Finalrunde!$D$25:$E$26,Finalrunde!EM150)<>0,\"0\",\"1\")+IF(COUNTIF(Finalrunde!$D$25:$E$26,Finalrunde!EP149)<>0,\"0\",\"1\")+IF(COUNTIF(Finalrunde!$D$25:$E$26,Finalrunde!EP150)<>0,\"0\",\"1\")","v":4}]
[null,"Summe:",{"$f":"SUM(C5:C104)","v":477},{"$f":"SUM(D5:D104)","v":449},{"$f":"SUM(E5:E104)","v":674},null,null,"Summe:",{"$f":"SUM(I5:I104)","v":275},{"$f":"SUM(J5:J104)","v":162},{"$f":"SUM(K5:K104)","v":363},null,null,"Summe:",{"$f":"SUM(O5:O104)","v":90},{"$f":"SUM(P5:P104)","v":85},{"$f":"SUM(Q5:Q104)","v":225}]